{"text_format":"1","workbook":"xlsx","n_sheets":11,"sheets":["Instructions","Gala Name","Teams","Points","Events","Pre-Events","Masters Convertion","Input Results","Points Position","Output - 6 Lanes","Output - 8 Lanes"],"not_rendered":{"charts":0,"images":4,"macros":1,"external_links":0,"defined_names":13,"comments":1,"pivot_tables":1},"unopened":[],"bounds":{"document_bytes":16777216,"sheet_cells":100000,"rows_first":2000,"rows_last":500,"rows_between":2000,"halvings":0,"cell_chars":16384,"cell_head_chars":4096},"cells_cut":0,"cells_raw":0,"read":"whole","date_system":"1900"}

{"sheet":"Instructions","index":0,"n_rows":24,"n_cols":4,"rows_kept":24,"cut":false,"hidden":false,"merged":[[1,1,2,4]]}
[]
[null,"Version Master 4 : 20150222"]
[]
[]
[null,null,"      Gala Name"]
[null,null,null,"o       Enter the name of the competition, venue and date. Select Named from list (loads events)."]
[null,null,"      Teams"]
[null,null,null,"o       Enter the names of the competing clubs, in the lanes they are swimming in during the competition."]
[null,null,"      Points"]
[null,null,null,"o       Enter the number of points for each place, other option will complete as pre-defined."]
[null,null,"      Events"]
[null,null,null,"o       Complete the events in the order they will be swum using no more than 30 characters. (Staffordshire ASA and Numeaton Junior League can be pre-loaded)"]
[null,null,null,"o       Supplementary info can be added if required, i.e. a non-standard relay Free, Back, Breast, Free."]
[null,null,"      Input Results"]
[null,null,null,"o       As the competition continues, record the swimmers name and time for each event into the columns under the headings Swimmer Name and Time. (No need to enter anything other than Time for relays.)"]
[null,null,null,"o       Times should be entered in a “standard” format, M SS.HH or M:SS.HH or M.SS.HH. All will work, but should be the same throughout the competition."]
[null,null,null,"o       Any disqualification should be entered as DSQ in under Time, the swimmer name, if applicable, should still be entered."]
[null,null,null,"o       If disqualified, then enter a reason in case of a query."]
[null,null,null,"o       If you have an equal place in the Tie column you will need to enter the place i.e. 2 lanes have 2=, both equal 2nd . By entering the 2= format, the points will be split accordingly. (3 lanes have 2==, all equal 2nd)"]
[null,null,null,"o       As all the times are entered, the Place and Lane will adjust to agree with the Referee results slip."]
[null,null,"      Points Position"]
[null,null,null,"o       To see the points position after a certain event, enter the event number and the points will populate on screen. The screen will default to the last result number, you can change this, if you do so then click on the \"splat\" to ensure the table are updated/displayed correctly."]
[null,null,"      Print Results"]
[null,null,null,"o       Once the competition has finished, click on the icon to print out the results using your default printer, the number selected will be the number of results sheets printed."]

{"sheet":"Gala Name","index":1,"n_rows":82,"n_cols":6,"rows_kept":82,"cut":false,"hidden":true,"merged":[[10,1,13,2]]}
[]
[]
[null,"League","Other"]
[null,"Masters Conversion","No"]
[null,"Min Age to Adjust if Masters"]
[null,null,null,null,null,"Staffs League"]
[null,"Name of Competition"]
[null,"Venue",null,null,null,"Junior League"]
[null,"Date",null,null,null,"Other"]
[]
[null,{"$f":"IF(C3=\"Other\",\"Enter Swimming Events Details Manually or select event from League drop-down\",\"\")","v":"Enter Swimming Events Details Manually or select event from League drop-down"}]
[]
[]
[]
[]
[]
[]
[]
[]
[]
[]
[]
[]
[]
[]
[]
[]
[]
[]
[]
[]
[]
[]
[]
[]
[]
[]
[]
[]
[]
[]
[]
[]
[]
[]
[]
[]
[]
[]
[]
[]
[]
[]
[]
[]
[]
[]
[]
[]
[]
[]
[]
[]
[]
[]
[]
[]
[]
[]
[]
[]
[]
[]
[]
[]
[]
[]
[]
[]
[]
[]
[null,null,0]

{"sheet":"Teams","index":2,"n_rows":12,"n_cols":5,"rows_kept":12,"cut":false,"hidden":true,"merged":[[2,7,2,10],[11,2,12,5]]}
[]
[null,"Lane","Club / Team"]
[null,1]
[null,2]
[null,3]
[null,4]
[null,5]
[null,6]
[null,7]
[null,8,null,null,{"$f":"COUNTA(C3:C10)","v":0}]
[]
[null,null,{"$f":"IF(COUNTA(C3:C10)=0,\"Enter Teams Details\",\"\")","v":"Enter Teams Details"}]

{"sheet":"Points","index":3,"n_rows":28,"n_cols":5,"rows_kept":28,"cut":false,"hidden":true,"merged":[[2,4,3,6]]}
[]
[null,"Place","Points"]
[null,1,0,null,{"$f":"IF(C3=0,\"Enter Competition Team Details\",\"\")","v":"Enter Competition Team Details"}]
[null,2,{"$f":"IF(OR(C3=\"\",C3=0),0,C3-1)","v":0}]
[null,3,{"$f":"IF(C4=0,0,C4-1)","v":0}]
[null,4,0]
[null,5,0]
[null,6,0]
[null,7,0]
[null,8,0]
[]
[null,"DSQ",0]
[null,"DNF",0]
[]
[null,"1=",{"$f":"IF(C4=\"\",\"\",AVERAGE(C3:C4))","v":0}]
[null,"2=",0]
[null,"3=",0]
[null,"4=",0]
[null,"5=",0]
[null,"6=",0]
[null,"7=",0]
[]
[null,"1==",{"$f":"IF(C5=\"\",\"\",AVERAGE(C3:C5))","v":0}]
[null,"2==",0]
[null,"3==",0]
[null,"4==",0]
[null,"5==",0]
[null,"6==",0]

{"sheet":"Events","index":4,"n_rows":62,"n_cols":12,"rows_kept":62,"cut":false,"hidden":true,"merged":[]}
[]
[null,"Event Number","Sex","Age Band","Distance","Stroke","Event Description","Supplementary Info","Actual Event","Errors",null,"ASA Stroke"]
[null,1,{"$f":"IF(IF('Gala Name'!$C$3=\"Staffs League\",'Pre-Events'!B2,IF('Gala Name'!$C$3=\"Junior League\",'Pre-Events'!G2,\"\"))=\"\",\"\",IF('Gala Name'!$C$3=\"Staffs League\",'Pre-Events'!B2,IF('Gala Name'!$C$3=\"Junior League\",'Pre-Events'!G2,\"\")))","v":""},{"$f":"IF(IF('Gala Name'!$C$3=\"Staffs League\",'Pre-Events'!C2,IF('Gala Name'!$C$3=\"Junior League\",'Pre-Events'!H2,\"\"))=\"\",\"\",IF('Gala Name'!$C$3=\"Staffs League\",'Pre-Events'!C2,IF('Gala Name'!$C$3=\"Junior League\",'Pre-Events'!H2,\"\")))","v":""},{"$f":"IF(IF('Gala Name'!$C$3=\"Staffs League\",'Pre-Events'!D2,IF('Gala Name'!$C$3=\"Junior League\",'Pre-Events'!I2,\"\"))=\"\",\"\",IF('Gala Name'!$C$3=\"Staffs League\",'Pre-Events'!D2,IF('Gala Name'!$C$3=\"Junior League\",'Pre-Events'!I2,\"\")))","v":""},{"$f":"IF(IF('Gala Name'!$C$3=\"Staffs League\",'Pre-Events'!E2,IF('Gala Name'!$C$3=\"Junior League\",'Pre-Events'!J2,\"\"))=\"\",\"\",IF('Gala Name'!$C$3=\"Staffs League\",'Pre-Events'!E2,IF('Gala Name'!$C$3=\"Junior League\",'Pre-Events'!J2,\"\")))","v":""},{"$f":"IF(C3=0,\"\",C3&\" \"&D3&\" \"&E3&\" \"&F3)","v":"   "},{"$f":"IF(IF('Gala Name'!$C$3=\"Staffs League\",\"\",IF('Gala Name'!$C$3=\"Junior League\",'Pre-Events'!K2,\"\"))=\"\",\"\",IF('Gala Name'!$C$3=\"Staffs League\",\"\",IF('Gala Name'!$C$3=\"Junior League\",'Pre-Events'!K2,\"\")))","v":""},{"$f":"IF(G3=\"\",\"\",B3)","v":1},{"$f":"IF(LEN(G3)>30.1,\"Error\",\"\")","v":""},null,{"$f":"IFERROR(VLOOKUP(E3&\" \"&F3,'Pre-Events'!M:N,2,FALSE),\"\")","v":""}]
[null,{"$f":"B3+1","v":2},{"$f":"IF(IF('Gala Name'!$C$3=\"Staffs League\",'Pre-Events'!B3,IF('Gala Name'!$C$3=\"Junior League\",'Pre-Events'!G3,\"\"))=\"\",\"\",IF('Gala Name'!$C$3=\"Staffs League\",'Pre-Events'!B3,IF('Gala Name'!$C$3=\"Junior League\",'Pre-Events'!G3,\"\")))","v":""},{"$f":"IF(IF('Gala Name'!$C$3=\"Staffs League\",'Pre-Events'!C3,IF('Gala Name'!$C$3=\"Junior League\",'Pre-Events'!H3,\"\"))=\"\",\"\",IF('Gala Name'!$C$3=\"Staffs League\",'Pre-Events'!C3,IF('Gala Name'!$C$3=\"Junior League\",'Pre-Events'!H3,\"\")))","v":""},{"$f":"IF(IF('Gala Name'!$C$3=\"Staffs League\",'Pre-Events'!D3,IF('Gala Name'!$C$3=\"Junior League\",'Pre-Events'!I3,\"\"))=\"\",\"\",IF('Gala Name'!$C$3=\"Staffs League\",'Pre-Events'!D3,IF('Gala Name'!$C$3=\"Junior League\",'Pre-Events'!I3,\"\")))","v":""},{"$f":"IF(IF('Gala Name'!$C$3=\"Staffs League\",'Pre-Events'!E3,IF('Gala Name'!$C$3=\"Junior League\",'Pre-Events'!J3,\"\"))=\"\",\"\",IF('Gala Name'!$C$3=\"Staffs League\",'Pre-Events'!E3,IF('Gala Name'!$C$3=\"Junior League\",'Pre-Events'!J3,\"\")))","v":""},"   ",{"$f":"IF(IF('Gala Name'!$C$3=\"Staffs League\",\"\",IF('Gala Name'!$C$3=\"Junior League\",'Pre-Events'!K3,\"\"))=\"\",\"\",IF('Gala Name'!$C$3=\"Staffs League\",\"\",IF('Gala Name'!$C$3=\"Junior League\",'Pre-Events'!K3,\"\")))","v":""},{"$f":"IF(G4=\"\",\"\",B4)","v":2},{"$f":"IF(LEN(G4)>30.1,\"Error\",\"\")","v":""},null,{"$f":"IFERROR(VLOOKUP(E4&\" \"&F4,'Pre-Events'!M:N,2,FALSE),\"\")","v":""}]
[null,3,{"$f":"IF(IF('Gala Name'!$C$3=\"Staffs League\",'Pre-Events'!B4,IF('Gala Name'!$C$3=\"Junior League\",'Pre-Events'!G4,\"\"))=\"\",\"\",IF('Gala Name'!$C$3=\"Staffs League\",'Pre-Events'!B4,IF('Gala Name'!$C$3=\"Junior League\",'Pre-Events'!G4,\"\")))","v":""},{"$f":"IF(IF('Gala Name'!$C$3=\"Staffs League\",'Pre-Events'!C4,IF('Gala Name'!$C$3=\"Junior League\",'Pre-Events'!H4,\"\"))=\"\",\"\",IF('Gala Name'!$C$3=\"Staffs League\",'Pre-Events'!C4,IF('Gala Name'!$C$3=\"Junior League\",'Pre-Events'!H4,\"\")))","v":""},{"$f":"IF(IF('Gala Name'!$C$3=\"Staffs League\",'Pre-Events'!D4,IF('Gala Name'!$C$3=\"Junior League\",'Pre-Events'!I4,\"\"))=\"\",\"\",IF('Gala Name'!$C$3=\"Staffs League\",'Pre-Events'!D4,IF('Gala Name'!$C$3=\"Junior League\",'Pre-Events'!I4,\"\")))","v":""},{"$f":"IF(IF('Gala Name'!$C$3=\"Staffs League\",'Pre-Events'!E4,IF('Gala Name'!$C$3=\"Junior League\",'Pre-Events'!J4,\"\"))=\"\",\"\",IF('Gala Name'!$C$3=\"Staffs League\",'Pre-Events'!E4,IF('Gala Name'!$C$3=\"Junior League\",'Pre-Events'!J4,\"\")))","v":""},"   ",{"$f":"IF(IF('Gala Name'!$C$3=\"Staffs League\",\"\",IF('Gala Name'!$C$3=\"Junior League\",'Pre-Events'!K4,\"\"))=\"\",\"\",IF('Gala Name'!$C$3=\"Staffs League\",\"\",IF('Gala Name'!$C$3=\"Junior League\",'Pre-Events'!K4,\"\")))","v":""},3,"",null,{"$f":"IFERROR(VLOOKUP(E5&\" \"&F5,'Pre-Events'!M:N,2,FALSE),\"\")","v":""}]
[null,4,{"$f":"IF(IF('Gala Name'!$C$3=\"Staffs League\",'Pre-Events'!B5,IF('Gala Name'!$C$3=\"Junior League\",'Pre-Events'!G5,\"\"))=\"\",\"\",IF('Gala Name'!$C$3=\"Staffs League\",'Pre-Events'!B5,IF('Gala Name'!$C$3=\"Junior League\",'Pre-Events'!G5,\"\")))","v":""},{"$f":"IF(IF('Gala Name'!$C$3=\"Staffs League\",'Pre-Events'!C5,IF('Gala Name'!$C$3=\"Junior League\",'Pre-Events'!H5,\"\"))=\"\",\"\",IF('Gala Name'!$C$3=\"Staffs League\",'Pre-Events'!C5,IF('Gala Name'!$C$3=\"Junior League\",'Pre-Events'!H5,\"\")))","v":""},{"$f":"IF(IF('Gala Name'!$C$3=\"Staffs League\",'Pre-Events'!D5,IF('Gala Name'!$C$3=\"Junior League\",'Pre-Events'!I5,\"\"))=\"\",\"\",IF('Gala Name'!$C$3=\"Staffs League\",'Pre-Events'!D5,IF('Gala Name'!$C$3=\"Junior League\",'Pre-Events'!I5,\"\")))","v":""},{"$f":"IF(IF('Gala Name'!$C$3=\"Staffs League\",'Pre-Events'!E5,IF('Gala Name'!$C$3=\"Junior League\",'Pre-Events'!J5,\"\"))=\"\",\"\",IF('Gala Name'!$C$3=\"Staffs League\",'Pre-Events'!E5,IF('Gala Name'!$C$3=\"Junior League\",'Pre-Events'!J5,\"\")))","v":""},"   ",{"$f":"IF(IF('Gala Name'!$C$3=\"Staffs League\",\"\",IF('Gala Name'!$C$3=\"Junior League\",'Pre-Events'!K5,\"\"))=\"\",\"\",IF('Gala Name'!$C$3=\"Staffs League\",\"\",IF('Gala Name'!$C$3=\"Junior League\",'Pre-Events'!K5,\"\")))","v":""},4,"",null,{"$f":"IFERROR(VLOOKUP(E6&\" \"&F6,'Pre-Events'!M:N,2,FALSE),\"\")","v":""}]
[null,5,{"$f":"IF(IF('Gala Name'!$C$3=\"Staffs League\",'Pre-Events'!B6,IF('Gala Name'!$C$3=\"Junior League\",'Pre-Events'!G6,\"\"))=\"\",\"\",IF('Gala Name'!$C$3=\"Staffs League\",'Pre-Events'!B6,IF('Gala Name'!$C$3=\"Junior League\",'Pre-Events'!G6,\"\")))","v":""},{"$f":"IF(IF('Gala Name'!$C$3=\"Staffs League\",'Pre-Events'!C6,IF('Gala Name'!$C$3=\"Junior League\",'Pre-Events'!H6,\"\"))=\"\",\"\",IF('Gala Name'!$C$3=\"Staffs League\",'Pre-Events'!C6,IF('Gala Name'!$C$3=\"Junior League\",'Pre-Events'!H6,\"\")))","v":""},{"$f":"IF(IF('Gala Name'!$C$3=\"Staffs League\",'Pre-Events'!D6,IF('Gala Name'!$C$3=\"Junior League\",'Pre-Events'!I6,\"\"))=\"\",\"\",IF('Gala Name'!$C$3=\"Staffs League\",'Pre-Events'!D6,IF('Gala Name'!$C$3=\"Junior League\",'Pre-Events'!I6,\"\")))","v":""},{"$f":"IF(IF('Gala Name'!$C$3=\"Staffs League\",'Pre-Events'!E6,IF('Gala Name'!$C$3=\"Junior League\",'Pre-Events'!J6,\"\"))=\"\",\"\",IF('Gala Name'!$C$3=\"Staffs League\",'Pre-Events'!E6,IF('Gala Name'!$C$3=\"Junior League\",'Pre-Events'!J6,\"\")))","v":""},"   ",{"$f":"IF(IF('Gala Name'!$C$3=\"Staffs League\",\"\",IF('Gala Name'!$C$3=\"Junior League\",'Pre-Events'!K6,\"\"))=\"\",\"\",IF('Gala Name'!$C$3=\"Staffs League\",\"\",IF('Gala Name'!$C$3=\"Junior League\",'Pre-Events'!K6,\"\")))","v":""},5,"",null,{"$f":"IFERROR(VLOOKUP(E7&\" \"&F7,'Pre-Events'!M:N,2,FALSE),\"\")","v":""}]
[null,6,{"$f":"IF(IF('Gala Name'!$C$3=\"Staffs League\",'Pre-Events'!B7,IF('Gala Name'!$C$3=\"Junior League\",'Pre-Events'!G7,\"\"))=\"\",\"\",IF('Gala Name'!$C$3=\"Staffs League\",'Pre-Events'!B7,IF('Gala Name'!$C$3=\"Junior League\",'Pre-Events'!G7,\"\")))","v":""},{"$f":"IF(IF('Gala Name'!$C$3=\"Staffs League\",'Pre-Events'!C7,IF('Gala Name'!$C$3=\"Junior League\",'Pre-Events'!H7,\"\"))=\"\",\"\",IF('Gala Name'!$C$3=\"Staffs League\",'Pre-Events'!C7,IF('Gala Name'!$C$3=\"Junior League\",'Pre-Events'!H7,\"\")))","v":""},{"$f":"IF(IF('Gala Name'!$C$3=\"Staffs League\",'Pre-Events'!D7,IF('Gala Name'!$C$3=\"Junior League\",'Pre-Events'!I7,\"\"))=\"\",\"\",IF('Gala Name'!$C$3=\"Staffs League\",'Pre-Events'!D7,IF('Gala Name'!$C$3=\"Junior League\",'Pre-Events'!I7,\"\")))","v":""},{"$f":"IF(IF('Gala Name'!$C$3=\"Staffs League\",'Pre-Events'!E7,IF('Gala Name'!$C$3=\"Junior League\",'Pre-Events'!J7,\"\"))=\"\",\"\",IF('Gala Name'!$C$3=\"Staffs League\",'Pre-Events'!E7,IF('Gala Name'!$C$3=\"Junior League\",'Pre-Events'!J7,\"\")))","v":""},"   ",{"$f":"IF(IF('Gala Name'!$C$3=\"Staffs League\",\"\",IF('Gala Name'!$C$3=\"Junior League\",'Pre-Events'!K7,\"\"))=\"\",\"\",IF('Gala Name'!$C$3=\"Staffs League\",\"\",IF('Gala Name'!$C$3=\"Junior League\",'Pre-Events'!K7,\"\")))","v":""},6,"",null,{"$f":"IFERROR(VLOOKUP(E8&\" \"&F8,'Pre-Events'!M:N,2,FALSE),\"\")","v":""}]
[null,7,{"$f":"IF(IF('Gala Name'!$C$3=\"Staffs League\",'Pre-Events'!B8,IF('Gala Name'!$C$3=\"Junior League\",'Pre-Events'!G8,\"\"))=\"\",\"\",IF('Gala Name'!$C$3=\"Staffs League\",'Pre-Events'!B8,IF('Gala Name'!$C$3=\"Junior League\",'Pre-Events'!G8,\"\")))","v":""},{"$f":"IF(IF('Gala Name'!$C$3=\"Staffs League\",'Pre-Events'!C8,IF('Gala Name'!$C$3=\"Junior League\",'Pre-Events'!H8,\"\"))=\"\",\"\",IF('Gala Name'!$C$3=\"Staffs League\",'Pre-Events'!C8,IF('Gala Name'!$C$3=\"Junior League\",'Pre-Events'!H8,\"\")))","v":""},{"$f":"IF(IF('Gala Name'!$C$3=\"Staffs League\",'Pre-Events'!D8,IF('Gala Name'!$C$3=\"Junior League\",'Pre-Events'!I8,\"\"))=\"\",\"\",IF('Gala Name'!$C$3=\"Staffs League\",'Pre-Events'!D8,IF('Gala Name'!$C$3=\"Junior League\",'Pre-Events'!I8,\"\")))","v":""},{"$f":"IF(IF('Gala Name'!$C$3=\"Staffs League\",'Pre-Events'!E8,IF('Gala Name'!$C$3=\"Junior League\",'Pre-Events'!J8,\"\"))=\"\",\"\",IF('Gala Name'!$C$3=\"Staffs League\",'Pre-Events'!E8,IF('Gala Name'!$C$3=\"Junior League\",'Pre-Events'!J8,\"\")))","v":""},"   ",{"$f":"IF(IF('Gala Name'!$C$3=\"Staffs League\",\"\",IF('Gala Name'!$C$3=\"Junior League\",'Pre-Events'!K8,\"\"))=\"\",\"\",IF('Gala Name'!$C$3=\"Staffs League\",\"\",IF('Gala Name'!$C$3=\"Junior League\",'Pre-Events'!K8,\"\")))","v":""},7,"",null,{"$f":"IFERROR(VLOOKUP(E9&\" \"&F9,'Pre-Events'!M:N,2,FALSE),\"\")","v":""}]
[null,8,{"$f":"IF(IF('Gala Name'!$C$3=\"Staffs League\",'Pre-Events'!B9,IF('Gala Name'!$C$3=\"Junior League\",'Pre-Events'!G9,\"\"))=\"\",\"\",IF('Gala Name'!$C$3=\"Staffs League\",'Pre-Events'!B9,IF('Gala Name'!$C$3=\"Junior League\",'Pre-Events'!G9,\"\")))","v":""},{"$f":"IF(IF('Gala Name'!$C$3=\"Staffs League\",'Pre-Events'!C9,IF('Gala Name'!$C$3=\"Junior League\",'Pre-Events'!H9,\"\"))=\"\",\"\",IF('Gala Name'!$C$3=\"Staffs League\",'Pre-Events'!C9,IF('Gala Name'!$C$3=\"Junior League\",'Pre-Events'!H9,\"\")))","v":""},{"$f":"IF(IF('Gala Name'!$C$3=\"Staffs League\",'Pre-Events'!D9,IF('Gala Name'!$C$3=\"Junior League\",'Pre-Events'!I9,\"\"))=\"\",\"\",IF('Gala Name'!$C$3=\"Staffs League\",'Pre-Events'!D9,IF('Gala Name'!$C$3=\"Junior League\",'Pre-Events'!I9,\"\")))","v":""},{"$f":"IF(IF('Gala Name'!$C$3=\"Staffs League\",'Pre-Events'!E9,IF('Gala Name'!$C$3=\"Junior League\",'Pre-Events'!J9,\"\"))=\"\",\"\",IF('Gala Name'!$C$3=\"Staffs League\",'Pre-Events'!E9,IF('Gala Name'!$C$3=\"Junior League\",'Pre-Events'!J9,\"\")))","v":""},"   ",{"$f":"IF(IF('Gala Name'!$C$3=\"Staffs League\",\"\",IF('Gala Name'!$C$3=\"Junior League\",'Pre-Events'!K9,\"\"))=\"\",\"\",IF('Gala Name'!$C$3=\"Staffs League\",\"\",IF('Gala Name'!$C$3=\"Junior League\",'Pre-Events'!K9,\"\")))","v":""},8,{"$f":"IF(LEN(G10)>30.1,\"Error\",\"\")","v":""},null,{"$f":"IFERROR(VLOOKUP(E10&\" \"&F10,'Pre-Events'!M:N,2,FALSE),\"\")","v":""}]
[null,9,{"$f":"IF(IF('Gala Name'!$C$3=\"Staffs League\",'Pre-Events'!B10,IF('Gala Name'!$C$3=\"Junior League\",'Pre-Events'!G10,\"\"))=\"\",\"\",IF('Gala Name'!$C$3=\"Staffs League\",'Pre-Events'!B10,IF('Gala Name'!$C$3=\"Junior League\",'Pre-Events'!G10,\"\")))","v":""},{"$f":"IF(IF('Gala Name'!$C$3=\"Staffs League\",'Pre-Events'!C10,IF('Gala Name'!$C$3=\"Junior League\",'Pre-Events'!H10,\"\"))=\"\",\"\",IF('Gala Name'!$C$3=\"Staffs League\",'Pre-Events'!C10,IF('Gala Name'!$C$3=\"Junior League\",'Pre-Events'!H10,\"\")))","v":""},{"$f":"IF(IF('Gala Name'!$C$3=\"Staffs League\",'Pre-Events'!D10,IF('Gala Name'!$C$3=\"Junior League\",'Pre-Events'!I10,\"\"))=\"\",\"\",IF('Gala Name'!$C$3=\"Staffs League\",'Pre-Events'!D10,IF('Gala Name'!$C$3=\"Junior League\",'Pre-Events'!I10,\"\")))","v":""},{"$f":"IF(IF('Gala Name'!$C$3=\"Staffs League\",'Pre-Events'!E10,IF('Gala Name'!$C$3=\"Junior League\",'Pre-Events'!J10,\"\"))=\"\",\"\",IF('Gala Name'!$C$3=\"Staffs League\",'Pre-Events'!E10,IF('Gala Name'!$C$3=\"Junior League\",'Pre-Events'!J10,\"\")))","v":""},"   ",{"$f":"IF(IF('Gala Name'!$C$3=\"Staffs League\",\"\",IF('Gala Name'!$C$3=\"Junior League\",'Pre-Events'!K10,\"\"))=\"\",\"\",IF('Gala Name'!$C$3=\"Staffs League\",\"\",IF('Gala Name'!$C$3=\"Junior League\",'Pre-Events'!K10,\"\")))","v":""},9,{"$f":"IF(LEN(G11)>30.1,\"Error\",\"\")","v":""},null,{"$f":"IFERROR(VLOOKUP(E11&\" \"&F11,'Pre-Events'!M:N,2,FALSE),\"\")","v":""}]
[null,10,{"$f":"IF(IF('Gala Name'!$C$3=\"Staffs League\",'Pre-Events'!B11,IF('Gala Name'!$C$3=\"Junior League\",'Pre-Events'!G11,\"\"))=\"\",\"\",IF('Gala Name'!$C$3=\"Staffs League\",'Pre-Events'!B11,IF('Gala Name'!$C$3=\"Junior League\",'Pre-Events'!G11,\"\")))","v":""},{"$f":"IF(IF('Gala Name'!$C$3=\"Staffs League\",'Pre-Events'!C11,IF('Gala Name'!$C$3=\"Junior League\",'Pre-Events'!H11,\"\"))=\"\",\"\",IF('Gala Name'!$C$3=\"Staffs League\",'Pre-Events'!C11,IF('Gala Name'!$C$3=\"Junior League\",'Pre-Events'!H11,\"\")))","v":""},{"$f":"IF(IF('Gala Name'!$C$3=\"Staffs League\",'Pre-Events'!D11,IF('Gala Name'!$C$3=\"Junior League\",'Pre-Events'!I11,\"\"))=\"\",\"\",IF('Gala Name'!$C$3=\"Staffs League\",'Pre-Events'!D11,IF('Gala Name'!$C$3=\"Junior League\",'Pre-Events'!I11,\"\")))","v":""},{"$f":"IF(IF('Gala Name'!$C$3=\"Staffs League\",'Pre-Events'!E11,IF('Gala Name'!$C$3=\"Junior League\",'Pre-Events'!J11,\"\"))=\"\",\"\",IF('Gala Name'!$C$3=\"Staffs League\",'Pre-Events'!E11,IF('Gala Name'!$C$3=\"Junior League\",'Pre-Events'!J11,\"\")))","v":""},"   ",{"$f":"IF(IF('Gala Name'!$C$3=\"Staffs League\",\"\",IF('Gala Name'!$C$3=\"Junior League\",'Pre-Events'!K11,\"\"))=\"\",\"\",IF('Gala Name'!$C$3=\"Staffs League\",\"\",IF('Gala Name'!$C$3=\"Junior League\",'Pre-Events'!K11,\"\")))","v":""},10,{"$f":"IF(LEN(G12)>30.1,\"Error\",\"\")","v":""},null,{"$f":"IFERROR(VLOOKUP(E12&\" \"&F12,'Pre-Events'!M:N,2,FALSE),\"\")","v":""}]
[null,11,{"$f":"IF(IF('Gala Name'!$C$3=\"Staffs League\",'Pre-Events'!B12,IF('Gala Name'!$C$3=\"Junior League\",'Pre-Events'!G12,\"\"))=\"\",\"\",IF('Gala Name'!$C$3=\"Staffs League\",'Pre-Events'!B12,IF('Gala Name'!$C$3=\"Junior League\",'Pre-Events'!G12,\"\")))","v":""},{"$f":"IF(IF('Gala Name'!$C$3=\"Staffs League\",'Pre-Events'!C12,IF('Gala Name'!$C$3=\"Junior League\",'Pre-Events'!H12,\"\"))=\"\",\"\",IF('Gala Name'!$C$3=\"Staffs League\",'Pre-Events'!C12,IF('Gala Name'!$C$3=\"Junior League\",'Pre-Events'!H12,\"\")))","v":""},{"$f":"IF(IF('Gala Name'!$C$3=\"Staffs League\",'Pre-Events'!D12,IF('Gala Name'!$C$3=\"Junior League\",'Pre-Events'!I12,\"\"))=\"\",\"\",IF('Gala Name'!$C$3=\"Staffs League\",'Pre-Events'!D12,IF('Gala Name'!$C$3=\"Junior League\",'Pre-Events'!I12,\"\")))","v":""},{"$f":"IF(IF('Gala Name'!$C$3=\"Staffs League\",'Pre-Events'!E12,IF('Gala Name'!$C$3=\"Junior League\",'Pre-Events'!J12,\"\"))=\"\",\"\",IF('Gala Name'!$C$3=\"Staffs League\",'Pre-Events'!E12,IF('Gala Name'!$C$3=\"Junior League\",'Pre-Events'!J12,\"\")))","v":""},"   ",{"$f":"IF(IF('Gala Name'!$C$3=\"Staffs League\",\"\",IF('Gala Name'!$C$3=\"Junior League\",'Pre-Events'!K12,\"\"))=\"\",\"\",IF('Gala Name'!$C$3=\"Staffs League\",\"\",IF('Gala Name'!$C$3=\"Junior League\",'Pre-Events'!K12,\"\")))","v":""},11,{"$f":"IF(LEN(G13)>30.1,\"Error\",\"\")","v":""},null,{"$f":"IFERROR(VLOOKUP(E13&\" \"&F13,'Pre-Events'!M:N,2,FALSE),\"\")","v":""}]
[null,12,{"$f":"IF(IF('Gala Name'!$C$3=\"Staffs League\",'Pre-Events'!B13,IF('Gala Name'!$C$3=\"Junior League\",'Pre-Events'!G13,\"\"))=\"\",\"\",IF('Gala Name'!$C$3=\"Staffs League\",'Pre-Events'!B13,IF('Gala Name'!$C$3=\"Junior League\",'Pre-Events'!G13,\"\")))","v":""},{"$f":"IF(IF('Gala Name'!$C$3=\"Staffs League\",'Pre-Events'!C13,IF('Gala Name'!$C$3=\"Junior League\",'Pre-Events'!H13,\"\"))=\"\",\"\",IF('Gala Name'!$C$3=\"Staffs League\",'Pre-Events'!C13,IF('Gala Name'!$C$3=\"Junior League\",'Pre-Events'!H13,\"\")))","v":""},{"$f":"IF(IF('Gala Name'!$C$3=\"Staffs League\",'Pre-Events'!D13,IF('Gala Name'!$C$3=\"Junior League\",'Pre-Events'!I13,\"\"))=\"\",\"\",IF('Gala Name'!$C$3=\"Staffs League\",'Pre-Events'!D13,IF('Gala Name'!$C$3=\"Junior League\",'Pre-Events'!I13,\"\")))","v":""},{"$f":"IF(IF('Gala Name'!$C$3=\"Staffs League\",'Pre-Events'!E13,IF('Gala Name'!$C$3=\"Junior League\",'Pre-Events'!J13,\"\"))=\"\",\"\",IF('Gala Name'!$C$3=\"Staffs League\",'Pre-Events'!E13,IF('Gala Name'!$C$3=\"Junior League\",'Pre-Events'!J13,\"\")))","v":""},"   ",{"$f":"IF(IF('Gala Name'!$C$3=\"Staffs League\",\"\",IF('Gala Name'!$C$3=\"Junior League\",'Pre-Events'!K13,\"\"))=\"\",\"\",IF('Gala Name'!$C$3=\"Staffs League\",\"\",IF('Gala Name'!$C$3=\"Junior League\",'Pre-Events'!K13,\"\")))","v":""},12,"",null,{"$f":"IFERROR(VLOOKUP(E14&\" \"&F14,'Pre-Events'!M:N,2,FALSE),\"\")","v":""}]
[null,13,{"$f":"IF(IF('Gala Name'!$C$3=\"Staffs League\",'Pre-Events'!B14,IF('Gala Name'!$C$3=\"Junior League\",'Pre-Events'!G14,\"\"))=\"\",\"\",IF('Gala Name'!$C$3=\"Staffs League\",'Pre-Events'!B14,IF('Gala Name'!$C$3=\"Junior League\",'Pre-Events'!G14,\"\")))","v":""},{"$f":"IF(IF('Gala Name'!$C$3=\"Staffs League\",'Pre-Events'!C14,IF('Gala Name'!$C$3=\"Junior League\",'Pre-Events'!H14,\"\"))=\"\",\"\",IF('Gala Name'!$C$3=\"Staffs League\",'Pre-Events'!C14,IF('Gala Name'!$C$3=\"Junior League\",'Pre-Events'!H14,\"\")))","v":""},{"$f":"IF(IF('Gala Name'!$C$3=\"Staffs League\",'Pre-Events'!D14,IF('Gala Name'!$C$3=\"Junior League\",'Pre-Events'!I14,\"\"))=\"\",\"\",IF('Gala Name'!$C$3=\"Staffs League\",'Pre-Events'!D14,IF('Gala Name'!$C$3=\"Junior League\",'Pre-Events'!I14,\"\")))","v":""},{"$f":"IF(IF('Gala Name'!$C$3=\"Staffs League\",'Pre-Events'!E14,IF('Gala Name'!$C$3=\"Junior League\",'Pre-Events'!J14,\"\"))=\"\",\"\",IF('Gala Name'!$C$3=\"Staffs League\",'Pre-Events'!E14,IF('Gala Name'!$C$3=\"Junior League\",'Pre-Events'!J14,\"\")))","v":""},"   ",{"$f":"IF(IF('Gala Name'!$C$3=\"Staffs League\",\"\",IF('Gala Name'!$C$3=\"Junior League\",'Pre-Events'!K14,\"\"))=\"\",\"\",IF('Gala Name'!$C$3=\"Staffs League\",\"\",IF('Gala Name'!$C$3=\"Junior League\",'Pre-Events'!K14,\"\")))","v":""},13,"",null,{"$f":"IFERROR(VLOOKUP(E15&\" \"&F15,'Pre-Events'!M:N,2,FALSE),\"\")","v":""}]
[null,14,{"$f":"IF(IF('Gala Name'!$C$3=\"Staffs League\",'Pre-Events'!B15,IF('Gala Name'!$C$3=\"Junior League\",'Pre-Events'!G15,\"\"))=\"\",\"\",IF('Gala Name'!$C$3=\"Staffs League\",'Pre-Events'!B15,IF('Gala Name'!$C$3=\"Junior League\",'Pre-Events'!G15,\"\")))","v":""},{"$f":"IF(IF('Gala Name'!$C$3=\"Staffs League\",'Pre-Events'!C15,IF('Gala Name'!$C$3=\"Junior League\",'Pre-Events'!H15,\"\"))=\"\",\"\",IF('Gala Name'!$C$3=\"Staffs League\",'Pre-Events'!C15,IF('Gala Name'!$C$3=\"Junior League\",'Pre-Events'!H15,\"\")))","v":""},{"$f":"IF(IF('Gala Name'!$C$3=\"Staffs League\",'Pre-Events'!D15,IF('Gala Name'!$C$3=\"Junior League\",'Pre-Events'!I15,\"\"))=\"\",\"\",IF('Gala Name'!$C$3=\"Staffs League\",'Pre-Events'!D15,IF('Gala Name'!$C$3=\"Junior League\",'Pre-Events'!I15,\"\")))","v":""},{"$f":"IF(IF('Gala Name'!$C$3=\"Staffs League\",'Pre-Events'!E15,IF('Gala Name'!$C$3=\"Junior League\",'Pre-Events'!J15,\"\"))=\"\",\"\",IF('Gala Name'!$C$3=\"Staffs League\",'Pre-Events'!E15,IF('Gala Name'!$C$3=\"Junior League\",'Pre-Events'!J15,\"\")))","v":""},"   ",{"$f":"IF(IF('Gala Name'!$C$3=\"Staffs League\",\"\",IF('Gala Name'!$C$3=\"Junior League\",'Pre-Events'!K15,\"\"))=\"\",\"\",IF('Gala Name'!$C$3=\"Staffs League\",\"\",IF('Gala Name'!$C$3=\"Junior League\",'Pre-Events'!K15,\"\")))","v":""},14,"",null,{"$f":"IFERROR(VLOOKUP(E16&\" \"&F16,'Pre-Events'!M:N,2,FALSE),\"\")","v":""}]
[null,15,{"$f":"IF(IF('Gala Name'!$C$3=\"Staffs League\",'Pre-Events'!B16,IF('Gala Name'!$C$3=\"Junior League\",'Pre-Events'!G16,\"\"))=\"\",\"\",IF('Gala Name'!$C$3=\"Staffs League\",'Pre-Events'!B16,IF('Gala Name'!$C$3=\"Junior League\",'Pre-Events'!G16,\"\")))","v":""},{"$f":"IF(IF('Gala Name'!$C$3=\"Staffs League\",'Pre-Events'!C16,IF('Gala Name'!$C$3=\"Junior League\",'Pre-Events'!H16,\"\"))=\"\",\"\",IF('Gala Name'!$C$3=\"Staffs League\",'Pre-Events'!C16,IF('Gala Name'!$C$3=\"Junior League\",'Pre-Events'!H16,\"\")))","v":""},{"$f":"IF(IF('Gala Name'!$C$3=\"Staffs League\",'Pre-Events'!D16,IF('Gala Name'!$C$3=\"Junior League\",'Pre-Events'!I16,\"\"))=\"\",\"\",IF('Gala Name'!$C$3=\"Staffs League\",'Pre-Events'!D16,IF('Gala Name'!$C$3=\"Junior League\",'Pre-Events'!I16,\"\")))","v":""},{"$f":"IF(IF('Gala Name'!$C$3=\"Staffs League\",'Pre-Events'!E16,IF('Gala Name'!$C$3=\"Junior League\",'Pre-Events'!J16,\"\"))=\"\",\"\",IF('Gala Name'!$C$3=\"Staffs League\",'Pre-Events'!E16,IF('Gala Name'!$C$3=\"Junior League\",'Pre-Events'!J16,\"\")))","v":""},"   ",{"$f":"IF(IF('Gala Name'!$C$3=\"Staffs League\",\"\",IF('Gala Name'!$C$3=\"Junior League\",'Pre-Events'!K16,\"\"))=\"\",\"\",IF('Gala Name'!$C$3=\"Staffs League\",\"\",IF('Gala Name'!$C$3=\"Junior League\",'Pre-Events'!K16,\"\")))","v":""},15,"",null,{"$f":"IFERROR(VLOOKUP(E17&\" \"&F17,'Pre-Events'!M:N,2,FALSE),\"\")","v":""}]
[null,16,{"$f":"IF(IF('Gala Name'!$C$3=\"Staffs League\",'Pre-Events'!B17,IF('Gala Name'!$C$3=\"Junior League\",'Pre-Events'!G17,\"\"))=\"\",\"\",IF('Gala Name'!$C$3=\"Staffs League\",'Pre-Events'!B17,IF('Gala Name'!$C$3=\"Junior League\",'Pre-Events'!G17,\"\")))","v":""},{"$f":"IF(IF('Gala Name'!$C$3=\"Staffs League\",'Pre-Events'!C17,IF('Gala Name'!$C$3=\"Junior League\",'Pre-Events'!H17,\"\"))=\"\",\"\",IF('Gala Name'!$C$3=\"Staffs League\",'Pre-Events'!C17,IF('Gala Name'!$C$3=\"Junior League\",'Pre-Events'!H17,\"\")))","v":""},{"$f":"IF(IF('Gala Name'!$C$3=\"Staffs League\",'Pre-Events'!D17,IF('Gala Name'!$C$3=\"Junior League\",'Pre-Events'!I17,\"\"))=\"\",\"\",IF('Gala Name'!$C$3=\"Staffs League\",'Pre-Events'!D17,IF('Gala Name'!$C$3=\"Junior League\",'Pre-Events'!I17,\"\")))","v":""},{"$f":"IF(IF('Gala Name'!$C$3=\"Staffs League\",'Pre-Events'!E17,IF('Gala Name'!$C$3=\"Junior League\",'Pre-Events'!J17,\"\"))=\"\",\"\",IF('Gala Name'!$C$3=\"Staffs League\",'Pre-Events'!E17,IF('Gala Name'!$C$3=\"Junior League\",'Pre-Events'!J17,\"\")))","v":""},"   ",{"$f":"IF(IF('Gala Name'!$C$3=\"Staffs League\",\"\",IF('Gala Name'!$C$3=\"Junior League\",'Pre-Events'!K17,\"\"))=\"\",\"\",IF('Gala Name'!$C$3=\"Staffs League\",\"\",IF('Gala Name'!$C$3=\"Junior League\",'Pre-Events'!K17,\"\")))","v":""},16,"",null,{"$f":"IFERROR(VLOOKUP(E18&\" \"&F18,'Pre-Events'!M:N,2,FALSE),\"\")","v":""}]
[null,17,{"$f":"IF(IF('Gala Name'!$C$3=\"Staffs League\",'Pre-Events'!B18,IF('Gala Name'!$C$3=\"Junior League\",'Pre-Events'!G18,\"\"))=\"\",\"\",IF('Gala Name'!$C$3=\"Staffs League\",'Pre-Events'!B18,IF('Gala Name'!$C$3=\"Junior League\",'Pre-Events'!G18,\"\")))","v":""},{"$f":"IF(IF('Gala Name'!$C$3=\"Staffs League\",'Pre-Events'!C18,IF('Gala Name'!$C$3=\"Junior League\",'Pre-Events'!H18,\"\"))=\"\",\"\",IF('Gala Name'!$C$3=\"Staffs League\",'Pre-Events'!C18,IF('Gala Name'!$C$3=\"Junior League\",'Pre-Events'!H18,\"\")))","v":""},{"$f":"IF(IF('Gala Name'!$C$3=\"Staffs League\",'Pre-Events'!D18,IF('Gala Name'!$C$3=\"Junior League\",'Pre-Events'!I18,\"\"))=\"\",\"\",IF('Gala Name'!$C$3=\"Staffs League\",'Pre-Events'!D18,IF('Gala Name'!$C$3=\"Junior League\",'Pre-Events'!I18,\"\")))","v":""},{"$f":"IF(IF('Gala Name'!$C$3=\"Staffs League\",'Pre-Events'!E18,IF('Gala Name'!$C$3=\"Junior League\",'Pre-Events'!J18,\"\"))=\"\",\"\",IF('Gala Name'!$C$3=\"Staffs League\",'Pre-Events'!E18,IF('Gala Name'!$C$3=\"Junior League\",'Pre-Events'!J18,\"\")))","v":""},"   ",{"$f":"IF(IF('Gala Name'!$C$3=\"Staffs League\",\"\",IF('Gala Name'!$C$3=\"Junior League\",'Pre-Events'!K18,\"\"))=\"\",\"\",IF('Gala Name'!$C$3=\"Staffs League\",\"\",IF('Gala Name'!$C$3=\"Junior League\",'Pre-Events'!K18,\"\")))","v":""},17,"",null,{"$f":"IFERROR(VLOOKUP(E19&\" \"&F19,'Pre-Events'!M:N,2,FALSE),\"\")","v":""}]
[null,18,{"$f":"IF(IF('Gala Name'!$C$3=\"Staffs League\",'Pre-Events'!B19,IF('Gala Name'!$C$3=\"Junior League\",'Pre-Events'!G19,\"\"))=\"\",\"\",IF('Gala Name'!$C$3=\"Staffs League\",'Pre-Events'!B19,IF('Gala Name'!$C$3=\"Junior League\",'Pre-Events'!G19,\"\")))","v":""},{"$f":"IF(IF('Gala Name'!$C$3=\"Staffs League\",'Pre-Events'!C19,IF('Gala Name'!$C$3=\"Junior League\",'Pre-Events'!H19,\"\"))=\"\",\"\",IF('Gala Name'!$C$3=\"Staffs League\",'Pre-Events'!C19,IF('Gala Name'!$C$3=\"Junior League\",'Pre-Events'!H19,\"\")))","v":""},{"$f":"IF(IF('Gala Name'!$C$3=\"Staffs League\",'Pre-Events'!D19,IF('Gala Name'!$C$3=\"Junior League\",'Pre-Events'!I19,\"\"))=\"\",\"\",IF('Gala Name'!$C$3=\"Staffs League\",'Pre-Events'!D19,IF('Gala Name'!$C$3=\"Junior League\",'Pre-Events'!I19,\"\")))","v":""},{"$f":"IF(IF('Gala Name'!$C$3=\"Staffs League\",'Pre-Events'!E19,IF('Gala Name'!$C$3=\"Junior League\",'Pre-Events'!J19,\"\"))=\"\",\"\",IF('Gala Name'!$C$3=\"Staffs League\",'Pre-Events'!E19,IF('Gala Name'!$C$3=\"Junior League\",'Pre-Events'!J19,\"\")))","v":""},"   ",{"$f":"IF(IF('Gala Name'!$C$3=\"Staffs League\",\"\",IF('Gala Name'!$C$3=\"Junior League\",'Pre-Events'!K19,\"\"))=\"\",\"\",IF('Gala Name'!$C$3=\"Staffs League\",\"\",IF('Gala Name'!$C$3=\"Junior League\",'Pre-Events'!K19,\"\")))","v":""},18,"",null,{"$f":"IFERROR(VLOOKUP(E20&\" \"&F20,'Pre-Events'!M:N,2,FALSE),\"\")","v":""}]
[null,19,{"$f":"IF(IF('Gala Name'!$C$3=\"Staffs League\",'Pre-Events'!B20,IF('Gala Name'!$C$3=\"Junior League\",'Pre-Events'!G20,\"\"))=\"\",\"\",IF('Gala Name'!$C$3=\"Staffs League\",'Pre-Events'!B20,IF('Gala Name'!$C$3=\"Junior League\",'Pre-Events'!G20,\"\")))","v":""},{"$f":"IF(IF('Gala Name'!$C$3=\"Staffs League\",'Pre-Events'!C20,IF('Gala Name'!$C$3=\"Junior League\",'Pre-Events'!H20,\"\"))=\"\",\"\",IF('Gala Name'!$C$3=\"Staffs League\",'Pre-Events'!C20,IF('Gala Name'!$C$3=\"Junior League\",'Pre-Events'!H20,\"\")))","v":""},{"$f":"IF(IF('Gala Name'!$C$3=\"Staffs League\",'Pre-Events'!D20,IF('Gala Name'!$C$3=\"Junior League\",'Pre-Events'!I20,\"\"))=\"\",\"\",IF('Gala Name'!$C$3=\"Staffs League\",'Pre-Events'!D20,IF('Gala Name'!$C$3=\"Junior League\",'Pre-Events'!I20,\"\")))","v":""},{"$f":"IF(IF('Gala Name'!$C$3=\"Staffs League\",'Pre-Events'!E20,IF('Gala Name'!$C$3=\"Junior League\",'Pre-Events'!J20,\"\"))=\"\",\"\",IF('Gala Name'!$C$3=\"Staffs League\",'Pre-Events'!E20,IF('Gala Name'!$C$3=\"Junior League\",'Pre-Events'!J20,\"\")))","v":""},"   ",{"$f":"IF(IF('Gala Name'!$C$3=\"Staffs League\",\"\",IF('Gala Name'!$C$3=\"Junior League\",'Pre-Events'!K20,\"\"))=\"\",\"\",IF('Gala Name'!$C$3=\"Staffs League\",\"\",IF('Gala Name'!$C$3=\"Junior League\",'Pre-Events'!K20,\"\")))","v":""},19,"",null,{"$f":"IFERROR(VLOOKUP(E21&\" \"&F21,'Pre-Events'!M:N,2,FALSE),\"\")","v":""}]
[null,20,{"$f":"IF(IF('Gala Name'!$C$3=\"Staffs League\",'Pre-Events'!B21,IF('Gala Name'!$C$3=\"Junior League\",'Pre-Events'!G21,\"\"))=\"\",\"\",IF('Gala Name'!$C$3=\"Staffs League\",'Pre-Events'!B21,IF('Gala Name'!$C$3=\"Junior League\",'Pre-Events'!G21,\"\")))","v":""},{"$f":"IF(IF('Gala Name'!$C$3=\"Staffs League\",'Pre-Events'!C21,IF('Gala Name'!$C$3=\"Junior League\",'Pre-Events'!H21,\"\"))=\"\",\"\",IF('Gala Name'!$C$3=\"Staffs League\",'Pre-Events'!C21,IF('Gala Name'!$C$3=\"Junior League\",'Pre-Events'!H21,\"\")))","v":""},{"$f":"IF(IF('Gala Name'!$C$3=\"Staffs League\",'Pre-Events'!D21,IF('Gala Name'!$C$3=\"Junior League\",'Pre-Events'!I21,\"\"))=\"\",\"\",IF('Gala Name'!$C$3=\"Staffs League\",'Pre-Events'!D21,IF('Gala Name'!$C$3=\"Junior League\",'Pre-Events'!I21,\"\")))","v":""},{"$f":"IF(IF('Gala Name'!$C$3=\"Staffs League\",'Pre-Events'!E21,IF('Gala Name'!$C$3=\"Junior League\",'Pre-Events'!J21,\"\"))=\"\",\"\",IF('Gala Name'!$C$3=\"Staffs League\",'Pre-Events'!E21,IF('Gala Name'!$C$3=\"Junior League\",'Pre-Events'!J21,\"\")))","v":""},"   ",{"$f":"IF(IF('Gala Name'!$C$3=\"Staffs League\",\"\",IF('Gala Name'!$C$3=\"Junior League\",'Pre-Events'!K21,\"\"))=\"\",\"\",IF('Gala Name'!$C$3=\"Staffs League\",\"\",IF('Gala Name'!$C$3=\"Junior League\",'Pre-Events'!K21,\"\")))","v":""},20,"",null,{"$f":"IFERROR(VLOOKUP(E22&\" \"&F22,'Pre-Events'!M:N,2,FALSE),\"\")","v":""}]
[null,21,{"$f":"IF(IF('Gala Name'!$C$3=\"Staffs League\",'Pre-Events'!B22,IF('Gala Name'!$C$3=\"Junior League\",'Pre-Events'!G22,\"\"))=\"\",\"\",IF('Gala Name'!$C$3=\"Staffs League\",'Pre-Events'!B22,IF('Gala Name'!$C$3=\"Junior League\",'Pre-Events'!G22,\"\")))","v":""},{"$f":"IF(IF('Gala Name'!$C$3=\"Staffs League\",'Pre-Events'!C22,IF('Gala Name'!$C$3=\"Junior League\",'Pre-Events'!H22,\"\"))=\"\",\"\",IF('Gala Name'!$C$3=\"Staffs League\",'Pre-Events'!C22,IF('Gala Name'!$C$3=\"Junior League\",'Pre-Events'!H22,\"\")))","v":""},{"$f":"IF(IF('Gala Name'!$C$3=\"Staffs League\",'Pre-Events'!D22,IF('Gala Name'!$C$3=\"Junior League\",'Pre-Events'!I22,\"\"))=\"\",\"\",IF('Gala Name'!$C$3=\"Staffs League\",'Pre-Events'!D22,IF('Gala Name'!$C$3=\"Junior League\",'Pre-Events'!I22,\"\")))","v":""},{"$f":"IF(IF('Gala Name'!$C$3=\"Staffs League\",'Pre-Events'!E22,IF('Gala Name'!$C$3=\"Junior League\",'Pre-Events'!J22,\"\"))=\"\",\"\",IF('Gala Name'!$C$3=\"Staffs League\",'Pre-Events'!E22,IF('Gala Name'!$C$3=\"Junior League\",'Pre-Events'!J22,\"\")))","v":""},"   ",{"$f":"IF(IF('Gala Name'!$C$3=\"Staffs League\",\"\",IF('Gala Name'!$C$3=\"Junior League\",'Pre-Events'!K22,\"\"))=\"\",\"\",IF('Gala Name'!$C$3=\"Staffs League\",\"\",IF('Gala Name'!$C$3=\"Junior League\",'Pre-Events'!K22,\"\")))","v":""},21,"",null,{"$f":"IFERROR(VLOOKUP(E23&\" \"&F23,'Pre-Events'!M:N,2,FALSE),\"\")","v":""}]
[null,22,{"$f":"IF(IF('Gala Name'!$C$3=\"Staffs League\",'Pre-Events'!B23,IF('Gala Name'!$C$3=\"Junior League\",'Pre-Events'!G23,\"\"))=\"\",\"\",IF('Gala Name'!$C$3=\"Staffs League\",'Pre-Events'!B23,IF('Gala Name'!$C$3=\"Junior League\",'Pre-Events'!G23,\"\")))","v":""},{"$f":"IF(IF('Gala Name'!$C$3=\"Staffs League\",'Pre-Events'!C23,IF('Gala Name'!$C$3=\"Junior League\",'Pre-Events'!H23,\"\"))=\"\",\"\",IF('Gala Name'!$C$3=\"Staffs League\",'Pre-Events'!C23,IF('Gala Name'!$C$3=\"Junior League\",'Pre-Events'!H23,\"\")))","v":""},{"$f":"IF(IF('Gala Name'!$C$3=\"Staffs League\",'Pre-Events'!D23,IF('Gala Name'!$C$3=\"Junior League\",'Pre-Events'!I23,\"\"))=\"\",\"\",IF('Gala Name'!$C$3=\"Staffs League\",'Pre-Events'!D23,IF('Gala Name'!$C$3=\"Junior League\",'Pre-Events'!I23,\"\")))","v":""},{"$f":"IF(IF('Gala Name'!$C$3=\"Staffs League\",'Pre-Events'!E23,IF('Gala Name'!$C$3=\"Junior League\",'Pre-Events'!J23,\"\"))=\"\",\"\",IF('Gala Name'!$C$3=\"Staffs League\",'Pre-Events'!E23,IF('Gala Name'!$C$3=\"Junior League\",'Pre-Events'!J23,\"\")))","v":""},"   ",{"$f":"IF(IF('Gala Name'!$C$3=\"Staffs League\",\"\",IF('Gala Name'!$C$3=\"Junior League\",'Pre-Events'!K23,\"\"))=\"\",\"\",IF('Gala Name'!$C$3=\"Staffs League\",\"\",IF('Gala Name'!$C$3=\"Junior League\",'Pre-Events'!K23,\"\")))","v":""},22,"",null,{"$f":"IFERROR(VLOOKUP(E24&\" \"&F24,'Pre-Events'!M:N,2,FALSE),\"\")","v":""}]
[null,23,{"$f":"IF(IF('Gala Name'!$C$3=\"Staffs League\",'Pre-Events'!B24,IF('Gala Name'!$C$3=\"Junior League\",'Pre-Events'!G24,\"\"))=\"\",\"\",IF('Gala Name'!$C$3=\"Staffs League\",'Pre-Events'!B24,IF('Gala Name'!$C$3=\"Junior League\",'Pre-Events'!G24,\"\")))","v":""},{"$f":"IF(IF('Gala Name'!$C$3=\"Staffs League\",'Pre-Events'!C24,IF('Gala Name'!$C$3=\"Junior League\",'Pre-Events'!H24,\"\"))=\"\",\"\",IF('Gala Name'!$C$3=\"Staffs League\",'Pre-Events'!C24,IF('Gala Name'!$C$3=\"Junior League\",'Pre-Events'!H24,\"\")))","v":""},{"$f":"IF(IF('Gala Name'!$C$3=\"Staffs League\",'Pre-Events'!D24,IF('Gala Name'!$C$3=\"Junior League\",'Pre-Events'!I24,\"\"))=\"\",\"\",IF('Gala Name'!$C$3=\"Staffs League\",'Pre-Events'!D24,IF('Gala Name'!$C$3=\"Junior League\",'Pre-Events'!I24,\"\")))","v":""},{"$f":"IF(IF('Gala Name'!$C$3=\"Staffs League\",'Pre-Events'!E24,IF('Gala Name'!$C$3=\"Junior League\",'Pre-Events'!J24,\"\"))=\"\",\"\",IF('Gala Name'!$C$3=\"Staffs League\",'Pre-Events'!E24,IF('Gala Name'!$C$3=\"Junior League\",'Pre-Events'!J24,\"\")))","v":""},"   ",{"$f":"IF(IF('Gala Name'!$C$3=\"Staffs League\",\"\",IF('Gala Name'!$C$3=\"Junior League\",'Pre-Events'!K24,\"\"))=\"\",\"\",IF('Gala Name'!$C$3=\"Staffs League\",\"\",IF('Gala Name'!$C$3=\"Junior League\",'Pre-Events'!K24,\"\")))","v":""},23,"",null,{"$f":"IFERROR(VLOOKUP(E25&\" \"&F25,'Pre-Events'!M:N,2,FALSE),\"\")","v":""}]
[null,24,{"$f":"IF(IF('Gala Name'!$C$3=\"Staffs League\",'Pre-Events'!B25,IF('Gala Name'!$C$3=\"Junior League\",'Pre-Events'!G25,\"\"))=\"\",\"\",IF('Gala Name'!$C$3=\"Staffs League\",'Pre-Events'!B25,IF('Gala Name'!$C$3=\"Junior League\",'Pre-Events'!G25,\"\")))","v":""},{"$f":"IF(IF('Gala Name'!$C$3=\"Staffs League\",'Pre-Events'!C25,IF('Gala Name'!$C$3=\"Junior League\",'Pre-Events'!H25,\"\"))=\"\",\"\",IF('Gala Name'!$C$3=\"Staffs League\",'Pre-Events'!C25,IF('Gala Name'!$C$3=\"Junior League\",'Pre-Events'!H25,\"\")))","v":""},{"$f":"IF(IF('Gala Name'!$C$3=\"Staffs League\",'Pre-Events'!D25,IF('Gala Name'!$C$3=\"Junior League\",'Pre-Events'!I25,\"\"))=\"\",\"\",IF('Gala Name'!$C$3=\"Staffs League\",'Pre-Events'!D25,IF('Gala Name'!$C$3=\"Junior League\",'Pre-Events'!I25,\"\")))","v":""},{"$f":"IF(IF('Gala Name'!$C$3=\"Staffs League\",'Pre-Events'!E25,IF('Gala Name'!$C$3=\"Junior League\",'Pre-Events'!J25,\"\"))=\"\",\"\",IF('Gala Name'!$C$3=\"Staffs League\",'Pre-Events'!E25,IF('Gala Name'!$C$3=\"Junior League\",'Pre-Events'!J25,\"\")))","v":""},"   ",{"$f":"IF(IF('Gala Name'!$C$3=\"Staffs League\",\"\",IF('Gala Name'!$C$3=\"Junior League\",'Pre-Events'!K25,\"\"))=\"\",\"\",IF('Gala Name'!$C$3=\"Staffs League\",\"\",IF('Gala Name'!$C$3=\"Junior League\",'Pre-Events'!K25,\"\")))","v":""},24,"",null,{"$f":"IFERROR(VLOOKUP(E26&\" \"&F26,'Pre-Events'!M:N,2,FALSE),\"\")","v":""}]
[null,25,{"$f":"IF(IF('Gala Name'!$C$3=\"Staffs League\",'Pre-Events'!B26,IF('Gala Name'!$C$3=\"Junior League\",'Pre-Events'!G26,\"\"))=\"\",\"\",IF('Gala Name'!$C$3=\"Staffs League\",'Pre-Events'!B26,IF('Gala Name'!$C$3=\"Junior League\",'Pre-Events'!G26,\"\")))","v":""},{"$f":"IF(IF('Gala Name'!$C$3=\"Staffs League\",'Pre-Events'!C26,IF('Gala Name'!$C$3=\"Junior League\",'Pre-Events'!H26,\"\"))=\"\",\"\",IF('Gala Name'!$C$3=\"Staffs League\",'Pre-Events'!C26,IF('Gala Name'!$C$3=\"Junior League\",'Pre-Events'!H26,\"\")))","v":""},{"$f":"IF(IF('Gala Name'!$C$3=\"Staffs League\",'Pre-Events'!D26,IF('Gala Name'!$C$3=\"Junior League\",'Pre-Events'!I26,\"\"))=\"\",\"\",IF('Gala Name'!$C$3=\"Staffs League\",'Pre-Events'!D26,IF('Gala Name'!$C$3=\"Junior League\",'Pre-Events'!I26,\"\")))","v":""},{"$f":"IF(IF('Gala Name'!$C$3=\"Staffs League\",'Pre-Events'!E26,IF('Gala Name'!$C$3=\"Junior League\",'Pre-Events'!J26,\"\"))=\"\",\"\",IF('Gala Name'!$C$3=\"Staffs League\",'Pre-Events'!E26,IF('Gala Name'!$C$3=\"Junior League\",'Pre-Events'!J26,\"\")))","v":""},"   ",{"$f":"IF(IF('Gala Name'!$C$3=\"Staffs League\",\"\",IF('Gala Name'!$C$3=\"Junior League\",'Pre-Events'!K26,\"\"))=\"\",\"\",IF('Gala Name'!$C$3=\"Staffs League\",\"\",IF('Gala Name'!$C$3=\"Junior League\",'Pre-Events'!K26,\"\")))","v":""},25,"",null,{"$f":"IFERROR(VLOOKUP(E27&\" \"&F27,'Pre-Events'!M:N,2,FALSE),\"\")","v":""}]
[null,26,{"$f":"IF(IF('Gala Name'!$C$3=\"Staffs League\",'Pre-Events'!B27,IF('Gala Name'!$C$3=\"Junior League\",'Pre-Events'!G27,\"\"))=\"\",\"\",IF('Gala Name'!$C$3=\"Staffs League\",'Pre-Events'!B27,IF('Gala Name'!$C$3=\"Junior League\",'Pre-Events'!G27,\"\")))","v":""},{"$f":"IF(IF('Gala Name'!$C$3=\"Staffs League\",'Pre-Events'!C27,IF('Gala Name'!$C$3=\"Junior League\",'Pre-Events'!H27,\"\"))=\"\",\"\",IF('Gala Name'!$C$3=\"Staffs League\",'Pre-Events'!C27,IF('Gala Name'!$C$3=\"Junior League\",'Pre-Events'!H27,\"\")))","v":""},{"$f":"IF(IF('Gala Name'!$C$3=\"Staffs League\",'Pre-Events'!D27,IF('Gala Name'!$C$3=\"Junior League\",'Pre-Events'!I27,\"\"))=\"\",\"\",IF('Gala Name'!$C$3=\"Staffs League\",'Pre-Events'!D27,IF('Gala Name'!$C$3=\"Junior League\",'Pre-Events'!I27,\"\")))","v":""},{"$f":"IF(IF('Gala Name'!$C$3=\"Staffs League\",'Pre-Events'!E27,IF('Gala Name'!$C$3=\"Junior League\",'Pre-Events'!J27,\"\"))=\"\",\"\",IF('Gala Name'!$C$3=\"Staffs League\",'Pre-Events'!E27,IF('Gala Name'!$C$3=\"Junior League\",'Pre-Events'!J27,\"\")))","v":""},"   ",{"$f":"IF(IF('Gala Name'!$C$3=\"Staffs League\",\"\",IF('Gala Name'!$C$3=\"Junior League\",'Pre-Events'!K27,\"\"))=\"\",\"\",IF('Gala Name'!$C$3=\"Staffs League\",\"\",IF('Gala Name'!$C$3=\"Junior League\",'Pre-Events'!K27,\"\")))","v":""},26,"",null,{"$f":"IFERROR(VLOOKUP(E28&\" \"&F28,'Pre-Events'!M:N,2,FALSE),\"\")","v":""}]
[null,27,{"$f":"IF(IF('Gala Name'!$C$3=\"Staffs League\",'Pre-Events'!B28,IF('Gala Name'!$C$3=\"Junior League\",'Pre-Events'!G28,\"\"))=\"\",\"\",IF('Gala Name'!$C$3=\"Staffs League\",'Pre-Events'!B28,IF('Gala Name'!$C$3=\"Junior League\",'Pre-Events'!G28,\"\")))","v":""},{"$f":"IF(IF('Gala Name'!$C$3=\"Staffs League\",'Pre-Events'!C28,IF('Gala Name'!$C$3=\"Junior League\",'Pre-Events'!H28,\"\"))=\"\",\"\",IF('Gala Name'!$C$3=\"Staffs League\",'Pre-Events'!C28,IF('Gala Name'!$C$3=\"Junior League\",'Pre-Events'!H28,\"\")))","v":""},{"$f":"IF(IF('Gala Name'!$C$3=\"Staffs League\",'Pre-Events'!D28,IF('Gala Name'!$C$3=\"Junior League\",'Pre-Events'!I28,\"\"))=\"\",\"\",IF('Gala Name'!$C$3=\"Staffs League\",'Pre-Events'!D28,IF('Gala Name'!$C$3=\"Junior League\",'Pre-Events'!I28,\"\")))","v":""},{"$f":"IF(IF('Gala Name'!$C$3=\"Staffs League\",'Pre-Events'!E28,IF('Gala Name'!$C$3=\"Junior League\",'Pre-Events'!J28,\"\"))=\"\",\"\",IF('Gala Name'!$C$3=\"Staffs League\",'Pre-Events'!E28,IF('Gala Name'!$C$3=\"Junior League\",'Pre-Events'!J28,\"\")))","v":""},"   ",{"$f":"IF(IF('Gala Name'!$C$3=\"Staffs League\",\"\",IF('Gala Name'!$C$3=\"Junior League\",'Pre-Events'!K28,\"\"))=\"\",\"\",IF('Gala Name'!$C$3=\"Staffs League\",\"\",IF('Gala Name'!$C$3=\"Junior League\",'Pre-Events'!K28,\"\")))","v":""},27,"",null,{"$f":"IFERROR(VLOOKUP(E29&\" \"&F29,'Pre-Events'!M:N,2,FALSE),\"\")","v":""}]
[null,28,{"$f":"IF(IF('Gala Name'!$C$3=\"Staffs League\",'Pre-Events'!B29,IF('Gala Name'!$C$3=\"Junior League\",'Pre-Events'!G29,\"\"))=\"\",\"\",IF('Gala Name'!$C$3=\"Staffs League\",'Pre-Events'!B29,IF('Gala Name'!$C$3=\"Junior League\",'Pre-Events'!G29,\"\")))","v":""},{"$f":"IF(IF('Gala Name'!$C$3=\"Staffs League\",'Pre-Events'!C29,IF('Gala Name'!$C$3=\"Junior League\",'Pre-Events'!H29,\"\"))=\"\",\"\",IF('Gala Name'!$C$3=\"Staffs League\",'Pre-Events'!C29,IF('Gala Name'!$C$3=\"Junior League\",'Pre-Events'!H29,\"\")))","v":""},{"$f":"IF(IF('Gala Name'!$C$3=\"Staffs League\",'Pre-Events'!D29,IF('Gala Name'!$C$3=\"Junior League\",'Pre-Events'!I29,\"\"))=\"\",\"\",IF('Gala Name'!$C$3=\"Staffs League\",'Pre-Events'!D29,IF('Gala Name'!$C$3=\"Junior League\",'Pre-Events'!I29,\"\")))","v":""},{"$f":"IF(IF('Gala Name'!$C$3=\"Staffs League\",'Pre-Events'!E29,IF('Gala Name'!$C$3=\"Junior League\",'Pre-Events'!J29,\"\"))=\"\",\"\",IF('Gala Name'!$C$3=\"Staffs League\",'Pre-Events'!E29,IF('Gala Name'!$C$3=\"Junior League\",'Pre-Events'!J29,\"\")))","v":""},"   ",{"$f":"IF(IF('Gala Name'!$C$3=\"Staffs League\",\"\",IF('Gala Name'!$C$3=\"Junior League\",'Pre-Events'!K29,\"\"))=\"\",\"\",IF('Gala Name'!$C$3=\"Staffs League\",\"\",IF('Gala Name'!$C$3=\"Junior League\",'Pre-Events'!K29,\"\")))","v":""},28,"",null,{"$f":"IFERROR(VLOOKUP(E30&\" \"&F30,'Pre-Events'!M:N,2,FALSE),\"\")","v":""}]
[null,29,{"$f":"IF(IF('Gala Name'!$C$3=\"Staffs League\",'Pre-Events'!B30,IF('Gala Name'!$C$3=\"Junior League\",'Pre-Events'!G30,\"\"))=\"\",\"\",IF('Gala Name'!$C$3=\"Staffs League\",'Pre-Events'!B30,IF('Gala Name'!$C$3=\"Junior League\",'Pre-Events'!G30,\"\")))","v":""},{"$f":"IF(IF('Gala Name'!$C$3=\"Staffs League\",'Pre-Events'!C30,IF('Gala Name'!$C$3=\"Junior League\",'Pre-Events'!H30,\"\"))=\"\",\"\",IF('Gala Name'!$C$3=\"Staffs League\",'Pre-Events'!C30,IF('Gala Name'!$C$3=\"Junior League\",'Pre-Events'!H30,\"\")))","v":""},{"$f":"IF(IF('Gala Name'!$C$3=\"Staffs League\",'Pre-Events'!D30,IF('Gala Name'!$C$3=\"Junior League\",'Pre-Events'!I30,\"\"))=\"\",\"\",IF('Gala Name'!$C$3=\"Staffs League\",'Pre-Events'!D30,IF('Gala Name'!$C$3=\"Junior League\",'Pre-Events'!I30,\"\")))","v":""},{"$f":"IF(IF('Gala Name'!$C$3=\"Staffs League\",'Pre-Events'!E30,IF('Gala Name'!$C$3=\"Junior League\",'Pre-Events'!J30,\"\"))=\"\",\"\",IF('Gala Name'!$C$3=\"Staffs League\",'Pre-Events'!E30,IF('Gala Name'!$C$3=\"Junior League\",'Pre-Events'!J30,\"\")))","v":""},"   ",{"$f":"IF(IF('Gala Name'!$C$3=\"Staffs League\",\"\",IF('Gala Name'!$C$3=\"Junior League\",'Pre-Events'!K30,\"\"))=\"\",\"\",IF('Gala Name'!$C$3=\"Staffs League\",\"\",IF('Gala Name'!$C$3=\"Junior League\",'Pre-Events'!K30,\"\")))","v":""},29,"",null,{"$f":"IFERROR(VLOOKUP(E31&\" \"&F31,'Pre-Events'!M:N,2,FALSE),\"\")","v":""}]
[null,30,{"$f":"IF(IF('Gala Name'!$C$3=\"Staffs League\",'Pre-Events'!B31,IF('Gala Name'!$C$3=\"Junior League\",'Pre-Events'!G31,\"\"))=\"\",\"\",IF('Gala Name'!$C$3=\"Staffs League\",'Pre-Events'!B31,IF('Gala Name'!$C$3=\"Junior League\",'Pre-Events'!G31,\"\")))","v":""},{"$f":"IF(IF('Gala Name'!$C$3=\"Staffs League\",'Pre-Events'!C31,IF('Gala Name'!$C$3=\"Junior League\",'Pre-Events'!H31,\"\"))=\"\",\"\",IF('Gala Name'!$C$3=\"Staffs League\",'Pre-Events'!C31,IF('Gala Name'!$C$3=\"Junior League\",'Pre-Events'!H31,\"\")))","v":""},{"$f":"IF(IF('Gala Name'!$C$3=\"Staffs League\",'Pre-Events'!D31,IF('Gala Name'!$C$3=\"Junior League\",'Pre-Events'!I31,\"\"))=\"\",\"\",IF('Gala Name'!$C$3=\"Staffs League\",'Pre-Events'!D31,IF('Gala Name'!$C$3=\"Junior League\",'Pre-Events'!I31,\"\")))","v":""},{"$f":"IF(IF('Gala Name'!$C$3=\"Staffs League\",'Pre-Events'!E31,IF('Gala Name'!$C$3=\"Junior League\",'Pre-Events'!J31,\"\"))=\"\",\"\",IF('Gala Name'!$C$3=\"Staffs League\",'Pre-Events'!E31,IF('Gala Name'!$C$3=\"Junior League\",'Pre-Events'!J31,\"\")))","v":""},"   ",{"$f":"IF(IF('Gala Name'!$C$3=\"Staffs League\",\"\",IF('Gala Name'!$C$3=\"Junior League\",'Pre-Events'!K31,\"\"))=\"\",\"\",IF('Gala Name'!$C$3=\"Staffs League\",\"\",IF('Gala Name'!$C$3=\"Junior League\",'Pre-Events'!K31,\"\")))","v":""},30,"",null,{"$f":"IFERROR(VLOOKUP(E32&\" \"&F32,'Pre-Events'!M:N,2,FALSE),\"\")","v":""}]
[null,31,{"$f":"IF(IF('Gala Name'!$C$3=\"Staffs League\",'Pre-Events'!B32,IF('Gala Name'!$C$3=\"Junior League\",'Pre-Events'!G32,\"\"))=\"\",\"\",IF('Gala Name'!$C$3=\"Staffs League\",'Pre-Events'!B32,IF('Gala Name'!$C$3=\"Junior League\",'Pre-Events'!G32,\"\")))","v":""},{"$f":"IF(IF('Gala Name'!$C$3=\"Staffs League\",'Pre-Events'!C32,IF('Gala Name'!$C$3=\"Junior League\",'Pre-Events'!H32,\"\"))=\"\",\"\",IF('Gala Name'!$C$3=\"Staffs League\",'Pre-Events'!C32,IF('Gala Name'!$C$3=\"Junior League\",'Pre-Events'!H32,\"\")))","v":""},{"$f":"IF(IF('Gala Name'!$C$3=\"Staffs League\",'Pre-Events'!D32,IF('Gala Name'!$C$3=\"Junior League\",'Pre-Events'!I32,\"\"))=\"\",\"\",IF('Gala Name'!$C$3=\"Staffs League\",'Pre-Events'!D32,IF('Gala Name'!$C$3=\"Junior League\",'Pre-Events'!I32,\"\")))","v":""},{"$f":"IF(IF('Gala Name'!$C$3=\"Staffs League\",'Pre-Events'!E32,IF('Gala Name'!$C$3=\"Junior League\",'Pre-Events'!J32,\"\"))=\"\",\"\",IF('Gala Name'!$C$3=\"Staffs League\",'Pre-Events'!E32,IF('Gala Name'!$C$3=\"Junior League\",'Pre-Events'!J32,\"\")))","v":""},"   ",{"$f":"IF(IF('Gala Name'!$C$3=\"Staffs League\",\"\",IF('Gala Name'!$C$3=\"Junior League\",'Pre-Events'!K32,\"\"))=\"\",\"\",IF('Gala Name'!$C$3=\"Staffs League\",\"\",IF('Gala Name'!$C$3=\"Junior League\",'Pre-Events'!K32,\"\")))","v":""},31,"",null,{"$f":"IFERROR(VLOOKUP(E33&\" \"&F33,'Pre-Events'!M:N,2,FALSE),\"\")","v":""}]
[null,32,{"$f":"IF(IF('Gala Name'!$C$3=\"Staffs League\",'Pre-Events'!B33,IF('Gala Name'!$C$3=\"Junior League\",'Pre-Events'!G33,\"\"))=\"\",\"\",IF('Gala Name'!$C$3=\"Staffs League\",'Pre-Events'!B33,IF('Gala Name'!$C$3=\"Junior League\",'Pre-Events'!G33,\"\")))","v":""},{"$f":"IF(IF('Gala Name'!$C$3=\"Staffs League\",'Pre-Events'!C33,IF('Gala Name'!$C$3=\"Junior League\",'Pre-Events'!H33,\"\"))=\"\",\"\",IF('Gala Name'!$C$3=\"Staffs League\",'Pre-Events'!C33,IF('Gala Name'!$C$3=\"Junior League\",'Pre-Events'!H33,\"\")))","v":""},{"$f":"IF(IF('Gala Name'!$C$3=\"Staffs League\",'Pre-Events'!D33,IF('Gala Name'!$C$3=\"Junior League\",'Pre-Events'!I33,\"\"))=\"\",\"\",IF('Gala Name'!$C$3=\"Staffs League\",'Pre-Events'!D33,IF('Gala Name'!$C$3=\"Junior League\",'Pre-Events'!I33,\"\")))","v":""},{"$f":"IF(IF('Gala Name'!$C$3=\"Staffs League\",'Pre-Events'!E33,IF('Gala Name'!$C$3=\"Junior League\",'Pre-Events'!J33,\"\"))=\"\",\"\",IF('Gala Name'!$C$3=\"Staffs League\",'Pre-Events'!E33,IF('Gala Name'!$C$3=\"Junior League\",'Pre-Events'!J33,\"\")))","v":""},"   ",{"$f":"IF(IF('Gala Name'!$C$3=\"Staffs League\",\"\",IF('Gala Name'!$C$3=\"Junior League\",'Pre-Events'!K33,\"\"))=\"\",\"\",IF('Gala Name'!$C$3=\"Staffs League\",\"\",IF('Gala Name'!$C$3=\"Junior League\",'Pre-Events'!K33,\"\")))","v":""},32,"",null,{"$f":"IFERROR(VLOOKUP(E34&\" \"&F34,'Pre-Events'!M:N,2,FALSE),\"\")","v":""}]
[null,33,{"$f":"IF(IF('Gala Name'!$C$3=\"Staffs League\",'Pre-Events'!B34,IF('Gala Name'!$C$3=\"Junior League\",'Pre-Events'!G34,\"\"))=\"\",\"\",IF('Gala Name'!$C$3=\"Staffs League\",'Pre-Events'!B34,IF('Gala Name'!$C$3=\"Junior League\",'Pre-Events'!G34,\"\")))","v":""},{"$f":"IF(IF('Gala Name'!$C$3=\"Staffs League\",'Pre-Events'!C34,IF('Gala Name'!$C$3=\"Junior League\",'Pre-Events'!H34,\"\"))=\"\",\"\",IF('Gala Name'!$C$3=\"Staffs League\",'Pre-Events'!C34,IF('Gala Name'!$C$3=\"Junior League\",'Pre-Events'!H34,\"\")))","v":""},{"$f":"IF(IF('Gala Name'!$C$3=\"Staffs League\",'Pre-Events'!D34,IF('Gala Name'!$C$3=\"Junior League\",'Pre-Events'!I34,\"\"))=\"\",\"\",IF('Gala Name'!$C$3=\"Staffs League\",'Pre-Events'!D34,IF('Gala Name'!$C$3=\"Junior League\",'Pre-Events'!I34,\"\")))","v":""},{"$f":"IF(IF('Gala Name'!$C$3=\"Staffs League\",'Pre-Events'!E34,IF('Gala Name'!$C$3=\"Junior League\",'Pre-Events'!J34,\"\"))=\"\",\"\",IF('Gala Name'!$C$3=\"Staffs League\",'Pre-Events'!E34,IF('Gala Name'!$C$3=\"Junior League\",'Pre-Events'!J34,\"\")))","v":""},"   ",{"$f":"IF(IF('Gala Name'!$C$3=\"Staffs League\",\"\",IF('Gala Name'!$C$3=\"Junior League\",'Pre-Events'!K34,\"\"))=\"\",\"\",IF('Gala Name'!$C$3=\"Staffs League\",\"\",IF('Gala Name'!$C$3=\"Junior League\",'Pre-Events'!K34,\"\")))","v":""},33,"",null,{"$f":"IFERROR(VLOOKUP(E35&\" \"&F35,'Pre-Events'!M:N,2,FALSE),\"\")","v":""}]
[null,34,{"$f":"IF(IF('Gala Name'!$C$3=\"Staffs League\",'Pre-Events'!B35,IF('Gala Name'!$C$3=\"Junior League\",'Pre-Events'!G35,\"\"))=\"\",\"\",IF('Gala Name'!$C$3=\"Staffs League\",'Pre-Events'!B35,IF('Gala Name'!$C$3=\"Junior League\",'Pre-Events'!G35,\"\")))","v":""},{"$f":"IF(IF('Gala Name'!$C$3=\"Staffs League\",'Pre-Events'!C35,IF('Gala Name'!$C$3=\"Junior League\",'Pre-Events'!H35,\"\"))=\"\",\"\",IF('Gala Name'!$C$3=\"Staffs League\",'Pre-Events'!C35,IF('Gala Name'!$C$3=\"Junior League\",'Pre-Events'!H35,\"\")))","v":""},{"$f":"IF(IF('Gala Name'!$C$3=\"Staffs League\",'Pre-Events'!D35,IF('Gala Name'!$C$3=\"Junior League\",'Pre-Events'!I35,\"\"))=\"\",\"\",IF('Gala Name'!$C$3=\"Staffs League\",'Pre-Events'!D35,IF('Gala Name'!$C$3=\"Junior League\",'Pre-Events'!I35,\"\")))","v":""},{"$f":"IF(IF('Gala Name'!$C$3=\"Staffs League\",'Pre-Events'!E35,IF('Gala Name'!$C$3=\"Junior League\",'Pre-Events'!J35,\"\"))=\"\",\"\",IF('Gala Name'!$C$3=\"Staffs League\",'Pre-Events'!E35,IF('Gala Name'!$C$3=\"Junior League\",'Pre-Events'!J35,\"\")))","v":""},"   ",{"$f":"IF(IF('Gala Name'!$C$3=\"Staffs League\",\"\",IF('Gala Name'!$C$3=\"Junior League\",'Pre-Events'!K35,\"\"))=\"\",\"\",IF('Gala Name'!$C$3=\"Staffs League\",\"\",IF('Gala Name'!$C$3=\"Junior League\",'Pre-Events'!K35,\"\")))","v":""},34,"",null,{"$f":"IFERROR(VLOOKUP(E36&\" \"&F36,'Pre-Events'!M:N,2,FALSE),\"\")","v":""}]
[null,35,{"$f":"IF(IF('Gala Name'!$C$3=\"Staffs League\",'Pre-Events'!B36,IF('Gala Name'!$C$3=\"Junior League\",'Pre-Events'!G36,\"\"))=\"\",\"\",IF('Gala Name'!$C$3=\"Staffs League\",'Pre-Events'!B36,IF('Gala Name'!$C$3=\"Junior League\",'Pre-Events'!G36,\"\")))","v":""},{"$f":"IF(IF('Gala Name'!$C$3=\"Staffs League\",'Pre-Events'!C36,IF('Gala Name'!$C$3=\"Junior League\",'Pre-Events'!H36,\"\"))=\"\",\"\",IF('Gala Name'!$C$3=\"Staffs League\",'Pre-Events'!C36,IF('Gala Name'!$C$3=\"Junior League\",'Pre-Events'!H36,\"\")))","v":""},{"$f":"IF(IF('Gala Name'!$C$3=\"Staffs League\",'Pre-Events'!D36,IF('Gala Name'!$C$3=\"Junior League\",'Pre-Events'!I36,\"\"))=\"\",\"\",IF('Gala Name'!$C$3=\"Staffs League\",'Pre-Events'!D36,IF('Gala Name'!$C$3=\"Junior League\",'Pre-Events'!I36,\"\")))","v":""},{"$f":"IF(IF('Gala Name'!$C$3=\"Staffs League\",'Pre-Events'!E36,IF('Gala Name'!$C$3=\"Junior League\",'Pre-Events'!J36,\"\"))=\"\",\"\",IF('Gala Name'!$C$3=\"Staffs League\",'Pre-Events'!E36,IF('Gala Name'!$C$3=\"Junior League\",'Pre-Events'!J36,\"\")))","v":""},"   ",{"$f":"IF(IF('Gala Name'!$C$3=\"Staffs League\",\"\",IF('Gala Name'!$C$3=\"Junior League\",'Pre-Events'!K36,\"\"))=\"\",\"\",IF('Gala Name'!$C$3=\"Staffs League\",\"\",IF('Gala Name'!$C$3=\"Junior League\",'Pre-Events'!K36,\"\")))","v":""},35,"",null,{"$f":"IFERROR(VLOOKUP(E37&\" \"&F37,'Pre-Events'!M:N,2,FALSE),\"\")","v":""}]
[null,36,{"$f":"IF(IF('Gala Name'!$C$3=\"Staffs League\",'Pre-Events'!B37,IF('Gala Name'!$C$3=\"Junior League\",'Pre-Events'!G37,\"\"))=\"\",\"\",IF('Gala Name'!$C$3=\"Staffs League\",'Pre-Events'!B37,IF('Gala Name'!$C$3=\"Junior League\",'Pre-Events'!G37,\"\")))","v":""},{"$f":"IF(IF('Gala Name'!$C$3=\"Staffs League\",'Pre-Events'!C37,IF('Gala Name'!$C$3=\"Junior League\",'Pre-Events'!H37,\"\"))=\"\",\"\",IF('Gala Name'!$C$3=\"Staffs League\",'Pre-Events'!C37,IF('Gala Name'!$C$3=\"Junior League\",'Pre-Events'!H37,\"\")))","v":""},{"$f":"IF(IF('Gala Name'!$C$3=\"Staffs League\",'Pre-Events'!D37,IF('Gala Name'!$C$3=\"Junior League\",'Pre-Events'!I37,\"\"))=\"\",\"\",IF('Gala Name'!$C$3=\"Staffs League\",'Pre-Events'!D37,IF('Gala Name'!$C$3=\"Junior League\",'Pre-Events'!I37,\"\")))","v":""},{"$f":"IF(IF('Gala Name'!$C$3=\"Staffs League\",'Pre-Events'!E37,IF('Gala Name'!$C$3=\"Junior League\",'Pre-Events'!J37,\"\"))=\"\",\"\",IF('Gala Name'!$C$3=\"Staffs League\",'Pre-Events'!E37,IF('Gala Name'!$C$3=\"Junior League\",'Pre-Events'!J37,\"\")))","v":""},"   ",{"$f":"IF(IF('Gala Name'!$C$3=\"Staffs League\",\"\",IF('Gala Name'!$C$3=\"Junior League\",'Pre-Events'!K37,\"\"))=\"\",\"\",IF('Gala Name'!$C$3=\"Staffs League\",\"\",IF('Gala Name'!$C$3=\"Junior League\",'Pre-Events'!K37,\"\")))","v":""},36,"",null,{"$f":"IFERROR(VLOOKUP(E38&\" \"&F38,'Pre-Events'!M:N,2,FALSE),\"\")","v":""}]
[null,37,{"$f":"IF(IF('Gala Name'!$C$3=\"Staffs League\",'Pre-Events'!B38,IF('Gala Name'!$C$3=\"Junior League\",'Pre-Events'!G38,\"\"))=\"\",\"\",IF('Gala Name'!$C$3=\"Staffs League\",'Pre-Events'!B38,IF('Gala Name'!$C$3=\"Junior League\",'Pre-Events'!G38,\"\")))","v":""},{"$f":"IF(IF('Gala Name'!$C$3=\"Staffs League\",'Pre-Events'!C38,IF('Gala Name'!$C$3=\"Junior League\",'Pre-Events'!H38,\"\"))=\"\",\"\",IF('Gala Name'!$C$3=\"Staffs League\",'Pre-Events'!C38,IF('Gala Name'!$C$3=\"Junior League\",'Pre-Events'!H38,\"\")))","v":""},{"$f":"IF(IF('Gala Name'!$C$3=\"Staffs League\",'Pre-Events'!D38,IF('Gala Name'!$C$3=\"Junior League\",'Pre-Events'!I38,\"\"))=\"\",\"\",IF('Gala Name'!$C$3=\"Staffs League\",'Pre-Events'!D38,IF('Gala Name'!$C$3=\"Junior League\",'Pre-Events'!I38,\"\")))","v":""},{"$f":"IF(IF('Gala Name'!$C$3=\"Staffs League\",'Pre-Events'!E38,IF('Gala Name'!$C$3=\"Junior League\",'Pre-Events'!J38,\"\"))=\"\",\"\",IF('Gala Name'!$C$3=\"Staffs League\",'Pre-Events'!E38,IF('Gala Name'!$C$3=\"Junior League\",'Pre-Events'!J38,\"\")))","v":""},"   ",{"$f":"IF(IF('Gala Name'!$C$3=\"Staffs League\",\"\",IF('Gala Name'!$C$3=\"Junior League\",'Pre-Events'!K38,\"\"))=\"\",\"\",IF('Gala Name'!$C$3=\"Staffs League\",\"\",IF('Gala Name'!$C$3=\"Junior League\",'Pre-Events'!K38,\"\")))","v":""},37,"",null,{"$f":"IFERROR(VLOOKUP(E39&\" \"&F39,'Pre-Events'!M:N,2,FALSE),\"\")","v":""}]
[null,38,{"$f":"IF(IF('Gala Name'!$C$3=\"Staffs League\",'Pre-Events'!B39,IF('Gala Name'!$C$3=\"Junior League\",'Pre-Events'!G39,\"\"))=\"\",\"\",IF('Gala Name'!$C$3=\"Staffs League\",'Pre-Events'!B39,IF('Gala Name'!$C$3=\"Junior League\",'Pre-Events'!G39,\"\")))","v":""},{"$f":"IF(IF('Gala Name'!$C$3=\"Staffs League\",'Pre-Events'!C39,IF('Gala Name'!$C$3=\"Junior League\",'Pre-Events'!H39,\"\"))=\"\",\"\",IF('Gala Name'!$C$3=\"Staffs League\",'Pre-Events'!C39,IF('Gala Name'!$C$3=\"Junior League\",'Pre-Events'!H39,\"\")))","v":""},{"$f":"IF(IF('Gala Name'!$C$3=\"Staffs League\",'Pre-Events'!D39,IF('Gala Name'!$C$3=\"Junior League\",'Pre-Events'!I39,\"\"))=\"\",\"\",IF('Gala Name'!$C$3=\"Staffs League\",'Pre-Events'!D39,IF('Gala Name'!$C$3=\"Junior League\",'Pre-Events'!I39,\"\")))","v":""},{"$f":"IF(IF('Gala Name'!$C$3=\"Staffs League\",'Pre-Events'!E39,IF('Gala Name'!$C$3=\"Junior League\",'Pre-Events'!J39,\"\"))=\"\",\"\",IF('Gala Name'!$C$3=\"Staffs League\",'Pre-Events'!E39,IF('Gala Name'!$C$3=\"Junior League\",'Pre-Events'!J39,\"\")))","v":""},"   ",{"$f":"IF(IF('Gala Name'!$C$3=\"Staffs League\",\"\",IF('Gala Name'!$C$3=\"Junior League\",'Pre-Events'!K39,\"\"))=\"\",\"\",IF('Gala Name'!$C$3=\"Staffs League\",\"\",IF('Gala Name'!$C$3=\"Junior League\",'Pre-Events'!K39,\"\")))","v":""},38,"",null,{"$f":"IFERROR(VLOOKUP(E40&\" \"&F40,'Pre-Events'!M:N,2,FALSE),\"\")","v":""}]
[null,39,{"$f":"IF(IF('Gala Name'!$C$3=\"Staffs League\",'Pre-Events'!B40,IF('Gala Name'!$C$3=\"Junior League\",'Pre-Events'!G40,\"\"))=\"\",\"\",IF('Gala Name'!$C$3=\"Staffs League\",'Pre-Events'!B40,IF('Gala Name'!$C$3=\"Junior League\",'Pre-Events'!G40,\"\")))","v":""},{"$f":"IF(IF('Gala Name'!$C$3=\"Staffs League\",'Pre-Events'!C40,IF('Gala Name'!$C$3=\"Junior League\",'Pre-Events'!H40,\"\"))=\"\",\"\",IF('Gala Name'!$C$3=\"Staffs League\",'Pre-Events'!C40,IF('Gala Name'!$C$3=\"Junior League\",'Pre-Events'!H40,\"\")))","v":""},{"$f":"IF(IF('Gala Name'!$C$3=\"Staffs League\",'Pre-Events'!D40,IF('Gala Name'!$C$3=\"Junior League\",'Pre-Events'!I40,\"\"))=\"\",\"\",IF('Gala Name'!$C$3=\"Staffs League\",'Pre-Events'!D40,IF('Gala Name'!$C$3=\"Junior League\",'Pre-Events'!I40,\"\")))","v":""},{"$f":"IF(IF('Gala Name'!$C$3=\"Staffs League\",'Pre-Events'!E40,IF('Gala Name'!$C$3=\"Junior League\",'Pre-Events'!J40,\"\"))=\"\",\"\",IF('Gala Name'!$C$3=\"Staffs League\",'Pre-Events'!E40,IF('Gala Name'!$C$3=\"Junior League\",'Pre-Events'!J40,\"\")))","v":""},"   ",{"$f":"IF(IF('Gala Name'!$C$3=\"Staffs League\",\"\",IF('Gala Name'!$C$3=\"Junior League\",'Pre-Events'!K40,\"\"))=\"\",\"\",IF('Gala Name'!$C$3=\"Staffs League\",\"\",IF('Gala Name'!$C$3=\"Junior League\",'Pre-Events'!K40,\"\")))","v":""},39,"",null,{"$f":"IFERROR(VLOOKUP(E41&\" \"&F41,'Pre-Events'!M:N,2,FALSE),\"\")","v":""}]
[null,40,{"$f":"IF(IF('Gala Name'!$C$3=\"Staffs League\",'Pre-Events'!B41,IF('Gala Name'!$C$3=\"Junior League\",'Pre-Events'!G41,\"\"))=\"\",\"\",IF('Gala Name'!$C$3=\"Staffs League\",'Pre-Events'!B41,IF('Gala Name'!$C$3=\"Junior League\",'Pre-Events'!G41,\"\")))","v":""},{"$f":"IF(IF('Gala Name'!$C$3=\"Staffs League\",'Pre-Events'!C41,IF('Gala Name'!$C$3=\"Junior League\",'Pre-Events'!H41,\"\"))=\"\",\"\",IF('Gala Name'!$C$3=\"Staffs League\",'Pre-Events'!C41,IF('Gala Name'!$C$3=\"Junior League\",'Pre-Events'!H41,\"\")))","v":""},{"$f":"IF(IF('Gala Name'!$C$3=\"Staffs League\",'Pre-Events'!D41,IF('Gala Name'!$C$3=\"Junior League\",'Pre-Events'!I41,\"\"))=\"\",\"\",IF('Gala Name'!$C$3=\"Staffs League\",'Pre-Events'!D41,IF('Gala Name'!$C$3=\"Junior League\",'Pre-Events'!I41,\"\")))","v":""},{"$f":"IF(IF('Gala Name'!$C$3=\"Staffs League\",'Pre-Events'!E41,IF('Gala Name'!$C$3=\"Junior League\",'Pre-Events'!J41,\"\"))=\"\",\"\",IF('Gala Name'!$C$3=\"Staffs League\",'Pre-Events'!E41,IF('Gala Name'!$C$3=\"Junior League\",'Pre-Events'!J41,\"\")))","v":""},"   ",{"$f":"IF(IF('Gala Name'!$C$3=\"Staffs League\",\"\",IF('Gala Name'!$C$3=\"Junior League\",'Pre-Events'!K41,\"\"))=\"\",\"\",IF('Gala Name'!$C$3=\"Staffs League\",\"\",IF('Gala Name'!$C$3=\"Junior League\",'Pre-Events'!K41,\"\")))","v":""},40,"",null,{"$f":"IFERROR(VLOOKUP(E42&\" \"&F42,'Pre-Events'!M:N,2,FALSE),\"\")","v":""}]
[null,41,{"$f":"IF(IF('Gala Name'!$C$3=\"Staffs League\",'Pre-Events'!B42,IF('Gala Name'!$C$3=\"Junior League\",'Pre-Events'!G42,\"\"))=\"\",\"\",IF('Gala Name'!$C$3=\"Staffs League\",'Pre-Events'!B42,IF('Gala Name'!$C$3=\"Junior League\",'Pre-Events'!G42,\"\")))","v":""},{"$f":"IF(IF('Gala Name'!$C$3=\"Staffs League\",'Pre-Events'!C42,IF('Gala Name'!$C$3=\"Junior League\",'Pre-Events'!H42,\"\"))=\"\",\"\",IF('Gala Name'!$C$3=\"Staffs League\",'Pre-Events'!C42,IF('Gala Name'!$C$3=\"Junior League\",'Pre-Events'!H42,\"\")))","v":""},{"$f":"IF(IF('Gala Name'!$C$3=\"Staffs League\",'Pre-Events'!D42,IF('Gala Name'!$C$3=\"Junior League\",'Pre-Events'!I42,\"\"))=\"\",\"\",IF('Gala Name'!$C$3=\"Staffs League\",'Pre-Events'!D42,IF('Gala Name'!$C$3=\"Junior League\",'Pre-Events'!I42,\"\")))","v":""},{"$f":"IF(IF('Gala Name'!$C$3=\"Staffs League\",'Pre-Events'!E42,IF('Gala Name'!$C$3=\"Junior League\",'Pre-Events'!J42,\"\"))=\"\",\"\",IF('Gala Name'!$C$3=\"Staffs League\",'Pre-Events'!E42,IF('Gala Name'!$C$3=\"Junior League\",'Pre-Events'!J42,\"\")))","v":""},"   ",{"$f":"IF(IF('Gala Name'!$C$3=\"Staffs League\",\"\",IF('Gala Name'!$C$3=\"Junior League\",'Pre-Events'!K42,\"\"))=\"\",\"\",IF('Gala Name'!$C$3=\"Staffs League\",\"\",IF('Gala Name'!$C$3=\"Junior League\",'Pre-Events'!K42,\"\")))","v":""},41,"",null,{"$f":"IFERROR(VLOOKUP(E43&\" \"&F43,'Pre-Events'!M:N,2,FALSE),\"\")","v":""}]
[null,42,{"$f":"IF(IF('Gala Name'!$C$3=\"Staffs League\",'Pre-Events'!B43,IF('Gala Name'!$C$3=\"Junior League\",'Pre-Events'!G43,\"\"))=\"\",\"\",IF('Gala Name'!$C$3=\"Staffs League\",'Pre-Events'!B43,IF('Gala Name'!$C$3=\"Junior League\",'Pre-Events'!G43,\"\")))","v":""},{"$f":"IF(IF('Gala Name'!$C$3=\"Staffs League\",'Pre-Events'!C43,IF('Gala Name'!$C$3=\"Junior League\",'Pre-Events'!H43,\"\"))=\"\",\"\",IF('Gala Name'!$C$3=\"Staffs League\",'Pre-Events'!C43,IF('Gala Name'!$C$3=\"Junior League\",'Pre-Events'!H43,\"\")))","v":""},{"$f":"IF(IF('Gala Name'!$C$3=\"Staffs League\",'Pre-Events'!D43,IF('Gala Name'!$C$3=\"Junior League\",'Pre-Events'!I43,\"\"))=\"\",\"\",IF('Gala Name'!$C$3=\"Staffs League\",'Pre-Events'!D43,IF('Gala Name'!$C$3=\"Junior League\",'Pre-Events'!I43,\"\")))","v":""},{"$f":"IF(IF('Gala Name'!$C$3=\"Staffs League\",'Pre-Events'!E43,IF('Gala Name'!$C$3=\"Junior League\",'Pre-Events'!J43,\"\"))=\"\",\"\",IF('Gala Name'!$C$3=\"Staffs League\",'Pre-Events'!E43,IF('Gala Name'!$C$3=\"Junior League\",'Pre-Events'!J43,\"\")))","v":""},"   ",{"$f":"IF(IF('Gala Name'!$C$3=\"Staffs League\",\"\",IF('Gala Name'!$C$3=\"Junior League\",'Pre-Events'!K43,\"\"))=\"\",\"\",IF('Gala Name'!$C$3=\"Staffs League\",\"\",IF('Gala Name'!$C$3=\"Junior League\",'Pre-Events'!K43,\"\")))","v":""},42,"",null,{"$f":"IFERROR(VLOOKUP(E44&\" \"&F44,'Pre-Events'!M:N,2,FALSE),\"\")","v":""}]
[null,43,{"$f":"IF(IF('Gala Name'!$C$3=\"Staffs League\",'Pre-Events'!B44,IF('Gala Name'!$C$3=\"Junior League\",'Pre-Events'!G44,\"\"))=\"\",\"\",IF('Gala Name'!$C$3=\"Staffs League\",'Pre-Events'!B44,IF('Gala Name'!$C$3=\"Junior League\",'Pre-Events'!G44,\"\")))","v":""},{"$f":"IF(IF('Gala Name'!$C$3=\"Staffs League\",'Pre-Events'!C44,IF('Gala Name'!$C$3=\"Junior League\",'Pre-Events'!H44,\"\"))=\"\",\"\",IF('Gala Name'!$C$3=\"Staffs League\",'Pre-Events'!C44,IF('Gala Name'!$C$3=\"Junior League\",'Pre-Events'!H44,\"\")))","v":""},{"$f":"IF(IF('Gala Name'!$C$3=\"Staffs League\",'Pre-Events'!D44,IF('Gala Name'!$C$3=\"Junior League\",'Pre-Events'!I44,\"\"))=\"\",\"\",IF('Gala Name'!$C$3=\"Staffs League\",'Pre-Events'!D44,IF('Gala Name'!$C$3=\"Junior League\",'Pre-Events'!I44,\"\")))","v":""},{"$f":"IF(IF('Gala Name'!$C$3=\"Staffs League\",'Pre-Events'!E44,IF('Gala Name'!$C$3=\"Junior League\",'Pre-Events'!J44,\"\"))=\"\",\"\",IF('Gala Name'!$C$3=\"Staffs League\",'Pre-Events'!E44,IF('Gala Name'!$C$3=\"Junior League\",'Pre-Events'!J44,\"\")))","v":""},"   ",{"$f":"IF(IF('Gala Name'!$C$3=\"Staffs League\",\"\",IF('Gala Name'!$C$3=\"Junior League\",'Pre-Events'!K44,\"\"))=\"\",\"\",IF('Gala Name'!$C$3=\"Staffs League\",\"\",IF('Gala Name'!$C$3=\"Junior League\",'Pre-Events'!K44,\"\")))","v":""},43,"",null,{"$f":"IFERROR(VLOOKUP(E45&\" \"&F45,'Pre-Events'!M:N,2,FALSE),\"\")","v":""}]
[null,44,{"$f":"IF(IF('Gala Name'!$C$3=\"Staffs League\",'Pre-Events'!B45,IF('Gala Name'!$C$3=\"Junior League\",'Pre-Events'!G45,\"\"))=\"\",\"\",IF('Gala Name'!$C$3=\"Staffs League\",'Pre-Events'!B45,IF('Gala Name'!$C$3=\"Junior League\",'Pre-Events'!G45,\"\")))","v":""},{"$f":"IF(IF('Gala Name'!$C$3=\"Staffs League\",'Pre-Events'!C45,IF('Gala Name'!$C$3=\"Junior League\",'Pre-Events'!H45,\"\"))=\"\",\"\",IF('Gala Name'!$C$3=\"Staffs League\",'Pre-Events'!C45,IF('Gala Name'!$C$3=\"Junior League\",'Pre-Events'!H45,\"\")))","v":""},{"$f":"IF(IF('Gala Name'!$C$3=\"Staffs League\",'Pre-Events'!D45,IF('Gala Name'!$C$3=\"Junior League\",'Pre-Events'!I45,\"\"))=\"\",\"\",IF('Gala Name'!$C$3=\"Staffs League\",'Pre-Events'!D45,IF('Gala Name'!$C$3=\"Junior League\",'Pre-Events'!I45,\"\")))","v":""},{"$f":"IF(IF('Gala Name'!$C$3=\"Staffs League\",'Pre-Events'!E45,IF('Gala Name'!$C$3=\"Junior League\",'Pre-Events'!J45,\"\"))=\"\",\"\",IF('Gala Name'!$C$3=\"Staffs League\",'Pre-Events'!E45,IF('Gala Name'!$C$3=\"Junior League\",'Pre-Events'!J45,\"\")))","v":""},"   ",{"$f":"IF(IF('Gala Name'!$C$3=\"Staffs League\",\"\",IF('Gala Name'!$C$3=\"Junior League\",'Pre-Events'!K45,\"\"))=\"\",\"\",IF('Gala Name'!$C$3=\"Staffs League\",\"\",IF('Gala Name'!$C$3=\"Junior League\",'Pre-Events'!K45,\"\")))","v":""},44,"",null,{"$f":"IFERROR(VLOOKUP(E46&\" \"&F46,'Pre-Events'!M:N,2,FALSE),\"\")","v":""}]
[null,45,{"$f":"IF(IF('Gala Name'!$C$3=\"Staffs League\",'Pre-Events'!B46,IF('Gala Name'!$C$3=\"Junior League\",'Pre-Events'!G46,\"\"))=\"\",\"\",IF('Gala Name'!$C$3=\"Staffs League\",'Pre-Events'!B46,IF('Gala Name'!$C$3=\"Junior League\",'Pre-Events'!G46,\"\")))","v":""},{"$f":"IF(IF('Gala Name'!$C$3=\"Staffs League\",'Pre-Events'!C46,IF('Gala Name'!$C$3=\"Junior League\",'Pre-Events'!H46,\"\"))=\"\",\"\",IF('Gala Name'!$C$3=\"Staffs League\",'Pre-Events'!C46,IF('Gala Name'!$C$3=\"Junior League\",'Pre-Events'!H46,\"\")))","v":""},{"$f":"IF(IF('Gala Name'!$C$3=\"Staffs League\",'Pre-Events'!D46,IF('Gala Name'!$C$3=\"Junior League\",'Pre-Events'!I46,\"\"))=\"\",\"\",IF('Gala Name'!$C$3=\"Staffs League\",'Pre-Events'!D46,IF('Gala Name'!$C$3=\"Junior League\",'Pre-Events'!I46,\"\")))","v":""},{"$f":"IF(IF('Gala Name'!$C$3=\"Staffs League\",'Pre-Events'!E46,IF('Gala Name'!$C$3=\"Junior League\",'Pre-Events'!J46,\"\"))=\"\",\"\",IF('Gala Name'!$C$3=\"Staffs League\",'Pre-Events'!E46,IF('Gala Name'!$C$3=\"Junior League\",'Pre-Events'!J46,\"\")))","v":""},{"$f":"IF(C47=0,\"\",C47&\" \"&D47&\" \"&E47&\" \"&F47)","v":"   "},{"$f":"IF(IF('Gala Name'!$C$3=\"Staffs League\",\"\",IF('Gala Name'!$C$3=\"Junior League\",'Pre-Events'!K46,\"\"))=\"\",\"\",IF('Gala Name'!$C$3=\"Staffs League\",\"\",IF('Gala Name'!$C$3=\"Junior League\",'Pre-Events'!K46,\"\")))","v":""},45,"",null,{"$f":"IFERROR(VLOOKUP(E47&\" \"&F47,'Pre-Events'!M:N,2,FALSE),\"\")","v":""}]
[null,46,{"$f":"IF(IF('Gala Name'!$C$3=\"Staffs League\",'Pre-Events'!B47,IF('Gala Name'!$C$3=\"Junior League\",'Pre-Events'!G47,\"\"))=\"\",\"\",IF('Gala Name'!$C$3=\"Staffs League\",'Pre-Events'!B47,IF('Gala Name'!$C$3=\"Junior League\",'Pre-Events'!G47,\"\")))","v":""},{"$f":"IF(IF('Gala Name'!$C$3=\"Staffs League\",'Pre-Events'!C47,IF('Gala Name'!$C$3=\"Junior League\",'Pre-Events'!H47,\"\"))=\"\",\"\",IF('Gala Name'!$C$3=\"Staffs League\",'Pre-Events'!C47,IF('Gala Name'!$C$3=\"Junior League\",'Pre-Events'!H47,\"\")))","v":""},{"$f":"IF(IF('Gala Name'!$C$3=\"Staffs League\",'Pre-Events'!D47,IF('Gala Name'!$C$3=\"Junior League\",'Pre-Events'!I47,\"\"))=\"\",\"\",IF('Gala Name'!$C$3=\"Staffs League\",'Pre-Events'!D47,IF('Gala Name'!$C$3=\"Junior League\",'Pre-Events'!I47,\"\")))","v":""},{"$f":"IF(IF('Gala Name'!$C$3=\"Staffs League\",'Pre-Events'!E47,IF('Gala Name'!$C$3=\"Junior League\",'Pre-Events'!J47,\"\"))=\"\",\"\",IF('Gala Name'!$C$3=\"Staffs League\",'Pre-Events'!E47,IF('Gala Name'!$C$3=\"Junior League\",'Pre-Events'!J47,\"\")))","v":""},{"$f":"IF(C48=0,\"\",C48&\" \"&D48&\" \"&E48&\" \"&F48)","v":"   "},{"$f":"IF(IF('Gala Name'!$C$3=\"Staffs League\",\"\",IF('Gala Name'!$C$3=\"Junior League\",'Pre-Events'!K47,\"\"))=\"\",\"\",IF('Gala Name'!$C$3=\"Staffs League\",\"\",IF('Gala Name'!$C$3=\"Junior League\",'Pre-Events'!K47,\"\")))","v":""},46,"",null,{"$f":"IFERROR(VLOOKUP(E48&\" \"&F48,'Pre-Events'!M:N,2,FALSE),\"\")","v":""}]
[null,47,{"$f":"IF(IF('Gala Name'!$C$3=\"Staffs League\",'Pre-Events'!B48,IF('Gala Name'!$C$3=\"Junior League\",'Pre-Events'!G48,\"\"))=\"\",\"\",IF('Gala Name'!$C$3=\"Staffs League\",'Pre-Events'!B48,IF('Gala Name'!$C$3=\"Junior League\",'Pre-Events'!G48,\"\")))","v":""},{"$f":"IF(IF('Gala Name'!$C$3=\"Staffs League\",'Pre-Events'!C48,IF('Gala Name'!$C$3=\"Junior League\",'Pre-Events'!H48,\"\"))=\"\",\"\",IF('Gala Name'!$C$3=\"Staffs League\",'Pre-Events'!C48,IF('Gala Name'!$C$3=\"Junior League\",'Pre-Events'!H48,\"\")))","v":""},{"$f":"IF(IF('Gala Name'!$C$3=\"Staffs League\",'Pre-Events'!D48,IF('Gala Name'!$C$3=\"Junior League\",'Pre-Events'!I48,\"\"))=\"\",\"\",IF('Gala Name'!$C$3=\"Staffs League\",'Pre-Events'!D48,IF('Gala Name'!$C$3=\"Junior League\",'Pre-Events'!I48,\"\")))","v":""},{"$f":"IF(IF('Gala Name'!$C$3=\"Staffs League\",'Pre-Events'!E48,IF('Gala Name'!$C$3=\"Junior League\",'Pre-Events'!J48,\"\"))=\"\",\"\",IF('Gala Name'!$C$3=\"Staffs League\",'Pre-Events'!E48,IF('Gala Name'!$C$3=\"Junior League\",'Pre-Events'!J48,\"\")))","v":""},"   ",{"$f":"IF(IF('Gala Name'!$C$3=\"Staffs League\",\"\",IF('Gala Name'!$C$3=\"Junior League\",'Pre-Events'!K48,\"\"))=\"\",\"\",IF('Gala Name'!$C$3=\"Staffs League\",\"\",IF('Gala Name'!$C$3=\"Junior League\",'Pre-Events'!K48,\"\")))","v":""},47,"",null,{"$f":"IFERROR(VLOOKUP(E49&\" \"&F49,'Pre-Events'!M:N,2,FALSE),\"\")","v":""}]
[null,48,{"$f":"IF(IF('Gala Name'!$C$3=\"Staffs League\",'Pre-Events'!B49,IF('Gala Name'!$C$3=\"Junior League\",'Pre-Events'!G49,\"\"))=\"\",\"\",IF('Gala Name'!$C$3=\"Staffs League\",'Pre-Events'!B49,IF('Gala Name'!$C$3=\"Junior League\",'Pre-Events'!G49,\"\")))","v":""},{"$f":"IF(IF('Gala Name'!$C$3=\"Staffs League\",'Pre-Events'!C49,IF('Gala Name'!$C$3=\"Junior League\",'Pre-Events'!H49,\"\"))=\"\",\"\",IF('Gala Name'!$C$3=\"Staffs League\",'Pre-Events'!C49,IF('Gala Name'!$C$3=\"Junior League\",'Pre-Events'!H49,\"\")))","v":""},{"$f":"IF(IF('Gala Name'!$C$3=\"Staffs League\",'Pre-Events'!D49,IF('Gala Name'!$C$3=\"Junior League\",'Pre-Events'!I49,\"\"))=\"\",\"\",IF('Gala Name'!$C$3=\"Staffs League\",'Pre-Events'!D49,IF('Gala Name'!$C$3=\"Junior League\",'Pre-Events'!I49,\"\")))","v":""},{"$f":"IF(IF('Gala Name'!$C$3=\"Staffs League\",'Pre-Events'!E49,IF('Gala Name'!$C$3=\"Junior League\",'Pre-Events'!J49,\"\"))=\"\",\"\",IF('Gala Name'!$C$3=\"Staffs League\",'Pre-Events'!E49,IF('Gala Name'!$C$3=\"Junior League\",'Pre-Events'!J49,\"\")))","v":""},"   ",{"$f":"IF(IF('Gala Name'!$C$3=\"Staffs League\",\"\",IF('Gala Name'!$C$3=\"Junior League\",'Pre-Events'!K49,\"\"))=\"\",\"\",IF('Gala Name'!$C$3=\"Staffs League\",\"\",IF('Gala Name'!$C$3=\"Junior League\",'Pre-Events'!K49,\"\")))","v":""},48,"",null,{"$f":"IFERROR(VLOOKUP(E50&\" \"&F50,'Pre-Events'!M:N,2,FALSE),\"\")","v":""}]
[null,49,{"$f":"IF(IF('Gala Name'!$C$3=\"Staffs League\",'Pre-Events'!B50,IF('Gala Name'!$C$3=\"Junior League\",'Pre-Events'!G50,\"\"))=\"\",\"\",IF('Gala Name'!$C$3=\"Staffs League\",'Pre-Events'!B50,IF('Gala Name'!$C$3=\"Junior League\",'Pre-Events'!G50,\"\")))","v":""},{"$f":"IF(IF('Gala Name'!$C$3=\"Staffs League\",'Pre-Events'!C50,IF('Gala Name'!$C$3=\"Junior League\",'Pre-Events'!H50,\"\"))=\"\",\"\",IF('Gala Name'!$C$3=\"Staffs League\",'Pre-Events'!C50,IF('Gala Name'!$C$3=\"Junior League\",'Pre-Events'!H50,\"\")))","v":""},{"$f":"IF(IF('Gala Name'!$C$3=\"Staffs League\",'Pre-Events'!D50,IF('Gala Name'!$C$3=\"Junior League\",'Pre-Events'!I50,\"\"))=\"\",\"\",IF('Gala Name'!$C$3=\"Staffs League\",'Pre-Events'!D50,IF('Gala Name'!$C$3=\"Junior League\",'Pre-Events'!I50,\"\")))","v":""},{"$f":"IF(IF('Gala Name'!$C$3=\"Staffs League\",'Pre-Events'!E50,IF('Gala Name'!$C$3=\"Junior League\",'Pre-Events'!J50,\"\"))=\"\",\"\",IF('Gala Name'!$C$3=\"Staffs League\",'Pre-Events'!E50,IF('Gala Name'!$C$3=\"Junior League\",'Pre-Events'!J50,\"\")))","v":""},"   ",{"$f":"IF(IF('Gala Name'!$C$3=\"Staffs League\",\"\",IF('Gala Name'!$C$3=\"Junior League\",'Pre-Events'!K50,\"\"))=\"\",\"\",IF('Gala Name'!$C$3=\"Staffs League\",\"\",IF('Gala Name'!$C$3=\"Junior League\",'Pre-Events'!K50,\"\")))","v":""},49,"",null,{"$f":"IFERROR(VLOOKUP(E51&\" \"&F51,'Pre-Events'!M:N,2,FALSE),\"\")","v":""}]
[null,50,{"$f":"IF(IF('Gala Name'!$C$3=\"Staffs League\",'Pre-Events'!B51,IF('Gala Name'!$C$3=\"Junior League\",'Pre-Events'!G51,\"\"))=\"\",\"\",IF('Gala Name'!$C$3=\"Staffs League\",'Pre-Events'!B51,IF('Gala Name'!$C$3=\"Junior League\",'Pre-Events'!G51,\"\")))","v":""},{"$f":"IF(IF('Gala Name'!$C$3=\"Staffs League\",'Pre-Events'!C51,IF('Gala Name'!$C$3=\"Junior League\",'Pre-Events'!H51,\"\"))=\"\",\"\",IF('Gala Name'!$C$3=\"Staffs League\",'Pre-Events'!C51,IF('Gala Name'!$C$3=\"Junior League\",'Pre-Events'!H51,\"\")))","v":""},{"$f":"IF(IF('Gala Name'!$C$3=\"Staffs League\",'Pre-Events'!D51,IF('Gala Name'!$C$3=\"Junior League\",'Pre-Events'!I51,\"\"))=\"\",\"\",IF('Gala Name'!$C$3=\"Staffs League\",'Pre-Events'!D51,IF('Gala Name'!$C$3=\"Junior League\",'Pre-Events'!I51,\"\")))","v":""},{"$f":"IF(IF('Gala Name'!$C$3=\"Staffs League\",'Pre-Events'!E51,IF('Gala Name'!$C$3=\"Junior League\",'Pre-Events'!J51,\"\"))=\"\",\"\",IF('Gala Name'!$C$3=\"Staffs League\",'Pre-Events'!E51,IF('Gala Name'!$C$3=\"Junior League\",'Pre-Events'!J51,\"\")))","v":""},"   ",{"$f":"IF(IF('Gala Name'!$C$3=\"Staffs League\",\"\",IF('Gala Name'!$C$3=\"Junior League\",'Pre-Events'!K51,\"\"))=\"\",\"\",IF('Gala Name'!$C$3=\"Staffs League\",\"\",IF('Gala Name'!$C$3=\"Junior League\",'Pre-Events'!K51,\"\")))","v":""},50,"",null,{"$f":"IFERROR(VLOOKUP(E52&\" \"&F52,'Pre-Events'!M:N,2,FALSE),\"\")","v":""}]
[null,51,{"$f":"IF(IF('Gala Name'!$C$3=\"Staffs League\",'Pre-Events'!B52,IF('Gala Name'!$C$3=\"Junior League\",'Pre-Events'!G52,\"\"))=\"\",\"\",IF('Gala Name'!$C$3=\"Staffs League\",'Pre-Events'!B52,IF('Gala Name'!$C$3=\"Junior League\",'Pre-Events'!G52,\"\")))","v":""},{"$f":"IF(IF('Gala Name'!$C$3=\"Staffs League\",'Pre-Events'!C52,IF('Gala Name'!$C$3=\"Junior League\",'Pre-Events'!H52,\"\"))=\"\",\"\",IF('Gala Name'!$C$3=\"Staffs League\",'Pre-Events'!C52,IF('Gala Name'!$C$3=\"Junior League\",'Pre-Events'!H52,\"\")))","v":""},{"$f":"IF(IF('Gala Name'!$C$3=\"Staffs League\",'Pre-Events'!D52,IF('Gala Name'!$C$3=\"Junior League\",'Pre-Events'!I52,\"\"))=\"\",\"\",IF('Gala Name'!$C$3=\"Staffs League\",'Pre-Events'!D52,IF('Gala Name'!$C$3=\"Junior League\",'Pre-Events'!I52,\"\")))","v":""},{"$f":"IF(IF('Gala Name'!$C$3=\"Staffs League\",'Pre-Events'!E52,IF('Gala Name'!$C$3=\"Junior League\",'Pre-Events'!J52,\"\"))=\"\",\"\",IF('Gala Name'!$C$3=\"Staffs League\",'Pre-Events'!E52,IF('Gala Name'!$C$3=\"Junior League\",'Pre-Events'!J52,\"\")))","v":""},"   ",{"$f":"IF(IF('Gala Name'!$C$3=\"Staffs League\",\"\",IF('Gala Name'!$C$3=\"Junior League\",'Pre-Events'!K52,\"\"))=\"\",\"\",IF('Gala Name'!$C$3=\"Staffs League\",\"\",IF('Gala Name'!$C$3=\"Junior League\",'Pre-Events'!K52,\"\")))","v":""},51,"",null,{"$f":"IFERROR(VLOOKUP(E53&\" \"&F53,'Pre-Events'!M:N,2,FALSE),\"\")","v":""}]
[null,52,{"$f":"IF(IF('Gala Name'!$C$3=\"Staffs League\",'Pre-Events'!B53,IF('Gala Name'!$C$3=\"Junior League\",'Pre-Events'!G53,\"\"))=\"\",\"\",IF('Gala Name'!$C$3=\"Staffs League\",'Pre-Events'!B53,IF('Gala Name'!$C$3=\"Junior League\",'Pre-Events'!G53,\"\")))","v":""},{"$f":"IF(IF('Gala Name'!$C$3=\"Staffs League\",'Pre-Events'!C53,IF('Gala Name'!$C$3=\"Junior League\",'Pre-Events'!H53,\"\"))=\"\",\"\",IF('Gala Name'!$C$3=\"Staffs League\",'Pre-Events'!C53,IF('Gala Name'!$C$3=\"Junior League\",'Pre-Events'!H53,\"\")))","v":""},{"$f":"IF(IF('Gala Name'!$C$3=\"Staffs League\",'Pre-Events'!D53,IF('Gala Name'!$C$3=\"Junior League\",'Pre-Events'!I53,\"\"))=\"\",\"\",IF('Gala Name'!$C$3=\"Staffs League\",'Pre-Events'!D53,IF('Gala Name'!$C$3=\"Junior League\",'Pre-Events'!I53,\"\")))","v":""},{"$f":"IF(IF('Gala Name'!$C$3=\"Staffs League\",'Pre-Events'!E53,IF('Gala Name'!$C$3=\"Junior League\",'Pre-Events'!J53,\"\"))=\"\",\"\",IF('Gala Name'!$C$3=\"Staffs League\",'Pre-Events'!E53,IF('Gala Name'!$C$3=\"Junior League\",'Pre-Events'!J53,\"\")))","v":""},"   ",{"$f":"IF(IF('Gala Name'!$C$3=\"Staffs League\",\"\",IF('Gala Name'!$C$3=\"Junior League\",'Pre-Events'!K53,\"\"))=\"\",\"\",IF('Gala Name'!$C$3=\"Staffs League\",\"\",IF('Gala Name'!$C$3=\"Junior League\",'Pre-Events'!K53,\"\")))","v":""},52,"",null,{"$f":"IFERROR(VLOOKUP(E54&\" \"&F54,'Pre-Events'!M:N,2,FALSE),\"\")","v":""}]
[null,53,{"$f":"IF(IF('Gala Name'!$C$3=\"Staffs League\",'Pre-Events'!B54,IF('Gala Name'!$C$3=\"Junior League\",'Pre-Events'!G54,\"\"))=\"\",\"\",IF('Gala Name'!$C$3=\"Staffs League\",'Pre-Events'!B54,IF('Gala Name'!$C$3=\"Junior League\",'Pre-Events'!G54,\"\")))","v":""},{"$f":"IF(IF('Gala Name'!$C$3=\"Staffs League\",'Pre-Events'!C54,IF('Gala Name'!$C$3=\"Junior League\",'Pre-Events'!H54,\"\"))=\"\",\"\",IF('Gala Name'!$C$3=\"Staffs League\",'Pre-Events'!C54,IF('Gala Name'!$C$3=\"Junior League\",'Pre-Events'!H54,\"\")))","v":""},{"$f":"IF(IF('Gala Name'!$C$3=\"Staffs League\",'Pre-Events'!D54,IF('Gala Name'!$C$3=\"Junior League\",'Pre-Events'!I54,\"\"))=\"\",\"\",IF('Gala Name'!$C$3=\"Staffs League\",'Pre-Events'!D54,IF('Gala Name'!$C$3=\"Junior League\",'Pre-Events'!I54,\"\")))","v":""},{"$f":"IF(IF('Gala Name'!$C$3=\"Staffs League\",'Pre-Events'!E54,IF('Gala Name'!$C$3=\"Junior League\",'Pre-Events'!J54,\"\"))=\"\",\"\",IF('Gala Name'!$C$3=\"Staffs League\",'Pre-Events'!E54,IF('Gala Name'!$C$3=\"Junior League\",'Pre-Events'!J54,\"\")))","v":""},"   ",{"$f":"IF(IF('Gala Name'!$C$3=\"Staffs League\",\"\",IF('Gala Name'!$C$3=\"Junior League\",'Pre-Events'!K54,\"\"))=\"\",\"\",IF('Gala Name'!$C$3=\"Staffs League\",\"\",IF('Gala Name'!$C$3=\"Junior League\",'Pre-Events'!K54,\"\")))","v":""},53,"",null,{"$f":"IFERROR(VLOOKUP(E55&\" \"&F55,'Pre-Events'!M:N,2,FALSE),\"\")","v":""}]
[null,54,{"$f":"IF(IF('Gala Name'!$C$3=\"Staffs League\",'Pre-Events'!B55,IF('Gala Name'!$C$3=\"Junior League\",'Pre-Events'!G55,\"\"))=\"\",\"\",IF('Gala Name'!$C$3=\"Staffs League\",'Pre-Events'!B55,IF('Gala Name'!$C$3=\"Junior League\",'Pre-Events'!G55,\"\")))","v":""},{"$f":"IF(IF('Gala Name'!$C$3=\"Staffs League\",'Pre-Events'!C55,IF('Gala Name'!$C$3=\"Junior League\",'Pre-Events'!H55,\"\"))=\"\",\"\",IF('Gala Name'!$C$3=\"Staffs League\",'Pre-Events'!C55,IF('Gala Name'!$C$3=\"Junior League\",'Pre-Events'!H55,\"\")))","v":""},{"$f":"IF(IF('Gala Name'!$C$3=\"Staffs League\",'Pre-Events'!D55,IF('Gala Name'!$C$3=\"Junior League\",'Pre-Events'!I55,\"\"))=\"\",\"\",IF('Gala Name'!$C$3=\"Staffs League\",'Pre-Events'!D55,IF('Gala Name'!$C$3=\"Junior League\",'Pre-Events'!I55,\"\")))","v":""},{"$f":"IF(IF('Gala Name'!$C$3=\"Staffs League\",'Pre-Events'!E55,IF('Gala Name'!$C$3=\"Junior League\",'Pre-Events'!J55,\"\"))=\"\",\"\",IF('Gala Name'!$C$3=\"Staffs League\",'Pre-Events'!E55,IF('Gala Name'!$C$3=\"Junior League\",'Pre-Events'!J55,\"\")))","v":""},"   ",{"$f":"IF(IF('Gala Name'!$C$3=\"Staffs League\",\"\",IF('Gala Name'!$C$3=\"Junior League\",'Pre-Events'!K55,\"\"))=\"\",\"\",IF('Gala Name'!$C$3=\"Staffs League\",\"\",IF('Gala Name'!$C$3=\"Junior League\",'Pre-Events'!K55,\"\")))","v":""},54,"",null,{"$f":"IFERROR(VLOOKUP(E56&\" \"&F56,'Pre-Events'!M:N,2,FALSE),\"\")","v":""}]
[null,55,{"$f":"IF(IF('Gala Name'!$C$3=\"Staffs League\",'Pre-Events'!B56,IF('Gala Name'!$C$3=\"Junior League\",'Pre-Events'!G56,\"\"))=\"\",\"\",IF('Gala Name'!$C$3=\"Staffs League\",'Pre-Events'!B56,IF('Gala Name'!$C$3=\"Junior League\",'Pre-Events'!G56,\"\")))","v":""},{"$f":"IF(IF('Gala Name'!$C$3=\"Staffs League\",'Pre-Events'!C56,IF('Gala Name'!$C$3=\"Junior League\",'Pre-Events'!H56,\"\"))=\"\",\"\",IF('Gala Name'!$C$3=\"Staffs League\",'Pre-Events'!C56,IF('Gala Name'!$C$3=\"Junior League\",'Pre-Events'!H56,\"\")))","v":""},{"$f":"IF(IF('Gala Name'!$C$3=\"Staffs League\",'Pre-Events'!D56,IF('Gala Name'!$C$3=\"Junior League\",'Pre-Events'!I56,\"\"))=\"\",\"\",IF('Gala Name'!$C$3=\"Staffs League\",'Pre-Events'!D56,IF('Gala Name'!$C$3=\"Junior League\",'Pre-Events'!I56,\"\")))","v":""},{"$f":"IF(IF('Gala Name'!$C$3=\"Staffs League\",'Pre-Events'!E56,IF('Gala Name'!$C$3=\"Junior League\",'Pre-Events'!J56,\"\"))=\"\",\"\",IF('Gala Name'!$C$3=\"Staffs League\",'Pre-Events'!E56,IF('Gala Name'!$C$3=\"Junior League\",'Pre-Events'!J56,\"\")))","v":""},"   ",{"$f":"IF(IF('Gala Name'!$C$3=\"Staffs League\",\"\",IF('Gala Name'!$C$3=\"Junior League\",'Pre-Events'!K56,\"\"))=\"\",\"\",IF('Gala Name'!$C$3=\"Staffs League\",\"\",IF('Gala Name'!$C$3=\"Junior League\",'Pre-Events'!K56,\"\")))","v":""},55,"",null,{"$f":"IFERROR(VLOOKUP(E57&\" \"&F57,'Pre-Events'!M:N,2,FALSE),\"\")","v":""}]
[null,56,{"$f":"IF(IF('Gala Name'!$C$3=\"Staffs League\",'Pre-Events'!B57,IF('Gala Name'!$C$3=\"Junior League\",'Pre-Events'!G57,\"\"))=\"\",\"\",IF('Gala Name'!$C$3=\"Staffs League\",'Pre-Events'!B57,IF('Gala Name'!$C$3=\"Junior League\",'Pre-Events'!G57,\"\")))","v":""},{"$f":"IF(IF('Gala Name'!$C$3=\"Staffs League\",'Pre-Events'!C57,IF('Gala Name'!$C$3=\"Junior League\",'Pre-Events'!H57,\"\"))=\"\",\"\",IF('Gala Name'!$C$3=\"Staffs League\",'Pre-Events'!C57,IF('Gala Name'!$C$3=\"Junior League\",'Pre-Events'!H57,\"\")))","v":""},{"$f":"IF(IF('Gala Name'!$C$3=\"Staffs League\",'Pre-Events'!D57,IF('Gala Name'!$C$3=\"Junior League\",'Pre-Events'!I57,\"\"))=\"\",\"\",IF('Gala Name'!$C$3=\"Staffs League\",'Pre-Events'!D57,IF('Gala Name'!$C$3=\"Junior League\",'Pre-Events'!I57,\"\")))","v":""},{"$f":"IF(IF('Gala Name'!$C$3=\"Staffs League\",'Pre-Events'!E57,IF('Gala Name'!$C$3=\"Junior League\",'Pre-Events'!J57,\"\"))=\"\",\"\",IF('Gala Name'!$C$3=\"Staffs League\",'Pre-Events'!E57,IF('Gala Name'!$C$3=\"Junior League\",'Pre-Events'!J57,\"\")))","v":""},"   ",{"$f":"IF(IF('Gala Name'!$C$3=\"Staffs League\",\"\",IF('Gala Name'!$C$3=\"Junior League\",'Pre-Events'!K57,\"\"))=\"\",\"\",IF('Gala Name'!$C$3=\"Staffs League\",\"\",IF('Gala Name'!$C$3=\"Junior League\",'Pre-Events'!K57,\"\")))","v":""},56,"",null,{"$f":"IFERROR(VLOOKUP(E58&\" \"&F58,'Pre-Events'!M:N,2,FALSE),\"\")","v":""}]
[null,57,{"$f":"IF(IF('Gala Name'!$C$3=\"Staffs League\",'Pre-Events'!B58,IF('Gala Name'!$C$3=\"Junior League\",'Pre-Events'!G58,\"\"))=\"\",\"\",IF('Gala Name'!$C$3=\"Staffs League\",'Pre-Events'!B58,IF('Gala Name'!$C$3=\"Junior League\",'Pre-Events'!G58,\"\")))","v":""},{"$f":"IF(IF('Gala Name'!$C$3=\"Staffs League\",'Pre-Events'!C58,IF('Gala Name'!$C$3=\"Junior League\",'Pre-Events'!H58,\"\"))=\"\",\"\",IF('Gala Name'!$C$3=\"Staffs League\",'Pre-Events'!C58,IF('Gala Name'!$C$3=\"Junior League\",'Pre-Events'!H58,\"\")))","v":""},{"$f":"IF(IF('Gala Name'!$C$3=\"Staffs League\",'Pre-Events'!D58,IF('Gala Name'!$C$3=\"Junior League\",'Pre-Events'!I58,\"\"))=\"\",\"\",IF('Gala Name'!$C$3=\"Staffs League\",'Pre-Events'!D58,IF('Gala Name'!$C$3=\"Junior League\",'Pre-Events'!I58,\"\")))","v":""},{"$f":"IF(IF('Gala Name'!$C$3=\"Staffs League\",'Pre-Events'!E58,IF('Gala Name'!$C$3=\"Junior League\",'Pre-Events'!J58,\"\"))=\"\",\"\",IF('Gala Name'!$C$3=\"Staffs League\",'Pre-Events'!E58,IF('Gala Name'!$C$3=\"Junior League\",'Pre-Events'!J58,\"\")))","v":""},"   ",{"$f":"IF(IF('Gala Name'!$C$3=\"Staffs League\",\"\",IF('Gala Name'!$C$3=\"Junior League\",'Pre-Events'!K58,\"\"))=\"\",\"\",IF('Gala Name'!$C$3=\"Staffs League\",\"\",IF('Gala Name'!$C$3=\"Junior League\",'Pre-Events'!K58,\"\")))","v":""},57,"",null,{"$f":"IFERROR(VLOOKUP(E59&\" \"&F59,'Pre-Events'!M:N,2,FALSE),\"\")","v":""}]
[null,58,{"$f":"IF(IF('Gala Name'!$C$3=\"Staffs League\",'Pre-Events'!B59,IF('Gala Name'!$C$3=\"Junior League\",'Pre-Events'!G59,\"\"))=\"\",\"\",IF('Gala Name'!$C$3=\"Staffs League\",'Pre-Events'!B59,IF('Gala Name'!$C$3=\"Junior League\",'Pre-Events'!G59,\"\")))","v":""},{"$f":"IF(IF('Gala Name'!$C$3=\"Staffs League\",'Pre-Events'!C59,IF('Gala Name'!$C$3=\"Junior League\",'Pre-Events'!H59,\"\"))=\"\",\"\",IF('Gala Name'!$C$3=\"Staffs League\",'Pre-Events'!C59,IF('Gala Name'!$C$3=\"Junior League\",'Pre-Events'!H59,\"\")))","v":""},{"$f":"IF(IF('Gala Name'!$C$3=\"Staffs League\",'Pre-Events'!D59,IF('Gala Name'!$C$3=\"Junior League\",'Pre-Events'!I59,\"\"))=\"\",\"\",IF('Gala Name'!$C$3=\"Staffs League\",'Pre-Events'!D59,IF('Gala Name'!$C$3=\"Junior League\",'Pre-Events'!I59,\"\")))","v":""},{"$f":"IF(IF('Gala Name'!$C$3=\"Staffs League\",'Pre-Events'!E59,IF('Gala Name'!$C$3=\"Junior League\",'Pre-Events'!J59,\"\"))=\"\",\"\",IF('Gala Name'!$C$3=\"Staffs League\",'Pre-Events'!E59,IF('Gala Name'!$C$3=\"Junior League\",'Pre-Events'!J59,\"\")))","v":""},"   ",{"$f":"IF(IF('Gala Name'!$C$3=\"Staffs League\",\"\",IF('Gala Name'!$C$3=\"Junior League\",'Pre-Events'!K59,\"\"))=\"\",\"\",IF('Gala Name'!$C$3=\"Staffs League\",\"\",IF('Gala Name'!$C$3=\"Junior League\",'Pre-Events'!K59,\"\")))","v":""},58,"",null,{"$f":"IFERROR(VLOOKUP(E60&\" \"&F60,'Pre-Events'!M:N,2,FALSE),\"\")","v":""}]
[null,59,{"$f":"IF(IF('Gala Name'!$C$3=\"Staffs League\",'Pre-Events'!B60,IF('Gala Name'!$C$3=\"Junior League\",'Pre-Events'!G60,\"\"))=\"\",\"\",IF('Gala Name'!$C$3=\"Staffs League\",'Pre-Events'!B60,IF('Gala Name'!$C$3=\"Junior League\",'Pre-Events'!G60,\"\")))","v":""},{"$f":"IF(IF('Gala Name'!$C$3=\"Staffs League\",'Pre-Events'!C60,IF('Gala Name'!$C$3=\"Junior League\",'Pre-Events'!H60,\"\"))=\"\",\"\",IF('Gala Name'!$C$3=\"Staffs League\",'Pre-Events'!C60,IF('Gala Name'!$C$3=\"Junior League\",'Pre-Events'!H60,\"\")))","v":""},{"$f":"IF(IF('Gala Name'!$C$3=\"Staffs League\",'Pre-Events'!D60,IF('Gala Name'!$C$3=\"Junior League\",'Pre-Events'!I60,\"\"))=\"\",\"\",IF('Gala Name'!$C$3=\"Staffs League\",'Pre-Events'!D60,IF('Gala Name'!$C$3=\"Junior League\",'Pre-Events'!I60,\"\")))","v":""},{"$f":"IF(IF('Gala Name'!$C$3=\"Staffs League\",'Pre-Events'!E60,IF('Gala Name'!$C$3=\"Junior League\",'Pre-Events'!J60,\"\"))=\"\",\"\",IF('Gala Name'!$C$3=\"Staffs League\",'Pre-Events'!E60,IF('Gala Name'!$C$3=\"Junior League\",'Pre-Events'!J60,\"\")))","v":""},"   ",{"$f":"IF(IF('Gala Name'!$C$3=\"Staffs League\",\"\",IF('Gala Name'!$C$3=\"Junior League\",'Pre-Events'!K60,\"\"))=\"\",\"\",IF('Gala Name'!$C$3=\"Staffs League\",\"\",IF('Gala Name'!$C$3=\"Junior League\",'Pre-Events'!K60,\"\")))","v":""},59,"",null,{"$f":"IFERROR(VLOOKUP(E61&\" \"&F61,'Pre-Events'!M:N,2,FALSE),\"\")","v":""}]
[null,60,{"$f":"IF(IF('Gala Name'!$C$3=\"Staffs League\",'Pre-Events'!B61,IF('Gala Name'!$C$3=\"Junior League\",'Pre-Events'!G61,\"\"))=\"\",\"\",IF('Gala Name'!$C$3=\"Staffs League\",'Pre-Events'!B61,IF('Gala Name'!$C$3=\"Junior League\",'Pre-Events'!G61,\"\")))","v":""},{"$f":"IF(IF('Gala Name'!$C$3=\"Staffs League\",'Pre-Events'!C61,IF('Gala Name'!$C$3=\"Junior League\",'Pre-Events'!H61,\"\"))=\"\",\"\",IF('Gala Name'!$C$3=\"Staffs League\",'Pre-Events'!C61,IF('Gala Name'!$C$3=\"Junior League\",'Pre-Events'!H61,\"\")))","v":""},{"$f":"IF(IF('Gala Name'!$C$3=\"Staffs League\",'Pre-Events'!D61,IF('Gala Name'!$C$3=\"Junior League\",'Pre-Events'!I61,\"\"))=\"\",\"\",IF('Gala Name'!$C$3=\"Staffs League\",'Pre-Events'!D61,IF('Gala Name'!$C$3=\"Junior League\",'Pre-Events'!I61,\"\")))","v":""},{"$f":"IF(IF('Gala Name'!$C$3=\"Staffs League\",'Pre-Events'!E61,IF('Gala Name'!$C$3=\"Junior League\",'Pre-Events'!J61,\"\"))=\"\",\"\",IF('Gala Name'!$C$3=\"Staffs League\",'Pre-Events'!E61,IF('Gala Name'!$C$3=\"Junior League\",'Pre-Events'!J61,\"\")))","v":""},"   ",{"$f":"IF(IF('Gala Name'!$C$3=\"Staffs League\",\"\",IF('Gala Name'!$C$3=\"Junior League\",'Pre-Events'!K61,\"\"))=\"\",\"\",IF('Gala Name'!$C$3=\"Staffs League\",\"\",IF('Gala Name'!$C$3=\"Junior League\",'Pre-Events'!K61,\"\")))","v":""},60,"",null,{"$f":"IFERROR(VLOOKUP(E62&\" \"&F62,'Pre-Events'!M:N,2,FALSE),\"\")","v":""}]

{"sheet":"Pre-Events","index":5,"n_rows":61,"n_cols":14,"rows_kept":61,"cut":false,"hidden":true,"merged":[[0,6,0,10],[0,1,0,4]]}
["Event Number","Staffs",null,null,null,null,"Junior League",null,null,null,null,null,null,"ASA Code"]
[1,"Male",null,"10*50m","F/style Relay",null,"Female","10/u","2L","Freestyle",null,null,"50m Freestyle",1]
[2,"Female","11/u","50m","Backstroke",null,"Male","10/u","2L","Freestyle",null,null,"100m Freestyle",2]
[3,"Male","11/u","50m","Backstroke",null,"Female","9yrs","1L","Breaststroke",null,null,"200m Freestyle",3]
[4,"Female","15/u","50m","Breaststroke",null,"Male","9yrs","1L","Breaststroke",null,null,"400m Freestyle",4]
[5,"Male","15/u","50m","Breaststroke",null,"Female","11/u","4x1L","Medley Relay",null,null,"800m Freestyle",5]
[6,"Mixed","13/u","4*50m","F/style Relay",null,"Male","11/u","4x1L","Medley Relay",null,null,"1500m Freestyle",6]
[7,"Female","Open","50m","Butterfly",null,"Female","12/u","2L","Backstroke",null,null,"50m Breaststroke",7]
[8,"Male","Open","50m","Butterfly",null,"Male","12/u","2L","Backstroke",null,null,"100m Breaststroke",8]
[9,"Female","11/u","50m","Freestyle",null,"Female","10/u","2L","Breaststroke",null,null,"200m Breaststroke",9]
[10,"Male","11/u","50m","Freestyle",null,"Male","10/u","2L","Breaststroke",null,null,"50m Butterfly",10]
[11,"Mixed","15/u","4*50m","Medley Relay",null,"Female","9yrs","4x1L","Medley Relay",null,null,"100m Butterfly",11]
[12,"Female","13/u","50m","Backstroke",null,"Male","9yrs","4x1L","Medley Relay",null,null,"200m Butterfly",12]
[13,"Male","13/u","50m","Backstroke",null,"Female","11/u","4x1L","F/style Relay",null,null,"50m Backstroke",13]
[14,"Mixed","9s","4*50m","Mixed Stroke",null,"Male","11/u","4x1L","F/style Relay",null,null,"100m Backstroke",14]
[15,"Female","Open","50m","Breaststroke",null,"Female","12/u","2L","Butterfly",null,null,"200m Backstroke",15]
[16,"Male","Open","50m","Breaststroke",null,"Male","12/u","2L","Butterfly",null,null,"200m Ind Medley",16]
[17,"Mixed","11/u","4*50m","F/style Relay",null,"Female","10/u","4x1L","Medley Relay",null,null,"400m Ind Meldey",17]
[18,"Female","15/u","50m","Butterfly",null,"Male","10/u","4x1L","Medley Relay",null,null,"100m Ind Medley",29]
[19,"Male","15/u","50m","Butterfly",null,"Female","11/u","2L","Backstroke"]
[20,"Female","13/u","50m","Freestyle",null,"Male","11/u","2L","Backstroke"]
[21,"Male","13/u","50m","Freestyle",null,"Female","9yrs","4x1L","F/style Relay"]
[22,"Mixed","Open","4*50m","Medley Relay",null,"Male","9yrs","4x1L","F/style Relay"]
[23,"Female","11/u","50m","Breaststroke",null,"Female","12/u","2L","Breaststroke"]
[24,"Male","11/u","50m","Breaststroke",null,"Male","12/u","2L","Breaststroke"]
[25,"Mixed","15/u","4*50m","F/style Relay",null,"Female","10/u","4x1L","F/style Relay"]
[26,"Female","13/u","50m","Butterfly",null,"Male","10/u","4x1L","F/style Relay"]
[27,"Male","13/u","50m","Butterfly",null,"Female","11/u","2L","Butterfly"]
[28,"Mixed","9s","4*50m","F/style Relay",null,"Male","11/u","2L","Butterfly"]
[29,"Female","Open","50m","Freestyle",null,"Female","9yrs","1L","Butterfly"]
[30,"Male","Open","50m","Freestyle",null,"Male","9yrs","1L","Butterfly"]
[31,"Mixed","11/u","4*50m","Medley Relay",null,"Female","12/u","2L","Freestyle"]
[32,"Female","15/u","50m","Backstroke",null,"Male","12/u","2L","Freestyle"]
[33,"Male","15/u","50m","Backstroke",null,"Female",null,"8x1L","F/style Relay","(2 girls each age group)"]
[34,"Female","13/u","50m","Breaststroke",null,"Male","10/u","2L","Backstroke"]
[35,"Male","13/u","50m","Breaststroke",null,"Female","10/u","2L","Backstroke"]
[36,"Mixed","Open","4*50m","F/style Relay",null,"Male","9yrs","1L","Freestyle"]
[37,"Female","11/u","50m","Butterfly",null,"Female","9yrs","1L","Freestyle"]
[38,"Male","11/u","50m","Butterfly",null,"Male","12/u","4x1L","F/style Relay"]
[39,"Female","15/u","50m","Freestyle",null,"Female","12/u","4x1L","F/style Relay"]
[40,"Male","15/u","50m","Freestyle",null,"Male","11/u","2L","Breaststroke"]
[41,"Mixed","13/u","4*50m","Medley Relay",null,"Female","11/u","2L","Breaststroke"]
[42,"Female","Open","50m","Backstroke",null,"Male",null,"8x1L","F/style Relay","(2 boys each age group)"]
[43,"Male","Open","50m","Backstroke",null,"Female","10/u","1L","Butterfly"]
[44,"Female",null,"10*50m","F/style Relay",null,"Male","10/u","1L","Butterfly"]
[45,null,null,null,null,null,"Female","9yrs","1L","Backstroke"]
[46,null,null,null,null,null,"Male","9yrs","1L","Backstroke"]
[47,null,null,null,null,null,"Female","11/u","2L","Freestyle"]
[48,null,null,null,null,null,"Male","11/u","2L","Freestyle"]
[49,null,null,null,null,null,"Female","12/u","4x1L","Medley Relay"]
[50,null,null,null,null,null,"Male","12/u","4x1L","Medley Relay"]
[51,null,null,null,null,null,"Mixed",null,"8x1L","F/style Relay","(1 girl & 1 boy from each age group)"]
[52]
[53]
[54]
[55]
[56]
[57]
[58]
[59]
[60]

{"sheet":"Masters Convertion","index":6,"n_rows":2736,"n_cols":7,"rows_kept":2736,"cut":false,"hidden":true,"merged":[]}
["Sex","ASA Code","Age","Factor"]
["Female",1,25,0.99938167,null,{"$f":"IF(C2<'Gala Name'!C$5,\"\",LEFT(A2,1)&B2&C2)","v":"F125"},{"$f":"D2","v":0.99938167}]
["Female",1,26,0.99890675699999998,null,{"$f":"IF(C3<'Gala Name'!C$5,\"\",LEFT(A3,1)&B3&C3)","v":"F126"},{"$f":"D3","v":0.99890675699999998}]
["Female",1,27,0.99890330500000002,null,{"$f":"IF(C4<'Gala Name'!C$5,\"\",LEFT(A4,1)&B4&C4)","v":"F127"},0.99890330500000002]
["Female",1,28,0.99917660900000005,null,{"$f":"IF(C5<'Gala Name'!C$5,\"\",LEFT(A5,1)&B5&C5)","v":"F128"},0.99917660900000005]
["Female",1,29,0.99955835699999995,null,{"$f":"IF(C6<'Gala Name'!C$5,\"\",LEFT(A6,1)&B6&C6)","v":"F129"},0.99955835699999995]
["Female",1,30,0.99990472699999999,null,{"$f":"IF(C7<'Gala Name'!C$5,\"\",LEFT(A7,1)&B7&C7)","v":"F130"},0.99990472699999999]
["Female",1,31,1.000094544,null,{"$f":"IF(C8<'Gala Name'!C$5,\"\",LEFT(A8,1)&B8&C8)","v":"F131"},1.000094544]
["Female",1,32,1.0000275009999999,null,{"$f":"IF(C9<'Gala Name'!C$5,\"\",LEFT(A9,1)&B9&C9)","v":"F132"},1.0000275009999999]
["Female",1,33,0.99962242899999998,null,{"$f":"IF(C10<'Gala Name'!C$5,\"\",LEFT(A10,1)&B10&C10)","v":"F133"},0.99962242899999998]
["Female",1,34,0.99881563299999998,null,{"$f":"IF(C11<'Gala Name'!C$5,\"\",LEFT(A11,1)&B11&C11)","v":"F134"},0.99881563299999998]
["Female",1,35,0.99755928599999999,null,{"$f":"IF(C12<'Gala Name'!C$5,\"\",LEFT(A12,1)&B12&C12)","v":"F135"},0.99755928599999999]
["Female",1,36,0.99581987699999996,null,{"$f":"IF(C13<'Gala Name'!C$5,\"\",LEFT(A13,1)&B13&C13)","v":"F136"},0.99581987699999996]
["Female",1,37,0.99357672699999999,null,{"$f":"IF(C14<'Gala Name'!C$5,\"\",LEFT(A14,1)&B14&C14)","v":"F137"},0.99357672699999999]
["Female",1,38,0.99082055000000002,null,{"$f":"IF(C15<'Gala Name'!C$5,\"\",LEFT(A15,1)&B15&C15)","v":"F138"},0.99082055000000002]
["Female",1,39,0.98755208900000002,null,{"$f":"IF(C16<'Gala Name'!C$5,\"\",LEFT(A16,1)&B16&C16)","v":"F139"},0.98755208900000002]
["Female",1,40,0.98378079600000001,null,{"$f":"IF(C17<'Gala Name'!C$5,\"\",LEFT(A17,1)&B17&C17)","v":"F140"},0.98378079600000001]
["Female",1,41,0.97952358299999998,null,{"$f":"IF(C18<'Gala Name'!C$5,\"\",LEFT(A18,1)&B18&C18)","v":"F141"},0.97952358299999998]
["Female",1,42,0.97480362200000004,null,{"$f":"IF(C19<'Gala Name'!C$5,\"\",LEFT(A19,1)&B19&C19)","v":"F142"},0.97480362200000004]
["Female",1,43,0.96964920700000001,null,{"$f":"IF(C20<'Gala Name'!C$5,\"\",LEFT(A20,1)&B20&C20)","v":"F143"},0.96964920700000001]
["Female",1,44,0.96409268100000001,null,{"$f":"IF(C21<'Gala Name'!C$5,\"\",LEFT(A21,1)&B21&C21)","v":"F144"},0.96409268100000001]
["Female",1,45,0.95816941200000005,null,{"$f":"IF(C22<'Gala Name'!C$5,\"\",LEFT(A22,1)&B22&C22)","v":"F145"},0.95816941200000005]
["Female",1,46,0.95191683299999996,null,{"$f":"IF(C23<'Gala Name'!C$5,\"\",LEFT(A23,1)&B23&C23)","v":"F146"},0.95191683299999996]
["Female",1,47,0.94537353999999996,null,{"$f":"IF(C24<'Gala Name'!C$5,\"\",LEFT(A24,1)&B24&C24)","v":"F147"},0.94537353999999996]
["Female",1,48,0.93857844899999998,null,{"$f":"IF(C25<'Gala Name'!C$5,\"\",LEFT(A25,1)&B25&C25)","v":"F148"},0.93857844899999998]
["Female",1,49,0.93157001399999995,null,{"$f":"IF(C26<'Gala Name'!C$5,\"\",LEFT(A26,1)&B26&C26)","v":"F149"},0.93157001399999995]
["Female",1,50,0.92438549599999997,null,{"$f":"IF(C27<'Gala Name'!C$5,\"\",LEFT(A27,1)&B27&C27)","v":"F150"},0.92438549599999997]
["Female",1,51,0.91706029899999997,null,{"$f":"IF(C28<'Gala Name'!C$5,\"\",LEFT(A28,1)&B28&C28)","v":"F151"},0.91706029899999997]
["Female",1,52,0.90962736200000005,null,{"$f":"IF(C29<'Gala Name'!C$5,\"\",LEFT(A29,1)&B29&C29)","v":"F152"},0.90962736200000005]
["Female",1,53,0.90211661099999996,null,{"$f":"IF(C30<'Gala Name'!C$5,\"\",LEFT(A30,1)&B30&C30)","v":"F153"},0.90211661099999996]
["Female",1,54,0.89455446400000005,null,{"$f":"IF(C31<'Gala Name'!C$5,\"\",LEFT(A31,1)&B31&C31)","v":"F154"},0.89455446400000005]
["Female",1,55,0.88696340299999998,null,{"$f":"IF(C32<'Gala Name'!C$5,\"\",LEFT(A32,1)&B32&C32)","v":"F155"},0.88696340299999998]
["Female",1,56,0.87936159800000002,null,{"$f":"IF(C33<'Gala Name'!C$5,\"\",LEFT(A33,1)&B33&C33)","v":"F156"},0.87936159800000002]
["Female",1,57,0.87176259700000003,null,{"$f":"IF(C34<'Gala Name'!C$5,\"\",LEFT(A34,1)&B34&C34)","v":"F157"},0.87176259700000003]
["Female",1,58,0.86417506499999996,null,{"$f":"IF(C35<'Gala Name'!C$5,\"\",LEFT(A35,1)&B35&C35)","v":"F158"},0.86417506499999996]
["Female",1,59,0.85660259100000002,null,{"$f":"IF(C36<'Gala Name'!C$5,\"\",LEFT(A36,1)&B36&C36)","v":"F159"},0.85660259100000002]
["Female",1,60,0.84904354800000004,null,{"$f":"IF(C37<'Gala Name'!C$5,\"\",LEFT(A37,1)&B37&C37)","v":"F160"},0.84904354800000004]
["Female",1,61,0.84149101500000001,null,{"$f":"IF(C38<'Gala Name'!C$5,\"\",LEFT(A38,1)&B38&C38)","v":"F161"},0.84149101500000001]
["Female",1,62,0.83393275600000005,null,{"$f":"IF(C39<'Gala Name'!C$5,\"\",LEFT(A39,1)&B39&C39)","v":"F162"},0.83393275600000005]
["Female",1,63,0.82635125799999998,null,{"$f":"IF(C40<'Gala Name'!C$5,\"\",LEFT(A40,1)&B40&C40)","v":"F163"},0.82635125799999998]
["Female",1,64,0.81872382899999996,null,{"$f":"IF(C41<'Gala Name'!C$5,\"\",LEFT(A41,1)&B41&C41)","v":"F164"},0.81872382899999996]
["Female",1,65,0.81102275199999996,null,{"$f":"IF(C42<'Gala Name'!C$5,\"\",LEFT(A42,1)&B42&C42)","v":"F165"},0.81102275199999996]
["Female",1,66,0.80321550100000005,null,{"$f":"IF(C43<'Gala Name'!C$5,\"\",LEFT(A43,1)&B43&C43)","v":"F166"},0.80321550100000005]
["Female",1,67,0.79526501400000005,null,{"$f":"IF(C44<'Gala Name'!C$5,\"\",LEFT(A44,1)&B44&C44)","v":"F167"},0.79526501400000005]
["Female",1,68,0.78713002700000001,null,{"$f":"IF(C45<'Gala Name'!C$5,\"\",LEFT(A45,1)&B45&C45)","v":"F168"},0.78713002700000001]
["Female",1,69,0.77876546000000002,null,{"$f":"IF(C46<'Gala Name'!C$5,\"\",LEFT(A46,1)&B46&C46)","v":"F169"},0.77876546000000002]
["Female",1,70,0.77012287099999999,null,{"$f":"IF(C47<'Gala Name'!C$5,\"\",LEFT(A47,1)&B47&C47)","v":"F170"},0.77012287099999999]
["Female",1,71,0.76115096400000004,null,{"$f":"IF(C48<'Gala Name'!C$5,\"\",LEFT(A48,1)&B48&C48)","v":"F171"},0.76115096400000004]
["Female",1,72,0.75179615399999999,null,{"$f":"IF(C49<'Gala Name'!C$5,\"\",LEFT(A49,1)&B49&C49)","v":"F172"},0.75179615399999999]
["Female",1,73,0.74200319599999998,null,{"$f":"IF(C50<'Gala Name'!C$5,\"\",LEFT(A50,1)&B50&C50)","v":"F173"},0.74200319599999998]
["Female",1,74,0.73171586499999997,null,{"$f":"IF(C51<'Gala Name'!C$5,\"\",LEFT(A51,1)&B51&C51)","v":"F174"},0.73171586499999997]
["Female",1,75,0.72087770600000001,null,{"$f":"IF(C52<'Gala Name'!C$5,\"\",LEFT(A52,1)&B52&C52)","v":"F175"},0.72087770600000001]
["Female",1,76,0.70943283199999996,null,{"$f":"IF(C53<'Gala Name'!C$5,\"\",LEFT(A53,1)&B53&C53)","v":"F176"},0.70943283199999996]
["Female",1,77,0.69732678299999995,null,{"$f":"IF(C54<'Gala Name'!C$5,\"\",LEFT(A54,1)&B54&C54)","v":"F177"},0.69732678299999995]
["Female",1,78,0.68450745300000004,null,{"$f":"IF(C55<'Gala Name'!C$5,\"\",LEFT(A55,1)&B55&C55)","v":"F178"},0.68450745300000004]
["Female",1,79,0.67092606099999996,null,{"$f":"IF(C56<'Gala Name'!C$5,\"\",LEFT(A56,1)&B56&C56)","v":"F179"},0.67092606099999996]
["Female",1,80,0.65653819400000002,null,{"$f":"IF(C57<'Gala Name'!C$5,\"\",LEFT(A57,1)&B57&C57)","v":"F180"},0.65653819400000002]
["Female",1,81,0.64130489899999998,null,{"$f":"IF(C58<'Gala Name'!C$5,\"\",LEFT(A58,1)&B58&C58)","v":"F181"},0.64130489899999998]
["Female",1,82,0.62519384099999997,null,{"$f":"IF(C59<'Gala Name'!C$5,\"\",LEFT(A59,1)&B59&C59)","v":"F182"},0.62519384099999997]
["Female",1,83,0.60818051399999995,null,{"$f":"IF(C60<'Gala Name'!C$5,\"\",LEFT(A60,1)&B60&C60)","v":"F183"},0.60818051399999995]
["Female",1,84,0.59024951599999997,null,{"$f":"IF(C61<'Gala Name'!C$5,\"\",LEFT(A61,1)&B61&C61)","v":"F184"},0.59024951599999997]
["Female",1,85,0.571395879,null,{"$f":"IF(C62<'Gala Name'!C$5,\"\",LEFT(A62,1)&B62&C62)","v":"F185"},0.571395879]
["Female",1,86,0.55162645799999999,null,{"$f":"IF(C63<'Gala Name'!C$5,\"\",LEFT(A63,1)&B63&C63)","v":"F186"},0.55162645799999999]
["Female",1,87,0.53096138100000001,null,{"$f":"IF(C64<'Gala Name'!C$5,\"\",LEFT(A64,1)&B64&C64)","v":"F187"},0.53096138100000001]
["Female",1,88,0.50943555900000004,null,{"$f":"IF(C65<'Gala Name'!C$5,\"\",LEFT(A65,1)&B65&C65)","v":"F188"},0.50943555900000004]
["Female",1,89,0.48710024400000002,null,{"$f":"IF(C66<'Gala Name'!C$5,\"\",LEFT(A66,1)&B66&C66)","v":"F189"},0.48710024400000002]
["Female",1,90,0.464024665,null,{"$f":"IF(C67<'Gala Name'!C$5,\"\",LEFT(A67,1)&B67&C67)","v":"F190"},{"$f":"D67","v":0.464024665}]
["Female",1,91,0.44029770400000001,null,{"$f":"IF(C68<'Gala Name'!C$5,\"\",LEFT(A68,1)&B68&C68)","v":"F191"},0.44029770400000001]
["Female",1,92,0.41602964100000001,null,{"$f":"IF(C69<'Gala Name'!C$5,\"\",LEFT(A69,1)&B69&C69)","v":"F192"},0.41602964100000001]
["Female",1,93,0.39135395699999997,null,{"$f":"IF(C70<'Gala Name'!C$5,\"\",LEFT(A70,1)&B70&C70)","v":"F193"},0.39135395699999997]
["Female",1,94,0.36642918899999999,null,{"$f":"IF(C71<'Gala Name'!C$5,\"\",LEFT(A71,1)&B71&C71)","v":"F194"},0.36642918899999999]
["Female",1,95,0.34144085600000001,null,{"$f":"IF(C72<'Gala Name'!C$5,\"\",LEFT(A72,1)&B72&C72)","v":"F195"},0.34144085600000001]
["Female",1,96,0.31660343299999999,null,{"$f":"IF(C73<'Gala Name'!C$5,\"\",LEFT(A73,1)&B73&C73)","v":"F196"},0.31660343299999999]
["Female",1,97,0.292162386,null,{"$f":"IF(C74<'Gala Name'!C$5,\"\",LEFT(A74,1)&B74&C74)","v":"F197"},0.292162386]
["Female",1,98,0.26839626900000002,null,{"$f":"IF(C75<'Gala Name'!C$5,\"\",LEFT(A75,1)&B75&C75)","v":"F198"},0.26839626900000002]
["Female",1,99,0.24561887900000001,null,{"$f":"IF(C76<'Gala Name'!C$5,\"\",LEFT(A76,1)&B76&C76)","v":"F199"},0.24561887900000001]
["Female",1,100,0.224181466,null,{"$f":"IF(C77<'Gala Name'!C$5,\"\",LEFT(A77,1)&B77&C77)","v":"F1100"},0.224181466]
["Female",2,25,0.99949915300000003,null,{"$f":"IF(C78<'Gala Name'!C$5,\"\",LEFT(A78,1)&B78&C78)","v":"F225"},0.99949915300000003]
["Female",2,26,1.006646798,null,{"$f":"IF(C79<'Gala Name'!C$5,\"\",LEFT(A79,1)&B79&C79)","v":"F226"},1.006646798]
["Female",2,27,1.011298882,null,{"$f":"IF(C80<'Gala Name'!C$5,\"\",LEFT(A80,1)&B80&C80)","v":"F227"},1.011298882]
["Female",2,28,1.013829044,null,{"$f":"IF(C81<'Gala Name'!C$5,\"\",LEFT(A81,1)&B81&C81)","v":"F228"},1.013829044]
["Female",2,29,1.0145717910000001,null,{"$f":"IF(C82<'Gala Name'!C$5,\"\",LEFT(A82,1)&B82&C82)","v":"F229"},1.0145717910000001]
["Female",2,30,1.0138250049999999,null,{"$f":"IF(C83<'Gala Name'!C$5,\"\",LEFT(A83,1)&B83&C83)","v":"F230"},1.0138250049999999]
["Female",2,31,1.0118523699999999,null,{"$f":"IF(C84<'Gala Name'!C$5,\"\",LEFT(A84,1)&B84&C84)","v":"F231"},1.0118523699999999]
["Female",2,32,1.008885721,null,{"$f":"IF(C85<'Gala Name'!C$5,\"\",LEFT(A85,1)&B85&C85)","v":"F232"},1.008885721]
["Female",2,33,1.0051273220000001,null,{"$f":"IF(C86<'Gala Name'!C$5,\"\",LEFT(A86,1)&B86&C86)","v":"F233"},1.0051273220000001]
["Female",2,34,1.0007520590000001,null,{"$f":"IF(C87<'Gala Name'!C$5,\"\",LEFT(A87,1)&B87&C87)","v":"F234"},1.0007520590000001]
["Female",2,35,0.99590956500000005,null,{"$f":"IF(C88<'Gala Name'!C$5,\"\",LEFT(A88,1)&B88&C88)","v":"F235"},0.99590956500000005]
["Female",2,36,0.990726263,null,{"$f":"IF(C89<'Gala Name'!C$5,\"\",LEFT(A89,1)&B89&C89)","v":"F236"},0.990726263]
["Female",2,37,0.98530733299999995,null,{"$f":"IF(C90<'Gala Name'!C$5,\"\",LEFT(A90,1)&B90&C90)","v":"F237"},0.98530733299999995]
["Female",2,38,0.97973860400000001,null,{"$f":"IF(C91<'Gala Name'!C$5,\"\",LEFT(A91,1)&B91&C91)","v":"F238"},0.97973860400000001]
["Female",2,39,0.97408837000000004,null,{"$f":"IF(C92<'Gala Name'!C$5,\"\",LEFT(A92,1)&B92&C92)","v":"F239"},0.97408837000000004]
["Female",2,40,0.96840912599999995,null,{"$f":"IF(C93<'Gala Name'!C$5,\"\",LEFT(A93,1)&B93&C93)","v":"F240"},0.96840912599999995]
["Female",2,41,0.96273922899999997,null,{"$f":"IF(C94<'Gala Name'!C$5,\"\",LEFT(A94,1)&B94&C94)","v":"F241"},0.96273922899999997]
["Female",2,42,0.957104485,null,{"$f":"IF(C95<'Gala Name'!C$5,\"\",LEFT(A95,1)&B95&C95)","v":"F242"},0.957104485]
["Female",2,43,0.95151965800000005,null,{"$f":"IF(C96<'Gala Name'!C$5,\"\",LEFT(A96,1)&B96&C96)","v":"F243"},0.95151965800000005]
["Female",2,44,0.94598989600000005,null,{"$f":"IF(C97<'Gala Name'!C$5,\"\",LEFT(A97,1)&B97&C97)","v":"F244"},0.94598989600000005]
["Female",2,45,0.94051209199999997,null,{"$f":"IF(C98<'Gala Name'!C$5,\"\",LEFT(A98,1)&B98&C98)","v":"F245"},0.94051209199999997]
["Female",2,46,0.93507615899999996,null,{"$f":"IF(C99<'Gala Name'!C$5,\"\",LEFT(A99,1)&B99&C99)","v":"F246"},0.93507615899999996]
["Female",2,47,0.92966623400000004,null,{"$f":"IF(C100<'Gala Name'!C$5,\"\",LEFT(A100,1)&B100&C100)","v":"F247"},0.92966623400000004]
["Female",2,48,0.92426180099999999,null,{"$f":"IF(C101<'Gala Name'!C$5,\"\",LEFT(A101,1)&B101&C101)","v":"F248"},0.92426180099999999]
["Female",2,49,0.91883873999999999,null,{"$f":"IF(C102<'Gala Name'!C$5,\"\",LEFT(A102,1)&B102&C102)","v":"F249"},0.91883873999999999]
["Female",2,50,0.91337030100000005,null,{"$f":"IF(C103<'Gala Name'!C$5,\"\",LEFT(A103,1)&B103&C103)","v":"F250"},0.91337030100000005]
["Female",2,51,0.907827995,null,{"$f":"IF(C104<'Gala Name'!C$5,\"\",LEFT(A104,1)&B104&C104)","v":"F251"},0.907827995]
["Female",2,52,0.90218241700000001,null,{"$f":"IF(C105<'Gala Name'!C$5,\"\",LEFT(A105,1)&B105&C105)","v":"F252"},0.90218241700000001]
["Female",2,53,0.89640398700000001,null,{"$f":"IF(C106<'Gala Name'!C$5,\"\",LEFT(A106,1)&B106&C106)","v":"F253"},0.89640398700000001]
["Female",2,54,0.89046361200000002,null,{"$f":"IF(C107<'Gala Name'!C$5,\"\",LEFT(A107,1)&B107&C107)","v":"F254"},0.89046361200000002]
["Female",2,55,0.88433328200000005,null,{"$f":"IF(C108<'Gala Name'!C$5,\"\",LEFT(A108,1)&B108&C108)","v":"F255"},0.88433328200000005]
["Female",2,56,0.87798657400000002,null,{"$f":"IF(C109<'Gala Name'!C$5,\"\",LEFT(A109,1)&B109&C109)","v":"F256"},0.87798657400000002]
["Female",2,57,0.87139909299999996,null,{"$f":"IF(C110<'Gala Name'!C$5,\"\",LEFT(A110,1)&B110&C110)","v":"F257"},0.87139909299999996]
["Female",2,58,0.86454883000000005,null,{"$f":"IF(C111<'Gala Name'!C$5,\"\",LEFT(A111,1)&B111&C111)","v":"F258"},0.86454883000000005]
["Female",2,59,0.857416442,null,{"$f":"IF(C112<'Gala Name'!C$5,\"\",LEFT(A112,1)&B112&C112)","v":"F259"},0.857416442]
["Female",2,60,0.849985463,null,{"$f":"IF(C113<'Gala Name'!C$5,\"\",LEFT(A113,1)&B113&C113)","v":"F260"},0.849985463]
["Female",2,61,0.84224242699999996,null,{"$f":"IF(C114<'Gala Name'!C$5,\"\",LEFT(A114,1)&B114&C114)","v":"F261"},0.84224242699999996]
["Female",2,62,0.83417692399999999,null,{"$f":"IF(C115<'Gala Name'!C$5,\"\",LEFT(A115,1)&B115&C115)","v":"F262"},0.83417692399999999]
["Female",2,63,0.82578157799999996,null,{"$f":"IF(C116<'Gala Name'!C$5,\"\",LEFT(A116,1)&B116&C116)","v":"F263"},0.82578157799999996]
["Female",2,64,0.81705193899999995,null,{"$f":"IF(C117<'Gala Name'!C$5,\"\",LEFT(A117,1)&B117&C117)","v":"F264"},0.81705193899999995]
["Female",2,65,0.80798631499999995,null,{"$f":"IF(C118<'Gala Name'!C$5,\"\",LEFT(A118,1)&B118&C118)","v":"F265"},0.80798631499999995]
["Female",2,66,0.79858551099999997,null,{"$f":"IF(C119<'Gala Name'!C$5,\"\",LEFT(A119,1)&B119&C119)","v":"F266"},0.79858551099999997]
["Female",2,67,0.78885250200000001,null,{"$f":"IF(C120<'Gala Name'!C$5,\"\",LEFT(A120,1)&B120&C120)","v":"F267"},0.78885250200000001]
["Female",2,68,0.778792025,null,{"$f":"IF(C121<'Gala Name'!C$5,\"\",LEFT(A121,1)&B121&C121)","v":"F268"},0.778792025]
["Female",2,69,0.76841009500000002,null,{"$f":"IF(C122<'Gala Name'!C$5,\"\",LEFT(A122,1)&B122&C122)","v":"F269"},0.76841009500000002]
["Female",2,70,0.75771344600000001,null,{"$f":"IF(C123<'Gala Name'!C$5,\"\",LEFT(A123,1)&B123&C123)","v":"F270"},0.75771344600000001]
["Female",2,71,0.74670889100000004,null,{"$f":"IF(C124<'Gala Name'!C$5,\"\",LEFT(A124,1)&B124&C124)","v":"F271"},0.74670889100000004]
["Female",2,72,0.73540261299999998,null,{"$f":"IF(C125<'Gala Name'!C$5,\"\",LEFT(A125,1)&B125&C125)","v":"F272"},0.73540261299999998]
["Female",2,73,0.72379937100000002,null,{"$f":"IF(C126<'Gala Name'!C$5,\"\",LEFT(A126,1)&B126&C126)","v":"F273"},0.72379937100000002]
["Female",2,74,0.71190163299999998,null,{"$f":"IF(C127<'Gala Name'!C$5,\"\",LEFT(A127,1)&B127&C127)","v":"F274"},0.71190163299999998]
["Female",2,75,0.69970863800000005,null,{"$f":"IF(C128<'Gala Name'!C$5,\"\",LEFT(A128,1)&B128&C128)","v":"F275"},0.69970863800000005]
["Female",2,76,0.68721536800000005,null,{"$f":"IF(C129<'Gala Name'!C$5,\"\",LEFT(A129,1)&B129&C129)","v":"F276"},0.68721536800000005]
["Female",2,77,0.67441145899999999,null,{"$f":"IF(C130<'Gala Name'!C$5,\"\",LEFT(A130,1)&B130&C130)","v":"F277"},0.67441145899999999]
["Female",2,78,0.66128002200000002,null,{"$f":"IF(C131<'Gala Name'!C$5,\"\",LEFT(A131,1)&B131&C131)","v":"F278"},{"$f":"D131","v":0.66128002200000002}]
["Female",2,79,0.64779639700000002,null,{"$f":"IF(C132<'Gala Name'!C$5,\"\",LEFT(A132,1)&B132&C132)","v":"F279"},0.64779639700000002]
["Female",2,80,0.633926824,null,{"$f":"IF(C133<'Gala Name'!C$5,\"\",LEFT(A133,1)&B133&C133)","v":"F280"},0.633926824]
["Female",2,81,0.61962704199999996,null,{"$f":"IF(C134<'Gala Name'!C$5,\"\",LEFT(A134,1)&B134&C134)","v":"F281"},0.61962704199999996]
["Female",2,82,0.60484080799999995,null,{"$f":"IF(C135<'Gala Name'!C$5,\"\",LEFT(A135,1)&B135&C135)","v":"F282"},0.60484080799999995]
["Female",2,83,0.58949834000000001,null,{"$f":"IF(C136<'Gala Name'!C$5,\"\",LEFT(A136,1)&B136&C136)","v":"F283"},0.58949834000000001]
["Female",2,84,0.573514686,null,{"$f":"IF(C137<'Gala Name'!C$5,\"\",LEFT(A137,1)&B137&C137)","v":"F284"},0.573514686]
["Female",2,85,0.55678801499999997,null,{"$f":"IF(C138<'Gala Name'!C$5,\"\",LEFT(A138,1)&B138&C138)","v":"F285"},0.55678801499999997]
["Female",2,86,0.53919782800000005,null,{"$f":"IF(C139<'Gala Name'!C$5,\"\",LEFT(A139,1)&B139&C139)","v":"F286"},0.53919782800000005]
["Female",2,87,0.52060309699999996,null,{"$f":"IF(C140<'Gala Name'!C$5,\"\",LEFT(A140,1)&B140&C140)","v":"F287"},0.52060309699999996]
["Female",2,88,0.50084032499999998,null,{"$f":"IF(C141<'Gala Name'!C$5,\"\",LEFT(A141,1)&B141&C141)","v":"F288"},0.50084032499999998]
["Female",2,89,0.47972153299999998,null,{"$f":"IF(C142<'Gala Name'!C$5,\"\",LEFT(A142,1)&B142&C142)","v":"F289"},0.47972153299999998]
["Female",2,90,0.45703216200000002,null,{"$f":"IF(C143<'Gala Name'!C$5,\"\",LEFT(A143,1)&B143&C143)","v":"F290"},0.45703216200000002]
["Female",2,91,0.43252890799999999,null,{"$f":"IF(C144<'Gala Name'!C$5,\"\",LEFT(A144,1)&B144&C144)","v":"F291"},0.43252890799999999]
["Female",2,92,0.40593747699999999,null,{"$f":"IF(C145<'Gala Name'!C$5,\"\",LEFT(A145,1)&B145&C145)","v":"F292"},0.40593747699999999]
["Female",2,93,0.37695025700000001,null,{"$f":"IF(C146<'Gala Name'!C$5,\"\",LEFT(A146,1)&B146&C146)","v":"F293"},0.37695025700000001]
["Female",2,94,0.34522392499999999,null,{"$f":"IF(C147<'Gala Name'!C$5,\"\",LEFT(A147,1)&B147&C147)","v":"F294"},0.34522392499999999]
["Female",2,95,0.31037696999999997,null,{"$f":"IF(C148<'Gala Name'!C$5,\"\",LEFT(A148,1)&B148&C148)","v":"F295"},0.31037696999999997]
["Female",2,96,0.27198713600000002,null,{"$f":"IF(C149<'Gala Name'!C$5,\"\",LEFT(A149,1)&B149&C149)","v":"F296"},0.27198713600000002]
["Female",2,97,0.22958880100000001,null,{"$f":"IF(C150<'Gala Name'!C$5,\"\",LEFT(A150,1)&B150&C150)","v":"F297"},0.22958880100000001]
["Female",2,98,0.182670266,null,{"$f":"IF(C151<'Gala Name'!C$5,\"\",LEFT(A151,1)&B151&C151)","v":"F298"},0.182670266]
["Female",2,99,0.130670974,null,{"$f":"IF(C152<'Gala Name'!C$5,\"\",LEFT(A152,1)&B152&C152)","v":"F299"},0.130670974]
["Female",2,100,7.2978652000000005E-2,null,{"$f":"IF(C153<'Gala Name'!C$5,\"\",LEFT(A153,1)&B153&C153)","v":"F2100"},7.2978652000000005E-2]
["Female",3,25,1.0032108749999999,null,{"$f":"IF(C154<'Gala Name'!C$5,\"\",LEFT(A154,1)&B154&C154)","v":"F325"},1.0032108749999999]
["Female",3,26,0.99084741399999998,null,{"$f":"IF(C155<'Gala Name'!C$5,\"\",LEFT(A155,1)&B155&C155)","v":"F326"},0.99084741399999998]
["Female",3,27,0.981879379,null,{"$f":"IF(C156<'Gala Name'!C$5,\"\",LEFT(A156,1)&B156&C156)","v":"F327"},0.981879379]
["Female",3,28,0.97567964799999995,null,{"$f":"IF(C157<'Gala Name'!C$5,\"\",LEFT(A157,1)&B157&C157)","v":"F328"},0.97567964799999995]
["Female",3,29,0.97168880400000002,null,{"$f":"IF(C158<'Gala Name'!C$5,\"\",LEFT(A158,1)&B158&C158)","v":"F329"},0.97168880400000002]
["Female",3,30,0.96941080499999999,null,{"$f":"IF(C159<'Gala Name'!C$5,\"\",LEFT(A159,1)&B159&C159)","v":"F330"},0.96941080499999999]
["Female",3,31,0.96840877299999994,null,{"$f":"IF(C160<'Gala Name'!C$5,\"\",LEFT(A160,1)&B160&C160)","v":"F331"},0.96840877299999994]
["Female",3,32,0.96830091900000004,null,{"$f":"IF(C161<'Gala Name'!C$5,\"\",LEFT(A161,1)&B161&C161)","v":"F332"},0.96830091900000004]
["Female",3,33,0.96875659000000003,null,{"$f":"IF(C162<'Gala Name'!C$5,\"\",LEFT(A162,1)&B162&C162)","v":"F333"},0.96875659000000003]
["Female",3,34,0.96949244800000001,null,{"$f":"IF(C163<'Gala Name'!C$5,\"\",LEFT(A163,1)&B163&C163)","v":"F334"},0.96949244800000001]
["Female",3,35,0.97026877,null,{"$f":"IF(C164<'Gala Name'!C$5,\"\",LEFT(A164,1)&B164&C164)","v":"F335"},0.97026877]
["Female",3,36,0.97088588600000003,null,{"$f":"IF(C165<'Gala Name'!C$5,\"\",LEFT(A165,1)&B165&C165)","v":"F336"},0.97088588600000003]
["Female",3,37,0.97118073100000002,null,{"$f":"IF(C166<'Gala Name'!C$5,\"\",LEFT(A166,1)&B166&C166)","v":"F337"},0.97118073100000002]
["Female",3,38,0.97102353699999999,null,{"$f":"IF(C167<'Gala Name'!C$5,\"\",LEFT(A167,1)&B167&C167)","v":"F338"},0.97102353699999999]
["Female",3,39,0.970314648,null,{"$f":"IF(C168<'Gala Name'!C$5,\"\",LEFT(A168,1)&B168&C168)","v":"F339"},0.970314648]
["Female",3,40,0.96898145599999996,null,{"$f":"IF(C169<'Gala Name'!C$5,\"\",LEFT(A169,1)&B169&C169)","v":"F340"},0.96898145599999996]
["Female",3,41,0.96697547800000005,null,{"$f":"IF(C170<'Gala Name'!C$5,\"\",LEFT(A170,1)&B170&C170)","v":"F341"},0.96697547800000005]
["Female",3,42,0.96426955000000003,null,{"$f":"IF(C171<'Gala Name'!C$5,\"\",LEFT(A171,1)&B171&C171)","v":"F342"},0.96426955000000003]
["Female",3,43,0.96085515200000005,null,{"$f":"IF(C172<'Gala Name'!C$5,\"\",LEFT(A172,1)&B172&C172)","v":"F343"},0.96085515200000005]
["Female",3,44,0.95673985800000005,null,{"$f":"IF(C173<'Gala Name'!C$5,\"\",LEFT(A173,1)&B173&C173)","v":"F344"},0.95673985800000005]
["Female",3,45,0.95194492100000005,null,{"$f":"IF(C174<'Gala Name'!C$5,\"\",LEFT(A174,1)&B174&C174)","v":"F345"},0.95194492100000005]
["Female",3,46,0.94650297800000005,null,{"$f":"IF(C175<'Gala Name'!C$5,\"\",LEFT(A175,1)&B175&C175)","v":"F346"},0.94650297800000005]
["Female",3,47,0.94045588400000002,null,{"$f":"IF(C176<'Gala Name'!C$5,\"\",LEFT(A176,1)&B176&C176)","v":"F347"},0.94045588400000002]
["Female",3,48,0.93385267599999999,null,{"$f":"IF(C177<'Gala Name'!C$5,\"\",LEFT(A177,1)&B177&C177)","v":"F348"},0.93385267599999999]
["Female",3,49,0.92674766600000003,null,{"$f":"IF(C178<'Gala Name'!C$5,\"\",LEFT(A178,1)&B178&C178)","v":"F349"},0.92674766600000003]
["Female",3,50,0.91919865300000003,null,{"$f":"IF(C179<'Gala Name'!C$5,\"\",LEFT(A179,1)&B179&C179)","v":"F350"},0.91919865300000003]
["Female",3,51,0.91126527400000001,null,{"$f":"IF(C180<'Gala Name'!C$5,\"\",LEFT(A180,1)&B180&C180)","v":"F351"},0.91126527400000001]
["Female",3,52,0.903007475,null,{"$f":"IF(C181<'Gala Name'!C$5,\"\",LEFT(A181,1)&B181&C181)","v":"F352"},0.903007475]
["Female",3,53,0.89448411100000003,null,{"$f":"IF(C182<'Gala Name'!C$5,\"\",LEFT(A182,1)&B182&C182)","v":"F353"},0.89448411100000003]
["Female",3,54,0.88575167399999999,null,{"$f":"IF(C183<'Gala Name'!C$5,\"\",LEFT(A183,1)&B183&C183)","v":"F354"},0.88575167399999999]
["Female",3,55,0.87686315400000003,null,{"$f":"IF(C184<'Gala Name'!C$5,\"\",LEFT(A184,1)&B184&C184)","v":"F355"},0.87686315400000003]
["Female",3,56,0.86786701399999999,null,{"$f":"IF(C185<'Gala Name'!C$5,\"\",LEFT(A185,1)&B185&C185)","v":"F356"},0.86786701399999999]
["Female",3,57,0.85880630800000002,null,{"$f":"IF(C186<'Gala Name'!C$5,\"\",LEFT(A186,1)&B186&C186)","v":"F357"},0.85880630800000002]
["Female",3,58,0.84971791699999999,null,{"$f":"IF(C187<'Gala Name'!C$5,\"\",LEFT(A187,1)&B187&C187)","v":"F358"},0.84971791699999999]
["Female",3,59,0.84063191400000004,null,{"$f":"IF(C188<'Gala Name'!C$5,\"\",LEFT(A188,1)&B188&C188)","v":"F359"},0.84063191400000004]
["Female",3,60,0.831571061,null,{"$f":"IF(C189<'Gala Name'!C$5,\"\",LEFT(A189,1)&B189&C189)","v":"F360"},0.831571061]
["Female",3,61,0.822550428,null,{"$f":"IF(C190<'Gala Name'!C$5,\"\",LEFT(A190,1)&B190&C190)","v":"F361"},0.822550428]
["Female",3,62,0.813577141,null,{"$f":"IF(C191<'Gala Name'!C$5,\"\",LEFT(A191,1)&B191&C191)","v":"F362"},0.813577141]
["Female",3,63,0.80465026299999998,null,{"$f":"IF(C192<'Gala Name'!C$5,\"\",LEFT(A192,1)&B192&C192)","v":"F363"},0.80465026299999998]
["Female",3,64,0.79576079399999999,null,{"$f":"IF(C193<'Gala Name'!C$5,\"\",LEFT(A193,1)&B193&C193)","v":"F364"},0.79576079399999999]
["Female",3,65,0.78689180400000003,null,{"$f":"IF(C194<'Gala Name'!C$5,\"\",LEFT(A194,1)&B194&C194)","v":"F365"},0.78689180400000003]
["Female",3,66,0.77801869099999998,null,{"$f":"IF(C195<'Gala Name'!C$5,\"\",LEFT(A195,1)&B195&C195)","v":"F366"},{"$f":"D195","v":0.77801869099999998}]
["Female",3,67,0.76910957300000005,null,{"$f":"IF(C196<'Gala Name'!C$5,\"\",LEFT(A196,1)&B196&C196)","v":"F367"},0.76910957300000005]
["Female",3,68,0.76012579599999996,null,{"$f":"IF(C197<'Gala Name'!C$5,\"\",LEFT(A197,1)&B197&C197)","v":"F368"},0.76012579599999996]
["Female",3,69,0.75102258,null,{"$f":"IF(C198<'Gala Name'!C$5,\"\",LEFT(A198,1)&B198&C198)","v":"F369"},0.75102258]
["Female",3,70,0.74174978800000002,null,{"$f":"IF(C199<'Gala Name'!C$5,\"\",LEFT(A199,1)&B199&C199)","v":"F370"},0.74174978800000002]
["Female",3,71,0.732252821,null,{"$f":"IF(C200<'Gala Name'!C$5,\"\",LEFT(A200,1)&B200&C200)","v":"F371"},0.732252821]
["Female",3,72,0.72247364700000005,null,{"$f":"IF(C201<'Gala Name'!C$5,\"\",LEFT(A201,1)&B201&C201)","v":"F372"},0.72247364700000005]
["Female",3,73,0.71235195100000004,null,{"$f":"IF(C202<'Gala Name'!C$5,\"\",LEFT(A202,1)&B202&C202)","v":"F373"},0.71235195100000004]
["Female",3,74,0.70182641400000001,null,{"$f":"IF(C203<'Gala Name'!C$5,\"\",LEFT(A203,1)&B203&C203)","v":"F374"},0.70182641400000001]
["Female",3,75,0.690836122,null,{"$f":"IF(C204<'Gala Name'!C$5,\"\",LEFT(A204,1)&B204&C204)","v":"F375"},0.690836122]
["Female",3,76,0.67932210299999995,null,{"$f":"IF(C205<'Gala Name'!C$5,\"\",LEFT(A205,1)&B205&C205)","v":"F376"},0.67932210299999995]
["Female",3,77,0.66722898600000002,null,{"$f":"IF(C206<'Gala Name'!C$5,\"\",LEFT(A206,1)&B206&C206)","v":"F377"},0.66722898600000002]
["Female",3,78,0.65450679300000003,null,{"$f":"IF(C207<'Gala Name'!C$5,\"\",LEFT(A207,1)&B207&C207)","v":"F378"},0.65450679300000003]
["Female",3,79,0.64111285900000003,null,{"$f":"IF(C208<'Gala Name'!C$5,\"\",LEFT(A208,1)&B208&C208)","v":"F379"},0.64111285900000003]
["Female",3,80,0.62701387399999997,null,{"$f":"IF(C209<'Gala Name'!C$5,\"\",LEFT(A209,1)&B209&C209)","v":"F380"},0.62701387399999997]
["Female",3,81,0.61218805799999998,null,{"$f":"IF(C210<'Gala Name'!C$5,\"\",LEFT(A210,1)&B210&C210)","v":"F381"},0.61218805799999998]
["Female",3,82,0.59662746200000005,null,{"$f":"IF(C211<'Gala Name'!C$5,\"\",LEFT(A211,1)&B211&C211)","v":"F382"},0.59662746200000005]
["Female",3,83,0.58034039699999995,null,{"$f":"IF(C212<'Gala Name'!C$5,\"\",LEFT(A212,1)&B212&C212)","v":"F383"},0.58034039699999995]
["Female",3,84,0.56335398699999994,null,{"$f":"IF(C213<'Gala Name'!C$5,\"\",LEFT(A213,1)&B213&C213)","v":"F384"},0.56335398699999994]
["Female",3,85,0.54571685400000003,null,{"$f":"IF(C214<'Gala Name'!C$5,\"\",LEFT(A214,1)&B214&C214)","v":"F385"},0.54571685400000003]
["Female",3,86,0.52750193199999995,null,{"$f":"IF(C215<'Gala Name'!C$5,\"\",LEFT(A215,1)&B215&C215)","v":"F386"},0.52750193199999995]
["Female",3,87,0.50880939999999997,null,{"$f":"IF(C216<'Gala Name'!C$5,\"\",LEFT(A216,1)&B216&C216)","v":"F387"},0.50880939999999997]
["Female",3,88,0.489769752,null,{"$f":"IF(C217<'Gala Name'!C$5,\"\",LEFT(A217,1)&B217&C217)","v":"F388"},0.489769752]
["Female",3,89,0.47054699100000003,null,{"$f":"IF(C218<'Gala Name'!C$5,\"\",LEFT(A218,1)&B218&C218)","v":"F389"},0.47054699100000003]
["Female",3,90,0.45134194799999999,null,{"$f":"IF(C219<'Gala Name'!C$5,\"\",LEFT(A219,1)&B219&C219)","v":"F390"},0.45134194799999999]
["Female",3,91,0.43239573399999998,null,{"$f":"IF(C220<'Gala Name'!C$5,\"\",LEFT(A220,1)&B220&C220)","v":"F391"},0.43239573399999998]
["Female",3,92,0.41399331299999997,null,{"$f":"IF(C221<'Gala Name'!C$5,\"\",LEFT(A221,1)&B221&C221)","v":"F392"},0.41399331299999997]
["Female",3,93,0.39646721000000001,null,{"$f":"IF(C222<'Gala Name'!C$5,\"\",LEFT(A222,1)&B222&C222)","v":"F393"},0.39646721000000001]
["Female",3,94,0.38020133900000003,null,{"$f":"IF(C223<'Gala Name'!C$5,\"\",LEFT(A223,1)&B223&C223)","v":"F394"},0.38020133900000003]
["Female",3,95,0.36563496600000001,null,{"$f":"IF(C224<'Gala Name'!C$5,\"\",LEFT(A224,1)&B224&C224)","v":"F395"},0.36563496600000001]
["Female",3,96,0.353266794,null,{"$f":"IF(C225<'Gala Name'!C$5,\"\",LEFT(A225,1)&B225&C225)","v":"F396"},0.353266794]
["Female",3,97,0.34365917499999998,null,{"$f":"IF(C226<'Gala Name'!C$5,\"\",LEFT(A226,1)&B226&C226)","v":"F397"},0.34365917499999998]
["Female",3,98,0.33744245899999997,null,{"$f":"IF(C227<'Gala Name'!C$5,\"\",LEFT(A227,1)&B227&C227)","v":"F398"},0.33744245899999997]
["Female",3,99,0.33531945600000002,null,{"$f":"IF(C228<'Gala Name'!C$5,\"\",LEFT(A228,1)&B228&C228)","v":"F399"},0.33531945600000002]
["Female",3,100,0.33807003899999999,null,{"$f":"IF(C229<'Gala Name'!C$5,\"\",LEFT(A229,1)&B229&C229)","v":"F3100"},0.33807003899999999]
["Female",4,25,1.002952624,null,{"$f":"IF(C230<'Gala Name'!C$5,\"\",LEFT(A230,1)&B230&C230)","v":"F425"},1.002952624]
["Female",4,26,0.999029748,null,{"$f":"IF(C231<'Gala Name'!C$5,\"\",LEFT(A231,1)&B231&C231)","v":"F426"},0.999029748]
["Female",4,27,0.99612553999999998,null,{"$f":"IF(C232<'Gala Name'!C$5,\"\",LEFT(A232,1)&B232&C232)","v":"F427"},0.99612553999999998]
["Female",4,28,0.99406595499999995,null,{"$f":"IF(C233<'Gala Name'!C$5,\"\",LEFT(A233,1)&B233&C233)","v":"F428"},0.99406595499999995]
["Female",4,29,0.99268894200000002,null,{"$f":"IF(C234<'Gala Name'!C$5,\"\",LEFT(A234,1)&B234&C234)","v":"F429"},0.99268894200000002]
["Female",4,30,0.99184415500000001,null,{"$f":"IF(C235<'Gala Name'!C$5,\"\",LEFT(A235,1)&B235&C235)","v":"F430"},0.99184415500000001]
["Female",4,31,0.99139264500000002,null,{"$f":"IF(C236<'Gala Name'!C$5,\"\",LEFT(A236,1)&B236&C236)","v":"F431"},0.99139264500000002]
["Female",4,32,0.99120655999999996,null,{"$f":"IF(C237<'Gala Name'!C$5,\"\",LEFT(A237,1)&B237&C237)","v":"F432"},0.99120655999999996]
["Female",4,33,0.99116883099999997,null,{"$f":"IF(C238<'Gala Name'!C$5,\"\",LEFT(A238,1)&B238&C238)","v":"F433"},0.99116883099999997]
["Female",4,34,0.99117285200000005,null,{"$f":"IF(C239<'Gala Name'!C$5,\"\",LEFT(A239,1)&B239&C239)","v":"F434"},0.99117285200000005]
["Female",4,35,0.99112215999999997,null,{"$f":"IF(C240<'Gala Name'!C$5,\"\",LEFT(A240,1)&B240&C240)","v":"F435"},0.99112215999999997]
["Female",4,36,0.99093010500000001,null,{"$f":"IF(C241<'Gala Name'!C$5,\"\",LEFT(A241,1)&B241&C241)","v":"F436"},0.99093010500000001]
["Female",4,37,0.99051951000000005,null,{"$f":"IF(C242<'Gala Name'!C$5,\"\",LEFT(A242,1)&B242&C242)","v":"F437"},0.99051951000000005]
["Female",4,38,0.989822337,null,{"$f":"IF(C243<'Gala Name'!C$5,\"\",LEFT(A243,1)&B243&C243)","v":"F438"},0.989822337]
["Female",4,39,0.98877933500000004,null,{"$f":"IF(C244<'Gala Name'!C$5,\"\",LEFT(A244,1)&B244&C244)","v":"F439"},0.98877933500000004]
["Female",4,40,0.98733968699999997,null,{"$f":"IF(C245<'Gala Name'!C$5,\"\",LEFT(A245,1)&B245&C245)","v":"F440"},0.98733968699999997]
["Female",4,41,0.98546065500000002,null,{"$f":"IF(C246<'Gala Name'!C$5,\"\",LEFT(A246,1)&B246&C246)","v":"F441"},0.98546065500000002]
["Female",4,42,0.98310721099999998,null,{"$f":"IF(C247<'Gala Name'!C$5,\"\",LEFT(A247,1)&B247&C247)","v":"F442"},0.98310721099999998]
["Female",4,43,0.98025166699999999,null,{"$f":"IF(C248<'Gala Name'!C$5,\"\",LEFT(A248,1)&B248&C248)","v":"F443"},0.98025166699999999]
["Female",4,44,0.97687330400000005,null,{"$f":"IF(C249<'Gala Name'!C$5,\"\",LEFT(A249,1)&B249&C249)","v":"F444"},0.97687330400000005]
["Female",4,45,0.97295798300000003,null,{"$f":"IF(C250<'Gala Name'!C$5,\"\",LEFT(A250,1)&B250&C250)","v":"F445"},0.97295798300000003]
["Female",4,46,0.96849775699999996,null,{"$f":"IF(C251<'Gala Name'!C$5,\"\",LEFT(A251,1)&B251&C251)","v":"F446"},0.96849775699999996]
["Female",4,47,0.96349048500000001,null,{"$f":"IF(C252<'Gala Name'!C$5,\"\",LEFT(A252,1)&B252&C252)","v":"F447"},0.96349048500000001]
["Female",4,48,0.95793942200000004,null,{"$f":"IF(C253<'Gala Name'!C$5,\"\",LEFT(A253,1)&B253&C253)","v":"F448"},0.95793942200000004]
["Female",4,49,0.95185282100000002,null,{"$f":"IF(C254<'Gala Name'!C$5,\"\",LEFT(A254,1)&B254&C254)","v":"F449"},0.95185282100000002]
["Female",4,50,0.94524351500000003,null,{"$f":"IF(C255<'Gala Name'!C$5,\"\",LEFT(A255,1)&B255&C255)","v":"F450"},0.94524351500000003]
["Female",4,51,0.93812850699999994,null,{"$f":"IF(C256<'Gala Name'!C$5,\"\",LEFT(A256,1)&B256&C256)","v":"F451"},0.93812850699999994]
["Female",4,52,0.93052853800000002,null,{"$f":"IF(C257<'Gala Name'!C$5,\"\",LEFT(A257,1)&B257&C257)","v":"F452"},0.93052853800000002]
["Female",4,53,0.92246766700000005,null,{"$f":"IF(C258<'Gala Name'!C$5,\"\",LEFT(A258,1)&B258&C258)","v":"F453"},0.92246766700000005]
["Female",4,54,0.91397282700000004,null,{"$f":"IF(C259<'Gala Name'!C$5,\"\",LEFT(A259,1)&B259&C259)","v":"F454"},{"$f":"D259","v":0.91397282700000004}]
["Female",4,55,0.90507339200000003,null,{"$f":"IF(C260<'Gala Name'!C$5,\"\",LEFT(A260,1)&B260&C260)","v":"F455"},0.90507339200000003]
["Female",4,56,0.89580072399999999,null,{"$f":"IF(C261<'Gala Name'!C$5,\"\",LEFT(A261,1)&B261&C261)","v":"F456"},0.89580072399999999]
["Female",4,57,0.88618772499999998,null,{"$f":"IF(C262<'Gala Name'!C$5,\"\",LEFT(A262,1)&B262&C262)","v":"F457"},0.88618772499999998]
["Female",4,58,0.87626837700000004,null,{"$f":"IF(C263<'Gala Name'!C$5,\"\",LEFT(A263,1)&B263&C263)","v":"F458"},0.87626837700000004]
["Female",4,59,0.86607727400000001,null,{"$f":"IF(C264<'Gala Name'!C$5,\"\",LEFT(A264,1)&B264&C264)","v":"F459"},0.86607727400000001]
["Female",4,60,0.85564915799999997,null,{"$f":"IF(C265<'Gala Name'!C$5,\"\",LEFT(A265,1)&B265&C265)","v":"F460"},0.85564915799999997]
["Female",4,61,0.84501843899999995,null,{"$f":"IF(C266<'Gala Name'!C$5,\"\",LEFT(A266,1)&B266&C266)","v":"F461"},0.84501843899999995]
["Female",4,62,0.83421871400000003,null,{"$f":"IF(C267<'Gala Name'!C$5,\"\",LEFT(A267,1)&B267&C267)","v":"F462"},0.83421871400000003]
["Female",4,63,0.82328228000000003,null,{"$f":"IF(C268<'Gala Name'!C$5,\"\",LEFT(A268,1)&B268&C268)","v":"F463"},0.82328228000000003]
["Female",4,64,0.81223963899999996,null,{"$f":"IF(C269<'Gala Name'!C$5,\"\",LEFT(A269,1)&B269&C269)","v":"F464"},0.81223963899999996]
["Female",4,65,0.801118997,null,{"$f":"IF(C270<'Gala Name'!C$5,\"\",LEFT(A270,1)&B270&C270)","v":"F465"},0.801118997]
["Female",4,66,0.78994576400000005,null,{"$f":"IF(C271<'Gala Name'!C$5,\"\",LEFT(A271,1)&B271&C271)","v":"F466"},0.78994576400000005]
["Female",4,67,0.77874203799999997,null,{"$f":"IF(C272<'Gala Name'!C$5,\"\",LEFT(A272,1)&B272&C272)","v":"F467"},0.77874203799999997]
["Female",4,68,0.767526088,null,{"$f":"IF(C273<'Gala Name'!C$5,\"\",LEFT(A273,1)&B273&C273)","v":"F468"},0.767526088]
["Female",4,69,0.75631183400000002,null,{"$f":"IF(C274<'Gala Name'!C$5,\"\",LEFT(A274,1)&B274&C274)","v":"F469"},0.75631183400000002]
["Female",4,70,0.74510831700000002,null,{"$f":"IF(C275<'Gala Name'!C$5,\"\",LEFT(A275,1)&B275&C275)","v":"F470"},0.74510831700000002]
["Female",4,71,0.73391916099999999,null,{"$f":"IF(C276<'Gala Name'!C$5,\"\",LEFT(A276,1)&B276&C276)","v":"F471"},0.73391916099999999]
["Female",4,72,0.72274203699999995,null,{"$f":"IF(C277<'Gala Name'!C$5,\"\",LEFT(A277,1)&B277&C277)","v":"F472"},0.72274203699999995]
["Female",4,73,0.71156811399999997,null,{"$f":"IF(C278<'Gala Name'!C$5,\"\",LEFT(A278,1)&B278&C278)","v":"F473"},0.71156811399999997]
["Female",4,74,0.70038151000000004,null,{"$f":"IF(C279<'Gala Name'!C$5,\"\",LEFT(A279,1)&B279&C279)","v":"F474"},0.70038151000000004]
["Female",4,75,0.68915872700000003,null,{"$f":"IF(C280<'Gala Name'!C$5,\"\",LEFT(A280,1)&B280&C280)","v":"F475"},0.68915872700000003]
["Female",4,76,0.677868095,null,{"$f":"IF(C281<'Gala Name'!C$5,\"\",LEFT(A281,1)&B281&C281)","v":"F476"},0.677868095]
["Female",4,77,0.66646919599999999,null,{"$f":"IF(C282<'Gala Name'!C$5,\"\",LEFT(A282,1)&B282&C282)","v":"F477"},0.66646919599999999]
["Female",4,78,0.65491229100000004,null,{"$f":"IF(C283<'Gala Name'!C$5,\"\",LEFT(A283,1)&B283&C283)","v":"F478"},0.65491229100000004]
["Female",4,79,0.64313774000000001,null,{"$f":"IF(C284<'Gala Name'!C$5,\"\",LEFT(A284,1)&B284&C284)","v":"F479"},0.64313774000000001]
["Female",4,80,0.63107541,null,{"$f":"IF(C285<'Gala Name'!C$5,\"\",LEFT(A285,1)&B285&C285)","v":"F480"},0.63107541]
["Female",4,81,0.61864408599999998,null,{"$f":"IF(C286<'Gala Name'!C$5,\"\",LEFT(A286,1)&B286&C286)","v":"F481"},0.61864408599999998]
["Female",4,82,0.60575086899999997,null,{"$f":"IF(C287<'Gala Name'!C$5,\"\",LEFT(A287,1)&B287&C287)","v":"F482"},0.60575086899999997]
["Female",4,83,0.59229057299999999,null,{"$f":"IF(C288<'Gala Name'!C$5,\"\",LEFT(A288,1)&B288&C288)","v":"F483"},0.59229057299999999]
["Female",4,84,0.57814511099999999,null,{"$f":"IF(C289<'Gala Name'!C$5,\"\",LEFT(A289,1)&B289&C289)","v":"F484"},0.57814511099999999]
["Female",4,85,0.563182882,null,{"$f":"IF(C290<'Gala Name'!C$5,\"\",LEFT(A290,1)&B290&C290)","v":"F485"},0.563182882]
["Female",4,86,0.54725814699999997,null,{"$f":"IF(C291<'Gala Name'!C$5,\"\",LEFT(A291,1)&B291&C291)","v":"F486"},0.54725814699999997]
["Female",4,87,0.530210399,null,{"$f":"IF(C292<'Gala Name'!C$5,\"\",LEFT(A292,1)&B292&C292)","v":"F487"},0.530210399]
["Female",4,88,0.51186372999999996,null,{"$f":"IF(C293<'Gala Name'!C$5,\"\",LEFT(A293,1)&B293&C293)","v":"F488"},0.51186372999999996]
["Female",4,89,0.492026191,null,{"$f":"IF(C294<'Gala Name'!C$5,\"\",LEFT(A294,1)&B294&C294)","v":"F489"},0.492026191]
["Female",4,90,0.47048914400000003,null,{"$f":"IF(C295<'Gala Name'!C$5,\"\",LEFT(A295,1)&B295&C295)","v":"F490"},0.47048914400000003]
["Female",4,91,0.44702661300000002,null,{"$f":"IF(C296<'Gala Name'!C$5,\"\",LEFT(A296,1)&B296&C296)","v":"F491"},0.44702661300000002]
["Female",4,92,0.421394624,null,{"$f":"IF(C297<'Gala Name'!C$5,\"\",LEFT(A297,1)&B297&C297)","v":"F492"},0.421394624]
["Female",4,93,0.39333054099999998,null,{"$f":"IF(C298<'Gala Name'!C$5,\"\",LEFT(A298,1)&B298&C298)","v":"F493"},0.39333054099999998]
["Female",4,94,0.36255239900000003,null,{"$f":"IF(C299<'Gala Name'!C$5,\"\",LEFT(A299,1)&B299&C299)","v":"F494"},0.36255239900000003]
["Female",4,95,0.32875822599999999,null,{"$f":"IF(C300<'Gala Name'!C$5,\"\",LEFT(A300,1)&B300&C300)","v":"F495"},0.32875822599999999]
["Female",4,96,0.29162536300000003,null,{"$f":"IF(C301<'Gala Name'!C$5,\"\",LEFT(A301,1)&B301&C301)","v":"F496"},0.29162536300000003]
["Female",4,97,0.25080977599999998,null,{"$f":"IF(C302<'Gala Name'!C$5,\"\",LEFT(A302,1)&B302&C302)","v":"F497"},0.25080977599999998]
["Female",4,98,0.20594536399999999,null,{"$f":"IF(C303<'Gala Name'!C$5,\"\",LEFT(A303,1)&B303&C303)","v":"F498"},0.20594536399999999]
["Female",4,99,0.15664325900000001,null,{"$f":"IF(C304<'Gala Name'!C$5,\"\",LEFT(A304,1)&B304&C304)","v":"F499"},0.15664325900000001]
["Female",5,25,1.006764982,null,{"$f":"IF(C305<'Gala Name'!C$5,\"\",LEFT(A305,1)&B305&C305)","v":"F525"},1.006764982]
["Female",5,26,1.004923692,null,{"$f":"IF(C306<'Gala Name'!C$5,\"\",LEFT(A306,1)&B306&C306)","v":"F526"},1.004923692]
["Female",5,27,1.003814465,null,{"$f":"IF(C307<'Gala Name'!C$5,\"\",LEFT(A307,1)&B307&C307)","v":"F527"},1.003814465]
["Female",5,28,1.003245492,null,{"$f":"IF(C308<'Gala Name'!C$5,\"\",LEFT(A308,1)&B308&C308)","v":"F528"},1.003245492]
["Female",5,29,1.0030439870000001,null,{"$f":"IF(C309<'Gala Name'!C$5,\"\",LEFT(A309,1)&B309&C309)","v":"F529"},1.0030439870000001]
["Female",5,30,1.003055249,null,{"$f":"IF(C310<'Gala Name'!C$5,\"\",LEFT(A310,1)&B310&C310)","v":"F530"},1.003055249]
["Female",5,31,1.003141743,null,{"$f":"IF(C311<'Gala Name'!C$5,\"\",LEFT(A311,1)&B311&C311)","v":"F531"},1.003141743]
["Female",5,32,1.003182188,null,{"$f":"IF(C312<'Gala Name'!C$5,\"\",LEFT(A312,1)&B312&C312)","v":"F532"},1.003182188]
["Female",5,33,1.0030706700000001,null,{"$f":"IF(C313<'Gala Name'!C$5,\"\",LEFT(A313,1)&B313&C313)","v":"F533"},1.0030706700000001]
["Female",5,34,1.002715762,null,{"$f":"IF(C314<'Gala Name'!C$5,\"\",LEFT(A314,1)&B314&C314)","v":"F534"},1.002715762]
["Female",5,35,1.002039669,null,{"$f":"IF(C315<'Gala Name'!C$5,\"\",LEFT(A315,1)&B315&C315)","v":"F535"},1.002039669]
["Female",5,36,1.0009773829999999,null,{"$f":"IF(C316<'Gala Name'!C$5,\"\",LEFT(A316,1)&B316&C316)","v":"F536"},1.0009773829999999]
["Female",5,37,0.99947585500000002,null,{"$f":"IF(C317<'Gala Name'!C$5,\"\",LEFT(A317,1)&B317&C317)","v":"F537"},0.99947585500000002]
["Female",5,38,0.99749318300000001,null,{"$f":"IF(C318<'Gala Name'!C$5,\"\",LEFT(A318,1)&B318&C318)","v":"F538"},0.99749318300000001]
["Female",5,39,0.99499781899999995,null,{"$f":"IF(C319<'Gala Name'!C$5,\"\",LEFT(A319,1)&B319&C319)","v":"F539"},0.99499781899999995]
["Female",5,40,0.99196778600000002,null,{"$f":"IF(C320<'Gala Name'!C$5,\"\",LEFT(A320,1)&B320&C320)","v":"F540"},0.99196778600000002]
["Female",5,41,0.98838991700000001,null,{"$f":"IF(C321<'Gala Name'!C$5,\"\",LEFT(A321,1)&B321&C321)","v":"F541"},0.98838991700000001]
["Female",5,42,0.98425910500000002,null,{"$f":"IF(C322<'Gala Name'!C$5,\"\",LEFT(A322,1)&B322&C322)","v":"F542"},0.98425910500000002]
["Female",5,43,0.97957757300000003,null,{"$f":"IF(C323<'Gala Name'!C$5,\"\",LEFT(A323,1)&B323&C323)","v":"F543"},{"$f":"D323","v":0.97957757300000003}]
["Female",5,44,0.97435415599999997,null,{"$f":"IF(C324<'Gala Name'!C$5,\"\",LEFT(A324,1)&B324&C324)","v":"F544"},0.97435415599999997]
["Female",5,45,0.96860360400000001,null,{"$f":"IF(C325<'Gala Name'!C$5,\"\",LEFT(A325,1)&B325&C325)","v":"F545"},0.96860360400000001]
["Female",5,46,0.96234589199999998,null,{"$f":"IF(C326<'Gala Name'!C$5,\"\",LEFT(A326,1)&B326&C326)","v":"F546"},0.96234589199999998]
["Female",5,47,0.95560555899999999,null,{"$f":"IF(C327<'Gala Name'!C$5,\"\",LEFT(A327,1)&B327&C327)","v":"F547"},0.95560555899999999]
["Female",5,48,0.94841105199999998,null,{"$f":"IF(C328<'Gala Name'!C$5,\"\",LEFT(A328,1)&B328&C328)","v":"F548"},0.94841105199999998]
["Female",5,49,0.94079408899999994,null,{"$f":"IF(C329<'Gala Name'!C$5,\"\",LEFT(A329,1)&B329&C329)","v":"F549"},0.94079408899999994]
["Female",5,50,0.93278903999999996,null,{"$f":"IF(C330<'Gala Name'!C$5,\"\",LEFT(A330,1)&B330&C330)","v":"F550"},0.93278903999999996]
["Female",5,51,0.92443232099999995,null,{"$f":"IF(C331<'Gala Name'!C$5,\"\",LEFT(A331,1)&B331&C331)","v":"F551"},0.92443232099999995]
["Female",5,52,0.91576181000000001,null,{"$f":"IF(C332<'Gala Name'!C$5,\"\",LEFT(A332,1)&B332&C332)","v":"F552"},0.91576181000000001]
["Female",5,53,0.90681626599999998,null,{"$f":"IF(C333<'Gala Name'!C$5,\"\",LEFT(A333,1)&B333&C333)","v":"F553"},0.90681626599999998]
["Female",5,54,0.89763478100000005,null,{"$f":"IF(C334<'Gala Name'!C$5,\"\",LEFT(A334,1)&B334&C334)","v":"F554"},0.89763478100000005]
["Female",5,55,0.88825623399999998,null,{"$f":"IF(C335<'Gala Name'!C$5,\"\",LEFT(A335,1)&B335&C335)","v":"F555"},0.88825623399999998]
["Female",5,56,0.87871876699999996,null,{"$f":"IF(C336<'Gala Name'!C$5,\"\",LEFT(A336,1)&B336&C336)","v":"F556"},0.87871876699999996]
["Female",5,57,0.86905927800000005,null,{"$f":"IF(C337<'Gala Name'!C$5,\"\",LEFT(A337,1)&B337&C337)","v":"F557"},0.86905927800000005]
["Female",5,58,0.85931292400000003,null,{"$f":"IF(C338<'Gala Name'!C$5,\"\",LEFT(A338,1)&B338&C338)","v":"F558"},0.85931292400000003]
["Female",5,59,0.84951264999999998,null,{"$f":"IF(C339<'Gala Name'!C$5,\"\",LEFT(A339,1)&B339&C339)","v":"F559"},0.84951264999999998]
["Female",5,60,0.839688722,null,{"$f":"IF(C340<'Gala Name'!C$5,\"\",LEFT(A340,1)&B340&C340)","v":"F560"},0.839688722]
["Female",5,61,0.82986828400000001,null,{"$f":"IF(C341<'Gala Name'!C$5,\"\",LEFT(A341,1)&B341&C341)","v":"F561"},0.82986828400000001]
["Female",5,62,0.82007492999999998,null,{"$f":"IF(C342<'Gala Name'!C$5,\"\",LEFT(A342,1)&B342&C342)","v":"F562"},0.82007492999999998]
["Female",5,63,0.81032828899999998,null,{"$f":"IF(C343<'Gala Name'!C$5,\"\",LEFT(A343,1)&B343&C343)","v":"F563"},0.81032828899999998]
["Female",5,64,0.80064362700000002,null,{"$f":"IF(C344<'Gala Name'!C$5,\"\",LEFT(A344,1)&B344&C344)","v":"F564"},0.80064362700000002]
["Female",5,65,0.79103146800000002,null,{"$f":"IF(C345<'Gala Name'!C$5,\"\",LEFT(A345,1)&B345&C345)","v":"F565"},0.79103146800000002]
["Female",5,66,0.78149722600000004,null,{"$f":"IF(C346<'Gala Name'!C$5,\"\",LEFT(A346,1)&B346&C346)","v":"F566"},0.78149722600000004]
["Female",5,67,0.77204085700000002,null,{"$f":"IF(C347<'Gala Name'!C$5,\"\",LEFT(A347,1)&B347&C347)","v":"F567"},0.77204085700000002]
["Female",5,68,0.76265652299999998,null,{"$f":"IF(C348<'Gala Name'!C$5,\"\",LEFT(A348,1)&B348&C348)","v":"F568"},0.76265652299999998]
["Female",5,69,0.75333227700000005,null,{"$f":"IF(C349<'Gala Name'!C$5,\"\",LEFT(A349,1)&B349&C349)","v":"F569"},0.75333227700000005]
["Female",5,70,0.74404976,null,{"$f":"IF(C350<'Gala Name'!C$5,\"\",LEFT(A350,1)&B350&C350)","v":"F570"},0.74404976]
["Female",5,71,0.73478391300000001,null,{"$f":"IF(C351<'Gala Name'!C$5,\"\",LEFT(A351,1)&B351&C351)","v":"F571"},0.73478391300000001]
["Female",5,72,0.72550271099999997,null,{"$f":"IF(C352<'Gala Name'!C$5,\"\",LEFT(A352,1)&B352&C352)","v":"F572"},0.72550271099999997]
["Female",5,73,0.71616690599999999,null,{"$f":"IF(C353<'Gala Name'!C$5,\"\",LEFT(A353,1)&B353&C353)","v":"F573"},0.71616690599999999]
["Female",5,74,0.70672978799999997,null,{"$f":"IF(C354<'Gala Name'!C$5,\"\",LEFT(A354,1)&B354&C354)","v":"F574"},0.70672978799999997]
["Female",5,75,0.69713696599999997,null,{"$f":"IF(C355<'Gala Name'!C$5,\"\",LEFT(A355,1)&B355&C355)","v":"F575"},0.69713696599999997]
["Female",5,76,0.68732616000000002,null,{"$f":"IF(C356<'Gala Name'!C$5,\"\",LEFT(A356,1)&B356&C356)","v":"F576"},0.68732616000000002]
["Female",5,77,0.67722700999999996,null,{"$f":"IF(C357<'Gala Name'!C$5,\"\",LEFT(A357,1)&B357&C357)","v":"F577"},0.67722700999999996]
["Female",5,78,0.66676090200000004,null,{"$f":"IF(C358<'Gala Name'!C$5,\"\",LEFT(A358,1)&B358&C358)","v":"F578"},0.66676090200000004]
["Female",5,79,0.65584081000000005,null,{"$f":"IF(C359<'Gala Name'!C$5,\"\",LEFT(A359,1)&B359&C359)","v":"F579"},0.65584081000000005]
["Female",5,80,0.64437115300000003,null,{"$f":"IF(C360<'Gala Name'!C$5,\"\",LEFT(A360,1)&B360&C360)","v":"F580"},0.64437115300000003]
["Female",5,81,0.63224766700000001,null,{"$f":"IF(C361<'Gala Name'!C$5,\"\",LEFT(A361,1)&B361&C361)","v":"F581"},0.63224766700000001]
["Female",5,82,0.61935729699999997,null,{"$f":"IF(C362<'Gala Name'!C$5,\"\",LEFT(A362,1)&B362&C362)","v":"F582"},0.61935729699999997]
["Female",5,83,0.60557810000000001,null,{"$f":"IF(C363<'Gala Name'!C$5,\"\",LEFT(A363,1)&B363&C363)","v":"F583"},0.60557810000000001]
["Female",5,84,0.59077916699999999,null,{"$f":"IF(C364<'Gala Name'!C$5,\"\",LEFT(A364,1)&B364&C364)","v":"F584"},0.59077916699999999]
["Female",5,85,0.57482056100000001,null,{"$f":"IF(C365<'Gala Name'!C$5,\"\",LEFT(A365,1)&B365&C365)","v":"F585"},0.57482056100000001]
["Female",5,86,0.55755326599999999,null,{"$f":"IF(C366<'Gala Name'!C$5,\"\",LEFT(A366,1)&B366&C366)","v":"F586"},0.55755326599999999]
["Female",5,87,0.53881916100000005,null,{"$f":"IF(C367<'Gala Name'!C$5,\"\",LEFT(A367,1)&B367&C367)","v":"F587"},0.53881916100000005]
["Female",5,88,0.51845100200000005,null,{"$f":"IF(C368<'Gala Name'!C$5,\"\",LEFT(A368,1)&B368&C368)","v":"F588"},0.51845100200000005]
["Female",5,89,0.49627242100000002,null,{"$f":"IF(C369<'Gala Name'!C$5,\"\",LEFT(A369,1)&B369&C369)","v":"F589"},0.49627242100000002]
["Female",5,90,0.47209794900000002,null,{"$f":"IF(C370<'Gala Name'!C$5,\"\",LEFT(A370,1)&B370&C370)","v":"F590"},0.47209794900000002]
["Female",5,91,0.44573304000000002,null,{"$f":"IF(C371<'Gala Name'!C$5,\"\",LEFT(A371,1)&B371&C371)","v":"F591"},0.44573304000000002]
["Female",5,92,0.416974128,null,{"$f":"IF(C372<'Gala Name'!C$5,\"\",LEFT(A372,1)&B372&C372)","v":"F592"},0.416974128]
["Female",5,93,0.38560868399999998,null,{"$f":"IF(C373<'Gala Name'!C$5,\"\",LEFT(A373,1)&B373&C373)","v":"F593"},0.38560868399999998]
["Female",5,94,0.35141530100000001,null,{"$f":"IF(C374<'Gala Name'!C$5,\"\",LEFT(A374,1)&B374&C374)","v":"F594"},0.35141530100000001]
["Female",5,95,0.31416379100000003,null,{"$f":"IF(C375<'Gala Name'!C$5,\"\",LEFT(A375,1)&B375&C375)","v":"F595"},0.31416379100000003]
["Female",5,96,0.27361529099999998,null,{"$f":"IF(C376<'Gala Name'!C$5,\"\",LEFT(A376,1)&B376&C376)","v":"F596"},0.27361529099999998]
["Female",5,97,0.22952239999999999,null,{"$f":"IF(C377<'Gala Name'!C$5,\"\",LEFT(A377,1)&B377&C377)","v":"F597"},0.22952239999999999]
["Female",5,98,0.18162931500000001,null,{"$f":"IF(C378<'Gala Name'!C$5,\"\",LEFT(A378,1)&B378&C378)","v":"F598"},0.18162931500000001]
["Female",5,99,0.12967199600000001,null,{"$f":"IF(C379<'Gala Name'!C$5,\"\",LEFT(A379,1)&B379&C379)","v":"F599"},0.12967199600000001]
["Female",5,100,7.3378341E-2,null,{"$f":"IF(C380<'Gala Name'!C$5,\"\",LEFT(A380,1)&B380&C380)","v":"F5100"},7.3378341E-2]
["Female",6,25,1.0067867850000001,null,{"$f":"IF(C381<'Gala Name'!C$5,\"\",LEFT(A381,1)&B381&C381)","v":"F625"},1.0067867850000001]
["Female",6,26,1.002033905,null,{"$f":"IF(C382<'Gala Name'!C$5,\"\",LEFT(A382,1)&B382&C382)","v":"F626"},1.002033905]
["Female",6,27,0.99802911299999997,null,{"$f":"IF(C383<'Gala Name'!C$5,\"\",LEFT(A383,1)&B383&C383)","v":"F627"},0.99802911299999997]
["Female",6,28,0.99463515599999996,null,{"$f":"IF(C384<'Gala Name'!C$5,\"\",LEFT(A384,1)&B384&C384)","v":"F628"},0.99463515599999996]
["Female",6,29,0.99172617399999996,null,{"$f":"IF(C385<'Gala Name'!C$5,\"\",LEFT(A385,1)&B385&C385)","v":"F629"},0.99172617399999996]
["Female",6,30,0.989187174,null,{"$f":"IF(C386<'Gala Name'!C$5,\"\",LEFT(A386,1)&B386&C386)","v":"F630"},0.989187174]
["Female",6,31,0.98691353400000004,null,{"$f":"IF(C387<'Gala Name'!C$5,\"\",LEFT(A387,1)&B387&C387)","v":"F631"},{"$f":"D387","v":0.98691353400000004}]
["Female",6,32,0.98481049700000001,null,{"$f":"IF(C388<'Gala Name'!C$5,\"\",LEFT(A388,1)&B388&C388)","v":"F632"},0.98481049700000001]
["Female",6,33,0.98279269199999997,null,{"$f":"IF(C389<'Gala Name'!C$5,\"\",LEFT(A389,1)&B389&C389)","v":"F633"},0.98279269199999997]
["Female",6,34,0.98078364699999998,null,{"$f":"IF(C390<'Gala Name'!C$5,\"\",LEFT(A390,1)&B390&C390)","v":"F634"},0.98078364699999998]
["Female",6,35,0.97871532800000005,null,{"$f":"IF(C391<'Gala Name'!C$5,\"\",LEFT(A391,1)&B391&C391)","v":"F635"},0.97871532800000005]
["Female",6,36,0.97652767100000004,null,{"$f":"IF(C392<'Gala Name'!C$5,\"\",LEFT(A392,1)&B392&C392)","v":"F636"},0.97652767100000004]
["Female",6,37,0.97416813999999996,null,{"$f":"IF(C393<'Gala Name'!C$5,\"\",LEFT(A393,1)&B393&C393)","v":"F637"},0.97416813999999996]
["Female",6,38,0.971591278,null,{"$f":"IF(C394<'Gala Name'!C$5,\"\",LEFT(A394,1)&B394&C394)","v":"F638"},0.971591278]
["Female",6,39,0.96875827999999997,null,{"$f":"IF(C395<'Gala Name'!C$5,\"\",LEFT(A395,1)&B395&C395)","v":"F639"},0.96875827999999997]
["Female",6,40,0.96563656600000003,null,{"$f":"IF(C396<'Gala Name'!C$5,\"\",LEFT(A396,1)&B396&C396)","v":"F640"},0.96563656600000003]
["Female",6,41,0.96219937200000005,null,{"$f":"IF(C397<'Gala Name'!C$5,\"\",LEFT(A397,1)&B397&C397)","v":"F641"},0.96219937200000005]
["Female",6,42,0.95842534400000001,null,{"$f":"IF(C398<'Gala Name'!C$5,\"\",LEFT(A398,1)&B398&C398)","v":"F642"},0.95842534400000001]
["Female",6,43,0.95429813900000005,null,{"$f":"IF(C399<'Gala Name'!C$5,\"\",LEFT(A399,1)&B399&C399)","v":"F643"},0.95429813900000005]
["Female",6,44,0.94980604499999999,null,{"$f":"IF(C400<'Gala Name'!C$5,\"\",LEFT(A400,1)&B400&C400)","v":"F644"},0.94980604499999999]
["Female",6,45,0.94494160199999999,null,{"$f":"IF(C401<'Gala Name'!C$5,\"\",LEFT(A401,1)&B401&C401)","v":"F645"},0.94494160199999999]
["Female",6,46,0.93970123299999997,null,{"$f":"IF(C402<'Gala Name'!C$5,\"\",LEFT(A402,1)&B402&C402)","v":"F646"},0.93970123299999997]
["Female",6,47,0.93408489100000003,null,{"$f":"IF(C403<'Gala Name'!C$5,\"\",LEFT(A403,1)&B403&C403)","v":"F647"},0.93408489100000003]
["Female",6,48,0.92809570299999999,null,{"$f":"IF(C404<'Gala Name'!C$5,\"\",LEFT(A404,1)&B404&C404)","v":"F648"},0.92809570299999999]
["Female",6,49,0.92173963699999995,null,{"$f":"IF(C405<'Gala Name'!C$5,\"\",LEFT(A405,1)&B405&C405)","v":"F649"},0.92173963699999995]
["Female",6,50,0.915025168,null,{"$f":"IF(C406<'Gala Name'!C$5,\"\",LEFT(A406,1)&B406&C406)","v":"F650"},0.915025168]
["Female",6,51,0.90796295999999999,null,{"$f":"IF(C407<'Gala Name'!C$5,\"\",LEFT(A407,1)&B407&C407)","v":"F651"},0.90796295999999999]
["Female",6,52,0.90056555000000005,null,{"$f":"IF(C408<'Gala Name'!C$5,\"\",LEFT(A408,1)&B408&C408)","v":"F652"},0.90056555000000005]
["Female",6,53,0.89284704999999998,null,{"$f":"IF(C409<'Gala Name'!C$5,\"\",LEFT(A409,1)&B409&C409)","v":"F653"},0.89284704999999998]
["Female",6,54,0.88482285100000002,null,{"$f":"IF(C410<'Gala Name'!C$5,\"\",LEFT(A410,1)&B410&C410)","v":"F654"},0.88482285100000002]
["Female",6,55,0.87650934000000003,null,{"$f":"IF(C411<'Gala Name'!C$5,\"\",LEFT(A411,1)&B411&C411)","v":"F655"},0.87650934000000003]
["Female",6,56,0.86792362700000003,null,{"$f":"IF(C412<'Gala Name'!C$5,\"\",LEFT(A412,1)&B412&C412)","v":"F656"},0.86792362700000003]
["Female",6,57,0.85908327500000004,null,{"$f":"IF(C413<'Gala Name'!C$5,\"\",LEFT(A413,1)&B413&C413)","v":"F657"},0.85908327500000004]
["Female",6,58,0.85000604800000001,null,{"$f":"IF(C414<'Gala Name'!C$5,\"\",LEFT(A414,1)&B414&C414)","v":"F658"},0.85000604800000001]
["Female",6,59,0.84070966400000002,null,{"$f":"IF(C415<'Gala Name'!C$5,\"\",LEFT(A415,1)&B415&C415)","v":"F659"},0.84070966400000002]
["Female",6,60,0.83121155400000002,null,{"$f":"IF(C416<'Gala Name'!C$5,\"\",LEFT(A416,1)&B416&C416)","v":"F660"},0.83121155400000002]
["Female",6,61,0.82152863899999995,null,{"$f":"IF(C417<'Gala Name'!C$5,\"\",LEFT(A417,1)&B417&C417)","v":"F661"},0.82152863899999995]
["Female",6,62,0.81167710400000004,null,{"$f":"IF(C418<'Gala Name'!C$5,\"\",LEFT(A418,1)&B418&C418)","v":"F662"},0.81167710400000004]
["Female",6,63,0.801672194,null,{"$f":"IF(C419<'Gala Name'!C$5,\"\",LEFT(A419,1)&B419&C419)","v":"F663"},0.801672194]
["Female",6,64,0.791528012,null,{"$f":"IF(C420<'Gala Name'!C$5,\"\",LEFT(A420,1)&B420&C420)","v":"F664"},0.791528012]
["Female",6,65,0.78125732599999997,null,{"$f":"IF(C421<'Gala Name'!C$5,\"\",LEFT(A421,1)&B421&C421)","v":"F665"},0.78125732599999997]
["Female",6,66,0.77087138600000005,null,{"$f":"IF(C422<'Gala Name'!C$5,\"\",LEFT(A422,1)&B422&C422)","v":"F666"},0.77087138600000005]
["Female",6,67,0.76037975800000002,null,{"$f":"IF(C423<'Gala Name'!C$5,\"\",LEFT(A423,1)&B423&C423)","v":"F667"},0.76037975800000002]
["Female",6,68,0.74979015000000004,null,{"$f":"IF(C424<'Gala Name'!C$5,\"\",LEFT(A424,1)&B424&C424)","v":"F668"},0.74979015000000004]
["Female",6,69,0.73910826799999996,null,{"$f":"IF(C425<'Gala Name'!C$5,\"\",LEFT(A425,1)&B425&C425)","v":"F669"},0.73910826799999996]
["Female",6,70,0.72833766300000002,null,{"$f":"IF(C426<'Gala Name'!C$5,\"\",LEFT(A426,1)&B426&C426)","v":"F670"},0.72833766300000002]
["Female",6,71,0.71747960099999997,null,{"$f":"IF(C427<'Gala Name'!C$5,\"\",LEFT(A427,1)&B427&C427)","v":"F671"},0.71747960099999997]
["Female",6,72,0.706532932,null,{"$f":"IF(C428<'Gala Name'!C$5,\"\",LEFT(A428,1)&B428&C428)","v":"F672"},0.706532932]
["Female",6,73,0.69549397499999999,null,{"$f":"IF(C429<'Gala Name'!C$5,\"\",LEFT(A429,1)&B429&C429)","v":"F673"},0.69549397499999999]
["Female",6,74,0.684356411,null,{"$f":"IF(C430<'Gala Name'!C$5,\"\",LEFT(A430,1)&B430&C430)","v":"F674"},0.684356411]
["Female",6,75,0.67311118299999995,null,{"$f":"IF(C431<'Gala Name'!C$5,\"\",LEFT(A431,1)&B431&C431)","v":"F675"},0.67311118299999995]
["Female",6,76,0.66174640600000001,null,{"$f":"IF(C432<'Gala Name'!C$5,\"\",LEFT(A432,1)&B432&C432)","v":"F676"},0.66174640600000001]
["Female",6,77,0.65024728700000001,null,{"$f":"IF(C433<'Gala Name'!C$5,\"\",LEFT(A433,1)&B433&C433)","v":"F677"},0.65024728700000001]
["Female",6,78,0.63859605500000005,null,{"$f":"IF(C434<'Gala Name'!C$5,\"\",LEFT(A434,1)&B434&C434)","v":"F678"},0.63859605500000005]
["Female",6,79,0.62677190000000005,null,{"$f":"IF(C435<'Gala Name'!C$5,\"\",LEFT(A435,1)&B435&C435)","v":"F679"},0.62677190000000005]
["Female",6,80,0.61475091699999995,null,{"$f":"IF(C436<'Gala Name'!C$5,\"\",LEFT(A436,1)&B436&C436)","v":"F680"},0.61475091699999995]
["Female",6,81,0.60250606699999998,null,{"$f":"IF(C437<'Gala Name'!C$5,\"\",LEFT(A437,1)&B437&C437)","v":"F681"},0.60250606699999998]
["Female",6,82,0.59000714099999996,null,{"$f":"IF(C438<'Gala Name'!C$5,\"\",LEFT(A438,1)&B438&C438)","v":"F682"},0.59000714099999996]
["Female",6,83,0.57722073600000001,null,{"$f":"IF(C439<'Gala Name'!C$5,\"\",LEFT(A439,1)&B439&C439)","v":"F683"},0.57722073600000001]
["Female",6,84,0.56411023800000004,null,{"$f":"IF(C440<'Gala Name'!C$5,\"\",LEFT(A440,1)&B440&C440)","v":"F684"},0.56411023800000004]
["Female",6,85,0.55063581900000003,null,{"$f":"IF(C441<'Gala Name'!C$5,\"\",LEFT(A441,1)&B441&C441)","v":"F685"},0.55063581900000003]
["Female",6,86,0.536754438,null,{"$f":"IF(C442<'Gala Name'!C$5,\"\",LEFT(A442,1)&B442&C442)","v":"F686"},0.536754438]
["Female",6,87,0.52241985199999996,null,{"$f":"IF(C443<'Gala Name'!C$5,\"\",LEFT(A443,1)&B443&C443)","v":"F687"},0.52241985199999996]
["Female",6,88,0.507582643,null,{"$f":"IF(C444<'Gala Name'!C$5,\"\",LEFT(A444,1)&B444&C444)","v":"F688"},0.507582643]
["Female",6,89,0.492190242,null,{"$f":"IF(C445<'Gala Name'!C$5,\"\",LEFT(A445,1)&B445&C445)","v":"F689"},0.492190242]
["Female",6,90,0.47618697399999999,null,{"$f":"IF(C446<'Gala Name'!C$5,\"\",LEFT(A446,1)&B446&C446)","v":"F690"},0.47618697399999999]
["Female",6,91,0.45951410599999998,null,{"$f":"IF(C447<'Gala Name'!C$5,\"\",LEFT(A447,1)&B447&C447)","v":"F691"},0.45951410599999998]
["Female",6,92,0.442109906,null,{"$f":"IF(C448<'Gala Name'!C$5,\"\",LEFT(A448,1)&B448&C448)","v":"F692"},0.442109906]
["Female",6,93,0.42390971,null,{"$f":"IF(C449<'Gala Name'!C$5,\"\",LEFT(A449,1)&B449&C449)","v":"F693"},0.42390971]
["Female",6,94,0.40484600100000001,null,{"$f":"IF(C450<'Gala Name'!C$5,\"\",LEFT(A450,1)&B450&C450)","v":"F694"},0.40484600100000001]
["Female",6,95,0.38484849500000001,null,{"$f":"IF(C451<'Gala Name'!C$5,\"\",LEFT(A451,1)&B451&C451)","v":"F695"},{"$f":"D451","v":0.38484849500000001}]
["Female",6,96,0.36384423300000002,null,{"$f":"IF(C452<'Gala Name'!C$5,\"\",LEFT(A452,1)&B452&C452)","v":"F696"},0.36384423300000002]
["Female",6,97,0.341757692,null,{"$f":"IF(C453<'Gala Name'!C$5,\"\",LEFT(A453,1)&B453&C453)","v":"F697"},0.341757692]
["Female",6,98,0.31851089700000002,null,{"$f":"IF(C454<'Gala Name'!C$5,\"\",LEFT(A454,1)&B454&C454)","v":"F698"},0.31851089700000002]
["Female",6,99,0.29402354200000003,null,{"$f":"IF(C455<'Gala Name'!C$5,\"\",LEFT(A455,1)&B455&C455)","v":"F699"},0.29402354200000003]
["Female",6,100,0.268213127,null,{"$f":"IF(C456<'Gala Name'!C$5,\"\",LEFT(A456,1)&B456&C456)","v":"F6100"},0.268213127]
["Female",7,25,0.99821199699999996,null,{"$f":"IF(C457<'Gala Name'!C$5,\"\",LEFT(A457,1)&B457&C457)","v":"F725"},0.99821199699999996]
["Female",7,26,1.000260148,null,{"$f":"IF(C458<'Gala Name'!C$5,\"\",LEFT(A458,1)&B458&C458)","v":"F726"},1.000260148]
["Female",7,27,1.0014325630000001,null,{"$f":"IF(C459<'Gala Name'!C$5,\"\",LEFT(A459,1)&B459&C459)","v":"F727"},1.0014325630000001]
["Female",7,28,1.001855336,null,{"$f":"IF(C460<'Gala Name'!C$5,\"\",LEFT(A460,1)&B460&C460)","v":"F728"},1.001855336]
["Female",7,29,1.001634978,null,{"$f":"IF(C461<'Gala Name'!C$5,\"\",LEFT(A461,1)&B461&C461)","v":"F729"},1.001634978]
["Female",7,30,1.0008602849999999,null,{"$f":"IF(C462<'Gala Name'!C$5,\"\",LEFT(A462,1)&B462&C462)","v":"F730"},1.0008602849999999]
["Female",7,31,0.99960413199999998,null,{"$f":"IF(C463<'Gala Name'!C$5,\"\",LEFT(A463,1)&B463&C463)","v":"F731"},0.99960413199999998]
["Female",7,32,0.99792518699999999,null,{"$f":"IF(C464<'Gala Name'!C$5,\"\",LEFT(A464,1)&B464&C464)","v":"F732"},0.99792518699999999]
["Female",7,33,0.99586954299999997,null,{"$f":"IF(C465<'Gala Name'!C$5,\"\",LEFT(A465,1)&B465&C465)","v":"F733"},0.99586954299999997]
["Female",7,34,0.99347227400000004,null,{"$f":"IF(C466<'Gala Name'!C$5,\"\",LEFT(A466,1)&B466&C466)","v":"F734"},0.99347227400000004]
["Female",7,35,0.99075890799999999,null,{"$f":"IF(C467<'Gala Name'!C$5,\"\",LEFT(A467,1)&B467&C467)","v":"F735"},0.99075890799999999]
["Female",7,36,0.98774682599999997,null,{"$f":"IF(C468<'Gala Name'!C$5,\"\",LEFT(A468,1)&B468&C468)","v":"F736"},0.98774682599999997]
["Female",7,37,0.98444657899999999,null,{"$f":"IF(C469<'Gala Name'!C$5,\"\",LEFT(A469,1)&B469&C469)","v":"F737"},0.98444657899999999]
["Female",7,38,0.98086311999999998,null,{"$f":"IF(C470<'Gala Name'!C$5,\"\",LEFT(A470,1)&B470&C470)","v":"F738"},0.98086311999999998]
["Female",7,39,0.97699696800000002,null,{"$f":"IF(C471<'Gala Name'!C$5,\"\",LEFT(A471,1)&B471&C471)","v":"F739"},0.97699696800000002]
["Female",7,40,0.97284528299999995,null,{"$f":"IF(C472<'Gala Name'!C$5,\"\",LEFT(A472,1)&B472&C472)","v":"F740"},0.97284528299999995]
["Female",7,41,0.968402867,null,{"$f":"IF(C473<'Gala Name'!C$5,\"\",LEFT(A473,1)&B473&C473)","v":"F741"},0.968402867]
["Female",7,42,0.963663084,null,{"$f":"IF(C474<'Gala Name'!C$5,\"\",LEFT(A474,1)&B474&C474)","v":"F742"},0.963663084]
["Female",7,43,0.95861869899999996,null,{"$f":"IF(C475<'Gala Name'!C$5,\"\",LEFT(A475,1)&B475&C475)","v":"F743"},0.95861869899999996]
["Female",7,44,0.95326264299999997,null,{"$f":"IF(C476<'Gala Name'!C$5,\"\",LEFT(A476,1)&B476&C476)","v":"F744"},0.95326264299999997]
["Female",7,45,0.94758869099999998,null,{"$f":"IF(C477<'Gala Name'!C$5,\"\",LEFT(A477,1)&B477&C477)","v":"F745"},0.94758869099999998]
["Female",7,46,0.94159206699999998,null,{"$f":"IF(C478<'Gala Name'!C$5,\"\",LEFT(A478,1)&B478&C478)","v":"F746"},0.94159206699999998]
["Female",7,47,0.93526997000000001,null,{"$f":"IF(C479<'Gala Name'!C$5,\"\",LEFT(A479,1)&B479&C479)","v":"F747"},0.93526997000000001]
["Female",7,48,0.92862201200000005,null,{"$f":"IF(C480<'Gala Name'!C$5,\"\",LEFT(A480,1)&B480&C480)","v":"F748"},0.92862201200000005]
["Female",7,49,0.92165058700000002,null,{"$f":"IF(C481<'Gala Name'!C$5,\"\",LEFT(A481,1)&B481&C481)","v":"F749"},0.92165058700000002]
["Female",7,50,0.91436115900000003,null,{"$f":"IF(C482<'Gala Name'!C$5,\"\",LEFT(A482,1)&B482&C482)","v":"F750"},0.91436115900000003]
["Female",7,51,0.90676246100000002,null,{"$f":"IF(C483<'Gala Name'!C$5,\"\",LEFT(A483,1)&B483&C483)","v":"F751"},0.90676246100000002]
["Female",7,52,0.89886662900000003,null,{"$f":"IF(C484<'Gala Name'!C$5,\"\",LEFT(A484,1)&B484&C484)","v":"F752"},0.89886662900000003]
["Female",7,53,0.89068924599999999,null,{"$f":"IF(C485<'Gala Name'!C$5,\"\",LEFT(A485,1)&B485&C485)","v":"F753"},0.89068924599999999]
["Female",7,54,0.88224931200000001,null,{"$f":"IF(C486<'Gala Name'!C$5,\"\",LEFT(A486,1)&B486&C486)","v":"F754"},0.88224931200000001]
["Female",7,55,0.873569131,null,{"$f":"IF(C487<'Gala Name'!C$5,\"\",LEFT(A487,1)&B487&C487)","v":"F755"},0.873569131]
["Female",7,56,0.86467412300000002,null,{"$f":"IF(C488<'Gala Name'!C$5,\"\",LEFT(A488,1)&B488&C488)","v":"F756"},0.86467412300000002]
["Female",7,57,0.85559255199999995,null,{"$f":"IF(C489<'Gala Name'!C$5,\"\",LEFT(A489,1)&B489&C489)","v":"F757"},0.85559255199999995]
["Female",7,58,0.84635517999999998,null,{"$f":"IF(C490<'Gala Name'!C$5,\"\",LEFT(A490,1)&B490&C490)","v":"F758"},0.84635517999999998]
["Female",7,59,0.83699483699999999,null,{"$f":"IF(C491<'Gala Name'!C$5,\"\",LEFT(A491,1)&B491&C491)","v":"F759"},0.83699483699999999]
["Female",7,60,0.82754591200000005,null,{"$f":"IF(C492<'Gala Name'!C$5,\"\",LEFT(A492,1)&B492&C492)","v":"F760"},0.82754591200000005]
["Female",7,61,0.81804377100000003,null,{"$f":"IF(C493<'Gala Name'!C$5,\"\",LEFT(A493,1)&B493&C493)","v":"F761"},0.81804377100000003]
["Female",7,62,0.80852408600000003,null,{"$f":"IF(C494<'Gala Name'!C$5,\"\",LEFT(A494,1)&B494&C494)","v":"F762"},0.80852408600000003]
["Female",7,63,0.79902209000000002,null,{"$f":"IF(C495<'Gala Name'!C$5,\"\",LEFT(A495,1)&B495&C495)","v":"F763"},0.79902209000000002]
["Female",7,64,0.78957175700000004,null,{"$f":"IF(C496<'Gala Name'!C$5,\"\",LEFT(A496,1)&B496&C496)","v":"F764"},0.78957175700000004]
["Female",7,65,0.78020489100000001,null,{"$f":"IF(C497<'Gala Name'!C$5,\"\",LEFT(A497,1)&B497&C497)","v":"F765"},0.78020489100000001]
["Female",7,66,0.77095014699999997,null,{"$f":"IF(C498<'Gala Name'!C$5,\"\",LEFT(A498,1)&B498&C498)","v":"F766"},0.77095014699999997]
["Female",7,67,0.76183197000000002,null,{"$f":"IF(C499<'Gala Name'!C$5,\"\",LEFT(A499,1)&B499&C499)","v":"F767"},0.76183197000000002]
["Female",7,68,0.752869448,null,{"$f":"IF(C500<'Gala Name'!C$5,\"\",LEFT(A500,1)&B500&C500)","v":"F768"},0.752869448]
["Female",7,69,0.74407509199999999,null,{"$f":"IF(C501<'Gala Name'!C$5,\"\",LEFT(A501,1)&B501&C501)","v":"F769"},0.74407509199999999]
["Female",7,70,0.73545353999999996,null,{"$f":"IF(C502<'Gala Name'!C$5,\"\",LEFT(A502,1)&B502&C502)","v":"F770"},0.73545353999999996]
["Female",7,71,0.72700017100000003,null,{"$f":"IF(C503<'Gala Name'!C$5,\"\",LEFT(A503,1)&B503&C503)","v":"F771"},0.72700017100000003]
["Female",7,72,0.71869964900000005,null,{"$f":"IF(C504<'Gala Name'!C$5,\"\",LEFT(A504,1)&B504&C504)","v":"F772"},0.71869964900000005]
["Female",7,73,0.71052438299999998,null,{"$f":"IF(C505<'Gala Name'!C$5,\"\",LEFT(A505,1)&B505&C505)","v":"F773"},0.71052438299999998]
["Female",7,74,0.70243291200000002,null,{"$f":"IF(C506<'Gala Name'!C$5,\"\",LEFT(A506,1)&B506&C506)","v":"F774"},0.70243291200000002]
["Female",7,75,0.69436820300000002,null,{"$f":"IF(C507<'Gala Name'!C$5,\"\",LEFT(A507,1)&B507&C507)","v":"F775"},0.69436820300000002]
["Female",7,76,0.68625588000000004,null,{"$f":"IF(C508<'Gala Name'!C$5,\"\",LEFT(A508,1)&B508&C508)","v":"F776"},0.68625588000000004]
["Female",7,77,0.67800236400000002,null,{"$f":"IF(C509<'Gala Name'!C$5,\"\",LEFT(A509,1)&B509&C509)","v":"F777"},0.67800236400000002]
["Female",7,78,0.66949293799999998,null,{"$f":"IF(C510<'Gala Name'!C$5,\"\",LEFT(A510,1)&B510&C510)","v":"F778"},0.66949293799999998]
["Female",7,79,0.66058973700000001,null,{"$f":"IF(C511<'Gala Name'!C$5,\"\",LEFT(A511,1)&B511&C511)","v":"F779"},0.66058973700000001]
["Female",7,80,0.65112964900000003,null,{"$f":"IF(C512<'Gala Name'!C$5,\"\",LEFT(A512,1)&B512&C512)","v":"F780"},0.65112964900000003]
["Female",7,81,0.640922145,null,{"$f":"IF(C513<'Gala Name'!C$5,\"\",LEFT(A513,1)&B513&C513)","v":"F781"},0.640922145]
["Female",7,82,0.62974702599999999,null,{"$f":"IF(C514<'Gala Name'!C$5,\"\",LEFT(A514,1)&B514&C514)","v":"F782"},0.62974702599999999]
["Female",7,83,0.61735209000000002,null,{"$f":"IF(C515<'Gala Name'!C$5,\"\",LEFT(A515,1)&B515&C515)","v":"F783"},{"$f":"D515","v":0.61735209000000002}]
["Female",7,84,0.60345072499999997,null,{"$f":"IF(C516<'Gala Name'!C$5,\"\",LEFT(A516,1)&B516&C516)","v":"F784"},0.60345072499999997]
["Female",7,85,0.587719412,null,{"$f":"IF(C517<'Gala Name'!C$5,\"\",LEFT(A517,1)&B517&C517)","v":"F785"},0.587719412]
["Female",7,86,0.56979516299999999,null,{"$f":"IF(C518<'Gala Name'!C$5,\"\",LEFT(A518,1)&B518&C518)","v":"F786"},0.56979516299999999]
["Female",7,87,0.549272867,null,{"$f":"IF(C519<'Gala Name'!C$5,\"\",LEFT(A519,1)&B519&C519)","v":"F787"},0.549272867]
["Female",7,88,0.52570256199999998,null,{"$f":"IF(C520<'Gala Name'!C$5,\"\",LEFT(A520,1)&B520&C520)","v":"F788"},0.52570256199999998]
["Female",7,89,0.498586631,null,{"$f":"IF(C521<'Gala Name'!C$5,\"\",LEFT(A521,1)&B521&C521)","v":"F789"},0.498586631]
["Female",7,90,0.46737691199999998,null,{"$f":"IF(C522<'Gala Name'!C$5,\"\",LEFT(A522,1)&B522&C522)","v":"F790"},0.46737691199999998]
["Female",7,91,0.431471732,null,{"$f":"IF(C523<'Gala Name'!C$5,\"\",LEFT(A523,1)&B523&C523)","v":"F791"},0.431471732]
["Female",7,92,0.39021286500000002,null,{"$f":"IF(C524<'Gala Name'!C$5,\"\",LEFT(A524,1)&B524&C524)","v":"F792"},0.39021286500000002]
["Female",7,93,0.342882401,null,{"$f":"IF(C525<'Gala Name'!C$5,\"\",LEFT(A525,1)&B525&C525)","v":"F793"},0.342882401]
["Female",7,94,0.28869954799999997,null,{"$f":"IF(C526<'Gala Name'!C$5,\"\",LEFT(A526,1)&B526&C526)","v":"F794"},0.28869954799999997]
["Female",7,95,0.226817345,null,{"$f":"IF(C527<'Gala Name'!C$5,\"\",LEFT(A527,1)&B527&C527)","v":"F795"},0.226817345]
["Female",7,96,0.15631930199999999,null,{"$f":"IF(C528<'Gala Name'!C$5,\"\",LEFT(A528,1)&B528&C528)","v":"F796"},0.15631930199999999]
["Female",7,97,7.6215955000000002E-2,null,{"$f":"IF(C529<'Gala Name'!C$5,\"\",LEFT(A529,1)&B529&C529)","v":"F797"},7.6215955000000002E-2]
["Female",7,98,-1.4558653E-2,null,{"$f":"IF(C530<'Gala Name'!C$5,\"\",LEFT(A530,1)&B530&C530)","v":"F798"},-1.4558653E-2]
["Female",7,99,-0.11715057500000001,null,{"$f":"IF(C531<'Gala Name'!C$5,\"\",LEFT(A531,1)&B531&C531)","v":"F799"},-0.11715057500000001]
["Female",7,100,-0.23278963599999999,null,{"$f":"IF(C532<'Gala Name'!C$5,\"\",LEFT(A532,1)&B532&C532)","v":"F7100"},-0.23278963599999999]
["Female",8,25,1.0049274939999999,null,{"$f":"IF(C533<'Gala Name'!C$5,\"\",LEFT(A533,1)&B533&C533)","v":"F825"},1.0049274939999999]
["Female",8,26,1.009112217,null,{"$f":"IF(C534<'Gala Name'!C$5,\"\",LEFT(A534,1)&B534&C534)","v":"F826"},1.009112217]
["Female",8,27,1.012691797,null,{"$f":"IF(C535<'Gala Name'!C$5,\"\",LEFT(A535,1)&B535&C535)","v":"F827"},1.012691797]
["Female",8,28,1.0156006449999999,null,{"$f":"IF(C536<'Gala Name'!C$5,\"\",LEFT(A536,1)&B536&C536)","v":"F828"},1.0156006449999999]
["Female",8,29,1.0177884740000001,null,{"$f":"IF(C537<'Gala Name'!C$5,\"\",LEFT(A537,1)&B537&C537)","v":"F829"},1.0177884740000001]
["Female",8,30,1.019219061,null,{"$f":"IF(C538<'Gala Name'!C$5,\"\",LEFT(A538,1)&B538&C538)","v":"F830"},1.019219061]
["Female",8,31,1.0198690580000001,null,{"$f":"IF(C539<'Gala Name'!C$5,\"\",LEFT(A539,1)&B539&C539)","v":"F831"},1.0198690580000001]
["Female",8,32,1.0197268289999999,null,{"$f":"IF(C540<'Gala Name'!C$5,\"\",LEFT(A540,1)&B540&C540)","v":"F832"},1.0197268289999999]
["Female",8,33,1.018791335,null,{"$f":"IF(C541<'Gala Name'!C$5,\"\",LEFT(A541,1)&B541&C541)","v":"F833"},1.018791335]
["Female",8,34,1.0170710489999999,null,{"$f":"IF(C542<'Gala Name'!C$5,\"\",LEFT(A542,1)&B542&C542)","v":"F834"},1.0170710489999999]
["Female",8,35,1.0145829099999999,null,{"$f":"IF(C543<'Gala Name'!C$5,\"\",LEFT(A543,1)&B543&C543)","v":"F835"},1.0145829099999999]
["Female",8,36,1.011351313,null,{"$f":"IF(C544<'Gala Name'!C$5,\"\",LEFT(A544,1)&B544&C544)","v":"F836"},1.011351313]
["Female",8,37,1.0074071419999999,null,{"$f":"IF(C545<'Gala Name'!C$5,\"\",LEFT(A545,1)&B545&C545)","v":"F837"},1.0074071419999999]
["Female",8,38,1.0027868339999999,null,{"$f":"IF(C546<'Gala Name'!C$5,\"\",LEFT(A546,1)&B546&C546)","v":"F838"},1.0027868339999999]
["Female",8,39,0.99753148000000003,null,{"$f":"IF(C547<'Gala Name'!C$5,\"\",LEFT(A547,1)&B547&C547)","v":"F839"},0.99753148000000003]
["Female",8,40,0.99168596899999994,null,{"$f":"IF(C548<'Gala Name'!C$5,\"\",LEFT(A548,1)&B548&C548)","v":"F840"},0.99168596899999994]
["Female",8,41,0.98529816400000003,null,{"$f":"IF(C549<'Gala Name'!C$5,\"\",LEFT(A549,1)&B549&C549)","v":"F841"},0.98529816400000003]
["Female",8,42,0.97841811899999998,null,{"$f":"IF(C550<'Gala Name'!C$5,\"\",LEFT(A550,1)&B550&C550)","v":"F842"},0.97841811899999998]
["Female",8,43,0.97109732800000004,null,{"$f":"IF(C551<'Gala Name'!C$5,\"\",LEFT(A551,1)&B551&C551)","v":"F843"},0.97109732800000004]
["Female",8,44,0.96338801799999996,null,{"$f":"IF(C552<'Gala Name'!C$5,\"\",LEFT(A552,1)&B552&C552)","v":"F844"},0.96338801799999996]
["Female",8,45,0.95534247400000005,null,{"$f":"IF(C553<'Gala Name'!C$5,\"\",LEFT(A553,1)&B553&C553)","v":"F845"},0.95534247400000005]
["Female",8,46,0.94701240200000003,null,{"$f":"IF(C554<'Gala Name'!C$5,\"\",LEFT(A554,1)&B554&C554)","v":"F846"},0.94701240200000003]
["Female",8,47,0.93844833500000002,null,{"$f":"IF(C555<'Gala Name'!C$5,\"\",LEFT(A555,1)&B555&C555)","v":"F847"},0.93844833500000002]
["Female",8,48,0.92969906499999999,null,{"$f":"IF(C556<'Gala Name'!C$5,\"\",LEFT(A556,1)&B556&C556)","v":"F848"},0.92969906499999999]
["Female",8,49,0.92081112300000001,null,{"$f":"IF(C557<'Gala Name'!C$5,\"\",LEFT(A557,1)&B557&C557)","v":"F849"},0.92081112300000001]
["Female",8,50,0.91182829300000001,null,{"$f":"IF(C558<'Gala Name'!C$5,\"\",LEFT(A558,1)&B558&C558)","v":"F850"},0.91182829300000001]
["Female",8,51,0.90279115700000001,null,{"$f":"IF(C559<'Gala Name'!C$5,\"\",LEFT(A559,1)&B559&C559)","v":"F851"},0.90279115700000001]
["Female",8,52,0.89373669,null,{"$f":"IF(C560<'Gala Name'!C$5,\"\",LEFT(A560,1)&B560&C560)","v":"F852"},0.89373669]
["Female",8,53,0.88469787899999996,null,{"$f":"IF(C561<'Gala Name'!C$5,\"\",LEFT(A561,1)&B561&C561)","v":"F853"},0.88469787899999996]
["Female",8,54,0.875703385,null,{"$f":"IF(C562<'Gala Name'!C$5,\"\",LEFT(A562,1)&B562&C562)","v":"F854"},0.875703385]
["Female",8,55,0.866777248,null,{"$f":"IF(C563<'Gala Name'!C$5,\"\",LEFT(A563,1)&B563&C563)","v":"F855"},0.866777248]
["Female",8,56,0.85793861699999996,null,{"$f":"IF(C564<'Gala Name'!C$5,\"\",LEFT(A564,1)&B564&C564)","v":"F856"},0.85793861699999996]
["Female",8,57,0.84920152699999996,null,{"$f":"IF(C565<'Gala Name'!C$5,\"\",LEFT(A565,1)&B565&C565)","v":"F857"},0.84920152699999996]
["Female",8,58,0.84057471100000003,null,{"$f":"IF(C566<'Gala Name'!C$5,\"\",LEFT(A566,1)&B566&C566)","v":"F858"},0.84057471100000003]
["Female",8,59,0.83206144500000001,null,{"$f":"IF(C567<'Gala Name'!C$5,\"\",LEFT(A567,1)&B567&C567)","v":"F859"},0.83206144500000001]
["Female",8,60,0.82365943699999999,null,{"$f":"IF(C568<'Gala Name'!C$5,\"\",LEFT(A568,1)&B568&C568)","v":"F860"},0.82365943699999999]
["Female",8,61,0.81536074599999997,null,{"$f":"IF(C569<'Gala Name'!C$5,\"\",LEFT(A569,1)&B569&C569)","v":"F861"},0.81536074599999997]
["Female",8,62,0.807151748,null,{"$f":"IF(C570<'Gala Name'!C$5,\"\",LEFT(A570,1)&B570&C570)","v":"F862"},0.807151748]
["Female",8,63,0.79901312599999996,null,{"$f":"IF(C571<'Gala Name'!C$5,\"\",LEFT(A571,1)&B571&C571)","v":"F863"},0.79901312599999996]
["Female",8,64,0.79091990899999998,null,{"$f":"IF(C572<'Gala Name'!C$5,\"\",LEFT(A572,1)&B572&C572)","v":"F864"},0.79091990899999998]
["Female",8,65,0.78284154399999994,null,{"$f":"IF(C573<'Gala Name'!C$5,\"\",LEFT(A573,1)&B573&C573)","v":"F865"},0.78284154399999994]
["Female",8,66,0.77474200299999996,null,{"$f":"IF(C574<'Gala Name'!C$5,\"\",LEFT(A574,1)&B574&C574)","v":"F866"},0.77474200299999996]
["Female",8,67,0.76657992900000005,null,{"$f":"IF(C575<'Gala Name'!C$5,\"\",LEFT(A575,1)&B575&C575)","v":"F867"},0.76657992900000005]
["Female",8,68,0.75830882399999999,null,{"$f":"IF(C576<'Gala Name'!C$5,\"\",LEFT(A576,1)&B576&C576)","v":"F868"},0.75830882399999999]
["Female",8,69,0.74987726300000002,null,{"$f":"IF(C577<'Gala Name'!C$5,\"\",LEFT(A577,1)&B577&C577)","v":"F869"},0.74987726300000002]
["Female",8,70,0.74122915599999994,null,{"$f":"IF(C578<'Gala Name'!C$5,\"\",LEFT(A578,1)&B578&C578)","v":"F870"},0.74122915599999994]
["Female",8,71,0.73230404500000001,null,{"$f":"IF(C579<'Gala Name'!C$5,\"\",LEFT(A579,1)&B579&C579)","v":"F871"},{"$f":"D579","v":0.73230404500000001}]
["Female",8,72,0.72303743200000004,null,{"$f":"IF(C580<'Gala Name'!C$5,\"\",LEFT(A580,1)&B580&C580)","v":"F872"},0.72303743200000004]
["Female",8,73,0.71336115200000005,null,{"$f":"IF(C581<'Gala Name'!C$5,\"\",LEFT(A581,1)&B581&C581)","v":"F873"},0.71336115200000005]
["Female",8,74,0.70320377899999997,null,{"$f":"IF(C582<'Gala Name'!C$5,\"\",LEFT(A582,1)&B582&C582)","v":"F874"},0.70320377899999997]
["Female",8,75,0.69249106800000004,null,{"$f":"IF(C583<'Gala Name'!C$5,\"\",LEFT(A583,1)&B583&C583)","v":"F875"},0.69249106800000004]
["Female",8,76,0.68114644300000005,null,{"$f":"IF(C584<'Gala Name'!C$5,\"\",LEFT(A584,1)&B584&C584)","v":"F876"},0.68114644300000005]
["Female",8,77,0.66909150799999995,null,{"$f":"IF(C585<'Gala Name'!C$5,\"\",LEFT(A585,1)&B585&C585)","v":"F877"},0.66909150799999995]
["Female",8,78,0.65624660899999998,null,{"$f":"IF(C586<'Gala Name'!C$5,\"\",LEFT(A586,1)&B586&C586)","v":"F878"},0.65624660899999998]
["Female",8,79,0.64253142100000005,null,{"$f":"IF(C587<'Gala Name'!C$5,\"\",LEFT(A587,1)&B587&C587)","v":"F879"},0.64253142100000005]
["Female",8,80,0.62786558699999995,null,{"$f":"IF(C588<'Gala Name'!C$5,\"\",LEFT(A588,1)&B588&C588)","v":"F880"},0.62786558699999995]
["Female",8,81,0.61216937800000004,null,{"$f":"IF(C589<'Gala Name'!C$5,\"\",LEFT(A589,1)&B589&C589)","v":"F881"},0.61216937800000004]
["Female",8,82,0.59536440199999996,null,{"$f":"IF(C590<'Gala Name'!C$5,\"\",LEFT(A590,1)&B590&C590)","v":"F882"},0.59536440199999996]
["Female",8,83,0.57737434399999998,null,{"$f":"IF(C591<'Gala Name'!C$5,\"\",LEFT(A591,1)&B591&C591)","v":"F883"},0.57737434399999998]
["Female",8,84,0.55812574800000003,null,{"$f":"IF(C592<'Gala Name'!C$5,\"\",LEFT(A592,1)&B592&C592)","v":"F884"},0.55812574800000003]
["Female",8,85,0.537548833,null,{"$f":"IF(C593<'Gala Name'!C$5,\"\",LEFT(A593,1)&B593&C593)","v":"F885"},0.537548833]
["Female",8,86,0.51557834400000002,null,{"$f":"IF(C594<'Gala Name'!C$5,\"\",LEFT(A594,1)&B594&C594)","v":"F886"},0.51557834400000002]
["Female",8,87,0.49215444899999999,null,{"$f":"IF(C595<'Gala Name'!C$5,\"\",LEFT(A595,1)&B595&C595)","v":"F887"},0.49215444899999999]
["Female",8,88,0.46722365999999999,null,{"$f":"IF(C596<'Gala Name'!C$5,\"\",LEFT(A596,1)&B596&C596)","v":"F888"},0.46722365999999999]
["Female",8,89,0.44073980699999998,null,{"$f":"IF(C597<'Gala Name'!C$5,\"\",LEFT(A597,1)&B597&C597)","v":"F889"},0.44073980699999998]
["Female",8,90,0.41266503399999999,null,{"$f":"IF(C598<'Gala Name'!C$5,\"\",LEFT(A598,1)&B598&C598)","v":"F890"},0.41266503399999999]
["Female",8,91,0.38297084399999998,null,{"$f":"IF(C599<'Gala Name'!C$5,\"\",LEFT(A599,1)&B599&C599)","v":"F891"},0.38297084399999998]
["Female",8,92,0.351639172,null,{"$f":"IF(C600<'Gala Name'!C$5,\"\",LEFT(A600,1)&B600&C600)","v":"F892"},0.351639172]
["Female",8,93,0.31866350500000001,null,{"$f":"IF(C601<'Gala Name'!C$5,\"\",LEFT(A601,1)&B601&C601)","v":"F893"},0.31866350500000001]
["Female",8,94,0.28405002899999998,null,{"$f":"IF(C602<'Gala Name'!C$5,\"\",LEFT(A602,1)&B602&C602)","v":"F894"},0.28405002899999998]
["Female",8,95,0.24781882199999999,null,{"$f":"IF(C603<'Gala Name'!C$5,\"\",LEFT(A603,1)&B603&C603)","v":"F895"},0.24781882199999999]
["Female",8,96,0.21000507800000001,null,{"$f":"IF(C604<'Gala Name'!C$5,\"\",LEFT(A604,1)&B604&C604)","v":"F896"},0.21000507800000001]
["Female",8,97,0.170660372,null,{"$f":"IF(C605<'Gala Name'!C$5,\"\",LEFT(A605,1)&B605&C605)","v":"F897"},0.170660372]
["Female",8,98,0.12985395999999999,null,{"$f":"IF(C606<'Gala Name'!C$5,\"\",LEFT(A606,1)&B606&C606)","v":"F898"},0.12985395999999999]
["Female",8,99,8.7674117999999995E-2,null,{"$f":"IF(C607<'Gala Name'!C$5,\"\",LEFT(A607,1)&B607&C607)","v":"F899"},8.7674117999999995E-2]
["Female",8,100,4.4229517000000003E-2,null,{"$f":"IF(C608<'Gala Name'!C$5,\"\",LEFT(A608,1)&B608&C608)","v":"F8100"},4.4229517000000003E-2]
["Female",9,25,1.004688118,null,{"$f":"IF(C609<'Gala Name'!C$5,\"\",LEFT(A609,1)&B609&C609)","v":"F925"},1.004688118]
["Female",9,26,1.0005394350000001,null,{"$f":"IF(C610<'Gala Name'!C$5,\"\",LEFT(A610,1)&B610&C610)","v":"F926"},1.0005394350000001]
["Female",9,27,0.99905301400000002,null,{"$f":"IF(C611<'Gala Name'!C$5,\"\",LEFT(A611,1)&B611&C611)","v":"F927"},0.99905301400000002]
["Female",9,28,0.99941937199999997,null,{"$f":"IF(C612<'Gala Name'!C$5,\"\",LEFT(A612,1)&B612&C612)","v":"F928"},0.99941937199999997]
["Female",9,29,1.000947091,null,{"$f":"IF(C613<'Gala Name'!C$5,\"\",LEFT(A613,1)&B613&C613)","v":"F929"},1.000947091]
["Female",9,30,1.0030533770000001,null,{"$f":"IF(C614<'Gala Name'!C$5,\"\",LEFT(A614,1)&B614&C614)","v":"F930"},1.0030533770000001]
["Female",9,31,1.0052549479999999,null,{"$f":"IF(C615<'Gala Name'!C$5,\"\",LEFT(A615,1)&B615&C615)","v":"F931"},1.0052549479999999]
["Female",9,32,1.007159264,null,{"$f":"IF(C616<'Gala Name'!C$5,\"\",LEFT(A616,1)&B616&C616)","v":"F932"},1.007159264]
["Female",9,33,1.008456088,null,{"$f":"IF(C617<'Gala Name'!C$5,\"\",LEFT(A617,1)&B617&C617)","v":"F933"},1.008456088]
["Female",9,34,1.008909375,null,{"$f":"IF(C618<'Gala Name'!C$5,\"\",LEFT(A618,1)&B618&C618)","v":"F934"},1.008909375]
["Female",9,35,1.008349508,null,{"$f":"IF(C619<'Gala Name'!C$5,\"\",LEFT(A619,1)&B619&C619)","v":"F935"},1.008349508]
["Female",9,36,1.0066658550000001,null,{"$f":"IF(C620<'Gala Name'!C$5,\"\",LEFT(A620,1)&B620&C620)","v":"F936"},1.0066658550000001]
["Female",9,37,1.0037996730000001,null,{"$f":"IF(C621<'Gala Name'!C$5,\"\",LEFT(A621,1)&B621&C621)","v":"F937"},1.0037996730000001]
["Female",9,38,0.99973733300000001,null,{"$f":"IF(C622<'Gala Name'!C$5,\"\",LEFT(A622,1)&B622&C622)","v":"F938"},0.99973733300000001]
["Female",9,39,0.994503892,null,{"$f":"IF(C623<'Gala Name'!C$5,\"\",LEFT(A623,1)&B623&C623)","v":"F939"},0.994503892]
["Female",9,40,0.98815699099999998,null,{"$f":"IF(C624<'Gala Name'!C$5,\"\",LEFT(A624,1)&B624&C624)","v":"F940"},0.98815699099999998]
["Female",9,41,0.98078108900000005,null,{"$f":"IF(C625<'Gala Name'!C$5,\"\",LEFT(A625,1)&B625&C625)","v":"F941"},0.98078108900000005]
["Female",9,42,0.97248203300000002,null,{"$f":"IF(C626<'Gala Name'!C$5,\"\",LEFT(A626,1)&B626&C626)","v":"F942"},0.97248203300000002]
["Female",9,43,0.96338196499999995,null,{"$f":"IF(C627<'Gala Name'!C$5,\"\",LEFT(A627,1)&B627&C627)","v":"F943"},0.96338196499999995]
["Female",9,44,0.95361455399999995,null,{"$f":"IF(C628<'Gala Name'!C$5,\"\",LEFT(A628,1)&B628&C628)","v":"F944"},0.95361455399999995]
["Female",9,45,0.943320571,null,{"$f":"IF(C629<'Gala Name'!C$5,\"\",LEFT(A629,1)&B629&C629)","v":"F945"},0.943320571]
["Female",9,46,0.93264379500000005,null,{"$f":"IF(C630<'Gala Name'!C$5,\"\",LEFT(A630,1)&B630&C630)","v":"F946"},0.93264379500000005]
["Female",9,47,0.92172725600000005,null,{"$f":"IF(C631<'Gala Name'!C$5,\"\",LEFT(A631,1)&B631&C631)","v":"F947"},0.92172725600000005]
["Female",9,48,0.91070980499999998,null,{"$f":"IF(C632<'Gala Name'!C$5,\"\",LEFT(A632,1)&B632&C632)","v":"F948"},0.91070980499999998]
["Female",9,49,0.89972302999999998,null,{"$f":"IF(C633<'Gala Name'!C$5,\"\",LEFT(A633,1)&B633&C633)","v":"F949"},0.89972302999999998]
["Female",9,50,0.88888849400000003,null,{"$f":"IF(C634<'Gala Name'!C$5,\"\",LEFT(A634,1)&B634&C634)","v":"F950"},0.88888849400000003]
["Female",9,51,0.87831531500000004,null,{"$f":"IF(C635<'Gala Name'!C$5,\"\",LEFT(A635,1)&B635&C635)","v":"F951"},0.87831531500000004]
["Female",9,52,0.86809807999999999,null,{"$f":"IF(C636<'Gala Name'!C$5,\"\",LEFT(A636,1)&B636&C636)","v":"F952"},0.86809807999999999]
["Female",9,53,0.85831508999999995,null,{"$f":"IF(C637<'Gala Name'!C$5,\"\",LEFT(A637,1)&B637&C637)","v":"F953"},0.85831508999999995]
["Female",9,54,0.84902694099999998,null,{"$f":"IF(C638<'Gala Name'!C$5,\"\",LEFT(A638,1)&B638&C638)","v":"F954"},0.84902694099999998]
["Female",9,55,0.84027543800000004,null,{"$f":"IF(C639<'Gala Name'!C$5,\"\",LEFT(A639,1)&B639&C639)","v":"F955"},0.84027543800000004]
["Female",9,56,0.83208284899999996,null,{"$f":"IF(C640<'Gala Name'!C$5,\"\",LEFT(A640,1)&B640&C640)","v":"F956"},0.83208284899999996]
["Female",9,57,0.82445148499999998,null,{"$f":"IF(C641<'Gala Name'!C$5,\"\",LEFT(A641,1)&B641&C641)","v":"F957"},0.82445148499999998]
["Female",9,58,0.81736361800000001,null,{"$f":"IF(C642<'Gala Name'!C$5,\"\",LEFT(A642,1)&B642&C642)","v":"F958"},0.81736361800000001]
["Female",9,59,0.81078173799999997,null,{"$f":"IF(C643<'Gala Name'!C$5,\"\",LEFT(A643,1)&B643&C643)","v":"F959"},{"$f":"D643","v":0.81078173799999997}]
["Female",9,60,0.80464913199999999,null,{"$f":"IF(C644<'Gala Name'!C$5,\"\",LEFT(A644,1)&B644&C644)","v":"F960"},0.80464913199999999]
["Female",9,61,0.79889081500000003,null,{"$f":"IF(C645<'Gala Name'!C$5,\"\",LEFT(A645,1)&B645&C645)","v":"F961"},0.79889081500000003]
["Female",9,62,0.79341477800000004,null,{"$f":"IF(C646<'Gala Name'!C$5,\"\",LEFT(A646,1)&B646&C646)","v":"F962"},0.79341477800000004]
["Female",9,63,0.78811358099999995,null,{"$f":"IF(C647<'Gala Name'!C$5,\"\",LEFT(A647,1)&B647&C647)","v":"F963"},0.78811358099999995]
["Female",9,64,0.78286627499999994,null,{"$f":"IF(C648<'Gala Name'!C$5,\"\",LEFT(A648,1)&B648&C648)","v":"F964"},0.78286627499999994]
["Female",9,65,0.77754066399999999,null,{"$f":"IF(C649<'Gala Name'!C$5,\"\",LEFT(A649,1)&B649&C649)","v":"F965"},0.77754066399999999]
["Female",9,66,0.77199589499999999,null,{"$f":"IF(C650<'Gala Name'!C$5,\"\",LEFT(A650,1)&B650&C650)","v":"F966"},0.77199589499999999]
["Female",9,67,0.76608538500000001,null,{"$f":"IF(C651<'Gala Name'!C$5,\"\",LEFT(A651,1)&B651&C651)","v":"F967"},0.76608538500000001]
["Female",9,68,0.75966008399999996,null,{"$f":"IF(C652<'Gala Name'!C$5,\"\",LEFT(A652,1)&B652&C652)","v":"F968"},0.75966008399999996]
["Female",9,69,0.75257207100000001,null,{"$f":"IF(C653<'Gala Name'!C$5,\"\",LEFT(A653,1)&B653&C653)","v":"F969"},0.75257207100000001]
["Female",9,70,0.74467848000000003,null,{"$f":"IF(C654<'Gala Name'!C$5,\"\",LEFT(A654,1)&B654&C654)","v":"F970"},0.74467848000000003]
["Female",9,71,0.73584576999999995,null,{"$f":"IF(C655<'Gala Name'!C$5,\"\",LEFT(A655,1)&B655&C655)","v":"F971"},0.73584576999999995]
["Female",9,72,0.72595432100000001,null,{"$f":"IF(C656<'Gala Name'!C$5,\"\",LEFT(A656,1)&B656&C656)","v":"F972"},0.72595432100000001]
["Female",9,73,0.71490336499999996,null,{"$f":"IF(C657<'Gala Name'!C$5,\"\",LEFT(A657,1)&B657&C657)","v":"F973"},0.71490336499999996]
["Female",9,74,0.70261625699999997,null,{"$f":"IF(C658<'Gala Name'!C$5,\"\",LEFT(A658,1)&B658&C658)","v":"F974"},0.70261625699999997]
["Female",9,75,0.68904607399999995,null,{"$f":"IF(C659<'Gala Name'!C$5,\"\",LEFT(A659,1)&B659&C659)","v":"F975"},0.68904607399999995]
["Female",9,76,0.67418155300000004,null,{"$f":"IF(C660<'Gala Name'!C$5,\"\",LEFT(A660,1)&B660&C660)","v":"F976"},0.67418155300000004]
["Female",9,77,0.65805335899999995,null,{"$f":"IF(C661<'Gala Name'!C$5,\"\",LEFT(A661,1)&B661&C661)","v":"F977"},0.65805335899999995]
["Female",9,78,0.64074069099999997,null,{"$f":"IF(C662<'Gala Name'!C$5,\"\",LEFT(A662,1)&B662&C662)","v":"F978"},0.64074069099999997]
["Female",9,79,0.62237822099999995,null,{"$f":"IF(C663<'Gala Name'!C$5,\"\",LEFT(A663,1)&B663&C663)","v":"F979"},0.62237822099999995]
["Female",9,80,0.60316336699999995,null,{"$f":"IF(C664<'Gala Name'!C$5,\"\",LEFT(A664,1)&B664&C664)","v":"F980"},0.60316336699999995]
["Female",9,81,0.58336389899999996,null,{"$f":"IF(C665<'Gala Name'!C$5,\"\",LEFT(A665,1)&B665&C665)","v":"F981"},0.58336389899999996]
["Female",9,82,0.56332588299999997,null,{"$f":"IF(C666<'Gala Name'!C$5,\"\",LEFT(A666,1)&B666&C666)","v":"F982"},0.56332588299999997]
["Female",9,83,0.54348195600000004,null,{"$f":"IF(C667<'Gala Name'!C$5,\"\",LEFT(A667,1)&B667&C667)","v":"F983"},0.54348195600000004]
["Female",9,84,0.52435993800000003,null,{"$f":"IF(C668<'Gala Name'!C$5,\"\",LEFT(A668,1)&B668&C668)","v":"F984"},0.52435993800000003]
["Female",9,85,0.50659177399999999,null,{"$f":"IF(C669<'Gala Name'!C$5,\"\",LEFT(A669,1)&B669&C669)","v":"F985"},0.50659177399999999]
["Female",9,86,0.49092281599999998,null,{"$f":"IF(C670<'Gala Name'!C$5,\"\",LEFT(A670,1)&B670&C670)","v":"F986"},0.49092281599999998]
["Female",9,87,0.47822143299999997,null,{"$f":"IF(C671<'Gala Name'!C$5,\"\",LEFT(A671,1)&B671&C671)","v":"F987"},0.47822143299999997]
["Female",9,88,0.46948896200000001,null,{"$f":"IF(C672<'Gala Name'!C$5,\"\",LEFT(A672,1)&B672&C672)","v":"F988"},0.46948896200000001]
["Female",9,89,0.46586999000000001,null,{"$f":"IF(C673<'Gala Name'!C$5,\"\",LEFT(A673,1)&B673&C673)","v":"F989"},0.46586999000000001]
["Female",9,90,0.46866296699999999,null,{"$f":"IF(C674<'Gala Name'!C$5,\"\",LEFT(A674,1)&B674&C674)","v":"F990"},0.46866296699999999]
["Female",9,91,0.47933116100000001,null,{"$f":"IF(C675<'Gala Name'!C$5,\"\",LEFT(A675,1)&B675&C675)","v":"F991"},0.47933116100000001]
["Female",9,92,0.49951393900000002,null,{"$f":"IF(C676<'Gala Name'!C$5,\"\",LEFT(A676,1)&B676&C676)","v":"F992"},0.49951393900000002]
["Female",9,93,0.53103838999999997,null,{"$f":"IF(C677<'Gala Name'!C$5,\"\",LEFT(A677,1)&B677&C677)","v":"F993"},0.53103838999999997]
["Female",9,94,0.57593127600000005,null,{"$f":"IF(C678<'Gala Name'!C$5,\"\",LEFT(A678,1)&B678&C678)","v":"F994"},0.57593127600000005]
["Female",9,95,0.63643131900000005,null,{"$f":"IF(C679<'Gala Name'!C$5,\"\",LEFT(A679,1)&B679&C679)","v":"F995"},0.63643131900000005]
["Female",9,96,0.71500182800000001,null,{"$f":"IF(C680<'Gala Name'!C$5,\"\",LEFT(A680,1)&B680&C680)","v":"F996"},0.71500182800000001]
["Female",9,97,0.81434365099999995,null,{"$f":"IF(C681<'Gala Name'!C$5,\"\",LEFT(A681,1)&B681&C681)","v":"F997"},0.81434365099999995]
["Female",9,98,0.93740846799999999,null,{"$f":"IF(C682<'Gala Name'!C$5,\"\",LEFT(A682,1)&B682&C682)","v":"F998"},0.93740846799999999]
["Female",9,99,1.087412416,null,{"$f":"IF(C683<'Gala Name'!C$5,\"\",LEFT(A683,1)&B683&C683)","v":"F999"},1.087412416]
["Female",9,100,1.267850046,null,{"$f":"IF(C684<'Gala Name'!C$5,\"\",LEFT(A684,1)&B684&C684)","v":"F9100"},1.267850046]
["Female",10,25,1.002818655,null,{"$f":"IF(C685<'Gala Name'!C$5,\"\",LEFT(A685,1)&B685&C685)","v":"F1025"},1.002818655]
["Female",10,26,0.989882131,null,{"$f":"IF(C686<'Gala Name'!C$5,\"\",LEFT(A686,1)&B686&C686)","v":"F1026"},0.989882131]
["Female",10,27,0.98041505799999995,null,{"$f":"IF(C687<'Gala Name'!C$5,\"\",LEFT(A687,1)&B687&C687)","v":"F1027"},0.98041505799999995]
["Female",10,28,0.97377623599999996,null,{"$f":"IF(C688<'Gala Name'!C$5,\"\",LEFT(A688,1)&B688&C688)","v":"F1028"},0.97377623599999996]
["Female",10,29,0.96939505500000001,null,{"$f":"IF(C689<'Gala Name'!C$5,\"\",LEFT(A689,1)&B689&C689)","v":"F1029"},0.96939505500000001]
["Female",10,30,0.96676682899999999,null,{"$f":"IF(C690<'Gala Name'!C$5,\"\",LEFT(A690,1)&B690&C690)","v":"F1030"},0.96676682899999999]
["Female",10,31,0.965448274,null,{"$f":"IF(C691<'Gala Name'!C$5,\"\",LEFT(A691,1)&B691&C691)","v":"F1031"},0.965448274]
["Female",10,32,0.96505312399999998,null,{"$f":"IF(C692<'Gala Name'!C$5,\"\",LEFT(A692,1)&B692&C692)","v":"F1032"},0.96505312399999998]
["Female",10,33,0.96524789799999999,null,{"$f":"IF(C693<'Gala Name'!C$5,\"\",LEFT(A693,1)&B693&C693)","v":"F1033"},0.96524789799999999]
["Female",10,34,0.96574779399999999,null,{"$f":"IF(C694<'Gala Name'!C$5,\"\",LEFT(A694,1)&B694&C694)","v":"F1034"},0.96574779399999999]
["Female",10,35,0.96631273900000003,null,{"$f":"IF(C695<'Gala Name'!C$5,\"\",LEFT(A695,1)&B695&C695)","v":"F1035"},0.96631273900000003]
["Female",10,36,0.96674356900000002,null,{"$f":"IF(C696<'Gala Name'!C$5,\"\",LEFT(A696,1)&B696&C696)","v":"F1036"},0.96674356900000002]
["Female",10,37,0.96687835899999997,null,{"$f":"IF(C697<'Gala Name'!C$5,\"\",LEFT(A697,1)&B697&C697)","v":"F1037"},0.96687835899999997]
["Female",10,38,0.96658888600000004,null,{"$f":"IF(C698<'Gala Name'!C$5,\"\",LEFT(A698,1)&B698&C698)","v":"F1038"},0.96658888600000004]
["Female",10,39,0.96577724700000001,null,{"$f":"IF(C699<'Gala Name'!C$5,\"\",LEFT(A699,1)&B699&C699)","v":"F1039"},0.96577724700000001]
["Female",10,40,0.96437260000000002,null,{"$f":"IF(C700<'Gala Name'!C$5,\"\",LEFT(A700,1)&B700&C700)","v":"F1040"},0.96437260000000002]
["Female",10,41,0.96232806299999996,null,{"$f":"IF(C701<'Gala Name'!C$5,\"\",LEFT(A701,1)&B701&C701)","v":"F1041"},0.96232806299999996]
["Female",10,42,0.95961774700000002,null,{"$f":"IF(C702<'Gala Name'!C$5,\"\",LEFT(A702,1)&B702&C702)","v":"F1042"},0.95961774700000002]
["Female",10,43,0.95623393000000001,null,{"$f":"IF(C703<'Gala Name'!C$5,\"\",LEFT(A703,1)&B703&C703)","v":"F1043"},0.95623393000000001]
["Female",10,44,0.95218437600000005,null,{"$f":"IF(C704<'Gala Name'!C$5,\"\",LEFT(A704,1)&B704&C704)","v":"F1044"},0.95218437600000005]
["Female",10,45,0.94748979200000005,null,{"$f":"IF(C705<'Gala Name'!C$5,\"\",LEFT(A705,1)&B705&C705)","v":"F1045"},0.94748979200000005]
["Female",10,46,0.94218142900000001,null,{"$f":"IF(C706<'Gala Name'!C$5,\"\",LEFT(A706,1)&B706&C706)","v":"F1046"},0.94218142900000001]
["Female",10,47,0.93629882200000003,null,{"$f":"IF(C707<'Gala Name'!C$5,\"\",LEFT(A707,1)&B707&C707)","v":"F1047"},{"$f":"D707","v":0.93629882200000003}]
["Female",10,48,0.92988767800000005,null,{"$f":"IF(C708<'Gala Name'!C$5,\"\",LEFT(A708,1)&B708&C708)","v":"F1048"},0.92988767800000005]
["Female",10,49,0.92299789499999996,null,{"$f":"IF(C709<'Gala Name'!C$5,\"\",LEFT(A709,1)&B709&C709)","v":"F1049"},0.92299789499999996]
["Female",10,50,0.91568173200000003,null,{"$f":"IF(C710<'Gala Name'!C$5,\"\",LEFT(A710,1)&B710&C710)","v":"F1050"},0.91568173200000003]
["Female",10,51,0.90799211499999999,null,{"$f":"IF(C711<'Gala Name'!C$5,\"\",LEFT(A711,1)&B711&C711)","v":"F1051"},0.90799211499999999]
["Female",10,52,0.89998108600000004,null,{"$f":"IF(C712<'Gala Name'!C$5,\"\",LEFT(A712,1)&B712&C712)","v":"F1052"},0.89998108600000004]
["Female",10,53,0.89169839799999995,null,{"$f":"IF(C713<'Gala Name'!C$5,\"\",LEFT(A713,1)&B713&C713)","v":"F1053"},0.89169839799999995]
["Female",10,54,0.88319024000000002,null,{"$f":"IF(C714<'Gala Name'!C$5,\"\",LEFT(A714,1)&B714&C714)","v":"F1054"},0.88319024000000002]
["Female",10,55,0.87449811899999996,null,{"$f":"IF(C715<'Gala Name'!C$5,\"\",LEFT(A715,1)&B715&C715)","v":"F1055"},0.87449811899999996]
["Female",10,56,0.86565786899999997,null,{"$f":"IF(C716<'Gala Name'!C$5,\"\",LEFT(A716,1)&B716&C716)","v":"F1056"},0.86565786899999997]
["Female",10,57,0.856698811,null,{"$f":"IF(C717<'Gala Name'!C$5,\"\",LEFT(A717,1)&B717&C717)","v":"F1057"},0.856698811]
["Female",10,58,0.84764305299999998,null,{"$f":"IF(C718<'Gala Name'!C$5,\"\",LEFT(A718,1)&B718&C718)","v":"F1058"},0.84764305299999998]
["Female",10,59,0.83850492399999998,null,{"$f":"IF(C719<'Gala Name'!C$5,\"\",LEFT(A719,1)&B719&C719)","v":"F1059"},0.83850492399999998]
["Female",10,60,0.82929056400000001,null,{"$f":"IF(C720<'Gala Name'!C$5,\"\",LEFT(A720,1)&B720&C720)","v":"F1060"},0.82929056400000001]
["Female",10,61,0.81999764100000005,null,{"$f":"IF(C721<'Gala Name'!C$5,\"\",LEFT(A721,1)&B721&C721)","v":"F1061"},0.81999764100000005]
["Female",10,62,0.81061521700000005,null,{"$f":"IF(C722<'Gala Name'!C$5,\"\",LEFT(A722,1)&B722&C722)","v":"F1062"},0.81061521700000005]
["Female",10,63,0.80112375499999999,null,{"$f":"IF(C723<'Gala Name'!C$5,\"\",LEFT(A723,1)&B723&C723)","v":"F1063"},0.80112375499999999]
["Female",10,64,0.791495265,null,{"$f":"IF(C724<'Gala Name'!C$5,\"\",LEFT(A724,1)&B724&C724)","v":"F1064"},0.791495265]
["Female",10,65,0.78169359699999996,null,{"$f":"IF(C725<'Gala Name'!C$5,\"\",LEFT(A725,1)&B725&C725)","v":"F1065"},0.78169359699999996]
["Female",10,66,0.77167486600000001,null,{"$f":"IF(C726<'Gala Name'!C$5,\"\",LEFT(A726,1)&B726&C726)","v":"F1066"},0.77167486600000001]
["Female",10,67,0.76138803099999997,null,{"$f":"IF(C727<'Gala Name'!C$5,\"\",LEFT(A727,1)&B727&C727)","v":"F1067"},0.76138803099999997]
["Female",10,68,0.75077560099999996,null,{"$f":"IF(C728<'Gala Name'!C$5,\"\",LEFT(A728,1)&B728&C728)","v":"F1068"},0.75077560099999996]
["Female",10,69,0.73977449799999995,null,{"$f":"IF(C729<'Gala Name'!C$5,\"\",LEFT(A729,1)&B729&C729)","v":"F1069"},0.73977449799999995]
["Female",10,70,0.72831704799999997,null,{"$f":"IF(C730<'Gala Name'!C$5,\"\",LEFT(A730,1)&B730&C730)","v":"F1070"},0.72831704799999997]
["Female",10,71,0.71633212400000001,null,{"$f":"IF(C731<'Gala Name'!C$5,\"\",LEFT(A731,1)&B731&C731)","v":"F1071"},0.71633212400000001]
["Female",10,72,0.70374642099999996,null,{"$f":"IF(C732<'Gala Name'!C$5,\"\",LEFT(A732,1)&B732&C732)","v":"F1072"},0.70374642099999996]
["Female",10,73,0.69048588300000002,null,{"$f":"IF(C733<'Gala Name'!C$5,\"\",LEFT(A733,1)&B733&C733)","v":"F1073"},0.69048588300000002]
["Female",10,74,0.67647725999999997,null,{"$f":"IF(C734<'Gala Name'!C$5,\"\",LEFT(A734,1)&B734&C734)","v":"F1074"},0.67647725999999997]
["Female",10,75,0.66164981700000003,null,{"$f":"IF(C735<'Gala Name'!C$5,\"\",LEFT(A735,1)&B735&C735)","v":"F1075"},0.66164981700000003]
["Female",10,76,0.64593717900000003,null,{"$f":"IF(C736<'Gala Name'!C$5,\"\",LEFT(A736,1)&B736&C736)","v":"F1076"},0.64593717900000003]
["Female",10,77,0.62927931800000003,null,{"$f":"IF(C737<'Gala Name'!C$5,\"\",LEFT(A737,1)&B737&C737)","v":"F1077"},0.62927931800000003]
["Female",10,78,0.61162468000000003,null,{"$f":"IF(C738<'Gala Name'!C$5,\"\",LEFT(A738,1)&B738&C738)","v":"F1078"},0.61162468000000003]
["Female",10,79,0.59293246099999997,null,{"$f":"IF(C739<'Gala Name'!C$5,\"\",LEFT(A739,1)&B739&C739)","v":"F1079"},0.59293246099999997]
["Female",10,80,0.57317501299999996,null,{"$f":"IF(C740<'Gala Name'!C$5,\"\",LEFT(A740,1)&B740&C740)","v":"F1080"},0.57317501299999996]
["Female",10,81,0.55234040200000001,null,{"$f":"IF(C741<'Gala Name'!C$5,\"\",LEFT(A741,1)&B741&C741)","v":"F1081"},0.55234040200000001]
["Female",10,82,0.53043510100000002,null,{"$f":"IF(C742<'Gala Name'!C$5,\"\",LEFT(A742,1)&B742&C742)","v":"F1082"},0.53043510100000002]
["Female",10,83,0.50748682899999997,null,{"$f":"IF(C743<'Gala Name'!C$5,\"\",LEFT(A743,1)&B743&C743)","v":"F1083"},0.50748682899999997]
["Female",10,84,0.48354752499999998,null,{"$f":"IF(C744<'Gala Name'!C$5,\"\",LEFT(A744,1)&B744&C744)","v":"F1084"},0.48354752499999998]
["Female",10,85,0.45869647299999999,null,{"$f":"IF(C745<'Gala Name'!C$5,\"\",LEFT(A745,1)&B745&C745)","v":"F1085"},0.45869647299999999]
["Female",10,86,0.43304355900000002,null,{"$f":"IF(C746<'Gala Name'!C$5,\"\",LEFT(A746,1)&B746&C746)","v":"F1086"},0.43304355900000002]
["Female",10,87,0.40673267699999999,null,{"$f":"IF(C747<'Gala Name'!C$5,\"\",LEFT(A747,1)&B747&C747)","v":"F1087"},0.40673267699999999]
["Female",10,88,0.37994527,null,{"$f":"IF(C748<'Gala Name'!C$5,\"\",LEFT(A748,1)&B748&C748)","v":"F1088"},0.37994527]
["Female",10,89,0.35290401900000001,null,{"$f":"IF(C749<'Gala Name'!C$5,\"\",LEFT(A749,1)&B749&C749)","v":"F1089"},0.35290401900000001]
["Female",10,90,0.32587666900000001,null,{"$f":"IF(C750<'Gala Name'!C$5,\"\",LEFT(A750,1)&B750&C750)","v":"F1090"},0.32587666900000001]
["Female",10,91,0.29917999899999997,null,{"$f":"IF(C751<'Gala Name'!C$5,\"\",LEFT(A751,1)&B751&C751)","v":"F1091"},0.29917999899999997]
["Female",10,92,0.27318393000000002,null,{"$f":"IF(C752<'Gala Name'!C$5,\"\",LEFT(A752,1)&B752&C752)","v":"F1092"},0.27318393000000002]
["Female",10,93,0.24831577799999999,null,{"$f":"IF(C753<'Gala Name'!C$5,\"\",LEFT(A753,1)&B753&C753)","v":"F1093"},0.24831577799999999]
["Female",10,94,0.225064652,null,{"$f":"IF(C754<'Gala Name'!C$5,\"\",LEFT(A754,1)&B754&C754)","v":"F1094"},0.225064652]
["Female",10,95,0.20398598100000001,null,{"$f":"IF(C755<'Gala Name'!C$5,\"\",LEFT(A755,1)&B755&C755)","v":"F1095"},0.20398598100000001]
["Female",10,96,0.18570619699999999,null,{"$f":"IF(C756<'Gala Name'!C$5,\"\",LEFT(A756,1)&B756&C756)","v":"F1096"},0.18570619699999999]
["Female",10,97,0.17092754900000001,null,{"$f":"IF(C757<'Gala Name'!C$5,\"\",LEFT(A757,1)&B757&C757)","v":"F1097"},0.17092754900000001]
["Female",10,98,0.16043306700000001,null,{"$f":"IF(C758<'Gala Name'!C$5,\"\",LEFT(A758,1)&B758&C758)","v":"F1098"},0.16043306700000001]
["Female",10,99,0.15509165899999999,null,{"$f":"IF(C759<'Gala Name'!C$5,\"\",LEFT(A759,1)&B759&C759)","v":"F1099"},0.15509165899999999]
["Female",10,100,0.15586335600000001,null,{"$f":"IF(C760<'Gala Name'!C$5,\"\",LEFT(A760,1)&B760&C760)","v":"F10100"},0.15586335600000001]
["Female",11,25,1.001615256,null,{"$f":"IF(C761<'Gala Name'!C$5,\"\",LEFT(A761,1)&B761&C761)","v":"F1125"},1.001615256]
["Female",11,26,1.0012391679999999,null,{"$f":"IF(C762<'Gala Name'!C$5,\"\",LEFT(A762,1)&B762&C762)","v":"F1126"},1.0012391679999999]
["Female",11,27,0.99993723800000001,null,{"$f":"IF(C763<'Gala Name'!C$5,\"\",LEFT(A763,1)&B763&C763)","v":"F1127"},0.99993723800000001]
["Female",11,28,0.99794725200000001,null,{"$f":"IF(C764<'Gala Name'!C$5,\"\",LEFT(A764,1)&B764&C764)","v":"F1128"},0.99794725200000001]
["Female",11,29,0.99546640500000005,null,{"$f":"IF(C765<'Gala Name'!C$5,\"\",LEFT(A765,1)&B765&C765)","v":"F1129"},0.99546640500000005]
["Female",11,30,0.99265489900000003,null,{"$f":"IF(C766<'Gala Name'!C$5,\"\",LEFT(A766,1)&B766&C766)","v":"F1130"},0.99265489900000003]
["Female",11,31,0.98963939999999995,null,{"$f":"IF(C767<'Gala Name'!C$5,\"\",LEFT(A767,1)&B767&C767)","v":"F1131"},0.98963939999999995]
["Female",11,32,0.98651636600000003,null,{"$f":"IF(C768<'Gala Name'!C$5,\"\",LEFT(A768,1)&B768&C768)","v":"F1132"},0.98651636600000003]
["Female",11,33,0.98335522399999997,null,{"$f":"IF(C769<'Gala Name'!C$5,\"\",LEFT(A769,1)&B769&C769)","v":"F1133"},0.98335522399999997]
["Female",11,34,0.98020142399999999,null,{"$f":"IF(C770<'Gala Name'!C$5,\"\",LEFT(A770,1)&B770&C770)","v":"F1134"},0.98020142399999999]
["Female",11,35,0.97707934399999996,null,{"$f":"IF(C771<'Gala Name'!C$5,\"\",LEFT(A771,1)&B771&C771)","v":"F1135"},{"$f":"D771","v":0.97707934399999996}]
["Female",11,36,0.97399505900000005,null,{"$f":"IF(C772<'Gala Name'!C$5,\"\",LEFT(A772,1)&B772&C772)","v":"F1136"},0.97399505900000005]
["Female",11,37,0.97093898300000003,null,{"$f":"IF(C773<'Gala Name'!C$5,\"\",LEFT(A773,1)&B773&C773)","v":"F1137"},0.97093898300000003]
["Female",11,38,0.96788835299999998,null,{"$f":"IF(C774<'Gala Name'!C$5,\"\",LEFT(A774,1)&B774&C774)","v":"F1138"},0.96788835299999998]
["Female",11,39,0.96480960000000004,null,{"$f":"IF(C775<'Gala Name'!C$5,\"\",LEFT(A775,1)&B775&C775)","v":"F1139"},0.96480960000000004]
["Female",11,40,0.96166055800000005,null,{"$f":"IF(C776<'Gala Name'!C$5,\"\",LEFT(A776,1)&B776&C776)","v":"F1140"},0.96166055800000005]
["Female",11,41,0.95839255400000001,null,{"$f":"IF(C777<'Gala Name'!C$5,\"\",LEFT(A777,1)&B777&C777)","v":"F1141"},0.95839255400000001]
["Female",11,42,0.95495235000000001,null,{"$f":"IF(C778<'Gala Name'!C$5,\"\",LEFT(A778,1)&B778&C778)","v":"F1142"},0.95495235000000001]
["Female",11,43,0.95128395300000002,null,{"$f":"IF(C779<'Gala Name'!C$5,\"\",LEFT(A779,1)&B779&C779)","v":"F1143"},0.95128395300000002]
["Female",11,44,0.94733028100000005,null,{"$f":"IF(C780<'Gala Name'!C$5,\"\",LEFT(A780,1)&B780&C780)","v":"F1144"},0.94733028100000005]
["Female",11,45,0.94303469600000001,null,{"$f":"IF(C781<'Gala Name'!C$5,\"\",LEFT(A781,1)&B781&C781)","v":"F1145"},0.94303469600000001]
["Female",11,46,0.93834240099999999,null,{"$f":"IF(C782<'Gala Name'!C$5,\"\",LEFT(A782,1)&B782&C782)","v":"F1146"},0.93834240099999999]
["Female",11,47,0.93320169200000003,null,{"$f":"IF(C783<'Gala Name'!C$5,\"\",LEFT(A783,1)&B783&C783)","v":"F1147"},0.93320169200000003]
["Female",11,48,0.92756508199999999,null,{"$f":"IF(C784<'Gala Name'!C$5,\"\",LEFT(A784,1)&B784&C784)","v":"F1148"},0.92756508199999999]
["Female",11,49,0.92139027500000004,null,{"$f":"IF(C785<'Gala Name'!C$5,\"\",LEFT(A785,1)&B785&C785)","v":"F1149"},0.92139027500000004]
["Female",11,50,0.914641017,null,{"$f":"IF(C786<'Gala Name'!C$5,\"\",LEFT(A786,1)&B786&C786)","v":"F1150"},0.914641017]
["Female",11,51,0.90728779599999998,null,{"$f":"IF(C787<'Gala Name'!C$5,\"\",LEFT(A787,1)&B787&C787)","v":"F1151"},0.90728779599999998]
["Female",11,52,0.89930841299999997,null,{"$f":"IF(C788<'Gala Name'!C$5,\"\",LEFT(A788,1)&B788&C788)","v":"F1152"},0.89930841299999997]
["Female",11,53,0.89068841200000004,null,{"$f":"IF(C789<'Gala Name'!C$5,\"\",LEFT(A789,1)&B789&C789)","v":"F1153"},0.89068841200000004]
["Female",11,54,0.88142136900000001,null,{"$f":"IF(C790<'Gala Name'!C$5,\"\",LEFT(A790,1)&B790&C790)","v":"F1154"},0.88142136900000001]
["Female",11,55,0.87150905199999995,null,{"$f":"IF(C791<'Gala Name'!C$5,\"\",LEFT(A791,1)&B791&C791)","v":"F1155"},0.87150905199999995]
["Female",11,56,0.86096143400000003,null,{"$f":"IF(C792<'Gala Name'!C$5,\"\",LEFT(A792,1)&B792&C792)","v":"F1156"},0.86096143400000003]
["Female",11,57,0.84979657399999997,null,{"$f":"IF(C793<'Gala Name'!C$5,\"\",LEFT(A793,1)&B793&C793)","v":"F1157"},0.84979657399999997]
["Female",11,58,0.83804036000000004,null,{"$f":"IF(C794<'Gala Name'!C$5,\"\",LEFT(A794,1)&B794&C794)","v":"F1158"},0.83804036000000004]
["Female",11,59,0.82572610999999996,null,{"$f":"IF(C795<'Gala Name'!C$5,\"\",LEFT(A795,1)&B795&C795)","v":"F1159"},0.82572610999999996]
["Female",11,60,0.81289403999999998,null,{"$f":"IF(C796<'Gala Name'!C$5,\"\",LEFT(A796,1)&B796&C796)","v":"F1160"},0.81289403999999998]
["Female",11,61,0.79959059200000004,null,{"$f":"IF(C797<'Gala Name'!C$5,\"\",LEFT(A797,1)&B797&C797)","v":"F1161"},0.79959059200000004]
["Female",11,62,0.78586762499999996,null,{"$f":"IF(C798<'Gala Name'!C$5,\"\",LEFT(A798,1)&B798&C798)","v":"F1162"},0.78586762499999996]
["Female",11,63,0.77178146999999997,null,{"$f":"IF(C799<'Gala Name'!C$5,\"\",LEFT(A799,1)&B799&C799)","v":"F1163"},0.77178146999999997]
["Female",11,64,0.75739183899999996,null,{"$f":"IF(C800<'Gala Name'!C$5,\"\",LEFT(A800,1)&B800&C800)","v":"F1164"},0.75739183899999996]
["Female",11,65,0.74276061199999999,null,{"$f":"IF(C801<'Gala Name'!C$5,\"\",LEFT(A801,1)&B801&C801)","v":"F1165"},0.74276061199999999]
["Female",11,66,0.72795047000000002,null,{"$f":"IF(C802<'Gala Name'!C$5,\"\",LEFT(A802,1)&B802&C802)","v":"F1166"},0.72795047000000002]
["Female",11,67,0.71302339800000003,null,{"$f":"IF(C803<'Gala Name'!C$5,\"\",LEFT(A803,1)&B803&C803)","v":"F1167"},0.71302339800000003]
["Female",11,68,0.69803905300000002,null,{"$f":"IF(C804<'Gala Name'!C$5,\"\",LEFT(A804,1)&B804&C804)","v":"F1168"},0.69803905300000002]
["Female",11,69,0.68305298699999994,null,{"$f":"IF(C805<'Gala Name'!C$5,\"\",LEFT(A805,1)&B805&C805)","v":"F1169"},0.68305298699999994]
["Female",11,70,0.66811473899999996,null,{"$f":"IF(C806<'Gala Name'!C$5,\"\",LEFT(A806,1)&B806&C806)","v":"F1170"},0.66811473899999996]
["Female",11,71,0.65326578499999999,null,{"$f":"IF(C807<'Gala Name'!C$5,\"\",LEFT(A807,1)&B807&C807)","v":"F1171"},0.65326578499999999]
["Female",11,72,0.63853735099999998,null,{"$f":"IF(C808<'Gala Name'!C$5,\"\",LEFT(A808,1)&B808&C808)","v":"F1172"},0.63853735099999998]
["Female",11,73,0.62394809100000004,null,{"$f":"IF(C809<'Gala Name'!C$5,\"\",LEFT(A809,1)&B809&C809)","v":"F1173"},0.62394809100000004]
["Female",11,74,0.60950162200000002,null,{"$f":"IF(C810<'Gala Name'!C$5,\"\",LEFT(A810,1)&B810&C810)","v":"F1174"},0.60950162200000002]
["Female",11,75,0.59518393000000003,null,{"$f":"IF(C811<'Gala Name'!C$5,\"\",LEFT(A811,1)&B811&C811)","v":"F1175"},0.59518393000000003]
["Female",11,76,0.58096062699999995,null,{"$f":"IF(C812<'Gala Name'!C$5,\"\",LEFT(A812,1)&B812&C812)","v":"F1176"},0.58096062699999995]
["Female",11,77,0.56677407899999999,null,{"$f":"IF(C813<'Gala Name'!C$5,\"\",LEFT(A813,1)&B813&C813)","v":"F1177"},0.56677407899999999]
["Female",11,78,0.55254039200000005,null,{"$f":"IF(C814<'Gala Name'!C$5,\"\",LEFT(A814,1)&B814&C814)","v":"F1178"},0.55254039200000005]
["Female",11,79,0.53814626600000004,null,{"$f":"IF(C815<'Gala Name'!C$5,\"\",LEFT(A815,1)&B815&C815)","v":"F1179"},0.53814626600000004]
["Female",11,80,0.52344570000000001,null,{"$f":"IF(C816<'Gala Name'!C$5,\"\",LEFT(A816,1)&B816&C816)","v":"F1180"},0.52344570000000001]
["Female",11,81,0.50825657199999996,null,{"$f":"IF(C817<'Gala Name'!C$5,\"\",LEFT(A817,1)&B817&C817)","v":"F1181"},0.50825657199999996]
["Female",11,82,0.49235707299999998,null,{"$f":"IF(C818<'Gala Name'!C$5,\"\",LEFT(A818,1)&B818&C818)","v":"F1182"},0.49235707299999998]
["Female",11,83,0.47548200600000001,null,{"$f":"IF(C819<'Gala Name'!C$5,\"\",LEFT(A819,1)&B819&C819)","v":"F1183"},0.47548200600000001]
["Female",11,84,0.45731895,null,{"$f":"IF(C820<'Gala Name'!C$5,\"\",LEFT(A820,1)&B820&C820)","v":"F1184"},0.45731895]
["Female",11,85,0.43750427800000002,null,{"$f":"IF(C821<'Gala Name'!C$5,\"\",LEFT(A821,1)&B821&C821)","v":"F1185"},0.43750427800000002]
["Female",11,86,0.41561904599999999,null,{"$f":"IF(C822<'Gala Name'!C$5,\"\",LEFT(A822,1)&B822&C822)","v":"F1186"},0.41561904599999999]
["Female",11,87,0.391184743,null,{"$f":"IF(C823<'Gala Name'!C$5,\"\",LEFT(A823,1)&B823&C823)","v":"F1187"},0.391184743]
["Female",11,88,0.36365889600000001,null,{"$f":"IF(C824<'Gala Name'!C$5,\"\",LEFT(A824,1)&B824&C824)","v":"F1188"},0.36365889600000001]
["Female",11,89,0.33243054900000002,null,{"$f":"IF(C825<'Gala Name'!C$5,\"\",LEFT(A825,1)&B825&C825)","v":"F1189"},0.33243054900000002]
["Female",11,90,0.29681559099999999,null,{"$f":"IF(C826<'Gala Name'!C$5,\"\",LEFT(A826,1)&B826&C826)","v":"F1190"},0.29681559099999999]
["Female",11,91,0.25605196000000002,null,{"$f":"IF(C827<'Gala Name'!C$5,\"\",LEFT(A827,1)&B827&C827)","v":"F1191"},0.25605196000000002]
["Female",11,92,0.209294696,null,{"$f":"IF(C828<'Gala Name'!C$5,\"\",LEFT(A828,1)&B828&C828)","v":"F1192"},0.209294696]
["Female",11,93,0.15561086800000001,null,{"$f":"IF(C829<'Gala Name'!C$5,\"\",LEFT(A829,1)&B829&C829)","v":"F1193"},0.15561086800000001]
["Female",11,94,9.3974354999999996E-2,null,{"$f":"IF(C830<'Gala Name'!C$5,\"\",LEFT(A830,1)&B830&C830)","v":"F1194"},9.3974354999999996E-2]
["Female",11,95,2.3260493E-2,null,{"$f":"IF(C831<'Gala Name'!C$5,\"\",LEFT(A831,1)&B831&C831)","v":"F1195"},2.3260493E-2]
["Female",11,96,-5.7759415000000001E-2,null,{"$f":"IF(C832<'Gala Name'!C$5,\"\",LEFT(A832,1)&B832&C832)","v":"F1196"},-5.7759415000000001E-2]
["Female",11,97,-0.15042373000000001,null,{"$f":"IF(C833<'Gala Name'!C$5,\"\",LEFT(A833,1)&B833&C833)","v":"F1197"},-0.15042373000000001]
["Female",11,98,-0.25618624299999998,null,{"$f":"IF(C834<'Gala Name'!C$5,\"\",LEFT(A834,1)&B834&C834)","v":"F1198"},-0.25618624299999998]
["Female",11,99,-0.376622081,null,{"$f":"IF(C835<'Gala Name'!C$5,\"\",LEFT(A835,1)&B835&C835)","v":"F1199"},{"$f":"D835","v":-0.376622081}]
["Female",11,100,-0.51343374600000002,null,{"$f":"IF(C836<'Gala Name'!C$5,\"\",LEFT(A836,1)&B836&C836)","v":"F11100"},-0.51343374600000002]
["Female",12,25,0.99734629200000002,null,{"$f":"IF(C837<'Gala Name'!C$5,\"\",LEFT(A837,1)&B837&C837)","v":"F1225"},0.99734629200000002]
["Female",12,26,1.0024268220000001,null,{"$f":"IF(C838<'Gala Name'!C$5,\"\",LEFT(A838,1)&B838&C838)","v":"F1226"},1.0024268220000001]
["Female",12,27,1.002408653,null,{"$f":"IF(C839<'Gala Name'!C$5,\"\",LEFT(A839,1)&B839&C839)","v":"F1227"},1.002408653]
["Female",12,28,0.99861797500000005,null,{"$f":"IF(C840<'Gala Name'!C$5,\"\",LEFT(A840,1)&B840&C840)","v":"F1228"},0.99861797500000005]
["Female",12,29,0.99218048999999997,null,{"$f":"IF(C841<'Gala Name'!C$5,\"\",LEFT(A841,1)&B841&C841)","v":"F1229"},0.99218048999999997]
["Female",12,30,0.98403829099999995,null,{"$f":"IF(C842<'Gala Name'!C$5,\"\",LEFT(A842,1)&B842&C842)","v":"F1230"},0.98403829099999995]
["Female",12,31,0.97496612100000002,null,{"$f":"IF(C843<'Gala Name'!C$5,\"\",LEFT(A843,1)&B843&C843)","v":"F1231"},0.97496612100000002]
["Female",12,32,0.96558698799999998,null,{"$f":"IF(C844<'Gala Name'!C$5,\"\",LEFT(A844,1)&B844&C844)","v":"F1232"},0.96558698799999998]
["Female",12,33,0.95638715399999996,null,{"$f":"IF(C845<'Gala Name'!C$5,\"\",LEFT(A845,1)&B845&C845)","v":"F1233"},0.95638715399999996]
["Female",12,34,0.94773048999999998,null,{"$f":"IF(C846<'Gala Name'!C$5,\"\",LEFT(A846,1)&B846&C846)","v":"F1234"},0.94773048999999998]
["Female",12,35,0.93987219600000005,null,{"$f":"IF(C847<'Gala Name'!C$5,\"\",LEFT(A847,1)&B847&C847)","v":"F1235"},0.93987219600000005]
["Female",12,36,0.93297189000000003,null,{"$f":"IF(C848<'Gala Name'!C$5,\"\",LEFT(A848,1)&B848&C848)","v":"F1236"},0.93297189000000003]
["Female",12,37,0.92710606600000001,null,{"$f":"IF(C849<'Gala Name'!C$5,\"\",LEFT(A849,1)&B849&C849)","v":"F1237"},0.92710606600000001]
["Female",12,38,0.92227991300000001,null,{"$f":"IF(C850<'Gala Name'!C$5,\"\",LEFT(A850,1)&B850&C850)","v":"F1238"},0.92227991300000001]
["Female",12,39,0.91843851099999996,null,{"$f":"IF(C851<'Gala Name'!C$5,\"\",LEFT(A851,1)&B851&C851)","v":"F1239"},0.91843851099999996]
["Female",12,40,0.91547738199999995,null,{"$f":"IF(C852<'Gala Name'!C$5,\"\",LEFT(A852,1)&B852&C852)","v":"F1240"},0.91547738199999995]
["Female",12,41,0.91325242100000004,null,{"$f":"IF(C853<'Gala Name'!C$5,\"\",LEFT(A853,1)&B853&C853)","v":"F1241"},0.91325242100000004]
["Female",12,42,0.91158918300000003,null,{"$f":"IF(C854<'Gala Name'!C$5,\"\",LEFT(A854,1)&B854&C854)","v":"F1242"},0.91158918300000003]
["Female",12,43,0.91029154800000001,null,{"$f":"IF(C855<'Gala Name'!C$5,\"\",LEFT(A855,1)&B855&C855)","v":"F1243"},0.91029154800000001]
["Female",12,44,0.90914974000000004,null,{"$f":"IF(C856<'Gala Name'!C$5,\"\",LEFT(A856,1)&B856&C856)","v":"F1244"},0.90914974000000004]
["Female",12,45,0.90794772700000004,null,{"$f":"IF(C857<'Gala Name'!C$5,\"\",LEFT(A857,1)&B857&C857)","v":"F1245"},0.90794772700000004]
["Female",12,46,0.90646998000000001,null,{"$f":"IF(C858<'Gala Name'!C$5,\"\",LEFT(A858,1)&B858&C858)","v":"F1246"},0.90646998000000001]
["Female",12,47,0.90450759999999997,null,{"$f":"IF(C859<'Gala Name'!C$5,\"\",LEFT(A859,1)&B859&C859)","v":"F1247"},0.90450759999999997]
["Female",12,48,0.90186381400000004,null,{"$f":"IF(C860<'Gala Name'!C$5,\"\",LEFT(A860,1)&B860&C860)","v":"F1248"},0.90186381400000004]
["Female",12,49,0.89835883900000002,null,{"$f":"IF(C861<'Gala Name'!C$5,\"\",LEFT(A861,1)&B861&C861)","v":"F1249"},0.89835883900000002]
["Female",12,50,0.89383410900000004,null,{"$f":"IF(C862<'Gala Name'!C$5,\"\",LEFT(A862,1)&B862&C862)","v":"F1250"},0.89383410900000004]
["Female",12,51,0.88815587500000004,null,{"$f":"IF(C863<'Gala Name'!C$5,\"\",LEFT(A863,1)&B863&C863)","v":"F1251"},0.88815587500000004]
["Female",12,52,0.88121816600000002,null,{"$f":"IF(C864<'Gala Name'!C$5,\"\",LEFT(A864,1)&B864&C864)","v":"F1252"},0.88121816600000002]
["Female",12,53,0.87294512499999999,null,{"$f":"IF(C865<'Gala Name'!C$5,\"\",LEFT(A865,1)&B865&C865)","v":"F1253"},0.87294512499999999]
["Female",12,54,0.86329270199999997,null,{"$f":"IF(C866<'Gala Name'!C$5,\"\",LEFT(A866,1)&B866&C866)","v":"F1254"},0.86329270199999997]
["Female",12,55,0.85224972499999996,null,{"$f":"IF(C867<'Gala Name'!C$5,\"\",LEFT(A867,1)&B867&C867)","v":"F1255"},0.85224972499999996]
["Female",12,56,0.83983833100000005,null,{"$f":"IF(C868<'Gala Name'!C$5,\"\",LEFT(A868,1)&B868&C868)","v":"F1256"},0.83983833100000005]
["Female",12,57,0.82611376400000003,null,{"$f":"IF(C869<'Gala Name'!C$5,\"\",LEFT(A869,1)&B869&C869)","v":"F1257"},0.82611376400000003]
["Female",12,58,0.81116354899999998,null,{"$f":"IF(C870<'Gala Name'!C$5,\"\",LEFT(A870,1)&B870&C870)","v":"F1258"},0.81116354899999998]
["Female",12,59,0.79510601800000003,null,{"$f":"IF(C871<'Gala Name'!C$5,\"\",LEFT(A871,1)&B871&C871)","v":"F1259"},0.79510601800000003]
["Female",12,60,0.77808822,null,{"$f":"IF(C872<'Gala Name'!C$5,\"\",LEFT(A872,1)&B872&C872)","v":"F1260"},0.77808822]
["Female",12,61,0.76028318500000003,null,{"$f":"IF(C873<'Gala Name'!C$5,\"\",LEFT(A873,1)&B873&C873)","v":"F1261"},0.76028318500000003]
["Female",12,62,0.74188656500000005,null,{"$f":"IF(C874<'Gala Name'!C$5,\"\",LEFT(A874,1)&B874&C874)","v":"F1262"},0.74188656500000005]
["Female",12,63,0.72311263199999998,null,{"$f":"IF(C875<'Gala Name'!C$5,\"\",LEFT(A875,1)&B875&C875)","v":"F1263"},0.72311263199999998]
["Female",12,64,0.70418965300000003,null,{"$f":"IF(C876<'Gala Name'!C$5,\"\",LEFT(A876,1)&B876&C876)","v":"F1264"},0.70418965300000003]
["Female",12,65,0.68535462800000002,null,{"$f":"IF(C877<'Gala Name'!C$5,\"\",LEFT(A877,1)&B877&C877)","v":"F1265"},0.68535462800000002]
["Female",12,66,0.66684739299999995,null,{"$f":"IF(C878<'Gala Name'!C$5,\"\",LEFT(A878,1)&B878&C878)","v":"F1266"},0.66684739299999995]
["Female",12,67,0.64890409500000001,null,{"$f":"IF(C879<'Gala Name'!C$5,\"\",LEFT(A879,1)&B879&C879)","v":"F1267"},0.64890409500000001]
["Female",12,68,0.63175002899999999,null,{"$f":"IF(C880<'Gala Name'!C$5,\"\",LEFT(A880,1)&B880&C880)","v":"F1268"},0.63175002899999999]
["Female",12,69,0.615591848,null,{"$f":"IF(C881<'Gala Name'!C$5,\"\",LEFT(A881,1)&B881&C881)","v":"F1269"},0.615591848]
["Female",12,70,0.60060913599999999,null,{"$f":"IF(C882<'Gala Name'!C$5,\"\",LEFT(A882,1)&B882&C882)","v":"F1270"},0.60060913599999999]
["Female",12,71,0.58694534799999998,null,{"$f":"IF(C883<'Gala Name'!C$5,\"\",LEFT(A883,1)&B883&C883)","v":"F1271"},0.58694534799999998]
["Female",12,72,0.57469812099999995,null,{"$f":"IF(C884<'Gala Name'!C$5,\"\",LEFT(A884,1)&B884&C884)","v":"F1272"},0.57469812099999995]
["Female",12,73,0.56390894800000002,null,{"$f":"IF(C885<'Gala Name'!C$5,\"\",LEFT(A885,1)&B885&C885)","v":"F1273"},0.56390894800000002]
["Female",12,74,0.55455222199999998,null,{"$f":"IF(C886<'Gala Name'!C$5,\"\",LEFT(A886,1)&B886&C886)","v":"F1274"},0.55455222199999998]
["Female",12,75,0.546523647,null,{"$f":"IF(C887<'Gala Name'!C$5,\"\",LEFT(A887,1)&B887&C887)","v":"F1275"},0.546523647]
["Female",12,76,0.53962801299999996,null,{"$f":"IF(C888<'Gala Name'!C$5,\"\",LEFT(A888,1)&B888&C888)","v":"F1276"},0.53962801299999996]
["Female",12,77,0.53356634400000003,null,{"$f":"IF(C889<'Gala Name'!C$5,\"\",LEFT(A889,1)&B889&C889)","v":"F1277"},0.53356634400000003]
["Female",12,78,0.52792240800000001,null,{"$f":"IF(C890<'Gala Name'!C$5,\"\",LEFT(A890,1)&B890&C890)","v":"F1278"},0.52792240800000001]
["Female",12,79,0.52214859599999996,null,{"$f":"IF(C891<'Gala Name'!C$5,\"\",LEFT(A891,1)&B891&C891)","v":"F1279"},0.52214859599999996]
["Female",12,80,0.51555116899999998,null,{"$f":"IF(C892<'Gala Name'!C$5,\"\",LEFT(A892,1)&B892&C892)","v":"F1280"},0.51555116899999998]
["Female",12,81,0.50727487199999999,null,{"$f":"IF(C893<'Gala Name'!C$5,\"\",LEFT(A893,1)&B893&C893)","v":"F1281"},0.50727487199999999]
["Female",12,82,0.49628691400000002,null,{"$f":"IF(C894<'Gala Name'!C$5,\"\",LEFT(A894,1)&B894&C894)","v":"F1282"},0.49628691400000002]
["Female",12,83,0.48136031699999998,null,{"$f":"IF(C895<'Gala Name'!C$5,\"\",LEFT(A895,1)&B895&C895)","v":"F1283"},0.48136031699999998]
["Female",12,84,0.46105663099999999,null,{"$f":"IF(C896<'Gala Name'!C$5,\"\",LEFT(A896,1)&B896&C896)","v":"F1284"},0.46105663099999999]
["Female",12,85,0.43370801399999998,null,{"$f":"IF(C897<'Gala Name'!C$5,\"\",LEFT(A897,1)&B897&C897)","v":"F1285"},0.43370801399999998]
["Female",12,86,0.397398688,null,{"$f":"IF(C898<'Gala Name'!C$5,\"\",LEFT(A898,1)&B898&C898)","v":"F1286"},0.397398688]
["Female",12,87,0.349945748,null,{"$f":"IF(C899<'Gala Name'!C$5,\"\",LEFT(A899,1)&B899&C899)","v":"F1287"},{"$f":"D899","v":0.349945748}]
["Female",12,88,0.28887935300000001,null,{"$f":"IF(C900<'Gala Name'!C$5,\"\",LEFT(A900,1)&B900&C900)","v":"F1288"},0.28887935300000001]
["Female",12,89,0.21142227299999999,null,{"$f":"IF(C901<'Gala Name'!C$5,\"\",LEFT(A901,1)&B901&C901)","v":"F1289"},0.21142227299999999]
["Female",12,90,0.114468809,null,{"$f":"IF(C902<'Gala Name'!C$5,\"\",LEFT(A902,1)&B902&C902)","v":"F1290"},0.114468809]
["Female",12,91,-5.4369199999999996E-3,null,{"$f":"IF(C903<'Gala Name'!C$5,\"\",LEFT(A903,1)&B903&C903)","v":"F1291"},-5.4369199999999996E-3]
["Female",12,92,-0.152123326,null,{"$f":"IF(C904<'Gala Name'!C$5,\"\",LEFT(A904,1)&B904&C904)","v":"F1292"},-0.152123326]
["Female",12,93,-0.32981433100000002,null,{"$f":"IF(C905<'Gala Name'!C$5,\"\",LEFT(A905,1)&B905&C905)","v":"F1293"},-0.32981433100000002]
["Female",12,94,-0.54315297799999995,null,{"$f":"IF(C906<'Gala Name'!C$5,\"\",LEFT(A906,1)&B906&C906)","v":"F1294"},-0.54315297799999995]
["Female",12,95,-0.79722567899999996,null,{"$f":"IF(C907<'Gala Name'!C$5,\"\",LEFT(A907,1)&B907&C907)","v":"F1295"},-0.79722567899999996]
["Female",12,96,-1.09758709,null,{"$f":"IF(C908<'Gala Name'!C$5,\"\",LEFT(A908,1)&B908&C908)","v":"F1296"},-1.09758709]
["Female",12,97,-1.450285625,null,{"$f":"IF(C909<'Gala Name'!C$5,\"\",LEFT(A909,1)&B909&C909)","v":"F1297"},-1.450285625]
["Female",12,98,-1.861889597,null,{"$f":"IF(C910<'Gala Name'!C$5,\"\",LEFT(A910,1)&B910&C910)","v":"F1298"},-1.861889597]
["Female",12,99,-2.3395139970000001,null,{"$f":"IF(C911<'Gala Name'!C$5,\"\",LEFT(A911,1)&B911&C911)","v":"F1299"},-2.3395139970000001]
["Female",12,100,-2.8908479009999999,null,{"$f":"IF(C912<'Gala Name'!C$5,\"\",LEFT(A912,1)&B912&C912)","v":"F12100"},-2.8908479009999999]
["Female",13,25,1.0037288019999999,null,{"$f":"IF(C913<'Gala Name'!C$5,\"\",LEFT(A913,1)&B913&C913)","v":"F1325"},1.0037288019999999]
["Female",13,26,1.018883046,null,{"$f":"IF(C914<'Gala Name'!C$5,\"\",LEFT(A914,1)&B914&C914)","v":"F1326"},1.018883046]
["Female",13,27,1.029031896,null,{"$f":"IF(C915<'Gala Name'!C$5,\"\",LEFT(A915,1)&B915&C915)","v":"F1327"},1.029031896]
["Female",13,28,1.0349998300000001,null,{"$f":"IF(C916<'Gala Name'!C$5,\"\",LEFT(A916,1)&B916&C916)","v":"F1328"},1.0349998300000001]
["Female",13,29,1.037521819,null,{"$f":"IF(C917<'Gala Name'!C$5,\"\",LEFT(A917,1)&B917&C917)","v":"F1329"},1.037521819]
["Female",13,30,1.037249087,null,{"$f":"IF(C918<'Gala Name'!C$5,\"\",LEFT(A918,1)&B918&C918)","v":"F1330"},1.037249087]
["Female",13,31,1.034754704,null,{"$f":"IF(C919<'Gala Name'!C$5,\"\",LEFT(A919,1)&B919&C919)","v":"F1331"},1.034754704]
["Female",13,32,1.030539009,null,{"$f":"IF(C920<'Gala Name'!C$5,\"\",LEFT(A920,1)&B920&C920)","v":"F1332"},1.030539009]
["Female",13,33,1.025034862,null,{"$f":"IF(C921<'Gala Name'!C$5,\"\",LEFT(A921,1)&B921&C921)","v":"F1333"},1.025034862]
["Female",13,34,1.018612718,null,{"$f":"IF(C922<'Gala Name'!C$5,\"\",LEFT(A922,1)&B922&C922)","v":"F1334"},1.018612718]
["Female",13,35,1.0115855380000001,null,{"$f":"IF(C923<'Gala Name'!C$5,\"\",LEFT(A923,1)&B923&C923)","v":"F1335"},1.0115855380000001]
["Female",13,36,1.0042135249999999,null,{"$f":"IF(C924<'Gala Name'!C$5,\"\",LEFT(A924,1)&B924&C924)","v":"F1336"},1.0042135249999999]
["Female",13,37,0.99670868800000001,null,{"$f":"IF(C925<'Gala Name'!C$5,\"\",LEFT(A925,1)&B925&C925)","v":"F1337"},0.99670868800000001]
["Female",13,38,0.98923923599999997,null,{"$f":"IF(C926<'Gala Name'!C$5,\"\",LEFT(A926,1)&B926&C926)","v":"F1338"},0.98923923599999997]
["Female",13,39,0.98193380500000005,null,{"$f":"IF(C927<'Gala Name'!C$5,\"\",LEFT(A927,1)&B927&C927)","v":"F1339"},0.98193380500000005]
["Female",13,40,0.97488549999999996,null,{"$f":"IF(C928<'Gala Name'!C$5,\"\",LEFT(A928,1)&B928&C928)","v":"F1340"},0.97488549999999996]
["Female",13,41,0.96815578499999999,null,{"$f":"IF(C929<'Gala Name'!C$5,\"\",LEFT(A929,1)&B929&C929)","v":"F1341"},0.96815578499999999]
["Female",13,42,0.96177818500000001,null,{"$f":"IF(C930<'Gala Name'!C$5,\"\",LEFT(A930,1)&B930&C930)","v":"F1342"},0.96177818500000001]
["Female",13,43,0.95576182799999998,null,{"$f":"IF(C931<'Gala Name'!C$5,\"\",LEFT(A931,1)&B931&C931)","v":"F1343"},0.95576182799999998]
["Female",13,44,0.95009480800000001,null,{"$f":"IF(C932<'Gala Name'!C$5,\"\",LEFT(A932,1)&B932&C932)","v":"F1344"},0.95009480800000001]
["Female",13,45,0.94474738199999997,null,{"$f":"IF(C933<'Gala Name'!C$5,\"\",LEFT(A933,1)&B933&C933)","v":"F1345"},0.94474738199999997]
["Female",13,46,0.93967499300000001,null,{"$f":"IF(C934<'Gala Name'!C$5,\"\",LEFT(A934,1)&B934&C934)","v":"F1346"},0.93967499300000001]
["Female",13,47,0.93482112399999995,null,{"$f":"IF(C935<'Gala Name'!C$5,\"\",LEFT(A935,1)&B935&C935)","v":"F1347"},0.93482112399999995]
["Female",13,48,0.93011997599999996,null,{"$f":"IF(C936<'Gala Name'!C$5,\"\",LEFT(A936,1)&B936&C936)","v":"F1348"},0.93011997599999996]
["Female",13,49,0.925498983,null,{"$f":"IF(C937<'Gala Name'!C$5,\"\",LEFT(A937,1)&B937&C937)","v":"F1349"},0.925498983]
["Female",13,50,0.92088114499999996,null,{"$f":"IF(C938<'Gala Name'!C$5,\"\",LEFT(A938,1)&B938&C938)","v":"F1350"},0.92088114499999996]
["Female",13,51,0.91618720099999995,null,{"$f":"IF(C939<'Gala Name'!C$5,\"\",LEFT(A939,1)&B939&C939)","v":"F1351"},0.91618720099999995]
["Female",13,52,0.91133762100000004,null,{"$f":"IF(C940<'Gala Name'!C$5,\"\",LEFT(A940,1)&B940&C940)","v":"F1352"},0.91133762100000004]
["Female",13,53,0.90625443500000002,null,{"$f":"IF(C941<'Gala Name'!C$5,\"\",LEFT(A941,1)&B941&C941)","v":"F1353"},0.90625443500000002]
["Female",13,54,0.900862881,null,{"$f":"IF(C942<'Gala Name'!C$5,\"\",LEFT(A942,1)&B942&C942)","v":"F1354"},0.900862881]
["Female",13,55,0.89509289400000003,null,{"$f":"IF(C943<'Gala Name'!C$5,\"\",LEFT(A943,1)&B943&C943)","v":"F1355"},0.89509289400000003]
["Female",13,56,0.88888041399999995,null,{"$f":"IF(C944<'Gala Name'!C$5,\"\",LEFT(A944,1)&B944&C944)","v":"F1356"},0.88888041399999995]
["Female",13,57,0.88216852499999998,null,{"$f":"IF(C945<'Gala Name'!C$5,\"\",LEFT(A945,1)&B945&C945)","v":"F1357"},0.88216852499999998]
["Female",13,58,0.87490842599999996,null,{"$f":"IF(C946<'Gala Name'!C$5,\"\",LEFT(A946,1)&B946&C946)","v":"F1358"},0.87490842599999996]
["Female",13,59,0.86706022699999996,null,{"$f":"IF(C947<'Gala Name'!C$5,\"\",LEFT(A947,1)&B947&C947)","v":"F1359"},0.86706022699999996]
["Female",13,60,0.85859357700000005,null,{"$f":"IF(C948<'Gala Name'!C$5,\"\",LEFT(A948,1)&B948&C948)","v":"F1360"},0.85859357700000005]
["Female",13,61,0.84948811499999999,null,{"$f":"IF(C949<'Gala Name'!C$5,\"\",LEFT(A949,1)&B949&C949)","v":"F1361"},0.84948811499999999]
["Female",13,62,0.83973375800000005,null,{"$f":"IF(C950<'Gala Name'!C$5,\"\",LEFT(A950,1)&B950&C950)","v":"F1362"},0.83973375800000005]
["Female",13,63,0.82933081200000003,null,{"$f":"IF(C951<'Gala Name'!C$5,\"\",LEFT(A951,1)&B951&C951)","v":"F1363"},0.82933081200000003]
["Female",13,64,0.81828991299999998,null,{"$f":"IF(C952<'Gala Name'!C$5,\"\",LEFT(A952,1)&B952&C952)","v":"F1364"},0.81828991299999998]
["Female",13,65,0.80663179699999998,null,{"$f":"IF(C953<'Gala Name'!C$5,\"\",LEFT(A953,1)&B953&C953)","v":"F1365"},0.80663179699999998]
["Female",13,66,0.79438689600000001,null,{"$f":"IF(C954<'Gala Name'!C$5,\"\",LEFT(A954,1)&B954&C954)","v":"F1366"},0.79438689600000001]
["Female",13,67,0.78159477200000005,null,{"$f":"IF(C955<'Gala Name'!C$5,\"\",LEFT(A955,1)&B955&C955)","v":"F1367"},0.78159477200000005]
["Female",13,68,0.76830336700000001,null,{"$f":"IF(C956<'Gala Name'!C$5,\"\",LEFT(A956,1)&B956&C956)","v":"F1368"},0.76830336700000001]
["Female",13,69,0.75456808900000005,null,{"$f":"IF(C957<'Gala Name'!C$5,\"\",LEFT(A957,1)&B957&C957)","v":"F1369"},0.75456808900000005]
["Female",13,70,0.74045072999999995,null,{"$f":"IF(C958<'Gala Name'!C$5,\"\",LEFT(A958,1)&B958&C958)","v":"F1370"},0.74045072999999995]
["Female",13,71,0.72601820100000003,null,{"$f":"IF(C959<'Gala Name'!C$5,\"\",LEFT(A959,1)&B959&C959)","v":"F1371"},0.72601820100000003]
["Female",13,72,0.71134111099999997,null,{"$f":"IF(C960<'Gala Name'!C$5,\"\",LEFT(A960,1)&B960&C960)","v":"F1372"},0.71134111099999997]
["Female",13,73,0.69649216000000003,null,{"$f":"IF(C961<'Gala Name'!C$5,\"\",LEFT(A961,1)&B961&C961)","v":"F1373"},0.69649216000000003]
["Female",13,74,0.68154437300000004,null,{"$f":"IF(C962<'Gala Name'!C$5,\"\",LEFT(A962,1)&B962&C962)","v":"F1374"},0.68154437300000004]
["Female",13,75,0.66656915299999997,null,{"$f":"IF(C963<'Gala Name'!C$5,\"\",LEFT(A963,1)&B963&C963)","v":"F1375"},{"$f":"D963","v":0.66656915299999997}]
["Female",13,76,0.65163417199999996,null,{"$f":"IF(C964<'Gala Name'!C$5,\"\",LEFT(A964,1)&B964&C964)","v":"F1376"},0.65163417199999996]
["Female",13,77,0.63680107900000005,null,{"$f":"IF(C965<'Gala Name'!C$5,\"\",LEFT(A965,1)&B965&C965)","v":"F1377"},0.63680107900000005]
["Female",13,78,0.62212305199999995,null,{"$f":"IF(C966<'Gala Name'!C$5,\"\",LEFT(A966,1)&B966&C966)","v":"F1378"},0.62212305199999995]
["Female",13,79,0.60764216199999999,null,{"$f":"IF(C967<'Gala Name'!C$5,\"\",LEFT(A967,1)&B967&C967)","v":"F1379"},0.60764216199999999]
["Female",13,80,0.59338658099999997,null,{"$f":"IF(C968<'Gala Name'!C$5,\"\",LEFT(A968,1)&B968&C968)","v":"F1380"},0.59338658099999997]
["Female",13,81,0.57936760700000001,null,{"$f":"IF(C969<'Gala Name'!C$5,\"\",LEFT(A969,1)&B969&C969)","v":"F1381"},0.57936760700000001]
["Female",13,82,0.565576525,null,{"$f":"IF(C970<'Gala Name'!C$5,\"\",LEFT(A970,1)&B970&C970)","v":"F1382"},0.565576525]
["Female",13,83,0.55198129299999998,null,{"$f":"IF(C971<'Gala Name'!C$5,\"\",LEFT(A971,1)&B971&C971)","v":"F1383"},0.55198129299999998]
["Female",13,84,0.53852306000000005,null,{"$f":"IF(C972<'Gala Name'!C$5,\"\",LEFT(A972,1)&B972&C972)","v":"F1384"},0.53852306000000005]
["Female",13,85,0.52511250899999995,null,{"$f":"IF(C973<'Gala Name'!C$5,\"\",LEFT(A973,1)&B973&C973)","v":"F1385"},0.52511250899999995]
["Female",13,86,0.51162602999999995,null,{"$f":"IF(C974<'Gala Name'!C$5,\"\",LEFT(A974,1)&B974&C974)","v":"F1386"},0.51162602999999995]
["Female",13,87,0.49790172500000002,null,{"$f":"IF(C975<'Gala Name'!C$5,\"\",LEFT(A975,1)&B975&C975)","v":"F1387"},0.49790172500000002]
["Female",13,88,0.48373523600000001,null,{"$f":"IF(C976<'Gala Name'!C$5,\"\",LEFT(A976,1)&B976&C976)","v":"F1388"},0.48373523600000001]
["Female",13,89,0.46887540599999999,null,{"$f":"IF(C977<'Gala Name'!C$5,\"\",LEFT(A977,1)&B977&C977)","v":"F1389"},0.46887540599999999]
["Female",13,90,0.45301976900000002,null,{"$f":"IF(C978<'Gala Name'!C$5,\"\",LEFT(A978,1)&B978&C978)","v":"F1390"},0.45301976900000002]
["Female",13,91,0.43580986500000002,null,{"$f":"IF(C979<'Gala Name'!C$5,\"\",LEFT(A979,1)&B979&C979)","v":"F1391"},0.43580986500000002]
["Female",13,92,0.41682638599999999,null,{"$f":"IF(C980<'Gala Name'!C$5,\"\",LEFT(A980,1)&B980&C980)","v":"F1392"},0.41682638599999999]
["Female",13,93,0.39558415200000002,null,{"$f":"IF(C981<'Gala Name'!C$5,\"\",LEFT(A981,1)&B981&C981)","v":"F1393"},0.39558415200000002]
["Female",13,94,0.37152691599999998,null,{"$f":"IF(C982<'Gala Name'!C$5,\"\",LEFT(A982,1)&B982&C982)","v":"F1394"},0.37152691599999998]
["Female",13,95,0.34402199100000003,null,{"$f":"IF(C983<'Gala Name'!C$5,\"\",LEFT(A983,1)&B983&C983)","v":"F1395"},0.34402199100000003]
["Female",13,96,0.312354717,null,{"$f":"IF(C984<'Gala Name'!C$5,\"\",LEFT(A984,1)&B984&C984)","v":"F1396"},0.312354717]
["Female",13,97,0.27572274499999999,null,{"$f":"IF(C985<'Gala Name'!C$5,\"\",LEFT(A985,1)&B985&C985)","v":"F1397"},0.27572274499999999]
["Female",13,98,0.23323016199999999,null,{"$f":"IF(C986<'Gala Name'!C$5,\"\",LEFT(A986,1)&B986&C986)","v":"F1398"},0.23323016199999999]
["Female",13,99,0.18388143200000001,null,{"$f":"IF(C987<'Gala Name'!C$5,\"\",LEFT(A987,1)&B987&C987)","v":"F1399"},0.18388143200000001]
["Female",13,100,0.12657517400000001,null,{"$f":"IF(C988<'Gala Name'!C$5,\"\",LEFT(A988,1)&B988&C988)","v":"F13100"},0.12657517400000001]
["Female",14,25,1.0011111960000001,null,{"$f":"IF(C989<'Gala Name'!C$5,\"\",LEFT(A989,1)&B989&C989)","v":"F1425"},1.0011111960000001]
["Female",14,26,1.0079056980000001,null,{"$f":"IF(C990<'Gala Name'!C$5,\"\",LEFT(A990,1)&B990&C990)","v":"F1426"},1.0079056980000001]
["Female",14,27,1.012773881,null,{"$f":"IF(C991<'Gala Name'!C$5,\"\",LEFT(A991,1)&B991&C991)","v":"F1427"},1.012773881]
["Female",14,28,1.015960717,null,{"$f":"IF(C992<'Gala Name'!C$5,\"\",LEFT(A992,1)&B992&C992)","v":"F1428"},1.015960717]
["Female",14,29,1.017686509,null,{"$f":"IF(C993<'Gala Name'!C$5,\"\",LEFT(A993,1)&B993&C993)","v":"F1429"},1.017686509]
["Female",14,30,1.0181484510000001,null,{"$f":"IF(C994<'Gala Name'!C$5,\"\",LEFT(A994,1)&B994&C994)","v":"F1430"},1.0181484510000001]
["Female",14,31,1.017522144,null,{"$f":"IF(C995<'Gala Name'!C$5,\"\",LEFT(A995,1)&B995&C995)","v":"F1431"},1.017522144]
["Female",14,32,1.015963068,null,{"$f":"IF(C996<'Gala Name'!C$5,\"\",LEFT(A996,1)&B996&C996)","v":"F1432"},1.015963068]
["Female",14,33,1.0136080000000001,null,{"$f":"IF(C997<'Gala Name'!C$5,\"\",LEFT(A997,1)&B997&C997)","v":"F1433"},1.0136080000000001]
["Female",14,34,1.0105763889999999,null,{"$f":"IF(C998<'Gala Name'!C$5,\"\",LEFT(A998,1)&B998&C998)","v":"F1434"},1.0105763889999999]
["Female",14,35,1.0069716849999999,null,{"$f":"IF(C999<'Gala Name'!C$5,\"\",LEFT(A999,1)&B999&C999)","v":"F1435"},1.0069716849999999]
["Female",14,36,1.002882619,null,{"$f":"IF(C1000<'Gala Name'!C$5,\"\",LEFT(A1000,1)&B1000&C1000)","v":"F1436"},1.002882619]
["Female",14,37,0.99838443499999996,null,{"$f":"IF(C1001<'Gala Name'!C$5,\"\",LEFT(A1001,1)&B1001&C1001)","v":"F1437"},0.99838443499999996]
["Female",14,38,0.99354007600000005,null,{"$f":"IF(C1002<'Gala Name'!C$5,\"\",LEFT(A1002,1)&B1002&C1002)","v":"F1438"},0.99354007600000005]
["Female",14,39,0.98840132199999997,null,{"$f":"IF(C1003<'Gala Name'!C$5,\"\",LEFT(A1003,1)&B1003&C1003)","v":"F1439"},0.98840132199999997]
["Female",14,40,0.98300988700000003,null,{"$f":"IF(C1004<'Gala Name'!C$5,\"\",LEFT(A1004,1)&B1004&C1004)","v":"F1440"},0.98300988700000003]
["Female",14,41,0.97739845400000003,null,{"$f":"IF(C1005<'Gala Name'!C$5,\"\",LEFT(A1005,1)&B1005&C1005)","v":"F1441"},0.97739845400000003]
["Female",14,42,0.97159168100000004,null,{"$f":"IF(C1006<'Gala Name'!C$5,\"\",LEFT(A1006,1)&B1006&C1006)","v":"F1442"},0.97159168100000004]
["Female",14,43,0.965607149,null,{"$f":"IF(C1007<'Gala Name'!C$5,\"\",LEFT(A1007,1)&B1007&C1007)","v":"F1443"},0.965607149]
["Female",14,44,0.95945626100000003,null,{"$f":"IF(C1008<'Gala Name'!C$5,\"\",LEFT(A1008,1)&B1008&C1008)","v":"F1444"},0.95945626100000003]
["Female",14,45,0.95314510500000005,null,{"$f":"IF(C1009<'Gala Name'!C$5,\"\",LEFT(A1009,1)&B1009&C1009)","v":"F1445"},0.95314510500000005]
["Female",14,46,0.94667525500000005,null,{"$f":"IF(C1010<'Gala Name'!C$5,\"\",LEFT(A1010,1)&B1010&C1010)","v":"F1446"},0.94667525500000005]
["Female",14,47,0.94004454000000004,null,{"$f":"IF(C1011<'Gala Name'!C$5,\"\",LEFT(A1011,1)&B1011&C1011)","v":"F1447"},0.94004454000000004]
["Female",14,48,0.93324775400000004,null,{"$f":"IF(C1012<'Gala Name'!C$5,\"\",LEFT(A1012,1)&B1012&C1012)","v":"F1448"},0.93324775400000004]
["Female",14,49,0.92627732500000004,null,{"$f":"IF(C1013<'Gala Name'!C$5,\"\",LEFT(A1013,1)&B1013&C1013)","v":"F1449"},0.92627732500000004]
["Female",14,50,0.91912393599999997,null,{"$f":"IF(C1014<'Gala Name'!C$5,\"\",LEFT(A1014,1)&B1014&C1014)","v":"F1450"},0.91912393599999997]
["Female",14,51,0.91177709699999998,null,{"$f":"IF(C1015<'Gala Name'!C$5,\"\",LEFT(A1015,1)&B1015&C1015)","v":"F1451"},0.91177709699999998]
["Female",14,52,0.90422567099999995,null,{"$f":"IF(C1016<'Gala Name'!C$5,\"\",LEFT(A1016,1)&B1016&C1016)","v":"F1452"},0.90422567099999995]
["Female",14,53,0.89645835399999996,null,{"$f":"IF(C1017<'Gala Name'!C$5,\"\",LEFT(A1017,1)&B1017&C1017)","v":"F1453"},0.89645835399999996]
["Female",14,54,0.88846410499999995,null,{"$f":"IF(C1018<'Gala Name'!C$5,\"\",LEFT(A1018,1)&B1018&C1018)","v":"F1454"},0.88846410499999995]
["Female",14,55,0.88023253300000004,null,{"$f":"IF(C1019<'Gala Name'!C$5,\"\",LEFT(A1019,1)&B1019&C1019)","v":"F1455"},0.88023253300000004]
["Female",14,56,0.87175423299999999,null,{"$f":"IF(C1020<'Gala Name'!C$5,\"\",LEFT(A1020,1)&B1020&C1020)","v":"F1456"},0.87175423299999999]
["Female",14,57,0.86302107800000005,null,{"$f":"IF(C1021<'Gala Name'!C$5,\"\",LEFT(A1021,1)&B1021&C1021)","v":"F1457"},0.86302107800000005]
["Female",14,58,0.85402645799999999,null,{"$f":"IF(C1022<'Gala Name'!C$5,\"\",LEFT(A1022,1)&B1022&C1022)","v":"F1458"},0.85402645799999999]
["Female",14,59,0.84476548100000004,null,{"$f":"IF(C1023<'Gala Name'!C$5,\"\",LEFT(A1023,1)&B1023&C1023)","v":"F1459"},0.84476548100000004]
["Female",14,60,0.83523512099999997,null,{"$f":"IF(C1024<'Gala Name'!C$5,\"\",LEFT(A1024,1)&B1024&C1024)","v":"F1460"},0.83523512099999997]
["Female",14,61,0.825434318,null,{"$f":"IF(C1025<'Gala Name'!C$5,\"\",LEFT(A1025,1)&B1025&C1025)","v":"F1461"},0.825434318]
["Female",14,62,0.81536403199999996,null,{"$f":"IF(C1026<'Gala Name'!C$5,\"\",LEFT(A1026,1)&B1026&C1026)","v":"F1462"},0.81536403199999996]
["Female",14,63,0.80502725399999997,null,{"$f":"IF(C1027<'Gala Name'!C$5,\"\",LEFT(A1027,1)&B1027&C1027)","v":"F1463"},{"$f":"D1027","v":0.80502725399999997}]
["Female",14,64,0.79442896600000001,null,{"$f":"IF(C1028<'Gala Name'!C$5,\"\",LEFT(A1028,1)&B1028&C1028)","v":"F1464"},0.79442896600000001]
["Female",14,65,0.783576049,null,{"$f":"IF(C1029<'Gala Name'!C$5,\"\",LEFT(A1029,1)&B1029&C1029)","v":"F1465"},0.783576049]
["Female",14,66,0.77247715699999997,null,{"$f":"IF(C1030<'Gala Name'!C$5,\"\",LEFT(A1030,1)&B1030&C1030)","v":"F1466"},0.77247715699999997]
["Female",14,67,0.76114252900000001,null,{"$f":"IF(C1031<'Gala Name'!C$5,\"\",LEFT(A1031,1)&B1031&C1031)","v":"F1467"},0.76114252900000001]
["Female",14,68,0.74958376699999996,null,{"$f":"IF(C1032<'Gala Name'!C$5,\"\",LEFT(A1032,1)&B1032&C1032)","v":"F1468"},0.74958376699999996]
["Female",14,69,0.73781355599999998,null,{"$f":"IF(C1033<'Gala Name'!C$5,\"\",LEFT(A1033,1)&B1033&C1033)","v":"F1469"},0.73781355599999998]
["Female",14,70,0.725845344,null,{"$f":"IF(C1034<'Gala Name'!C$5,\"\",LEFT(A1034,1)&B1034&C1034)","v":"F1470"},0.725845344]
["Female",14,71,0.71369297099999995,null,{"$f":"IF(C1035<'Gala Name'!C$5,\"\",LEFT(A1035,1)&B1035&C1035)","v":"F1471"},0.71369297099999995]
["Female",14,72,0.70137025600000003,null,{"$f":"IF(C1036<'Gala Name'!C$5,\"\",LEFT(A1036,1)&B1036&C1036)","v":"F1472"},0.70137025600000003]
["Female",14,73,0.688890526,null,{"$f":"IF(C1037<'Gala Name'!C$5,\"\",LEFT(A1037,1)&B1037&C1037)","v":"F1473"},0.688890526]
["Female",14,74,0.676266115,null,{"$f":"IF(C1038<'Gala Name'!C$5,\"\",LEFT(A1038,1)&B1038&C1038)","v":"F1474"},0.676266115]
["Female",14,75,0.66350779599999998,null,{"$f":"IF(C1039<'Gala Name'!C$5,\"\",LEFT(A1039,1)&B1039&C1039)","v":"F1475"},0.66350779599999998]
["Female",14,76,0.65062418300000002,null,{"$f":"IF(C1040<'Gala Name'!C$5,\"\",LEFT(A1040,1)&B1040&C1040)","v":"F1476"},0.65062418300000002]
["Female",14,77,0.63762107599999995,null,{"$f":"IF(C1041<'Gala Name'!C$5,\"\",LEFT(A1041,1)&B1041&C1041)","v":"F1477"},0.63762107599999995]
["Female",14,78,0.62450075999999999,null,{"$f":"IF(C1042<'Gala Name'!C$5,\"\",LEFT(A1042,1)&B1042&C1042)","v":"F1478"},0.62450075999999999]
["Female",14,79,0.61126126199999997,null,{"$f":"IF(C1043<'Gala Name'!C$5,\"\",LEFT(A1043,1)&B1043&C1043)","v":"F1479"},0.61126126199999997]
["Female",14,80,0.59789555400000005,null,{"$f":"IF(C1044<'Gala Name'!C$5,\"\",LEFT(A1044,1)&B1044&C1044)","v":"F1480"},0.59789555400000005]
["Female",14,81,0.58439071399999998,null,{"$f":"IF(C1045<'Gala Name'!C$5,\"\",LEFT(A1045,1)&B1045&C1045)","v":"F1481"},0.58439071399999998]
["Female",14,82,0.57072703899999999,null,{"$f":"IF(C1046<'Gala Name'!C$5,\"\",LEFT(A1046,1)&B1046&C1046)","v":"F1482"},0.57072703899999999]
["Female",14,83,0.55687710499999998,null,{"$f":"IF(C1047<'Gala Name'!C$5,\"\",LEFT(A1047,1)&B1047&C1047)","v":"F1483"},0.55687710499999998]
["Female",14,84,0.54280479100000001,null,{"$f":"IF(C1048<'Gala Name'!C$5,\"\",LEFT(A1048,1)&B1048&C1048)","v":"F1484"},0.54280479100000001]
["Female",14,85,0.528464245,null,{"$f":"IF(C1049<'Gala Name'!C$5,\"\",LEFT(A1049,1)&B1049&C1049)","v":"F1485"},0.528464245]
["Female",14,86,0.51379881199999999,null,{"$f":"IF(C1050<'Gala Name'!C$5,\"\",LEFT(A1050,1)&B1050&C1050)","v":"F1486"},0.51379881199999999]
["Female",14,87,0.49873990400000001,null,{"$f":"IF(C1051<'Gala Name'!C$5,\"\",LEFT(A1051,1)&B1051&C1051)","v":"F1487"},0.49873990400000001]
["Female",14,88,0.48320583499999997,null,{"$f":"IF(C1052<'Gala Name'!C$5,\"\",LEFT(A1052,1)&B1052&C1052)","v":"F1488"},0.48320583499999997]
["Female",14,89,0.46710059999999998,null,{"$f":"IF(C1053<'Gala Name'!C$5,\"\",LEFT(A1053,1)&B1053&C1053)","v":"F1489"},0.46710059999999998]
["Female",14,90,0.45031261099999997,null,{"$f":"IF(C1054<'Gala Name'!C$5,\"\",LEFT(A1054,1)&B1054&C1054)","v":"F1490"},0.45031261099999997]
["Female",14,91,0.43271338500000001,null,{"$f":"IF(C1055<'Gala Name'!C$5,\"\",LEFT(A1055,1)&B1055&C1055)","v":"F1491"},0.43271338500000001]
["Female",14,92,0.41415618399999998,null,{"$f":"IF(C1056<'Gala Name'!C$5,\"\",LEFT(A1056,1)&B1056&C1056)","v":"F1492"},0.41415618399999998]
["Female",14,93,0.394474608,null,{"$f":"IF(C1057<'Gala Name'!C$5,\"\",LEFT(A1057,1)&B1057&C1057)","v":"F1493"},0.394474608]
["Female",14,94,0.37348114399999999,null,{"$f":"IF(C1058<'Gala Name'!C$5,\"\",LEFT(A1058,1)&B1058&C1058)","v":"F1494"},0.37348114399999999]
["Female",14,95,0.35096566099999998,null,{"$f":"IF(C1059<'Gala Name'!C$5,\"\",LEFT(A1059,1)&B1059&C1059)","v":"F1495"},0.35096566099999998]
["Female",14,96,0.32669386700000003,null,{"$f":"IF(C1060<'Gala Name'!C$5,\"\",LEFT(A1060,1)&B1060&C1060)","v":"F1496"},0.32669386700000003]
["Female",14,97,0.30040570900000002,null,{"$f":"IF(C1061<'Gala Name'!C$5,\"\",LEFT(A1061,1)&B1061&C1061)","v":"F1497"},0.30040570900000002]
["Female",14,98,0.27181373599999997,null,{"$f":"IF(C1062<'Gala Name'!C$5,\"\",LEFT(A1062,1)&B1062&C1062)","v":"F1498"},0.27181373599999997]
["Female",14,99,0.24060140499999999,null,{"$f":"IF(C1063<'Gala Name'!C$5,\"\",LEFT(A1063,1)&B1063&C1063)","v":"F1499"},0.24060140499999999]
["Female",14,100,0.206421349,null,{"$f":"IF(C1064<'Gala Name'!C$5,\"\",LEFT(A1064,1)&B1064&C1064)","v":"F14100"},0.206421349]
["Female",15,25,1.001131786,null,{"$f":"IF(C1065<'Gala Name'!C$5,\"\",LEFT(A1065,1)&B1065&C1065)","v":"F1525"},1.001131786]
["Female",15,26,1.002962377,null,{"$f":"IF(C1066<'Gala Name'!C$5,\"\",LEFT(A1066,1)&B1066&C1066)","v":"F1526"},1.002962377]
["Female",15,27,1.004019716,null,{"$f":"IF(C1067<'Gala Name'!C$5,\"\",LEFT(A1067,1)&B1067&C1067)","v":"F1527"},1.004019716]
["Female",15,28,1.0043761410000001,null,{"$f":"IF(C1068<'Gala Name'!C$5,\"\",LEFT(A1068,1)&B1068&C1068)","v":"F1528"},1.0043761410000001]
["Female",15,29,1.0040952190000001,null,{"$f":"IF(C1069<'Gala Name'!C$5,\"\",LEFT(A1069,1)&B1069&C1069)","v":"F1529"},1.0040952190000001]
["Female",15,30,1.003232466,null,{"$f":"IF(C1070<'Gala Name'!C$5,\"\",LEFT(A1070,1)&B1070&C1070)","v":"F1530"},1.003232466]
["Female",15,31,1.0018360399999999,null,{"$f":"IF(C1071<'Gala Name'!C$5,\"\",LEFT(A1071,1)&B1071&C1071)","v":"F1531"},1.0018360399999999]
["Female",15,32,0.99994740999999998,null,{"$f":"IF(C1072<'Gala Name'!C$5,\"\",LEFT(A1072,1)&B1072&C1072)","v":"F1532"},0.99994740999999998]
["Female",15,33,0.99760199500000002,null,{"$f":"IF(C1073<'Gala Name'!C$5,\"\",LEFT(A1073,1)&B1073&C1073)","v":"F1533"},0.99760199500000002]
["Female",15,34,0.99482977800000005,null,{"$f":"IF(C1074<'Gala Name'!C$5,\"\",LEFT(A1074,1)&B1074&C1074)","v":"F1534"},0.99482977800000005]
["Female",15,35,0.99165588999999998,null,{"$f":"IF(C1075<'Gala Name'!C$5,\"\",LEFT(A1075,1)&B1075&C1075)","v":"F1535"},0.99165588999999998]
["Female",15,36,0.988101169,null,{"$f":"IF(C1076<'Gala Name'!C$5,\"\",LEFT(A1076,1)&B1076&C1076)","v":"F1536"},0.988101169]
["Female",15,37,0.98418269300000005,null,{"$f":"IF(C1077<'Gala Name'!C$5,\"\",LEFT(A1077,1)&B1077&C1077)","v":"F1537"},0.98418269300000005]
["Female",15,38,0.979914281,null,{"$f":"IF(C1078<'Gala Name'!C$5,\"\",LEFT(A1078,1)&B1078&C1078)","v":"F1538"},0.979914281]
["Female",15,39,0.97530697300000002,null,{"$f":"IF(C1079<'Gala Name'!C$5,\"\",LEFT(A1079,1)&B1079&C1079)","v":"F1539"},0.97530697300000002]
["Female",15,40,0.97036947699999998,null,{"$f":"IF(C1080<'Gala Name'!C$5,\"\",LEFT(A1080,1)&B1080&C1080)","v":"F1540"},0.97036947699999998]
["Female",15,41,0.96510859199999999,null,{"$f":"IF(C1081<'Gala Name'!C$5,\"\",LEFT(A1081,1)&B1081&C1081)","v":"F1541"},0.96510859199999999]
["Female",15,42,0.95952960499999995,null,{"$f":"IF(C1082<'Gala Name'!C$5,\"\",LEFT(A1082,1)&B1082&C1082)","v":"F1542"},0.95952960499999995]
["Female",15,43,0.953636657,null,{"$f":"IF(C1083<'Gala Name'!C$5,\"\",LEFT(A1083,1)&B1083&C1083)","v":"F1543"},0.953636657]
["Female",15,44,0.94743308400000004,null,{"$f":"IF(C1084<'Gala Name'!C$5,\"\",LEFT(A1084,1)&B1084&C1084)","v":"F1544"},0.94743308400000004]
["Female",15,45,0.94092173400000001,null,{"$f":"IF(C1085<'Gala Name'!C$5,\"\",LEFT(A1085,1)&B1085&C1085)","v":"F1545"},0.94092173400000001]
["Female",15,46,0.934105246,null,{"$f":"IF(C1086<'Gala Name'!C$5,\"\",LEFT(A1086,1)&B1086&C1086)","v":"F1546"},0.934105246]
["Female",15,47,0.92698631899999995,null,{"$f":"IF(C1087<'Gala Name'!C$5,\"\",LEFT(A1087,1)&B1087&C1087)","v":"F1547"},0.92698631899999995]
["Female",15,48,0.919567935,null,{"$f":"IF(C1088<'Gala Name'!C$5,\"\",LEFT(A1088,1)&B1088&C1088)","v":"F1548"},0.919567935]
["Female",15,49,0.91185356900000003,null,{"$f":"IF(C1089<'Gala Name'!C$5,\"\",LEFT(A1089,1)&B1089&C1089)","v":"F1549"},0.91185356900000003]
["Female",15,50,0.90384736799999998,null,{"$f":"IF(C1090<'Gala Name'!C$5,\"\",LEFT(A1090,1)&B1090&C1090)","v":"F1550"},0.90384736799999998]
["Female",15,51,0.89555429399999997,null,{"$f":"IF(C1091<'Gala Name'!C$5,\"\",LEFT(A1091,1)&B1091&C1091)","v":"F1551"},{"$f":"D1091","v":0.89555429399999997}]
["Female",15,52,0.88698025599999997,null,{"$f":"IF(C1092<'Gala Name'!C$5,\"\",LEFT(A1092,1)&B1092&C1092)","v":"F1552"},0.88698025599999997]
["Female",15,53,0.878132201,null,{"$f":"IF(C1093<'Gala Name'!C$5,\"\",LEFT(A1093,1)&B1093&C1093)","v":"F1553"},0.878132201]
["Female",15,54,0.869018183,null,{"$f":"IF(C1094<'Gala Name'!C$5,\"\",LEFT(A1094,1)&B1094&C1094)","v":"F1554"},0.869018183]
["Female",15,55,0.85964740799999995,null,{"$f":"IF(C1095<'Gala Name'!C$5,\"\",LEFT(A1095,1)&B1095&C1095)","v":"F1555"},0.85964740799999995]
["Female",15,56,0.85003024199999999,null,{"$f":"IF(C1096<'Gala Name'!C$5,\"\",LEFT(A1096,1)&B1096&C1096)","v":"F1556"},0.85003024199999999]
["Female",15,57,0.84017820700000001,null,{"$f":"IF(C1097<'Gala Name'!C$5,\"\",LEFT(A1097,1)&B1097&C1097)","v":"F1557"},0.84017820700000001]
["Female",15,58,0.83010393299999996,null,{"$f":"IF(C1098<'Gala Name'!C$5,\"\",LEFT(A1098,1)&B1098&C1098)","v":"F1558"},0.83010393299999996]
["Female",15,59,0.819821095,null,{"$f":"IF(C1099<'Gala Name'!C$5,\"\",LEFT(A1099,1)&B1099&C1099)","v":"F1559"},0.819821095]
["Female",15,60,0.80934431799999995,null,{"$f":"IF(C1100<'Gala Name'!C$5,\"\",LEFT(A1100,1)&B1100&C1100)","v":"F1560"},0.80934431799999995]
["Female",15,61,0.79868905599999995,null,{"$f":"IF(C1101<'Gala Name'!C$5,\"\",LEFT(A1101,1)&B1101&C1101)","v":"F1561"},0.79868905599999995]
["Female",15,62,0.78787143999999998,null,{"$f":"IF(C1102<'Gala Name'!C$5,\"\",LEFT(A1102,1)&B1102&C1102)","v":"F1562"},0.78787143999999998]
["Female",15,63,0.77690810799999999,null,{"$f":"IF(C1103<'Gala Name'!C$5,\"\",LEFT(A1103,1)&B1103&C1103)","v":"F1563"},0.77690810799999999]
["Female",15,64,0.76581599499999997,null,{"$f":"IF(C1104<'Gala Name'!C$5,\"\",LEFT(A1104,1)&B1104&C1104)","v":"F1564"},0.76581599499999997]
["Female",15,65,0.754612108,null,{"$f":"IF(C1105<'Gala Name'!C$5,\"\",LEFT(A1105,1)&B1105&C1105)","v":"F1565"},0.754612108]
["Female",15,66,0.74331326600000003,null,{"$f":"IF(C1106<'Gala Name'!C$5,\"\",LEFT(A1106,1)&B1106&C1106)","v":"F1566"},0.74331326600000003]
["Female",15,67,0.73193581500000005,null,{"$f":"IF(C1107<'Gala Name'!C$5,\"\",LEFT(A1107,1)&B1107&C1107)","v":"F1567"},0.73193581500000005]
["Female",15,68,0.720495318,null,{"$f":"IF(C1108<'Gala Name'!C$5,\"\",LEFT(A1108,1)&B1108&C1108)","v":"F1568"},0.720495318]
["Female",15,69,0.70900621100000005,null,{"$f":"IF(C1109<'Gala Name'!C$5,\"\",LEFT(A1109,1)&B1109&C1109)","v":"F1569"},0.70900621100000005]
["Female",15,70,0.69748144599999995,null,{"$f":"IF(C1110<'Gala Name'!C$5,\"\",LEFT(A1110,1)&B1110&C1110)","v":"F1570"},0.69748144599999995]
["Female",15,71,0.68593208500000002,null,{"$f":"IF(C1111<'Gala Name'!C$5,\"\",LEFT(A1111,1)&B1111&C1111)","v":"F1571"},0.68593208500000002]
["Female",15,72,0.674366892,null,{"$f":"IF(C1112<'Gala Name'!C$5,\"\",LEFT(A1112,1)&B1112&C1112)","v":"F1572"},0.674366892]
["Female",15,73,0.66279187299999998,null,{"$f":"IF(C1113<'Gala Name'!C$5,\"\",LEFT(A1113,1)&B1113&C1113)","v":"F1573"},0.66279187299999998]
["Female",15,74,0.65120981200000005,null,{"$f":"IF(C1114<'Gala Name'!C$5,\"\",LEFT(A1114,1)&B1114&C1114)","v":"F1574"},0.65120981200000005]
["Female",15,75,0.63961975900000001,null,{"$f":"IF(C1115<'Gala Name'!C$5,\"\",LEFT(A1115,1)&B1115&C1115)","v":"F1575"},0.63961975900000001]
["Female",15,76,0.628016507,null,{"$f":"IF(C1116<'Gala Name'!C$5,\"\",LEFT(A1116,1)&B1116&C1116)","v":"F1576"},0.628016507]
["Female",15,77,0.61639003199999998,null,{"$f":"IF(C1117<'Gala Name'!C$5,\"\",LEFT(A1117,1)&B1117&C1117)","v":"F1577"},0.61639003199999998]
["Female",15,78,0.604724912,null,{"$f":"IF(C1118<'Gala Name'!C$5,\"\",LEFT(A1118,1)&B1118&C1118)","v":"F1578"},0.604724912]
["Female",15,79,0.59299970999999996,null,{"$f":"IF(C1119<'Gala Name'!C$5,\"\",LEFT(A1119,1)&B1119&C1119)","v":"F1579"},0.59299970999999996]
["Female",15,80,0.58118634400000002,null,{"$f":"IF(C1120<'Gala Name'!C$5,\"\",LEFT(A1120,1)&B1120&C1120)","v":"F1580"},0.58118634400000002]
["Female",15,81,0.56924941299999998,null,{"$f":"IF(C1121<'Gala Name'!C$5,\"\",LEFT(A1121,1)&B1121&C1121)","v":"F1581"},0.56924941299999998]
["Female",15,82,0.55714551000000001,null,{"$f":"IF(C1122<'Gala Name'!C$5,\"\",LEFT(A1122,1)&B1122&C1122)","v":"F1582"},0.55714551000000001]
["Female",15,83,0.54482249900000002,null,{"$f":"IF(C1123<'Gala Name'!C$5,\"\",LEFT(A1123,1)&B1123&C1123)","v":"F1583"},0.54482249900000002]
["Female",15,84,0.53221877200000001,null,{"$f":"IF(C1124<'Gala Name'!C$5,\"\",LEFT(A1124,1)&B1124&C1124)","v":"F1584"},0.53221877200000001]
["Female",15,85,0.51926246700000001,null,{"$f":"IF(C1125<'Gala Name'!C$5,\"\",LEFT(A1125,1)&B1125&C1125)","v":"F1585"},0.51926246700000001]
["Female",15,86,0.50587067500000005,null,{"$f":"IF(C1126<'Gala Name'!C$5,\"\",LEFT(A1126,1)&B1126&C1126)","v":"F1586"},0.50587067500000005]
["Female",15,87,0.49194860499999998,null,{"$f":"IF(C1127<'Gala Name'!C$5,\"\",LEFT(A1127,1)&B1127&C1127)","v":"F1587"},0.49194860499999998]
["Female",15,88,0.47738873100000001,null,{"$f":"IF(C1128<'Gala Name'!C$5,\"\",LEFT(A1128,1)&B1128&C1128)","v":"F1588"},0.47738873100000001]
["Female",15,89,0.46206990799999997,null,{"$f":"IF(C1129<'Gala Name'!C$5,\"\",LEFT(A1129,1)&B1129&C1129)","v":"F1589"},0.46206990799999997]
["Female",15,90,0.44585646299999998,null,{"$f":"IF(C1130<'Gala Name'!C$5,\"\",LEFT(A1130,1)&B1130&C1130)","v":"F1590"},0.44585646299999998]
["Female",15,91,0.42859725300000001,null,{"$f":"IF(C1131<'Gala Name'!C$5,\"\",LEFT(A1131,1)&B1131&C1131)","v":"F1591"},0.42859725300000001]
["Female",15,92,0.41012470699999998,null,{"$f":"IF(C1132<'Gala Name'!C$5,\"\",LEFT(A1132,1)&B1132&C1132)","v":"F1592"},0.41012470699999998]
["Female",15,93,0.39025382800000002,null,{"$f":"IF(C1133<'Gala Name'!C$5,\"\",LEFT(A1133,1)&B1133&C1133)","v":"F1593"},0.39025382800000002]
["Female",15,94,0.36878117900000001,null,{"$f":"IF(C1134<'Gala Name'!C$5,\"\",LEFT(A1134,1)&B1134&C1134)","v":"F1594"},0.36878117900000001]
["Female",15,95,0.34548382999999999,null,{"$f":"IF(C1135<'Gala Name'!C$5,\"\",LEFT(A1135,1)&B1135&C1135)","v":"F1595"},0.34548382999999999]
["Female",15,96,0.320118291,null,{"$f":"IF(C1136<'Gala Name'!C$5,\"\",LEFT(A1136,1)&B1136&C1136)","v":"F1596"},0.320118291]
["Female",15,97,0.29241940799999999,null,{"$f":"IF(C1137<'Gala Name'!C$5,\"\",LEFT(A1137,1)&B1137&C1137)","v":"F1597"},0.29241940799999999]
["Female",15,98,0.26209923600000001,null,{"$f":"IF(C1138<'Gala Name'!C$5,\"\",LEFT(A1138,1)&B1138&C1138)","v":"F1598"},0.26209923600000001]
["Female",15,99,0.228845883,null,{"$f":"IF(C1139<'Gala Name'!C$5,\"\",LEFT(A1139,1)&B1139&C1139)","v":"F1599"},0.228845883]
["Female",15,100,0.19232232799999999,null,{"$f":"IF(C1140<'Gala Name'!C$5,\"\",LEFT(A1140,1)&B1140&C1140)","v":"F15100"},0.19232232799999999]
["Female",16,25,1.004497161,null,{"$f":"IF(C1141<'Gala Name'!C$5,\"\",LEFT(A1141,1)&B1141&C1141)","v":"F1625"},1.004497161]
["Female",16,26,1.006178623,null,{"$f":"IF(C1142<'Gala Name'!C$5,\"\",LEFT(A1142,1)&B1142&C1142)","v":"F1626"},1.006178623]
["Female",16,27,1.0079625489999999,null,{"$f":"IF(C1143<'Gala Name'!C$5,\"\",LEFT(A1143,1)&B1143&C1143)","v":"F1627"},1.0079625489999999]
["Female",16,28,1.009675492,null,{"$f":"IF(C1144<'Gala Name'!C$5,\"\",LEFT(A1144,1)&B1144&C1144)","v":"F1628"},1.009675492]
["Female",16,29,1.0111701049999999,null,{"$f":"IF(C1145<'Gala Name'!C$5,\"\",LEFT(A1145,1)&B1145&C1145)","v":"F1629"},1.0111701049999999]
["Female",16,30,1.0123231850000001,null,{"$f":"IF(C1146<'Gala Name'!C$5,\"\",LEFT(A1146,1)&B1146&C1146)","v":"F1630"},1.0123231850000001]
["Female",16,31,1.0130337899999999,null,{"$f":"IF(C1147<'Gala Name'!C$5,\"\",LEFT(A1147,1)&B1147&C1147)","v":"F1631"},1.0130337899999999]
["Female",16,32,1.013221411,null,{"$f":"IF(C1148<'Gala Name'!C$5,\"\",LEFT(A1148,1)&B1148&C1148)","v":"F1632"},1.013221411]
["Female",16,33,1.0128242059999999,null,{"$f":"IF(C1149<'Gala Name'!C$5,\"\",LEFT(A1149,1)&B1149&C1149)","v":"F1633"},1.0128242059999999]
["Female",16,34,1.0117972959999999,null,{"$f":"IF(C1150<'Gala Name'!C$5,\"\",LEFT(A1150,1)&B1150&C1150)","v":"F1634"},1.0117972959999999]
["Female",16,35,1.010111124,null,{"$f":"IF(C1151<'Gala Name'!C$5,\"\",LEFT(A1151,1)&B1151&C1151)","v":"F1635"},1.010111124]
["Female",16,36,1.00774987,null,{"$f":"IF(C1152<'Gala Name'!C$5,\"\",LEFT(A1152,1)&B1152&C1152)","v":"F1636"},1.00774987]
["Female",16,37,1.00470993,null,{"$f":"IF(C1153<'Gala Name'!C$5,\"\",LEFT(A1153,1)&B1153&C1153)","v":"F1637"},1.00470993]
["Female",16,38,1.0009984620000001,null,{"$f":"IF(C1154<'Gala Name'!C$5,\"\",LEFT(A1154,1)&B1154&C1154)","v":"F1638"},1.0009984620000001]
["Female",16,39,0.99663198200000003,null,{"$f":"IF(C1155<'Gala Name'!C$5,\"\",LEFT(A1155,1)&B1155&C1155)","v":"F1639"},{"$f":"D1155","v":0.99663198200000003}]
["Female",16,40,0.99163503099999994,null,{"$f":"IF(C1156<'Gala Name'!C$5,\"\",LEFT(A1156,1)&B1156&C1156)","v":"F1640"},0.99163503099999994]
["Female",16,41,0.98603889499999997,null,{"$f":"IF(C1157<'Gala Name'!C$5,\"\",LEFT(A1157,1)&B1157&C1157)","v":"F1641"},0.98603889499999997]
["Female",16,42,0.97988039699999996,null,{"$f":"IF(C1158<'Gala Name'!C$5,\"\",LEFT(A1158,1)&B1158&C1158)","v":"F1642"},0.97988039699999996]
["Female",16,43,0.97320073699999998,null,{"$f":"IF(C1159<'Gala Name'!C$5,\"\",LEFT(A1159,1)&B1159&C1159)","v":"F1643"},0.97320073699999998]
["Female",16,44,0.96604440599999997,null,{"$f":"IF(C1160<'Gala Name'!C$5,\"\",LEFT(A1160,1)&B1160&C1160)","v":"F1644"},0.96604440599999997]
["Female",16,45,0.95845815000000001,null,{"$f":"IF(C1161<'Gala Name'!C$5,\"\",LEFT(A1161,1)&B1161&C1161)","v":"F1645"},0.95845815000000001]
["Female",16,46,0.95049000400000005,null,{"$f":"IF(C1162<'Gala Name'!C$5,\"\",LEFT(A1162,1)&B1162&C1162)","v":"F1646"},0.95049000400000005]
["Female",16,47,0.94218838400000005,null,{"$f":"IF(C1163<'Gala Name'!C$5,\"\",LEFT(A1163,1)&B1163&C1163)","v":"F1647"},0.94218838400000005]
["Female",16,48,0.93360123699999997,null,{"$f":"IF(C1164<'Gala Name'!C$5,\"\",LEFT(A1164,1)&B1164&C1164)","v":"F1648"},0.93360123699999997]
["Female",16,49,0.92477525599999999,null,{"$f":"IF(C1165<'Gala Name'!C$5,\"\",LEFT(A1165,1)&B1165&C1165)","v":"F1649"},0.92477525599999999]
["Female",16,50,0.91575515799999996,null,{"$f":"IF(C1166<'Gala Name'!C$5,\"\",LEFT(A1166,1)&B1166&C1166)","v":"F1650"},0.91575515799999996]
["Female",16,51,0.90658301900000005,null,{"$f":"IF(C1167<'Gala Name'!C$5,\"\",LEFT(A1167,1)&B1167&C1167)","v":"F1651"},0.90658301900000005]
["Female",16,52,0.89729767000000005,null,{"$f":"IF(C1168<'Gala Name'!C$5,\"\",LEFT(A1168,1)&B1168&C1168)","v":"F1652"},0.89729767000000005]
["Female",16,53,0.88793415899999995,null,{"$f":"IF(C1169<'Gala Name'!C$5,\"\",LEFT(A1169,1)&B1169&C1169)","v":"F1653"},0.88793415899999995]
["Female",16,54,0.87852326999999997,null,{"$f":"IF(C1170<'Gala Name'!C$5,\"\",LEFT(A1170,1)&B1170&C1170)","v":"F1654"},0.87852326999999997]
["Female",16,55,0.869091104,null,{"$f":"IF(C1171<'Gala Name'!C$5,\"\",LEFT(A1171,1)&B1171&C1171)","v":"F1655"},0.869091104]
["Female",16,56,0.85965872300000001,null,{"$f":"IF(C1172<'Gala Name'!C$5,\"\",LEFT(A1172,1)&B1172&C1172)","v":"F1656"},0.85965872300000001]
["Female",16,57,0.85024185399999996,null,{"$f":"IF(C1173<'Gala Name'!C$5,\"\",LEFT(A1173,1)&B1173&C1173)","v":"F1657"},0.85024185399999996]
["Female",16,58,0.84085065199999998,null,{"$f":"IF(C1174<'Gala Name'!C$5,\"\",LEFT(A1174,1)&B1174&C1174)","v":"F1658"},0.84085065199999998]
["Female",16,59,0.83148953000000003,null,{"$f":"IF(C1175<'Gala Name'!C$5,\"\",LEFT(A1175,1)&B1175&C1175)","v":"F1659"},0.83148953000000003]
["Female",16,60,0.82215704300000003,null,{"$f":"IF(C1176<'Gala Name'!C$5,\"\",LEFT(A1176,1)&B1176&C1176)","v":"F1660"},0.82215704300000003]
["Female",16,61,0.81284584000000004,null,{"$f":"IF(C1177<'Gala Name'!C$5,\"\",LEFT(A1177,1)&B1177&C1177)","v":"F1661"},0.81284584000000004]
["Female",16,62,0.80354267400000001,null,{"$f":"IF(C1178<'Gala Name'!C$5,\"\",LEFT(A1178,1)&B1178&C1178)","v":"F1662"},0.80354267400000001]
["Female",16,63,0.79422846899999999,null,{"$f":"IF(C1179<'Gala Name'!C$5,\"\",LEFT(A1179,1)&B1179&C1179)","v":"F1663"},0.79422846899999999]
["Female",16,64,0.78487845899999997,null,{"$f":"IF(C1180<'Gala Name'!C$5,\"\",LEFT(A1180,1)&B1180&C1180)","v":"F1664"},0.78487845899999997]
["Female",16,65,0.77546237699999998,null,{"$f":"IF(C1181<'Gala Name'!C$5,\"\",LEFT(A1181,1)&B1181&C1181)","v":"F1665"},0.77546237699999998]
["Female",16,66,0.76594471200000003,null,{"$f":"IF(C1182<'Gala Name'!C$5,\"\",LEFT(A1182,1)&B1182&C1182)","v":"F1666"},0.76594471200000003]
["Female",16,67,0.75628502600000003,null,{"$f":"IF(C1183<'Gala Name'!C$5,\"\",LEFT(A1183,1)&B1183&C1183)","v":"F1667"},0.75628502600000003]
["Female",16,68,0.74643833000000004,null,{"$f":"IF(C1184<'Gala Name'!C$5,\"\",LEFT(A1184,1)&B1184&C1184)","v":"F1668"},0.74643833000000004]
["Female",16,69,0.73635552299999996,null,{"$f":"IF(C1185<'Gala Name'!C$5,\"\",LEFT(A1185,1)&B1185&C1185)","v":"F1669"},0.73635552299999996]
["Female",16,70,0.72598389299999999,null,{"$f":"IF(C1186<'Gala Name'!C$5,\"\",LEFT(A1186,1)&B1186&C1186)","v":"F1670"},0.72598389299999999]
["Female",16,71,0.71526767700000005,null,{"$f":"IF(C1187<'Gala Name'!C$5,\"\",LEFT(A1187,1)&B1187&C1187)","v":"F1671"},0.71526767700000005]
["Female",16,72,0.70414868399999997,null,{"$f":"IF(C1188<'Gala Name'!C$5,\"\",LEFT(A1188,1)&B1188&C1188)","v":"F1672"},0.70414868399999997]
["Female",16,73,0.69256697899999997,null,{"$f":"IF(C1189<'Gala Name'!C$5,\"\",LEFT(A1189,1)&B1189&C1189)","v":"F1673"},0.69256697899999997]
["Female",16,74,0.68046162799999999,null,{"$f":"IF(C1190<'Gala Name'!C$5,\"\",LEFT(A1190,1)&B1190&C1190)","v":"F1674"},0.68046162799999999]
["Female",16,75,0.66777150200000002,null,{"$f":"IF(C1191<'Gala Name'!C$5,\"\",LEFT(A1191,1)&B1191&C1191)","v":"F1675"},0.66777150200000002]
["Female",16,76,0.65443614800000005,null,{"$f":"IF(C1192<'Gala Name'!C$5,\"\",LEFT(A1192,1)&B1192&C1192)","v":"F1676"},0.65443614800000005]
["Female",16,77,0.64039671399999998,null,{"$f":"IF(C1193<'Gala Name'!C$5,\"\",LEFT(A1193,1)&B1193&C1193)","v":"F1677"},0.64039671399999998]
["Female",16,78,0.62559694200000004,null,{"$f":"IF(C1194<'Gala Name'!C$5,\"\",LEFT(A1194,1)&B1194&C1194)","v":"F1678"},0.62559694200000004]
["Female",16,79,0.609984215,null,{"$f":"IF(C1195<'Gala Name'!C$5,\"\",LEFT(A1195,1)&B1195&C1195)","v":"F1679"},0.609984215]
["Female",16,80,0.59351067499999999,null,{"$f":"IF(C1196<'Gala Name'!C$5,\"\",LEFT(A1196,1)&B1196&C1196)","v":"F1680"},0.59351067499999999]
["Female",16,81,0.57613439099999997,null,{"$f":"IF(C1197<'Gala Name'!C$5,\"\",LEFT(A1197,1)&B1197&C1197)","v":"F1681"},0.57613439099999997]
["Female",16,82,0.557820596,null,{"$f":"IF(C1198<'Gala Name'!C$5,\"\",LEFT(A1198,1)&B1198&C1198)","v":"F1682"},0.557820596]
["Female",16,83,0.538542984,null,{"$f":"IF(C1199<'Gala Name'!C$5,\"\",LEFT(A1199,1)&B1199&C1199)","v":"F1683"},0.538542984]
["Female",16,84,0.51828506500000004,null,{"$f":"IF(C1200<'Gala Name'!C$5,\"\",LEFT(A1200,1)&B1200&C1200)","v":"F1684"},0.51828506500000004]
["Female",16,85,0.49704158500000001,null,{"$f":"IF(C1201<'Gala Name'!C$5,\"\",LEFT(A1201,1)&B1201&C1201)","v":"F1685"},0.49704158500000001]
["Female",16,86,0.47482000499999999,null,{"$f":"IF(C1202<'Gala Name'!C$5,\"\",LEFT(A1202,1)&B1202&C1202)","v":"F1686"},0.47482000499999999]
["Female",16,87,0.45164204200000002,null,{"$f":"IF(C1203<'Gala Name'!C$5,\"\",LEFT(A1203,1)&B1203&C1203)","v":"F1687"},0.45164204200000002]
["Female",16,88,0.427545271,null,{"$f":"IF(C1204<'Gala Name'!C$5,\"\",LEFT(A1204,1)&B1204&C1204)","v":"F1688"},0.427545271]
["Female",16,89,0.40258479000000003,null,{"$f":"IF(C1205<'Gala Name'!C$5,\"\",LEFT(A1205,1)&B1205&C1205)","v":"F1689"},0.40258479000000003]
["Female",16,90,0.37683494000000001,null,{"$f":"IF(C1206<'Gala Name'!C$5,\"\",LEFT(A1206,1)&B1206&C1206)","v":"F1690"},0.37683494000000001]
["Female",16,91,0.35039109499999999,null,{"$f":"IF(C1207<'Gala Name'!C$5,\"\",LEFT(A1207,1)&B1207&C1207)","v":"F1691"},0.35039109499999999]
["Female",16,92,0.32337150999999997,null,{"$f":"IF(C1208<'Gala Name'!C$5,\"\",LEFT(A1208,1)&B1208&C1208)","v":"F1692"},0.32337150999999997]
["Female",16,93,0.29591922500000001,null,{"$f":"IF(C1209<'Gala Name'!C$5,\"\",LEFT(A1209,1)&B1209&C1209)","v":"F1693"},0.29591922500000001]
["Female",16,94,0.26820403500000001,null,{"$f":"IF(C1210<'Gala Name'!C$5,\"\",LEFT(A1210,1)&B1210&C1210)","v":"F1694"},0.26820403500000001]
["Female",16,95,0.240424525,null,{"$f":"IF(C1211<'Gala Name'!C$5,\"\",LEFT(A1211,1)&B1211&C1211)","v":"F1695"},0.240424525]
["Female",16,96,0.212810158,null,{"$f":"IF(C1212<'Gala Name'!C$5,\"\",LEFT(A1212,1)&B1212&C1212)","v":"F1696"},0.212810158]
["Female",16,97,0.18562342900000001,null,{"$f":"IF(C1213<'Gala Name'!C$5,\"\",LEFT(A1213,1)&B1213&C1213)","v":"F1697"},0.18562342900000001]
["Female",16,98,0.15916208100000001,null,{"$f":"IF(C1214<'Gala Name'!C$5,\"\",LEFT(A1214,1)&B1214&C1214)","v":"F1698"},0.15916208100000001]
["Female",16,99,0.13376137699999999,null,{"$f":"IF(C1215<'Gala Name'!C$5,\"\",LEFT(A1215,1)&B1215&C1215)","v":"F1699"},0.13376137699999999]
["Female",16,100,0.10979644099999999,null,{"$f":"IF(C1216<'Gala Name'!C$5,\"\",LEFT(A1216,1)&B1216&C1216)","v":"F16100"},0.10979644099999999]
["Female",17,25,1.004671895,null,{"$f":"IF(C1217<'Gala Name'!C$5,\"\",LEFT(A1217,1)&B1217&C1217)","v":"F1725"},1.004671895]
["Female",17,26,1.0061199949999999,null,{"$f":"IF(C1218<'Gala Name'!C$5,\"\",LEFT(A1218,1)&B1218&C1218)","v":"F1726"},1.0061199949999999]
["Female",17,27,1.0073732639999999,null,{"$f":"IF(C1219<'Gala Name'!C$5,\"\",LEFT(A1219,1)&B1219&C1219)","v":"F1727"},{"$f":"D1219","v":1.0073732639999999}]
["Female",17,28,1.008385208,null,{"$f":"IF(C1220<'Gala Name'!C$5,\"\",LEFT(A1220,1)&B1220&C1220)","v":"F1728"},1.008385208]
["Female",17,29,1.0091119749999999,null,{"$f":"IF(C1221<'Gala Name'!C$5,\"\",LEFT(A1221,1)&B1221&C1221)","v":"F1729"},1.0091119749999999]
["Female",17,30,1.0095126430000001,null,{"$f":"IF(C1222<'Gala Name'!C$5,\"\",LEFT(A1222,1)&B1222&C1222)","v":"F1730"},1.0095126430000001]
["Female",17,31,1.009549461,null,{"$f":"IF(C1223<'Gala Name'!C$5,\"\",LEFT(A1223,1)&B1223&C1223)","v":"F1731"},1.009549461]
["Female",17,32,1.009188078,null,{"$f":"IF(C1224<'Gala Name'!C$5,\"\",LEFT(A1224,1)&B1224&C1224)","v":"F1732"},1.009188078]
["Female",17,33,1.008397728,null,{"$f":"IF(C1225<'Gala Name'!C$5,\"\",LEFT(A1225,1)&B1225&C1225)","v":"F1733"},1.008397728]
["Female",17,34,1.0071513949999999,null,{"$f":"IF(C1226<'Gala Name'!C$5,\"\",LEFT(A1226,1)&B1226&C1226)","v":"F1734"},1.0071513949999999]
["Female",17,35,1.005425944,null,{"$f":"IF(C1227<'Gala Name'!C$5,\"\",LEFT(A1227,1)&B1227&C1227)","v":"F1735"},1.005425944]
["Female",17,36,1.0032022220000001,null,{"$f":"IF(C1228<'Gala Name'!C$5,\"\",LEFT(A1228,1)&B1228&C1228)","v":"F1736"},1.0032022220000001]
["Female",17,37,1.0004651339999999,null,{"$f":"IF(C1229<'Gala Name'!C$5,\"\",LEFT(A1229,1)&B1229&C1229)","v":"F1737"},1.0004651339999999]
["Female",17,38,0.99720368400000003,null,{"$f":"IF(C1230<'Gala Name'!C$5,\"\",LEFT(A1230,1)&B1230&C1230)","v":"F1738"},0.99720368400000003]
["Female",17,39,0.993410986,null,{"$f":"IF(C1231<'Gala Name'!C$5,\"\",LEFT(A1231,1)&B1231&C1231)","v":"F1739"},0.993410986]
["Female",17,40,0.989084254,null,{"$f":"IF(C1232<'Gala Name'!C$5,\"\",LEFT(A1232,1)&B1232&C1232)","v":"F1740"},0.989084254]
["Female",17,41,0.98422475099999995,null,{"$f":"IF(C1233<'Gala Name'!C$5,\"\",LEFT(A1233,1)&B1233&C1233)","v":"F1741"},0.98422475099999995]
["Female",17,42,0.978837717,null,{"$f":"IF(C1234<'Gala Name'!C$5,\"\",LEFT(A1234,1)&B1234&C1234)","v":"F1742"},0.978837717]
["Female",17,43,0.97293226200000005,null,{"$f":"IF(C1235<'Gala Name'!C$5,\"\",LEFT(A1235,1)&B1235&C1235)","v":"F1743"},0.97293226200000005]
["Female",17,44,0.96652123400000001,null,{"$f":"IF(C1236<'Gala Name'!C$5,\"\",LEFT(A1236,1)&B1236&C1236)","v":"F1744"},0.96652123400000001]
["Female",17,45,0.959621053,null,{"$f":"IF(C1237<'Gala Name'!C$5,\"\",LEFT(A1237,1)&B1237&C1237)","v":"F1745"},0.959621053]
["Female",17,46,0.95225151600000002,null,{"$f":"IF(C1238<'Gala Name'!C$5,\"\",LEFT(A1238,1)&B1238&C1238)","v":"F1746"},0.95225151600000002]
["Female",17,47,0.94443558000000005,null,{"$f":"IF(C1239<'Gala Name'!C$5,\"\",LEFT(A1239,1)&B1239&C1239)","v":"F1747"},0.94443558000000005]
["Female",17,48,0.93619910200000001,null,{"$f":"IF(C1240<'Gala Name'!C$5,\"\",LEFT(A1240,1)&B1240&C1240)","v":"F1748"},0.93619910200000001]
["Female",17,49,0.92757055899999996,null,{"$f":"IF(C1241<'Gala Name'!C$5,\"\",LEFT(A1241,1)&B1241&C1241)","v":"F1749"},0.92757055899999996]
["Female",17,50,0.91858073900000003,null,{"$f":"IF(C1242<'Gala Name'!C$5,\"\",LEFT(A1242,1)&B1242&C1242)","v":"F1750"},0.91858073900000003]
["Female",17,51,0.90926239600000003,null,{"$f":"IF(C1243<'Gala Name'!C$5,\"\",LEFT(A1243,1)&B1243&C1243)","v":"F1751"},0.90926239600000003]
["Female",17,52,0.89964987900000004,null,{"$f":"IF(C1244<'Gala Name'!C$5,\"\",LEFT(A1244,1)&B1244&C1244)","v":"F1752"},0.89964987900000004]
["Female",17,53,0.88977873500000004,null,{"$f":"IF(C1245<'Gala Name'!C$5,\"\",LEFT(A1245,1)&B1245&C1245)","v":"F1753"},0.88977873500000004]
["Female",17,54,0.87968527200000002,null,{"$f":"IF(C1246<'Gala Name'!C$5,\"\",LEFT(A1246,1)&B1246&C1246)","v":"F1754"},0.87968527200000002]
["Female",17,55,0.86940610500000004,null,{"$f":"IF(C1247<'Gala Name'!C$5,\"\",LEFT(A1247,1)&B1247&C1247)","v":"F1755"},0.86940610500000004]
["Female",17,56,0.858977663,null,{"$f":"IF(C1248<'Gala Name'!C$5,\"\",LEFT(A1248,1)&B1248&C1248)","v":"F1756"},0.858977663]
["Female",17,57,0.84843567399999997,null,{"$f":"IF(C1249<'Gala Name'!C$5,\"\",LEFT(A1249,1)&B1249&C1249)","v":"F1757"},0.84843567399999997]
["Female",17,58,0.83781461000000002,null,{"$f":"IF(C1250<'Gala Name'!C$5,\"\",LEFT(A1250,1)&B1250&C1250)","v":"F1758"},0.83781461000000002]
["Female",17,59,0.82714711399999996,null,{"$f":"IF(C1251<'Gala Name'!C$5,\"\",LEFT(A1251,1)&B1251&C1251)","v":"F1759"},0.82714711399999996]
["Female",17,60,0.81646338900000004,null,{"$f":"IF(C1252<'Gala Name'!C$5,\"\",LEFT(A1252,1)&B1252&C1252)","v":"F1760"},0.81646338900000004]
["Female",17,61,0.80579056199999999,null,{"$f":"IF(C1253<'Gala Name'!C$5,\"\",LEFT(A1253,1)&B1253&C1253)","v":"F1761"},0.80579056199999999]
["Female",17,62,0.79515201700000004,null,{"$f":"IF(C1254<'Gala Name'!C$5,\"\",LEFT(A1254,1)&B1254&C1254)","v":"F1762"},0.79515201700000004]
["Female",17,63,0.78456669700000004,null,{"$f":"IF(C1255<'Gala Name'!C$5,\"\",LEFT(A1255,1)&B1255&C1255)","v":"F1763"},0.78456669700000004]
["Female",17,64,0.77404837800000004,null,{"$f":"IF(C1256<'Gala Name'!C$5,\"\",LEFT(A1256,1)&B1256&C1256)","v":"F1764"},0.77404837800000004]
["Female",17,65,0.76360491500000005,null,{"$f":"IF(C1257<'Gala Name'!C$5,\"\",LEFT(A1257,1)&B1257&C1257)","v":"F1765"},0.76360491500000005]
["Female",17,66,0.75323745399999997,null,{"$f":"IF(C1258<'Gala Name'!C$5,\"\",LEFT(A1258,1)&B1258&C1258)","v":"F1766"},0.75323745399999997]
["Female",17,67,0.74293961799999997,null,{"$f":"IF(C1259<'Gala Name'!C$5,\"\",LEFT(A1259,1)&B1259&C1259)","v":"F1767"},0.74293961799999997]
["Female",17,68,0.73269666300000003,null,{"$f":"IF(C1260<'Gala Name'!C$5,\"\",LEFT(A1260,1)&B1260&C1260)","v":"F1768"},0.73269666300000003]
["Female",17,69,0.72248460199999998,null,{"$f":"IF(C1261<'Gala Name'!C$5,\"\",LEFT(A1261,1)&B1261&C1261)","v":"F1769"},0.72248460199999998]
["Female",17,70,0.71226930200000005,null,{"$f":"IF(C1262<'Gala Name'!C$5,\"\",LEFT(A1262,1)&B1262&C1262)","v":"F1770"},0.71226930200000005]
["Female",17,71,0.70200555200000003,null,{"$f":"IF(C1263<'Gala Name'!C$5,\"\",LEFT(A1263,1)&B1263&C1263)","v":"F1771"},0.70200555200000003]
["Female",17,72,0.69163609599999998,null,{"$f":"IF(C1264<'Gala Name'!C$5,\"\",LEFT(A1264,1)&B1264&C1264)","v":"F1772"},0.69163609599999998]
["Female",17,73,0.68109064500000005,null,{"$f":"IF(C1265<'Gala Name'!C$5,\"\",LEFT(A1265,1)&B1265&C1265)","v":"F1773"},0.68109064500000005]
["Female",17,74,0.67028485299999996,null,{"$f":"IF(C1266<'Gala Name'!C$5,\"\",LEFT(A1266,1)&B1266&C1266)","v":"F1774"},0.67028485299999996]
["Female",17,75,0.65911926300000001,null,{"$f":"IF(C1267<'Gala Name'!C$5,\"\",LEFT(A1267,1)&B1267&C1267)","v":"F1775"},0.65911926300000001]
["Female",17,76,0.64747822700000002,null,{"$f":"IF(C1268<'Gala Name'!C$5,\"\",LEFT(A1268,1)&B1268&C1268)","v":"F1776"},0.64747822700000002]
["Female",17,77,0.63522879799999998,null,{"$f":"IF(C1269<'Gala Name'!C$5,\"\",LEFT(A1269,1)&B1269&C1269)","v":"F1777"},0.63522879799999998]
["Female",17,78,0.62221958499999996,null,{"$f":"IF(C1270<'Gala Name'!C$5,\"\",LEFT(A1270,1)&B1270&C1270)","v":"F1778"},0.62221958499999996]
["Female",17,79,0.60827958299999996,null,{"$f":"IF(C1271<'Gala Name'!C$5,\"\",LEFT(A1271,1)&B1271&C1271)","v":"F1779"},0.60827958299999996]
["Female",17,80,0.59321697600000001,null,{"$f":"IF(C1272<'Gala Name'!C$5,\"\",LEFT(A1272,1)&B1272&C1272)","v":"F1780"},0.59321697600000001]
["Female",17,81,0.57681790600000005,null,{"$f":"IF(C1273<'Gala Name'!C$5,\"\",LEFT(A1273,1)&B1273&C1273)","v":"F1781"},0.57681790600000005]
["Female",17,82,0.55884521499999995,null,{"$f":"IF(C1274<'Gala Name'!C$5,\"\",LEFT(A1274,1)&B1274&C1274)","v":"F1782"},0.55884521499999995]
["Female",17,83,0.53903715399999996,null,{"$f":"IF(C1275<'Gala Name'!C$5,\"\",LEFT(A1275,1)&B1275&C1275)","v":"F1783"},0.53903715399999996]
["Female",17,84,0.51710606699999995,null,{"$f":"IF(C1276<'Gala Name'!C$5,\"\",LEFT(A1276,1)&B1276&C1276)","v":"F1784"},0.51710606699999995]
["Female",17,85,0.49273704200000001,null,{"$f":"IF(C1277<'Gala Name'!C$5,\"\",LEFT(A1277,1)&B1277&C1277)","v":"F1785"},0.49273704200000001]
["Female",17,86,0.46558653500000002,null,{"$f":"IF(C1278<'Gala Name'!C$5,\"\",LEFT(A1278,1)&B1278&C1278)","v":"F1786"},0.46558653500000002]
["Female",17,87,0.43528096100000002,null,{"$f":"IF(C1279<'Gala Name'!C$5,\"\",LEFT(A1279,1)&B1279&C1279)","v":"F1787"},0.43528096100000002]
["Female",17,88,0.40141526,null,{"$f":"IF(C1280<'Gala Name'!C$5,\"\",LEFT(A1280,1)&B1280&C1280)","v":"F1788"},0.40141526]
["Female",17,89,0.36355142600000001,null,{"$f":"IF(C1281<'Gala Name'!C$5,\"\",LEFT(A1281,1)&B1281&C1281)","v":"F1789"},0.36355142600000001]
["Female",17,90,0.32121702000000002,null,{"$f":"IF(C1282<'Gala Name'!C$5,\"\",LEFT(A1282,1)&B1282&C1282)","v":"F1790"},0.32121702000000002]
["Female",17,91,0.27390363400000001,null,{"$f":"IF(C1283<'Gala Name'!C$5,\"\",LEFT(A1283,1)&B1283&C1283)","v":"F1791"},{"$f":"D1283","v":0.27390363400000001}]
["Female",17,92,0.221065344,null,{"$f":"IF(C1284<'Gala Name'!C$5,\"\",LEFT(A1284,1)&B1284&C1284)","v":"F1792"},0.221065344]
["Female",17,93,0.162117121,null,{"$f":"IF(C1285<'Gala Name'!C$5,\"\",LEFT(A1285,1)&B1285&C1285)","v":"F1793"},0.162117121]
["Female",17,94,9.6433221E-2,null,{"$f":"IF(C1286<'Gala Name'!C$5,\"\",LEFT(A1286,1)&B1286&C1286)","v":"F1794"},9.6433221E-2]
["Female",17,95,2.3345537E-2,null,{"$f":"IF(C1287<'Gala Name'!C$5,\"\",LEFT(A1287,1)&B1287&C1287)","v":"F1795"},2.3345537E-2]
["Female",17,96,-5.7858074000000002E-2,null,{"$f":"IF(C1288<'Gala Name'!C$5,\"\",LEFT(A1288,1)&B1288&C1288)","v":"F1796"},-5.7858074000000002E-2]
["Female",17,97,-0.14793549,null,{"$f":"IF(C1289<'Gala Name'!C$5,\"\",LEFT(A1289,1)&B1289&C1289)","v":"F1797"},-0.14793549]
["Female",17,98,-0.24769205999999999,null,{"$f":"IF(C1290<'Gala Name'!C$5,\"\",LEFT(A1290,1)&B1290&C1290)","v":"F1798"},-0.24769205999999999]
["Female",17,99,-0.357982366,null,{"$f":"IF(C1291<'Gala Name'!C$5,\"\",LEFT(A1291,1)&B1291&C1291)","v":"F1799"},-0.357982366]
["Female",17,100,-0.47971201299999999,null,{"$f":"IF(C1292<'Gala Name'!C$5,\"\",LEFT(A1292,1)&B1292&C1292)","v":"F17100"},-0.47971201299999999]
["Female",29,25,1.002908551,null,{"$f":"IF(C1293<'Gala Name'!C$5,\"\",LEFT(A1293,1)&B1293&C1293)","v":"F2925"},1.002908551]
["Female",29,26,1.0019334449999999,null,{"$f":"IF(C1294<'Gala Name'!C$5,\"\",LEFT(A1294,1)&B1294&C1294)","v":"F2926"},1.0019334449999999]
["Female",29,27,1.002031294,null,{"$f":"IF(C1295<'Gala Name'!C$5,\"\",LEFT(A1295,1)&B1295&C1295)","v":"F2927"},1.002031294]
["Female",29,28,1.002838589,null,{"$f":"IF(C1296<'Gala Name'!C$5,\"\",LEFT(A1296,1)&B1296&C1296)","v":"F2928"},1.002838589]
["Female",29,29,1.004043494,null,{"$f":"IF(C1297<'Gala Name'!C$5,\"\",LEFT(A1297,1)&B1297&C1297)","v":"F2929"},1.004043494]
["Female",29,30,1.0053817679999999,null,{"$f":"IF(C1298<'Gala Name'!C$5,\"\",LEFT(A1298,1)&B1298&C1298)","v":"F2930"},1.0053817679999999]
["Female",29,31,1.0066328449999999,null,{"$f":"IF(C1299<'Gala Name'!C$5,\"\",LEFT(A1299,1)&B1299&C1299)","v":"F2931"},1.0066328449999999]
["Female",29,32,1.007616042,null,{"$f":"IF(C1300<'Gala Name'!C$5,\"\",LEFT(A1300,1)&B1300&C1300)","v":"F2932"},1.007616042]
["Female",29,33,1.008186923,null,{"$f":"IF(C1301<'Gala Name'!C$5,\"\",LEFT(A1301,1)&B1301&C1301)","v":"F2933"},1.008186923]
["Female",29,34,1.008233795,null,{"$f":"IF(C1302<'Gala Name'!C$5,\"\",LEFT(A1302,1)&B1302&C1302)","v":"F2934"},1.008233795]
["Female",29,35,1.0076743560000001,null,{"$f":"IF(C1303<'Gala Name'!C$5,\"\",LEFT(A1303,1)&B1303&C1303)","v":"F2935"},1.0076743560000001]
["Female",29,36,1.0064524749999999,null,{"$f":"IF(C1304<'Gala Name'!C$5,\"\",LEFT(A1304,1)&B1304&C1304)","v":"F2936"},1.0064524749999999]
["Female",29,37,1.0045351250000001,null,{"$f":"IF(C1305<'Gala Name'!C$5,\"\",LEFT(A1305,1)&B1305&C1305)","v":"F2937"},1.0045351250000001]
["Female",29,38,1.0019094500000001,null,{"$f":"IF(C1306<'Gala Name'!C$5,\"\",LEFT(A1306,1)&B1306&C1306)","v":"F2938"},1.0019094500000001]
["Female",29,39,0.998579985,null,{"$f":"IF(C1307<'Gala Name'!C$5,\"\",LEFT(A1307,1)&B1307&C1307)","v":"F2939"},0.998579985]
["Female",29,40,0.99456600399999995,null,{"$f":"IF(C1308<'Gala Name'!C$5,\"\",LEFT(A1308,1)&B1308&C1308)","v":"F2940"},0.99456600399999995]
["Female",29,41,0.98989902799999996,null,{"$f":"IF(C1309<'Gala Name'!C$5,\"\",LEFT(A1309,1)&B1309&C1309)","v":"F2941"},0.98989902799999996]
["Female",29,42,0.984620457,null,{"$f":"IF(C1310<'Gala Name'!C$5,\"\",LEFT(A1310,1)&B1310&C1310)","v":"F2942"},0.984620457]
["Female",29,43,0.97877936499999996,null,{"$f":"IF(C1311<'Gala Name'!C$5,\"\",LEFT(A1311,1)&B1311&C1311)","v":"F2943"},0.97877936499999996]
["Female",29,44,0.97243041500000005,null,{"$f":"IF(C1312<'Gala Name'!C$5,\"\",LEFT(A1312,1)&B1312&C1312)","v":"F2944"},0.97243041500000005]
["Female",29,45,0.96563194100000005,null,{"$f":"IF(C1313<'Gala Name'!C$5,\"\",LEFT(A1313,1)&B1313&C1313)","v":"F2945"},0.96563194100000005]
["Female",29,46,0.95844415000000005,null,{"$f":"IF(C1314<'Gala Name'!C$5,\"\",LEFT(A1314,1)&B1314&C1314)","v":"F2946"},0.95844415000000005]
["Female",29,47,0.95092748100000002,null,{"$f":"IF(C1315<'Gala Name'!C$5,\"\",LEFT(A1315,1)&B1315&C1315)","v":"F2947"},0.95092748100000002]
["Female",29,48,0.94314110500000004,null,{"$f":"IF(C1316<'Gala Name'!C$5,\"\",LEFT(A1316,1)&B1316&C1316)","v":"F2948"},0.94314110500000004]
["Female",29,49,0.93514155899999996,null,{"$f":"IF(C1317<'Gala Name'!C$5,\"\",LEFT(A1317,1)&B1317&C1317)","v":"F2949"},0.93514155899999996]
["Female",29,50,0.92698153599999999,null,{"$f":"IF(C1318<'Gala Name'!C$5,\"\",LEFT(A1318,1)&B1318&C1318)","v":"F2950"},0.92698153599999999]
["Female",29,51,0.91870880300000002,null,{"$f":"IF(C1319<'Gala Name'!C$5,\"\",LEFT(A1319,1)&B1319&C1319)","v":"F2951"},0.91870880300000002]
["Female",29,52,0.91036527599999995,null,{"$f":"IF(C1320<'Gala Name'!C$5,\"\",LEFT(A1320,1)&B1320&C1320)","v":"F2952"},0.91036527599999995]
["Female",29,53,0.90198622399999995,null,{"$f":"IF(C1321<'Gala Name'!C$5,\"\",LEFT(A1321,1)&B1321&C1321)","v":"F2953"},0.90198622399999995]
["Female",29,54,0.89359962800000003,null,{"$f":"IF(C1322<'Gala Name'!C$5,\"\",LEFT(A1322,1)&B1322&C1322)","v":"F2954"},0.89359962800000003]
["Female",29,55,0.88522567500000005,null,{"$f":"IF(C1323<'Gala Name'!C$5,\"\",LEFT(A1323,1)&B1323&C1323)","v":"F2955"},0.88522567500000005]
["Female",29,56,0.87687639399999995,null,{"$f":"IF(C1324<'Gala Name'!C$5,\"\",LEFT(A1324,1)&B1324&C1324)","v":"F2956"},0.87687639399999995]
["Female",29,57,0.86855544200000001,null,{"$f":"IF(C1325<'Gala Name'!C$5,\"\",LEFT(A1325,1)&B1325&C1325)","v":"F2957"},0.86855544200000001]
["Female",29,58,0.86025802399999995,null,{"$f":"IF(C1326<'Gala Name'!C$5,\"\",LEFT(A1326,1)&B1326&C1326)","v":"F2958"},0.86025802399999995]
["Female",29,59,0.851970962,null,{"$f":"IF(C1327<'Gala Name'!C$5,\"\",LEFT(A1327,1)&B1327&C1327)","v":"F2959"},0.851970962]
["Female",29,60,0.84367290100000003,null,{"$f":"IF(C1328<'Gala Name'!C$5,\"\",LEFT(A1328,1)&B1328&C1328)","v":"F2960"},0.84367290100000003]
["Female",29,61,0.83533466700000003,null,{"$f":"IF(C1329<'Gala Name'!C$5,\"\",LEFT(A1329,1)&B1329&C1329)","v":"F2961"},0.83533466700000003]
["Female",29,62,0.82691975299999998,null,{"$f":"IF(C1330<'Gala Name'!C$5,\"\",LEFT(A1330,1)&B1330&C1330)","v":"F2962"},0.82691975299999998]
["Female",29,63,0.81838496400000005,null,{"$f":"IF(C1331<'Gala Name'!C$5,\"\",LEFT(A1331,1)&B1331&C1331)","v":"F2963"},0.81838496400000005]
["Female",29,64,0.80968119100000002,null,{"$f":"IF(C1332<'Gala Name'!C$5,\"\",LEFT(A1332,1)&B1332&C1332)","v":"F2964"},0.80968119100000002]
["Female",29,65,0.80075433699999998,null,{"$f":"IF(C1333<'Gala Name'!C$5,\"\",LEFT(A1333,1)&B1333&C1333)","v":"F2965"},0.80075433699999998]
["Female",29,66,0.79154637999999999,null,{"$f":"IF(C1334<'Gala Name'!C$5,\"\",LEFT(A1334,1)&B1334&C1334)","v":"F2966"},0.79154637999999999]
["Female",29,67,0.781996582,null,{"$f":"IF(C1335<'Gala Name'!C$5,\"\",LEFT(A1335,1)&B1335&C1335)","v":"F2967"},0.781996582]
["Female",29,68,0.77204283799999995,null,{"$f":"IF(C1336<'Gala Name'!C$5,\"\",LEFT(A1336,1)&B1336&C1336)","v":"F2968"},0.77204283799999995]
["Female",29,69,0.76162317099999999,null,{"$f":"IF(C1337<'Gala Name'!C$5,\"\",LEFT(A1337,1)&B1337&C1337)","v":"F2969"},0.76162317099999999]
["Female",29,70,0.75067736399999996,null,{"$f":"IF(C1338<'Gala Name'!C$5,\"\",LEFT(A1338,1)&B1338&C1338)","v":"F2970"},0.75067736399999996]
["Female",29,71,0.739148743,null,{"$f":"IF(C1339<'Gala Name'!C$5,\"\",LEFT(A1339,1)&B1339&C1339)","v":"F2971"},0.739148743]
["Female",29,72,0.72698609300000006,null,{"$f":"IF(C1340<'Gala Name'!C$5,\"\",LEFT(A1340,1)&B1340&C1340)","v":"F2972"},0.72698609300000006]
["Female",29,73,0.71414572600000004,null,{"$f":"IF(C1341<'Gala Name'!C$5,\"\",LEFT(A1341,1)&B1341&C1341)","v":"F2973"},0.71414572600000004]
["Female",29,74,0.70059368399999999,null,{"$f":"IF(C1342<'Gala Name'!C$5,\"\",LEFT(A1342,1)&B1342&C1342)","v":"F2974"},0.70059368399999999]
["Female",29,75,0.68630808799999998,null,{"$f":"IF(C1343<'Gala Name'!C$5,\"\",LEFT(A1343,1)&B1343&C1343)","v":"F2975"},0.68630808799999998]
["Female",29,76,0.67128163200000002,null,{"$f":"IF(C1344<'Gala Name'!C$5,\"\",LEFT(A1344,1)&B1344&C1344)","v":"F2976"},0.67128163200000002]
["Female",29,77,0.65552421400000005,null,{"$f":"IF(C1345<'Gala Name'!C$5,\"\",LEFT(A1345,1)&B1345&C1345)","v":"F2977"},0.65552421400000005]
["Female",29,78,0.63906571400000001,null,{"$f":"IF(C1346<'Gala Name'!C$5,\"\",LEFT(A1346,1)&B1346&C1346)","v":"F2978"},0.63906571400000001]
["Female",29,79,0.62195891599999997,null,{"$f":"IF(C1347<'Gala Name'!C$5,\"\",LEFT(A1347,1)&B1347&C1347)","v":"F2979"},{"$f":"D1347","v":0.62195891599999997}]
["Female",29,80,0.60428256400000002,null,{"$f":"IF(C1348<'Gala Name'!C$5,\"\",LEFT(A1348,1)&B1348&C1348)","v":"F2980"},0.60428256400000002]
["Female",29,81,0.58614457200000003,null,{"$f":"IF(C1349<'Gala Name'!C$5,\"\",LEFT(A1349,1)&B1349&C1349)","v":"F2981"},0.58614457200000003]
["Female",29,82,0.567685369,null,{"$f":"IF(C1350<'Gala Name'!C$5,\"\",LEFT(A1350,1)&B1350&C1350)","v":"F2982"},0.567685369]
["Female",29,83,0.54908138900000003,null,{"$f":"IF(C1351<'Gala Name'!C$5,\"\",LEFT(A1351,1)&B1351&C1351)","v":"F2983"},0.54908138900000003]
["Female",29,84,0.53054870399999998,null,{"$f":"IF(C1352<'Gala Name'!C$5,\"\",LEFT(A1352,1)&B1352&C1352)","v":"F2984"},0.53054870399999998]
["Female",29,85,0.51234680099999996,null,{"$f":"IF(C1353<'Gala Name'!C$5,\"\",LEFT(A1353,1)&B1353&C1353)","v":"F2985"},0.51234680099999996]
["Female",29,86,0.49478249400000002,null,{"$f":"IF(C1354<'Gala Name'!C$5,\"\",LEFT(A1354,1)&B1354&C1354)","v":"F2986"},0.49478249400000002]
["Female",29,87,0.478213993,null,{"$f":"IF(C1355<'Gala Name'!C$5,\"\",LEFT(A1355,1)&B1355&C1355)","v":"F2987"},0.478213993]
["Female",29,88,0.463055098,null,{"$f":"IF(C1356<'Gala Name'!C$5,\"\",LEFT(A1356,1)&B1356&C1356)","v":"F2988"},0.463055098]
["Female",29,89,0.44977955400000003,null,{"$f":"IF(C1357<'Gala Name'!C$5,\"\",LEFT(A1357,1)&B1357&C1357)","v":"F2989"},0.44977955400000003]
["Female",29,90,0.43892553099999998,null,{"$f":"IF(C1358<'Gala Name'!C$5,\"\",LEFT(A1358,1)&B1358&C1358)","v":"F2990"},0.43892553099999998]
["Female",29,91,0.43110026099999998,null,{"$f":"IF(C1359<'Gala Name'!C$5,\"\",LEFT(A1359,1)&B1359&C1359)","v":"F2991"},0.43110026099999998]
["Female",29,92,0.42698480799999999,null,{"$f":"IF(C1360<'Gala Name'!C$5,\"\",LEFT(A1360,1)&B1360&C1360)","v":"F2992"},0.42698480799999999]
["Female",29,93,0.427338989,null,{"$f":"IF(C1361<'Gala Name'!C$5,\"\",LEFT(A1361,1)&B1361&C1361)","v":"F2993"},0.427338989]
["Female",29,94,0.433006426,null,{"$f":"IF(C1362<'Gala Name'!C$5,\"\",LEFT(A1362,1)&B1362&C1362)","v":"F2994"},0.433006426]
["Female",29,95,0.444919754,null,{"$f":"IF(C1363<'Gala Name'!C$5,\"\",LEFT(A1363,1)&B1363&C1363)","v":"F2995"},0.444919754]
["Female",29,96,0.46410596199999998,null,{"$f":"IF(C1364<'Gala Name'!C$5,\"\",LEFT(A1364,1)&B1364&C1364)","v":"F2996"},0.46410596199999998]
["Female",29,97,0.491691881,null,{"$f":"IF(C1365<'Gala Name'!C$5,\"\",LEFT(A1365,1)&B1365&C1365)","v":"F2997"},0.491691881]
["Female",29,98,0.52890981199999998,null,{"$f":"IF(C1366<'Gala Name'!C$5,\"\",LEFT(A1366,1)&B1366&C1366)","v":"F2998"},0.52890981199999998]
["Female",29,99,0.57710330200000004,null,{"$f":"IF(C1367<'Gala Name'!C$5,\"\",LEFT(A1367,1)&B1367&C1367)","v":"F2999"},0.57710330200000004]
["Female",29,100,0.63773305400000002,null,{"$f":"IF(C1368<'Gala Name'!C$5,\"\",LEFT(A1368,1)&B1368&C1368)","v":"F29100"},0.63773305400000002]
["Male",1,25,0.99657504500000005,null,{"$f":"IF(C1369<'Gala Name'!C$5,\"\",LEFT(A1369,1)&B1369&C1369)","v":"M125"},0.99657504500000005]
["Male",1,26,1.008164641,null,{"$f":"IF(C1370<'Gala Name'!C$5,\"\",LEFT(A1370,1)&B1370&C1370)","v":"M126"},1.008164641]
["Male",1,27,1.0159059349999999,null,{"$f":"IF(C1371<'Gala Name'!C$5,\"\",LEFT(A1371,1)&B1371&C1371)","v":"M127"},1.0159059349999999]
["Male",1,28,1.0204188999999999,null,{"$f":"IF(C1372<'Gala Name'!C$5,\"\",LEFT(A1372,1)&B1372&C1372)","v":"M128"},1.0204188999999999]
["Male",1,29,1.022258157,null,{"$f":"IF(C1373<'Gala Name'!C$5,\"\",LEFT(A1373,1)&B1373&C1373)","v":"M129"},1.022258157]
["Male",1,30,1.021917076,null,{"$f":"IF(C1374<'Gala Name'!C$5,\"\",LEFT(A1374,1)&B1374&C1374)","v":"M130"},1.021917076]
["Male",1,31,1.019831744,null,{"$f":"IF(C1375<'Gala Name'!C$5,\"\",LEFT(A1375,1)&B1375&C1375)","v":"M131"},1.019831744]
["Male",1,32,1.0163848259999999,null,{"$f":"IF(C1376<'Gala Name'!C$5,\"\",LEFT(A1376,1)&B1376&C1376)","v":"M132"},1.0163848259999999]
["Male",1,33,1.011909299,null,{"$f":"IF(C1377<'Gala Name'!C$5,\"\",LEFT(A1377,1)&B1377&C1377)","v":"M133"},1.011909299]
["Male",1,34,1.0066920749999999,null,{"$f":"IF(C1378<'Gala Name'!C$5,\"\",LEFT(A1378,1)&B1378&C1378)","v":"M134"},1.0066920749999999]
["Male",1,35,1.000977494,null,{"$f":"IF(C1379<'Gala Name'!C$5,\"\",LEFT(A1379,1)&B1379&C1379)","v":"M135"},1.000977494]
["Male",1,36,0.99497070700000001,null,{"$f":"IF(C1380<'Gala Name'!C$5,\"\",LEFT(A1380,1)&B1380&C1380)","v":"M136"},0.99497070700000001]
["Male",1,37,0.98884093500000003,null,{"$f":"IF(C1381<'Gala Name'!C$5,\"\",LEFT(A1381,1)&B1381&C1381)","v":"M137"},0.98884093500000003]
["Male",1,38,0.98272461200000005,null,{"$f":"IF(C1382<'Gala Name'!C$5,\"\",LEFT(A1382,1)&B1382&C1382)","v":"M138"},0.98272461200000005]
["Male",1,39,0.976728402,null,{"$f":"IF(C1383<'Gala Name'!C$5,\"\",LEFT(A1383,1)&B1383&C1383)","v":"M139"},0.976728402]
["Male",1,40,0.97093210799999996,null,{"$f":"IF(C1384<'Gala Name'!C$5,\"\",LEFT(A1384,1)&B1384&C1384)","v":"M140"},0.97093210799999996]
["Male",1,41,0.96539145199999998,null,{"$f":"IF(C1385<'Gala Name'!C$5,\"\",LEFT(A1385,1)&B1385&C1385)","v":"M141"},0.96539145199999998]
["Male",1,42,0.96014073799999999,null,{"$f":"IF(C1386<'Gala Name'!C$5,\"\",LEFT(A1386,1)&B1386&C1386)","v":"M142"},0.96014073799999999]
["Male",1,43,0.95519540000000003,null,{"$f":"IF(C1387<'Gala Name'!C$5,\"\",LEFT(A1387,1)&B1387&C1387)","v":"M143"},0.95519540000000003]
["Male",1,44,0.95055442599999995,null,{"$f":"IF(C1388<'Gala Name'!C$5,\"\",LEFT(A1388,1)&B1388&C1388)","v":"M144"},0.95055442599999995]
["Male",1,45,0.94620266399999997,null,{"$f":"IF(C1389<'Gala Name'!C$5,\"\",LEFT(A1389,1)&B1389&C1389)","v":"M145"},0.94620266399999997]
["Male",1,46,0.942113011,null,{"$f":"IF(C1390<'Gala Name'!C$5,\"\",LEFT(A1390,1)&B1390&C1390)","v":"M146"},0.942113011]
["Male",1,47,0.93824848100000002,null,{"$f":"IF(C1391<'Gala Name'!C$5,\"\",LEFT(A1391,1)&B1391&C1391)","v":"M147"},0.93824848100000002]
["Male",1,48,0.93456415299999995,null,{"$f":"IF(C1392<'Gala Name'!C$5,\"\",LEFT(A1392,1)&B1392&C1392)","v":"M148"},0.93456415299999995]
["Male",1,49,0.931008999,null,{"$f":"IF(C1393<'Gala Name'!C$5,\"\",LEFT(A1393,1)&B1393&C1393)","v":"M149"},0.931008999]
["Male",1,50,0.92752760000000001,null,{"$f":"IF(C1394<'Gala Name'!C$5,\"\",LEFT(A1394,1)&B1394&C1394)","v":"M150"},0.92752760000000001]
["Male",1,51,0.92406173000000003,null,{"$f":"IF(C1395<'Gala Name'!C$5,\"\",LEFT(A1395,1)&B1395&C1395)","v":"M151"},0.92406173000000003]
["Male",1,52,0.92055183500000004,null,{"$f":"IF(C1396<'Gala Name'!C$5,\"\",LEFT(A1396,1)&B1396&C1396)","v":"M152"},0.92055183500000004]
["Male",1,53,0.91693838000000005,null,{"$f":"IF(C1397<'Gala Name'!C$5,\"\",LEFT(A1397,1)&B1397&C1397)","v":"M153"},0.91693838000000005]
["Male",1,54,0.91316308599999996,null,{"$f":"IF(C1398<'Gala Name'!C$5,\"\",LEFT(A1398,1)&B1398&C1398)","v":"M154"},0.91316308599999996]
["Male",1,55,0.90917004400000001,null,{"$f":"IF(C1399<'Gala Name'!C$5,\"\",LEFT(A1399,1)&B1399&C1399)","v":"M155"},0.90917004400000001]
["Male",1,56,0.90490670900000003,null,{"$f":"IF(C1400<'Gala Name'!C$5,\"\",LEFT(A1400,1)&B1400&C1400)","v":"M156"},0.90490670900000003]
["Male",1,57,0.90032477700000002,null,{"$f":"IF(C1401<'Gala Name'!C$5,\"\",LEFT(A1401,1)&B1401&C1401)","v":"M157"},0.90032477700000002]
["Male",1,58,0.89538094099999999,null,{"$f":"IF(C1402<'Gala Name'!C$5,\"\",LEFT(A1402,1)&B1402&C1402)","v":"M158"},0.89538094099999999]
["Male",1,59,0.89003752899999999,null,{"$f":"IF(C1403<'Gala Name'!C$5,\"\",LEFT(A1403,1)&B1403&C1403)","v":"M159"},0.89003752899999999]
["Male",1,60,0.88426302300000004,null,{"$f":"IF(C1404<'Gala Name'!C$5,\"\",LEFT(A1404,1)&B1404&C1404)","v":"M160"},0.88426302300000004]
["Male",1,61,0.87803245699999999,null,{"$f":"IF(C1405<'Gala Name'!C$5,\"\",LEFT(A1405,1)&B1405&C1405)","v":"M161"},0.87803245699999999]
["Male",1,62,0.87132769399999999,null,{"$f":"IF(C1406<'Gala Name'!C$5,\"\",LEFT(A1406,1)&B1406&C1406)","v":"M162"},0.87132769399999999]
["Male",1,63,0.86413759499999998,null,{"$f":"IF(C1407<'Gala Name'!C$5,\"\",LEFT(A1407,1)&B1407&C1407)","v":"M163"},0.86413759499999998]
["Male",1,64,0.85645805100000005,null,{"$f":"IF(C1408<'Gala Name'!C$5,\"\",LEFT(A1408,1)&B1408&C1408)","v":"M164"},0.85645805100000005]
["Male",1,65,0.84829191100000001,null,{"$f":"IF(C1409<'Gala Name'!C$5,\"\",LEFT(A1409,1)&B1409&C1409)","v":"M165"},0.84829191100000001]
["Male",1,66,0.83964878300000001,null,{"$f":"IF(C1410<'Gala Name'!C$5,\"\",LEFT(A1410,1)&B1410&C1410)","v":"M166"},0.83964878300000001]
["Male",1,67,0.83054471799999996,null,{"$f":"IF(C1411<'Gala Name'!C$5,\"\",LEFT(A1411,1)&B1411&C1411)","v":"M167"},{"$f":"D1411","v":0.83054471799999996}]
["Male",1,68,0.82100177500000004,null,{"$f":"IF(C1412<'Gala Name'!C$5,\"\",LEFT(A1412,1)&B1412&C1412)","v":"M168"},0.82100177500000004]
["Male",1,69,0.81104746699999997,null,{"$f":"IF(C1413<'Gala Name'!C$5,\"\",LEFT(A1413,1)&B1413&C1413)","v":"M169"},0.81104746699999997]
["Male",1,70,0.80071408300000002,null,{"$f":"IF(C1414<'Gala Name'!C$5,\"\",LEFT(A1414,1)&B1414&C1414)","v":"M170"},0.80071408300000002]
["Male",1,71,0.79003790100000004,null,{"$f":"IF(C1415<'Gala Name'!C$5,\"\",LEFT(A1415,1)&B1415&C1415)","v":"M171"},0.79003790100000004]
["Male",1,72,0.779058272,null,{"$f":"IF(C1416<'Gala Name'!C$5,\"\",LEFT(A1416,1)&B1416&C1416)","v":"M172"},0.779058272]
["Male",1,73,0.76781658900000005,null,{"$f":"IF(C1417<'Gala Name'!C$5,\"\",LEFT(A1417,1)&B1417&C1417)","v":"M173"},0.76781658900000005]
["Male",1,74,0.75635513499999996,null,{"$f":"IF(C1418<'Gala Name'!C$5,\"\",LEFT(A1418,1)&B1418&C1418)","v":"M174"},0.75635513499999996]
["Male",1,75,0.74471581600000003,null,{"$f":"IF(C1419<'Gala Name'!C$5,\"\",LEFT(A1419,1)&B1419&C1419)","v":"M175"},0.74471581600000003]
["Male",1,76,0.73293877100000004,null,{"$f":"IF(C1420<'Gala Name'!C$5,\"\",LEFT(A1420,1)&B1420&C1420)","v":"M176"},0.73293877100000004]
["Male",1,77,0.72106086000000003,null,{"$f":"IF(C1421<'Gala Name'!C$5,\"\",LEFT(A1421,1)&B1421&C1421)","v":"M177"},0.72106086000000003]
["Male",1,78,0.70911404300000003,null,{"$f":"IF(C1422<'Gala Name'!C$5,\"\",LEFT(A1422,1)&B1422&C1422)","v":"M178"},0.70911404300000003]
["Male",1,79,0.69712362500000002,null,{"$f":"IF(C1423<'Gala Name'!C$5,\"\",LEFT(A1423,1)&B1423&C1423)","v":"M179"},0.69712362500000002]
["Male",1,80,0.68510639799999995,null,{"$f":"IF(C1424<'Gala Name'!C$5,\"\",LEFT(A1424,1)&B1424&C1424)","v":"M180"},0.68510639799999995]
["Male",1,81,0.67306865100000002,null,{"$f":"IF(C1425<'Gala Name'!C$5,\"\",LEFT(A1425,1)&B1425&C1425)","v":"M181"},0.67306865100000002]
["Male",1,82,0.66100406499999997,null,{"$f":"IF(C1426<'Gala Name'!C$5,\"\",LEFT(A1426,1)&B1426&C1426)","v":"M182"},0.66100406499999997]
["Male",1,83,0.64889149300000004,null,{"$f":"IF(C1427<'Gala Name'!C$5,\"\",LEFT(A1427,1)&B1427&C1427)","v":"M183"},0.64889149300000004]
["Male",1,84,0.63669261300000002,null,{"$f":"IF(C1428<'Gala Name'!C$5,\"\",LEFT(A1428,1)&B1428&C1428)","v":"M184"},0.63669261300000002]
["Male",1,85,0.62434946999999996,null,{"$f":"IF(C1429<'Gala Name'!C$5,\"\",LEFT(A1429,1)&B1429&C1429)","v":"M185"},0.62434946999999996]
["Male",1,86,0.61178188899999997,null,{"$f":"IF(C1430<'Gala Name'!C$5,\"\",LEFT(A1430,1)&B1430&C1430)","v":"M186"},0.61178188899999997]
["Male",1,87,0.59888478199999995,null,{"$f":"IF(C1431<'Gala Name'!C$5,\"\",LEFT(A1431,1)&B1431&C1431)","v":"M187"},0.59888478199999995]
["Male",1,88,0.58552532099999999,null,{"$f":"IF(C1432<'Gala Name'!C$5,\"\",LEFT(A1432,1)&B1432&C1432)","v":"M188"},0.58552532099999999]
["Male",1,89,0.57154000199999999,null,{"$f":"IF(C1433<'Gala Name'!C$5,\"\",LEFT(A1433,1)&B1433&C1433)","v":"M189"},0.57154000199999999]
["Male",1,90,0.556731588,null,{"$f":"IF(C1434<'Gala Name'!C$5,\"\",LEFT(A1434,1)&B1434&C1434)","v":"M190"},0.556731588]
["Male",1,91,0.54086593100000002,null,{"$f":"IF(C1435<'Gala Name'!C$5,\"\",LEFT(A1435,1)&B1435&C1435)","v":"M191"},0.54086593100000002]
["Male",1,92,0.52366867299999997,null,{"$f":"IF(C1436<'Gala Name'!C$5,\"\",LEFT(A1436,1)&B1436&C1436)","v":"M192"},0.52366867299999997]
["Male",1,93,0.504821831,null,{"$f":"IF(C1437<'Gala Name'!C$5,\"\",LEFT(A1437,1)&B1437&C1437)","v":"M193"},0.504821831]
["Male",1,94,0.483960265,null,{"$f":"IF(C1438<'Gala Name'!C$5,\"\",LEFT(A1438,1)&B1438&C1438)","v":"M194"},0.483960265]
["Male",1,95,0.46066802099999998,null,{"$f":"IF(C1439<'Gala Name'!C$5,\"\",LEFT(A1439,1)&B1439&C1439)","v":"M195"},0.46066802099999998]
["Male",1,96,0.43447455499999998,null,{"$f":"IF(C1440<'Gala Name'!C$5,\"\",LEFT(A1440,1)&B1440&C1440)","v":"M196"},0.43447455499999998]
["Male",1,97,0.40485084599999999,null,{"$f":"IF(C1441<'Gala Name'!C$5,\"\",LEFT(A1441,1)&B1441&C1441)","v":"M197"},0.40485084599999999]
["Male",1,98,0.371205381,null,{"$f":"IF(C1442<'Gala Name'!C$5,\"\",LEFT(A1442,1)&B1442&C1442)","v":"M198"},0.371205381]
["Male",1,99,0.33288002100000003,null,{"$f":"IF(C1443<'Gala Name'!C$5,\"\",LEFT(A1443,1)&B1443&C1443)","v":"M199"},0.33288002100000003]
["Male",1,100,0.28914575599999998,null,{"$f":"IF(C1444<'Gala Name'!C$5,\"\",LEFT(A1444,1)&B1444&C1444)","v":"M1100"},0.28914575599999998]
["Male",2,25,1.0004485270000001,null,{"$f":"IF(C1445<'Gala Name'!C$5,\"\",LEFT(A1445,1)&B1445&C1445)","v":"M225"},1.0004485270000001]
["Male",2,26,0.997663772,null,{"$f":"IF(C1446<'Gala Name'!C$5,\"\",LEFT(A1446,1)&B1446&C1446)","v":"M226"},0.997663772]
["Male",2,27,0.99522089599999997,null,{"$f":"IF(C1447<'Gala Name'!C$5,\"\",LEFT(A1447,1)&B1447&C1447)","v":"M227"},0.99522089599999997]
["Male",2,28,0.99304208999999999,null,{"$f":"IF(C1448<'Gala Name'!C$5,\"\",LEFT(A1448,1)&B1448&C1448)","v":"M228"},0.99304208999999999]
["Male",2,29,0.99105676099999995,null,{"$f":"IF(C1449<'Gala Name'!C$5,\"\",LEFT(A1449,1)&B1449&C1449)","v":"M229"},0.99105676099999995]
["Male",2,30,0.989201145,null,{"$f":"IF(C1450<'Gala Name'!C$5,\"\",LEFT(A1450,1)&B1450&C1450)","v":"M230"},0.989201145]
["Male",2,31,0.98741792699999997,null,{"$f":"IF(C1451<'Gala Name'!C$5,\"\",LEFT(A1451,1)&B1451&C1451)","v":"M231"},0.98741792699999997]
["Male",2,32,0.98565587300000002,null,{"$f":"IF(C1452<'Gala Name'!C$5,\"\",LEFT(A1452,1)&B1452&C1452)","v":"M232"},0.98565587300000002]
["Male",2,33,0.98386946399999997,null,{"$f":"IF(C1453<'Gala Name'!C$5,\"\",LEFT(A1453,1)&B1453&C1453)","v":"M233"},0.98386946399999997]
["Male",2,34,0.98201854200000005,null,{"$f":"IF(C1454<'Gala Name'!C$5,\"\",LEFT(A1454,1)&B1454&C1454)","v":"M234"},0.98201854200000005]
["Male",2,35,0.98006796500000004,null,{"$f":"IF(C1455<'Gala Name'!C$5,\"\",LEFT(A1455,1)&B1455&C1455)","v":"M235"},0.98006796500000004]
["Male",2,36,0.97798727200000002,null,{"$f":"IF(C1456<'Gala Name'!C$5,\"\",LEFT(A1456,1)&B1456&C1456)","v":"M236"},0.97798727200000002]
["Male",2,37,0.97575035099999996,null,{"$f":"IF(C1457<'Gala Name'!C$5,\"\",LEFT(A1457,1)&B1457&C1457)","v":"M237"},0.97575035099999996]
["Male",2,38,0.97333511900000003,null,{"$f":"IF(C1458<'Gala Name'!C$5,\"\",LEFT(A1458,1)&B1458&C1458)","v":"M238"},0.97333511900000003]
["Male",2,39,0.97072321299999997,null,{"$f":"IF(C1459<'Gala Name'!C$5,\"\",LEFT(A1459,1)&B1459&C1459)","v":"M239"},0.97072321299999997]
["Male",2,40,0.96789968599999998,null,{"$f":"IF(C1460<'Gala Name'!C$5,\"\",LEFT(A1460,1)&B1460&C1460)","v":"M240"},0.96789968599999998]
["Male",2,41,0.96485271100000003,null,{"$f":"IF(C1461<'Gala Name'!C$5,\"\",LEFT(A1461,1)&B1461&C1461)","v":"M241"},0.96485271100000003]
["Male",2,42,0.96157329300000005,null,{"$f":"IF(C1462<'Gala Name'!C$5,\"\",LEFT(A1462,1)&B1462&C1462)","v":"M242"},0.96157329300000005]
["Male",2,43,0.95805499800000005,null,{"$f":"IF(C1463<'Gala Name'!C$5,\"\",LEFT(A1463,1)&B1463&C1463)","v":"M243"},0.95805499800000005]
["Male",2,44,0.95429367700000001,null,{"$f":"IF(C1464<'Gala Name'!C$5,\"\",LEFT(A1464,1)&B1464&C1464)","v":"M244"},0.95429367700000001]
["Male",2,45,0.95028720899999997,null,{"$f":"IF(C1465<'Gala Name'!C$5,\"\",LEFT(A1465,1)&B1465&C1465)","v":"M245"},0.95028720899999997]
["Male",2,46,0.94603524500000002,null,{"$f":"IF(C1466<'Gala Name'!C$5,\"\",LEFT(A1466,1)&B1466&C1466)","v":"M246"},0.94603524500000002]
["Male",2,47,0.94153897200000003,null,{"$f":"IF(C1467<'Gala Name'!C$5,\"\",LEFT(A1467,1)&B1467&C1467)","v":"M247"},0.94153897200000003]
["Male",2,48,0.93680086699999998,null,{"$f":"IF(C1468<'Gala Name'!C$5,\"\",LEFT(A1468,1)&B1468&C1468)","v":"M248"},0.93680086699999998]
["Male",2,49,0.93182448100000004,null,{"$f":"IF(C1469<'Gala Name'!C$5,\"\",LEFT(A1469,1)&B1469&C1469)","v":"M249"},0.93182448100000004]
["Male",2,50,0.92661421300000002,null,{"$f":"IF(C1470<'Gala Name'!C$5,\"\",LEFT(A1470,1)&B1470&C1470)","v":"M250"},0.92661421300000002]
["Male",2,51,0.92117510400000002,null,{"$f":"IF(C1471<'Gala Name'!C$5,\"\",LEFT(A1471,1)&B1471&C1471)","v":"M251"},0.92117510400000002]
["Male",2,52,0.91551263500000002,null,{"$f":"IF(C1472<'Gala Name'!C$5,\"\",LEFT(A1472,1)&B1472&C1472)","v":"M252"},0.91551263500000002]
["Male",2,53,0.90963253300000002,null,{"$f":"IF(C1473<'Gala Name'!C$5,\"\",LEFT(A1473,1)&B1473&C1473)","v":"M253"},0.90963253300000002]
["Male",2,54,0.90354058999999998,null,{"$f":"IF(C1474<'Gala Name'!C$5,\"\",LEFT(A1474,1)&B1474&C1474)","v":"M254"},0.90354058999999998]
["Male",2,55,0.89724248399999995,null,{"$f":"IF(C1475<'Gala Name'!C$5,\"\",LEFT(A1475,1)&B1475&C1475)","v":"M255"},{"$f":"D1475","v":0.89724248399999995}]
["Male",2,56,0.89074361300000005,null,{"$f":"IF(C1476<'Gala Name'!C$5,\"\",LEFT(A1476,1)&B1476&C1476)","v":"M256"},0.89074361300000005]
["Male",2,57,0.88404893600000001,null,{"$f":"IF(C1477<'Gala Name'!C$5,\"\",LEFT(A1477,1)&B1477&C1477)","v":"M257"},0.88404893600000001]
["Male",2,58,0.87716282400000001,null,{"$f":"IF(C1478<'Gala Name'!C$5,\"\",LEFT(A1478,1)&B1478&C1478)","v":"M258"},0.87716282400000001]
["Male",2,59,0.87008891499999996,null,{"$f":"IF(C1479<'Gala Name'!C$5,\"\",LEFT(A1479,1)&B1479&C1479)","v":"M259"},0.87008891499999996]
["Male",2,60,0.86282998600000005,null,{"$f":"IF(C1480<'Gala Name'!C$5,\"\",LEFT(A1480,1)&B1480&C1480)","v":"M260"},0.86282998600000005]
["Male",2,61,0.85538782300000005,null,{"$f":"IF(C1481<'Gala Name'!C$5,\"\",LEFT(A1481,1)&B1481&C1481)","v":"M261"},0.85538782300000005]
["Male",2,62,0.84776310799999999,null,{"$f":"IF(C1482<'Gala Name'!C$5,\"\",LEFT(A1482,1)&B1482&C1482)","v":"M262"},0.84776310799999999]
["Male",2,63,0.83995531000000001,null,{"$f":"IF(C1483<'Gala Name'!C$5,\"\",LEFT(A1483,1)&B1483&C1483)","v":"M263"},0.83995531000000001]
["Male",2,64,0.83196258499999998,null,{"$f":"IF(C1484<'Gala Name'!C$5,\"\",LEFT(A1484,1)&B1484&C1484)","v":"M264"},0.83196258499999998]
["Male",2,65,0.82378168699999998,null,{"$f":"IF(C1485<'Gala Name'!C$5,\"\",LEFT(A1485,1)&B1485&C1485)","v":"M265"},0.82378168699999998]
["Male",2,66,0.81540788399999997,null,{"$f":"IF(C1486<'Gala Name'!C$5,\"\",LEFT(A1486,1)&B1486&C1486)","v":"M266"},0.81540788399999997]
["Male",2,67,0.80683488800000003,null,{"$f":"IF(C1487<'Gala Name'!C$5,\"\",LEFT(A1487,1)&B1487&C1487)","v":"M267"},0.80683488800000003]
["Male",2,68,0.79805478200000002,null,{"$f":"IF(C1488<'Gala Name'!C$5,\"\",LEFT(A1488,1)&B1488&C1488)","v":"M268"},0.79805478200000002]
["Male",2,69,0.78905797200000005,null,{"$f":"IF(C1489<'Gala Name'!C$5,\"\",LEFT(A1489,1)&B1489&C1489)","v":"M269"},0.78905797200000005]
["Male",2,70,0.77983313200000004,null,{"$f":"IF(C1490<'Gala Name'!C$5,\"\",LEFT(A1490,1)&B1490&C1490)","v":"M270"},0.77983313200000004]
["Male",2,71,0.77036716999999999,null,{"$f":"IF(C1491<'Gala Name'!C$5,\"\",LEFT(A1491,1)&B1491&C1491)","v":"M271"},0.77036716999999999]
["Male",2,72,0.76064518999999997,null,{"$f":"IF(C1492<'Gala Name'!C$5,\"\",LEFT(A1492,1)&B1492&C1492)","v":"M272"},0.76064518999999997]
["Male",2,73,0.75065047399999996,null,{"$f":"IF(C1493<'Gala Name'!C$5,\"\",LEFT(A1493,1)&B1493&C1493)","v":"M273"},0.75065047399999996]
["Male",2,74,0.740364468,null,{"$f":"IF(C1494<'Gala Name'!C$5,\"\",LEFT(A1494,1)&B1494&C1494)","v":"M274"},0.740364468]
["Male",2,75,0.72976677400000001,null,{"$f":"IF(C1495<'Gala Name'!C$5,\"\",LEFT(A1495,1)&B1495&C1495)","v":"M275"},0.72976677400000001]
["Male",2,76,0.71883515099999995,null,{"$f":"IF(C1496<'Gala Name'!C$5,\"\",LEFT(A1496,1)&B1496&C1496)","v":"M276"},0.71883515099999995]
["Male",2,77,0.70754553200000003,null,{"$f":"IF(C1497<'Gala Name'!C$5,\"\",LEFT(A1497,1)&B1497&C1497)","v":"M277"},0.70754553200000003]
["Male",2,78,0.69587203799999997,null,{"$f":"IF(C1498<'Gala Name'!C$5,\"\",LEFT(A1498,1)&B1498&C1498)","v":"M278"},0.69587203799999997]
["Male",2,79,0.683787009,null,{"$f":"IF(C1499<'Gala Name'!C$5,\"\",LEFT(A1499,1)&B1499&C1499)","v":"M279"},0.683787009]
["Male",2,80,0.67126103999999998,null,{"$f":"IF(C1500<'Gala Name'!C$5,\"\",LEFT(A1500,1)&B1500&C1500)","v":"M280"},0.67126103999999998]
["Male",2,81,0.658263025,null,{"$f":"IF(C1501<'Gala Name'!C$5,\"\",LEFT(A1501,1)&B1501&C1501)","v":"M281"},0.658263025]
["Male",2,82,0.64476021400000005,null,{"$f":"IF(C1502<'Gala Name'!C$5,\"\",LEFT(A1502,1)&B1502&C1502)","v":"M282"},0.64476021400000005]
["Male",2,83,0.630718271,null,{"$f":"IF(C1503<'Gala Name'!C$5,\"\",LEFT(A1503,1)&B1503&C1503)","v":"M283"},0.630718271]
["Male",2,84,0.61610134800000005,null,{"$f":"IF(C1504<'Gala Name'!C$5,\"\",LEFT(A1504,1)&B1504&C1504)","v":"M284"},0.61610134800000005]
["Male",2,85,0.60087216300000001,null,{"$f":"IF(C1505<'Gala Name'!C$5,\"\",LEFT(A1505,1)&B1505&C1505)","v":"M285"},0.60087216300000001]
["Male",2,86,0.58499208499999999,null,{"$f":"IF(C1506<'Gala Name'!C$5,\"\",LEFT(A1506,1)&B1506&C1506)","v":"M286"},0.58499208499999999]
["Male",2,87,0.56842123499999997,null,{"$f":"IF(C1507<'Gala Name'!C$5,\"\",LEFT(A1507,1)&B1507&C1507)","v":"M287"},0.56842123499999997]
["Male",2,88,0.55111858700000005,null,{"$f":"IF(C1508<'Gala Name'!C$5,\"\",LEFT(A1508,1)&B1508&C1508)","v":"M288"},0.55111858700000005]
["Male",2,89,0.533042083,null,{"$f":"IF(C1509<'Gala Name'!C$5,\"\",LEFT(A1509,1)&B1509&C1509)","v":"M289"},0.533042083]
["Male",2,90,0.51414875299999996,null,{"$f":"IF(C1510<'Gala Name'!C$5,\"\",LEFT(A1510,1)&B1510&C1510)","v":"M290"},0.51414875299999996]
["Male",2,91,0.494394848,null,{"$f":"IF(C1511<'Gala Name'!C$5,\"\",LEFT(A1511,1)&B1511&C1511)","v":"M291"},0.494394848]
["Male",2,92,0.473735974,null,{"$f":"IF(C1512<'Gala Name'!C$5,\"\",LEFT(A1512,1)&B1512&C1512)","v":"M292"},0.473735974]
["Male",2,93,0.45212724300000001,null,{"$f":"IF(C1513<'Gala Name'!C$5,\"\",LEFT(A1513,1)&B1513&C1513)","v":"M293"},0.45212724300000001]
["Male",2,94,0.42952342799999998,null,{"$f":"IF(C1514<'Gala Name'!C$5,\"\",LEFT(A1514,1)&B1514&C1514)","v":"M294"},0.42952342799999998]
["Male",2,95,0.40587912599999998,null,{"$f":"IF(C1515<'Gala Name'!C$5,\"\",LEFT(A1515,1)&B1515&C1515)","v":"M295"},0.40587912599999998]
["Male",2,96,0.38114893,null,{"$f":"IF(C1516<'Gala Name'!C$5,\"\",LEFT(A1516,1)&B1516&C1516)","v":"M296"},0.38114893]
["Male",2,97,0.35528761399999997,null,{"$f":"IF(C1517<'Gala Name'!C$5,\"\",LEFT(A1517,1)&B1517&C1517)","v":"M297"},0.35528761399999997]
["Male",2,98,0.32825031599999999,null,{"$f":"IF(C1518<'Gala Name'!C$5,\"\",LEFT(A1518,1)&B1518&C1518)","v":"M298"},0.32825031599999999]
["Male",2,99,0.29999274199999998,null,{"$f":"IF(C1519<'Gala Name'!C$5,\"\",LEFT(A1519,1)&B1519&C1519)","v":"M299"},0.29999274199999998]
["Male",2,100,0.27047137199999999,null,{"$f":"IF(C1520<'Gala Name'!C$5,\"\",LEFT(A1520,1)&B1520&C1520)","v":"M2100"},0.27047137199999999]
["Male",3,25,1.0045301,null,{"$f":"IF(C1521<'Gala Name'!C$5,\"\",LEFT(A1521,1)&B1521&C1521)","v":"M325"},1.0045301]
["Male",3,26,0.99818937299999999,null,{"$f":"IF(C1522<'Gala Name'!C$5,\"\",LEFT(A1522,1)&B1522&C1522)","v":"M326"},0.99818937299999999]
["Male",3,27,0.99307959599999995,null,{"$f":"IF(C1523<'Gala Name'!C$5,\"\",LEFT(A1523,1)&B1523&C1523)","v":"M327"},0.99307959599999995]
["Male",3,28,0.98899000699999995,null,{"$f":"IF(C1524<'Gala Name'!C$5,\"\",LEFT(A1524,1)&B1524&C1524)","v":"M328"},0.98899000699999995]
["Male",3,29,0.98572834300000001,null,{"$f":"IF(C1525<'Gala Name'!C$5,\"\",LEFT(A1525,1)&B1525&C1525)","v":"M329"},0.98572834300000001]
["Male",3,30,0.98311995100000005,null,{"$f":"IF(C1526<'Gala Name'!C$5,\"\",LEFT(A1526,1)&B1526&C1526)","v":"M330"},0.98311995100000005]
["Male",3,31,0.98100690999999995,null,{"$f":"IF(C1527<'Gala Name'!C$5,\"\",LEFT(A1527,1)&B1527&C1527)","v":"M331"},0.98100690999999995]
["Male",3,32,0.97924717100000003,null,{"$f":"IF(C1528<'Gala Name'!C$5,\"\",LEFT(A1528,1)&B1528&C1528)","v":"M332"},0.97924717100000003]
["Male",3,33,0.97771371399999996,null,{"$f":"IF(C1529<'Gala Name'!C$5,\"\",LEFT(A1529,1)&B1529&C1529)","v":"M333"},0.97771371399999996]
["Male",3,34,0.976293721,null,{"$f":"IF(C1530<'Gala Name'!C$5,\"\",LEFT(A1530,1)&B1530&C1530)","v":"M334"},0.976293721]
["Male",3,35,0.97488776600000004,null,{"$f":"IF(C1531<'Gala Name'!C$5,\"\",LEFT(A1531,1)&B1531&C1531)","v":"M335"},0.97488776600000004]
["Male",3,36,0.97340902500000004,null,{"$f":"IF(C1532<'Gala Name'!C$5,\"\",LEFT(A1532,1)&B1532&C1532)","v":"M336"},0.97340902500000004]
["Male",3,37,0.97178249699999997,null,{"$f":"IF(C1533<'Gala Name'!C$5,\"\",LEFT(A1533,1)&B1533&C1533)","v":"M337"},0.97178249699999997]
["Male",3,38,0.96994424199999996,null,{"$f":"IF(C1534<'Gala Name'!C$5,\"\",LEFT(A1534,1)&B1534&C1534)","v":"M338"},0.96994424199999996]
["Male",3,39,0.96784064400000003,null,{"$f":"IF(C1535<'Gala Name'!C$5,\"\",LEFT(A1535,1)&B1535&C1535)","v":"M339"},0.96784064400000003]
["Male",3,40,0.96542768099999998,null,{"$f":"IF(C1536<'Gala Name'!C$5,\"\",LEFT(A1536,1)&B1536&C1536)","v":"M340"},0.96542768099999998]
["Male",3,41,0.96267021600000002,null,{"$f":"IF(C1537<'Gala Name'!C$5,\"\",LEFT(A1537,1)&B1537&C1537)","v":"M341"},0.96267021600000002]
["Male",3,42,0.95954130599999998,null,{"$f":"IF(C1538<'Gala Name'!C$5,\"\",LEFT(A1538,1)&B1538&C1538)","v":"M342"},0.95954130599999998]
["Male",3,43,0.95602152299999998,null,{"$f":"IF(C1539<'Gala Name'!C$5,\"\",LEFT(A1539,1)&B1539&C1539)","v":"M343"},{"$f":"D1539","v":0.95602152299999998}]
["Male",3,44,0.95209829899999998,null,{"$f":"IF(C1540<'Gala Name'!C$5,\"\",LEFT(A1540,1)&B1540&C1540)","v":"M344"},0.95209829899999998]
["Male",3,45,0.94776527899999996,null,{"$f":"IF(C1541<'Gala Name'!C$5,\"\",LEFT(A1541,1)&B1541&C1541)","v":"M345"},0.94776527899999996]
["Male",3,46,0.94302169899999999,null,{"$f":"IF(C1542<'Gala Name'!C$5,\"\",LEFT(A1542,1)&B1542&C1542)","v":"M346"},0.94302169899999999]
["Male",3,47,0.93787177300000002,null,{"$f":"IF(C1543<'Gala Name'!C$5,\"\",LEFT(A1543,1)&B1543&C1543)","v":"M347"},0.93787177300000002]
["Male",3,48,0.93232410399999999,null,{"$f":"IF(C1544<'Gala Name'!C$5,\"\",LEFT(A1544,1)&B1544&C1544)","v":"M348"},0.93232410399999999]
["Male",3,49,0.92639110999999996,null,{"$f":"IF(C1545<'Gala Name'!C$5,\"\",LEFT(A1545,1)&B1545&C1545)","v":"M349"},0.92639110999999996]
["Male",3,50,0.92008845699999997,null,{"$f":"IF(C1546<'Gala Name'!C$5,\"\",LEFT(A1546,1)&B1546&C1546)","v":"M350"},0.92008845699999997]
["Male",3,51,0.91343452700000005,null,{"$f":"IF(C1547<'Gala Name'!C$5,\"\",LEFT(A1547,1)&B1547&C1547)","v":"M351"},0.91343452700000005]
["Male",3,52,0.90644988500000001,null,{"$f":"IF(C1548<'Gala Name'!C$5,\"\",LEFT(A1548,1)&B1548&C1548)","v":"M352"},0.90644988500000001]
["Male",3,53,0.89915677400000005,null,{"$f":"IF(C1549<'Gala Name'!C$5,\"\",LEFT(A1549,1)&B1549&C1549)","v":"M353"},0.89915677400000005]
["Male",3,54,0.89157862200000004,null,{"$f":"IF(C1550<'Gala Name'!C$5,\"\",LEFT(A1550,1)&B1550&C1550)","v":"M354"},0.89157862200000004]
["Male",3,55,0.88373956499999995,null,{"$f":"IF(C1551<'Gala Name'!C$5,\"\",LEFT(A1551,1)&B1551&C1551)","v":"M355"},0.88373956499999995]
["Male",3,56,0.87566399399999995,null,{"$f":"IF(C1552<'Gala Name'!C$5,\"\",LEFT(A1552,1)&B1552&C1552)","v":"M356"},0.87566399399999995]
["Male",3,57,0.86737610399999998,null,{"$f":"IF(C1553<'Gala Name'!C$5,\"\",LEFT(A1553,1)&B1553&C1553)","v":"M357"},0.86737610399999998]
["Male",3,58,0.85889947899999997,null,{"$f":"IF(C1554<'Gala Name'!C$5,\"\",LEFT(A1554,1)&B1554&C1554)","v":"M358"},0.85889947899999997]
["Male",3,59,0.85025667599999999,null,{"$f":"IF(C1555<'Gala Name'!C$5,\"\",LEFT(A1555,1)&B1555&C1555)","v":"M359"},0.85025667599999999]
["Male",3,60,0.841468836,null,{"$f":"IF(C1556<'Gala Name'!C$5,\"\",LEFT(A1556,1)&B1556&C1556)","v":"M360"},0.841468836]
["Male",3,61,0.83255531100000002,null,{"$f":"IF(C1557<'Gala Name'!C$5,\"\",LEFT(A1557,1)&B1557&C1557)","v":"M361"},0.83255531100000002]
["Male",3,62,0.823533301,null,{"$f":"IF(C1558<'Gala Name'!C$5,\"\",LEFT(A1558,1)&B1558&C1558)","v":"M362"},0.823533301]
["Male",3,63,0.81441751799999995,null,{"$f":"IF(C1559<'Gala Name'!C$5,\"\",LEFT(A1559,1)&B1559&C1559)","v":"M363"},0.81441751799999995]
["Male",3,64,0.80521985699999998,null,{"$f":"IF(C1560<'Gala Name'!C$5,\"\",LEFT(A1560,1)&B1560&C1560)","v":"M364"},0.80521985699999998]
["Male",3,65,0.79594909000000003,null,{"$f":"IF(C1561<'Gala Name'!C$5,\"\",LEFT(A1561,1)&B1561&C1561)","v":"M365"},0.79594909000000003]
["Male",3,66,0.78661057499999998,null,{"$f":"IF(C1562<'Gala Name'!C$5,\"\",LEFT(A1562,1)&B1562&C1562)","v":"M366"},0.78661057499999998]
["Male",3,67,0.77720597700000005,null,{"$f":"IF(C1563<'Gala Name'!C$5,\"\",LEFT(A1563,1)&B1563&C1563)","v":"M367"},0.77720597700000005]
["Male",3,68,0.76773301800000004,null,{"$f":"IF(C1564<'Gala Name'!C$5,\"\",LEFT(A1564,1)&B1564&C1564)","v":"M368"},0.76773301800000004]
["Male",3,69,0.75818522799999999,null,{"$f":"IF(C1565<'Gala Name'!C$5,\"\",LEFT(A1565,1)&B1565&C1565)","v":"M369"},0.75818522799999999]
["Male",3,70,0.74855172599999997,null,{"$f":"IF(C1566<'Gala Name'!C$5,\"\",LEFT(A1566,1)&B1566&C1566)","v":"M370"},0.74855172599999997]
["Male",3,71,0.73881701,null,{"$f":"IF(C1567<'Gala Name'!C$5,\"\",LEFT(A1567,1)&B1567&C1567)","v":"M371"},0.73881701]
["Male",3,72,0.72896076499999996,null,{"$f":"IF(C1568<'Gala Name'!C$5,\"\",LEFT(A1568,1)&B1568&C1568)","v":"M372"},0.72896076499999996]
["Male",3,73,0.71895768999999998,null,{"$f":"IF(C1569<'Gala Name'!C$5,\"\",LEFT(A1569,1)&B1569&C1569)","v":"M373"},0.71895768999999998]
["Male",3,74,0.70877734100000001,null,{"$f":"IF(C1570<'Gala Name'!C$5,\"\",LEFT(A1570,1)&B1570&C1570)","v":"M374"},0.70877734100000001]
["Male",3,75,0.69838398899999998,null,{"$f":"IF(C1571<'Gala Name'!C$5,\"\",LEFT(A1571,1)&B1571&C1571)","v":"M375"},0.69838398899999998]
["Male",3,76,0.68773649599999997,null,{"$f":"IF(C1572<'Gala Name'!C$5,\"\",LEFT(A1572,1)&B1572&C1572)","v":"M376"},0.68773649599999997]
["Male",3,77,0.67678821,null,{"$f":"IF(C1573<'Gala Name'!C$5,\"\",LEFT(A1573,1)&B1573&C1573)","v":"M377"},0.67678821]
["Male",3,78,0.66548686899999998,null,{"$f":"IF(C1574<'Gala Name'!C$5,\"\",LEFT(A1574,1)&B1574&C1574)","v":"M378"},0.66548686899999998]
["Male",3,79,0.65377453200000002,null,{"$f":"IF(C1575<'Gala Name'!C$5,\"\",LEFT(A1575,1)&B1575&C1575)","v":"M379"},0.65377453200000002]
["Male",3,80,0.64158751999999997,null,{"$f":"IF(C1576<'Gala Name'!C$5,\"\",LEFT(A1576,1)&B1576&C1576)","v":"M380"},0.64158751999999997]
["Male",3,81,0.62885637400000005,null,{"$f":"IF(C1577<'Gala Name'!C$5,\"\",LEFT(A1577,1)&B1577&C1577)","v":"M381"},0.62885637400000005]
["Male",3,82,0.615505835,null,{"$f":"IF(C1578<'Gala Name'!C$5,\"\",LEFT(A1578,1)&B1578&C1578)","v":"M382"},0.615505835]
["Male",3,83,0.60145483399999999,null,{"$f":"IF(C1579<'Gala Name'!C$5,\"\",LEFT(A1579,1)&B1579&C1579)","v":"M383"},0.60145483399999999]
["Male",3,84,0.58661649999999999,null,{"$f":"IF(C1580<'Gala Name'!C$5,\"\",LEFT(A1580,1)&B1580&C1580)","v":"M384"},0.58661649999999999]
["Male",3,85,0.57089819100000005,null,{"$f":"IF(C1581<'Gala Name'!C$5,\"\",LEFT(A1581,1)&B1581&C1581)","v":"M385"},0.57089819100000005]
["Male",3,86,0.55420153400000005,null,{"$f":"IF(C1582<'Gala Name'!C$5,\"\",LEFT(A1582,1)&B1582&C1582)","v":"M386"},0.55420153400000005]
["Male",3,87,0.536422485,null,{"$f":"IF(C1583<'Gala Name'!C$5,\"\",LEFT(A1583,1)&B1583&C1583)","v":"M387"},0.536422485]
["Male",3,88,0.51745140599999995,null,{"$f":"IF(C1584<'Gala Name'!C$5,\"\",LEFT(A1584,1)&B1584&C1584)","v":"M388"},0.51745140599999995]
["Male",3,89,0.49717316,null,{"$f":"IF(C1585<'Gala Name'!C$5,\"\",LEFT(A1585,1)&B1585&C1585)","v":"M389"},0.49717316]
["Male",3,90,0.475467217,null,{"$f":"IF(C1586<'Gala Name'!C$5,\"\",LEFT(A1586,1)&B1586&C1586)","v":"M390"},0.475467217]
["Male",3,91,0.45220778499999997,null,{"$f":"IF(C1587<'Gala Name'!C$5,\"\",LEFT(A1587,1)&B1587&C1587)","v":"M391"},0.45220778499999997]
["Male",3,92,0.427263948,null,{"$f":"IF(C1588<'Gala Name'!C$5,\"\",LEFT(A1588,1)&B1588&C1588)","v":"M392"},0.427263948]
["Male",3,93,0.400499834,null,{"$f":"IF(C1589<'Gala Name'!C$5,\"\",LEFT(A1589,1)&B1589&C1589)","v":"M393"},0.400499834]
["Male",3,94,0.371774785,null,{"$f":"IF(C1590<'Gala Name'!C$5,\"\",LEFT(A1590,1)&B1590&C1590)","v":"M394"},0.371774785]
["Male",3,95,0.34094355199999998,null,{"$f":"IF(C1591<'Gala Name'!C$5,\"\",LEFT(A1591,1)&B1591&C1591)","v":"M395"},0.34094355199999998]
["Male",3,96,0.30785650799999997,null,{"$f":"IF(C1592<'Gala Name'!C$5,\"\",LEFT(A1592,1)&B1592&C1592)","v":"M396"},0.30785650799999997]
["Male",3,97,0.272359872,null,{"$f":"IF(C1593<'Gala Name'!C$5,\"\",LEFT(A1593,1)&B1593&C1593)","v":"M397"},0.272359872]
["Male",3,98,0.234295956,null,{"$f":"IF(C1594<'Gala Name'!C$5,\"\",LEFT(A1594,1)&B1594&C1594)","v":"M398"},0.234295956]
["Male",3,99,0.19350342200000001,null,{"$f":"IF(C1595<'Gala Name'!C$5,\"\",LEFT(A1595,1)&B1595&C1595)","v":"M399"},0.19350342200000001]
["Male",3,100,0.14981755999999999,null,{"$f":"IF(C1596<'Gala Name'!C$5,\"\",LEFT(A1596,1)&B1596&C1596)","v":"M3100"},0.14981755999999999]
["Male",4,25,1.001556128,null,{"$f":"IF(C1597<'Gala Name'!C$5,\"\",LEFT(A1597,1)&B1597&C1597)","v":"M425"},1.001556128]
["Male",4,26,0.99391985900000002,null,{"$f":"IF(C1598<'Gala Name'!C$5,\"\",LEFT(A1598,1)&B1598&C1598)","v":"M426"},0.99391985900000002]
["Male",4,27,0.98832855500000005,null,{"$f":"IF(C1599<'Gala Name'!C$5,\"\",LEFT(A1599,1)&B1599&C1599)","v":"M427"},0.98832855500000005]
["Male",4,28,0.98440948500000003,null,{"$f":"IF(C1600<'Gala Name'!C$5,\"\",LEFT(A1600,1)&B1600&C1600)","v":"M428"},0.98440948500000003]
["Male",4,29,0.98182727999999997,null,{"$f":"IF(C1601<'Gala Name'!C$5,\"\",LEFT(A1601,1)&B1601&C1601)","v":"M429"},0.98182727999999997]
["Male",4,30,0.98028175100000003,null,{"$f":"IF(C1602<'Gala Name'!C$5,\"\",LEFT(A1602,1)&B1602&C1602)","v":"M430"},0.98028175100000003]
["Male",4,31,0.97950577400000005,null,{"$f":"IF(C1603<'Gala Name'!C$5,\"\",LEFT(A1603,1)&B1603&C1603)","v":"M431"},{"$f":"D1603","v":0.97950577400000005}]
["Male",4,32,0.97926322300000002,null,{"$f":"IF(C1604<'Gala Name'!C$5,\"\",LEFT(A1604,1)&B1604&C1604)","v":"M432"},0.97926322300000002]
["Male",4,33,0.97934696099999996,null,{"$f":"IF(C1605<'Gala Name'!C$5,\"\",LEFT(A1605,1)&B1605&C1605)","v":"M433"},0.97934696099999996]
["Male",4,34,0.97957689299999995,null,{"$f":"IF(C1606<'Gala Name'!C$5,\"\",LEFT(A1606,1)&B1606&C1606)","v":"M434"},0.97957689299999995]
["Male",4,35,0.97979807100000005,null,{"$f":"IF(C1607<'Gala Name'!C$5,\"\",LEFT(A1607,1)&B1607&C1607)","v":"M435"},0.97979807100000005]
["Male",4,36,0.97987885799999996,null,{"$f":"IF(C1608<'Gala Name'!C$5,\"\",LEFT(A1608,1)&B1608&C1608)","v":"M436"},0.97987885799999996]
["Male",4,37,0.97970914799999997,null,{"$f":"IF(C1609<'Gala Name'!C$5,\"\",LEFT(A1609,1)&B1609&C1609)","v":"M437"},0.97970914799999997]
["Male",4,38,0.97919864300000004,null,{"$f":"IF(C1610<'Gala Name'!C$5,\"\",LEFT(A1610,1)&B1610&C1610)","v":"M438"},0.97919864300000004]
["Male",4,39,0.97827518999999996,null,{"$f":"IF(C1611<'Gala Name'!C$5,\"\",LEFT(A1611,1)&B1611&C1611)","v":"M439"},0.97827518999999996]
["Male",4,40,0.97688316600000002,null,{"$f":"IF(C1612<'Gala Name'!C$5,\"\",LEFT(A1612,1)&B1612&C1612)","v":"M440"},0.97688316600000002]
["Male",4,41,0.97498193499999997,null,{"$f":"IF(C1613<'Gala Name'!C$5,\"\",LEFT(A1613,1)&B1613&C1613)","v":"M441"},0.97498193499999997]
["Male",4,42,0.97254434400000001,null,{"$f":"IF(C1614<'Gala Name'!C$5,\"\",LEFT(A1614,1)&B1614&C1614)","v":"M442"},0.97254434400000001]
["Male",4,43,0.96955528999999996,null,{"$f":"IF(C1615<'Gala Name'!C$5,\"\",LEFT(A1615,1)&B1615&C1615)","v":"M443"},0.96955528999999996]
["Male",4,44,0.96601033999999997,null,{"$f":"IF(C1616<'Gala Name'!C$5,\"\",LEFT(A1616,1)&B1616&C1616)","v":"M444"},0.96601033999999997]
["Male",4,45,0.96191439999999995,null,{"$f":"IF(C1617<'Gala Name'!C$5,\"\",LEFT(A1617,1)&B1617&C1617)","v":"M445"},0.96191439999999995]
["Male",4,46,0.95728045399999995,null,{"$f":"IF(C1618<'Gala Name'!C$5,\"\",LEFT(A1618,1)&B1618&C1618)","v":"M446"},0.95728045399999995]
["Male",4,47,0.95212835100000004,null,{"$f":"IF(C1619<'Gala Name'!C$5,\"\",LEFT(A1619,1)&B1619&C1619)","v":"M447"},0.95212835100000004]
["Male",4,48,0.94648365099999998,null,{"$f":"IF(C1620<'Gala Name'!C$5,\"\",LEFT(A1620,1)&B1620&C1620)","v":"M448"},0.94648365099999998]
["Male",4,49,0.94037652999999999,null,{"$f":"IF(C1621<'Gala Name'!C$5,\"\",LEFT(A1621,1)&B1621&C1621)","v":"M449"},0.94037652999999999]
["Male",4,50,0.93384073700000003,null,{"$f":"IF(C1622<'Gala Name'!C$5,\"\",LEFT(A1622,1)&B1622&C1622)","v":"M450"},0.93384073700000003]
["Male",4,51,0.92691261300000005,null,{"$f":"IF(C1623<'Gala Name'!C$5,\"\",LEFT(A1623,1)&B1623&C1623)","v":"M451"},0.92691261300000005]
["Male",4,52,0.91963016600000003,null,{"$f":"IF(C1624<'Gala Name'!C$5,\"\",LEFT(A1624,1)&B1624&C1624)","v":"M452"},0.91963016600000003]
["Male",4,53,0.91203219999999996,null,{"$f":"IF(C1625<'Gala Name'!C$5,\"\",LEFT(A1625,1)&B1625&C1625)","v":"M453"},0.91203219999999996]
["Male",4,54,0.904157502,null,{"$f":"IF(C1626<'Gala Name'!C$5,\"\",LEFT(A1626,1)&B1626&C1626)","v":"M454"},0.904157502]
["Male",4,55,0.89604408899999999,null,{"$f":"IF(C1627<'Gala Name'!C$5,\"\",LEFT(A1627,1)&B1627&C1627)","v":"M455"},0.89604408899999999]
["Male",4,56,0.887728509,null,{"$f":"IF(C1628<'Gala Name'!C$5,\"\",LEFT(A1628,1)&B1628&C1628)","v":"M456"},0.887728509]
["Male",4,57,0.87924519700000003,null,{"$f":"IF(C1629<'Gala Name'!C$5,\"\",LEFT(A1629,1)&B1629&C1629)","v":"M457"},0.87924519700000003]
["Male",4,58,0.87062589400000001,null,{"$f":"IF(C1630<'Gala Name'!C$5,\"\",LEFT(A1630,1)&B1630&C1630)","v":"M458"},0.87062589400000001]
["Male",4,59,0.86189911600000002,null,{"$f":"IF(C1631<'Gala Name'!C$5,\"\",LEFT(A1631,1)&B1631&C1631)","v":"M459"},0.86189911600000002]
["Male",4,60,0.85308968500000004,null,{"$f":"IF(C1632<'Gala Name'!C$5,\"\",LEFT(A1632,1)&B1632&C1632)","v":"M460"},0.85308968500000004]
["Male",4,61,0.84421831300000005,null,{"$f":"IF(C1633<'Gala Name'!C$5,\"\",LEFT(A1633,1)&B1633&C1633)","v":"M461"},0.84421831300000005]
["Male",4,62,0.83530124900000002,null,{"$f":"IF(C1634<'Gala Name'!C$5,\"\",LEFT(A1634,1)&B1634&C1634)","v":"M462"},0.83530124900000002]
["Male",4,63,0.82634997300000002,null,{"$f":"IF(C1635<'Gala Name'!C$5,\"\",LEFT(A1635,1)&B1635&C1635)","v":"M463"},0.82634997300000002]
["Male",4,64,0.81737095800000004,null,{"$f":"IF(C1636<'Gala Name'!C$5,\"\",LEFT(A1636,1)&B1636&C1636)","v":"M464"},0.81737095800000004]
["Male",4,65,0.80836547999999997,null,{"$f":"IF(C1637<'Gala Name'!C$5,\"\",LEFT(A1637,1)&B1637&C1637)","v":"M465"},0.80836547999999997]
["Male",4,66,0.79932949099999995,null,{"$f":"IF(C1638<'Gala Name'!C$5,\"\",LEFT(A1638,1)&B1638&C1638)","v":"M466"},0.79932949099999995]
["Male",4,67,0.79025354400000003,null,{"$f":"IF(C1639<'Gala Name'!C$5,\"\",LEFT(A1639,1)&B1639&C1639)","v":"M467"},0.79025354400000003]
["Male",4,68,0.78112277900000004,null,{"$f":"IF(C1640<'Gala Name'!C$5,\"\",LEFT(A1640,1)&B1640&C1640)","v":"M468"},0.78112277900000004]
["Male",4,69,0.77191696399999998,null,{"$f":"IF(C1641<'Gala Name'!C$5,\"\",LEFT(A1641,1)&B1641&C1641)","v":"M469"},0.77191696399999998]
["Male",4,70,0.762610593,null,{"$f":"IF(C1642<'Gala Name'!C$5,\"\",LEFT(A1642,1)&B1642&C1642)","v":"M470"},0.762610593]
["Male",4,71,0.75317303899999999,null,{"$f":"IF(C1643<'Gala Name'!C$5,\"\",LEFT(A1643,1)&B1643&C1643)","v":"M471"},0.75317303899999999]
["Male",4,72,0.74356876999999999,null,{"$f":"IF(C1644<'Gala Name'!C$5,\"\",LEFT(A1644,1)&B1644&C1644)","v":"M472"},0.74356876999999999]
["Male",4,73,0.73375761399999995,null,{"$f":"IF(C1645<'Gala Name'!C$5,\"\",LEFT(A1645,1)&B1645&C1645)","v":"M473"},0.73375761399999995]
["Male",4,74,0.72369508699999996,null,{"$f":"IF(C1646<'Gala Name'!C$5,\"\",LEFT(A1646,1)&B1646&C1646)","v":"M474"},0.72369508699999996]
["Male",4,75,0.713332772,null,{"$f":"IF(C1647<'Gala Name'!C$5,\"\",LEFT(A1647,1)&B1647&C1647)","v":"M475"},0.713332772]
["Male",4,76,0.70261876499999998,null,{"$f":"IF(C1648<'Gala Name'!C$5,\"\",LEFT(A1648,1)&B1648&C1648)","v":"M476"},0.70261876499999998]
["Male",4,77,0.69149816500000005,null,{"$f":"IF(C1649<'Gala Name'!C$5,\"\",LEFT(A1649,1)&B1649&C1649)","v":"M477"},0.69149816500000005]
["Male",4,78,0.67991363000000005,null,{"$f":"IF(C1650<'Gala Name'!C$5,\"\",LEFT(A1650,1)&B1650&C1650)","v":"M478"},0.67991363000000005]
["Male",4,79,0.66780598700000005,null,{"$f":"IF(C1651<'Gala Name'!C$5,\"\",LEFT(A1651,1)&B1651&C1651)","v":"M479"},0.66780598700000005]
["Male",4,80,0.65511490000000006,null,{"$f":"IF(C1652<'Gala Name'!C$5,\"\",LEFT(A1652,1)&B1652&C1652)","v":"M480"},0.65511490000000006]
["Male",4,81,0.64177959100000004,null,{"$f":"IF(C1653<'Gala Name'!C$5,\"\",LEFT(A1653,1)&B1653&C1653)","v":"M481"},0.64177959100000004]
["Male",4,82,0.62773962500000002,null,{"$f":"IF(C1654<'Gala Name'!C$5,\"\",LEFT(A1654,1)&B1654&C1654)","v":"M482"},0.62773962500000002]
["Male",4,83,0.61293574299999998,null,{"$f":"IF(C1655<'Gala Name'!C$5,\"\",LEFT(A1655,1)&B1655&C1655)","v":"M483"},0.61293574299999998]
["Male",4,84,0.597310762,null,{"$f":"IF(C1656<'Gala Name'!C$5,\"\",LEFT(A1656,1)&B1656&C1656)","v":"M484"},0.597310762]
["Male",4,85,0.58081052,null,{"$f":"IF(C1657<'Gala Name'!C$5,\"\",LEFT(A1657,1)&B1657&C1657)","v":"M485"},0.58081052]
["Male",4,86,0.56338489300000005,null,{"$f":"IF(C1658<'Gala Name'!C$5,\"\",LEFT(A1658,1)&B1658&C1658)","v":"M486"},0.56338489300000005]
["Male",4,87,0.54498885100000005,null,{"$f":"IF(C1659<'Gala Name'!C$5,\"\",LEFT(A1659,1)&B1659&C1659)","v":"M487"},0.54498885100000005]
["Male",4,88,0.52558358699999996,null,{"$f":"IF(C1660<'Gala Name'!C$5,\"\",LEFT(A1660,1)&B1660&C1660)","v":"M488"},0.52558358699999996]
["Male",4,89,0.50513769399999997,null,{"$f":"IF(C1661<'Gala Name'!C$5,\"\",LEFT(A1661,1)&B1661&C1661)","v":"M489"},0.50513769399999997]
["Male",4,90,0.48362840099999999,null,{"$f":"IF(C1662<'Gala Name'!C$5,\"\",LEFT(A1662,1)&B1662&C1662)","v":"M490"},0.48362840099999999]
["Male",4,91,0.46104286500000002,null,{"$f":"IF(C1663<'Gala Name'!C$5,\"\",LEFT(A1663,1)&B1663&C1663)","v":"M491"},0.46104286500000002]
["Male",4,92,0.43737952099999999,null,{"$f":"IF(C1664<'Gala Name'!C$5,\"\",LEFT(A1664,1)&B1664&C1664)","v":"M492"},0.43737952099999999]
["Male",4,93,0.41264949200000001,null,{"$f":"IF(C1665<'Gala Name'!C$5,\"\",LEFT(A1665,1)&B1665&C1665)","v":"M493"},0.41264949200000001]
["Male",4,94,0.386878049,null,{"$f":"IF(C1666<'Gala Name'!C$5,\"\",LEFT(A1666,1)&B1666&C1666)","v":"M494"},0.386878049]
["Male",4,95,0.36010613000000002,null,{"$f":"IF(C1667<'Gala Name'!C$5,\"\",LEFT(A1667,1)&B1667&C1667)","v":"M495"},{"$f":"D1667","v":0.36010613000000002}]
["Male",4,96,0.33239192499999998,null,{"$f":"IF(C1668<'Gala Name'!C$5,\"\",LEFT(A1668,1)&B1668&C1668)","v":"M496"},0.33239192499999998]
["Male",4,97,0.30381250100000001,null,{"$f":"IF(C1669<'Gala Name'!C$5,\"\",LEFT(A1669,1)&B1669&C1669)","v":"M497"},0.30381250100000001]
["Male",4,98,0.27446549999999997,null,{"$f":"IF(C1670<'Gala Name'!C$5,\"\",LEFT(A1670,1)&B1670&C1670)","v":"M498"},0.27446549999999997]
["Male",4,99,0.244470883,null,{"$f":"IF(C1671<'Gala Name'!C$5,\"\",LEFT(A1671,1)&B1671&C1671)","v":"M499"},0.244470883]
["Male",4,100,0.213972739,null,{"$f":"IF(C1672<'Gala Name'!C$5,\"\",LEFT(A1672,1)&B1672&C1672)","v":"M4100"},0.213972739]
["Male",5,25,1.0000275759999999,null,{"$f":"IF(C1673<'Gala Name'!C$5,\"\",LEFT(A1673,1)&B1673&C1673)","v":"M525"},1.0000275759999999]
["Male",5,26,0.99461853099999997,null,{"$f":"IF(C1674<'Gala Name'!C$5,\"\",LEFT(A1674,1)&B1674&C1674)","v":"M526"},0.99461853099999997]
["Male",5,27,0.99039271399999995,null,{"$f":"IF(C1675<'Gala Name'!C$5,\"\",LEFT(A1675,1)&B1675&C1675)","v":"M527"},0.99039271399999995]
["Male",5,28,0.98715456199999996,null,{"$f":"IF(C1676<'Gala Name'!C$5,\"\",LEFT(A1676,1)&B1676&C1676)","v":"M528"},0.98715456199999996]
["Male",5,29,0.98472420699999996,null,{"$f":"IF(C1677<'Gala Name'!C$5,\"\",LEFT(A1677,1)&B1677&C1677)","v":"M529"},0.98472420699999996]
["Male",5,30,0.98293681600000005,null,{"$f":"IF(C1678<'Gala Name'!C$5,\"\",LEFT(A1678,1)&B1678&C1678)","v":"M530"},0.98293681600000005]
["Male",5,31,0.98164194299999996,null,{"$f":"IF(C1679<'Gala Name'!C$5,\"\",LEFT(A1679,1)&B1679&C1679)","v":"M531"},0.98164194299999996]
["Male",5,32,0.98070288000000005,null,{"$f":"IF(C1680<'Gala Name'!C$5,\"\",LEFT(A1680,1)&B1680&C1680)","v":"M532"},0.98070288000000005]
["Male",5,33,0.97999602900000005,null,{"$f":"IF(C1681<'Gala Name'!C$5,\"\",LEFT(A1681,1)&B1681&C1681)","v":"M533"},0.97999602900000005]
["Male",5,34,0.97941027599999997,null,{"$f":"IF(C1682<'Gala Name'!C$5,\"\",LEFT(A1682,1)&B1682&C1682)","v":"M534"},0.97941027599999997]
["Male",5,35,0.97884637799999996,null,{"$f":"IF(C1683<'Gala Name'!C$5,\"\",LEFT(A1683,1)&B1683&C1683)","v":"M535"},0.97884637799999996]
["Male",5,36,0.97821635299999998,null,{"$f":"IF(C1684<'Gala Name'!C$5,\"\",LEFT(A1684,1)&B1684&C1684)","v":"M536"},0.97821635299999998]
["Male",5,37,0.97744288800000001,null,{"$f":"IF(C1685<'Gala Name'!C$5,\"\",LEFT(A1685,1)&B1685&C1685)","v":"M537"},0.97744288800000001]
["Male",5,38,0.97645874799999999,null,{"$f":"IF(C1686<'Gala Name'!C$5,\"\",LEFT(A1686,1)&B1686&C1686)","v":"M538"},0.97645874799999999]
["Male",5,39,0.97520620199999997,null,{"$f":"IF(C1687<'Gala Name'!C$5,\"\",LEFT(A1687,1)&B1687&C1687)","v":"M539"},0.97520620199999997]
["Male",5,40,0.97363644699999996,null,{"$f":"IF(C1688<'Gala Name'!C$5,\"\",LEFT(A1688,1)&B1688&C1688)","v":"M540"},0.97363644699999996]
["Male",5,41,0.97170905600000002,null,{"$f":"IF(C1689<'Gala Name'!C$5,\"\",LEFT(A1689,1)&B1689&C1689)","v":"M541"},0.97170905600000002]
["Male",5,42,0.96939142199999995,null,{"$f":"IF(C1690<'Gala Name'!C$5,\"\",LEFT(A1690,1)&B1690&C1690)","v":"M542"},0.96939142199999995]
["Male",5,43,0.96665821699999999,null,{"$f":"IF(C1691<'Gala Name'!C$5,\"\",LEFT(A1691,1)&B1691&C1691)","v":"M543"},0.96665821699999999]
["Male",5,44,0.96349085999999995,null,{"$f":"IF(C1692<'Gala Name'!C$5,\"\",LEFT(A1692,1)&B1692&C1692)","v":"M544"},0.96349085999999995]
["Male",5,45,0.95987699599999998,null,{"$f":"IF(C1693<'Gala Name'!C$5,\"\",LEFT(A1693,1)&B1693&C1693)","v":"M545"},0.95987699599999998]
["Male",5,46,0.95580997700000003,null,{"$f":"IF(C1694<'Gala Name'!C$5,\"\",LEFT(A1694,1)&B1694&C1694)","v":"M546"},0.95580997700000003]
["Male",5,47,0.95128836000000006,null,{"$f":"IF(C1695<'Gala Name'!C$5,\"\",LEFT(A1695,1)&B1695&C1695)","v":"M547"},0.95128836000000006]
["Male",5,48,0.94631541100000005,null,{"$f":"IF(C1696<'Gala Name'!C$5,\"\",LEFT(A1696,1)&B1696&C1696)","v":"M548"},0.94631541100000005]
["Male",5,49,0.94089861799999996,null,{"$f":"IF(C1697<'Gala Name'!C$5,\"\",LEFT(A1697,1)&B1697&C1697)","v":"M549"},0.94089861799999996]
["Male",5,50,0.93504921100000005,null,{"$f":"IF(C1698<'Gala Name'!C$5,\"\",LEFT(A1698,1)&B1698&C1698)","v":"M550"},0.93504921100000005]
["Male",5,51,0.92878169799999999,null,{"$f":"IF(C1699<'Gala Name'!C$5,\"\",LEFT(A1699,1)&B1699&C1699)","v":"M551"},0.92878169799999999]
["Male",5,52,0.922113403,null,{"$f":"IF(C1700<'Gala Name'!C$5,\"\",LEFT(A1700,1)&B1700&C1700)","v":"M552"},0.922113403]
["Male",5,53,0.91506401400000004,null,{"$f":"IF(C1701<'Gala Name'!C$5,\"\",LEFT(A1701,1)&B1701&C1701)","v":"M553"},0.91506401400000004]
["Male",5,54,0.90765514700000005,null,{"$f":"IF(C1702<'Gala Name'!C$5,\"\",LEFT(A1702,1)&B1702&C1702)","v":"M554"},0.90765514700000005]
["Male",5,55,0.89990990900000001,null,{"$f":"IF(C1703<'Gala Name'!C$5,\"\",LEFT(A1703,1)&B1703&C1703)","v":"M555"},0.89990990900000001]
["Male",5,56,0.891852478,null,{"$f":"IF(C1704<'Gala Name'!C$5,\"\",LEFT(A1704,1)&B1704&C1704)","v":"M556"},0.891852478]
["Male",5,57,0.88350768999999996,null,{"$f":"IF(C1705<'Gala Name'!C$5,\"\",LEFT(A1705,1)&B1705&C1705)","v":"M557"},0.88350768999999996]
["Male",5,58,0.87490063299999998,null,{"$f":"IF(C1706<'Gala Name'!C$5,\"\",LEFT(A1706,1)&B1706&C1706)","v":"M558"},0.87490063299999998]
["Male",5,59,0.86605625100000005,null,{"$f":"IF(C1707<'Gala Name'!C$5,\"\",LEFT(A1707,1)&B1707&C1707)","v":"M559"},0.86605625100000005]
["Male",5,60,0.85699896099999995,null,{"$f":"IF(C1708<'Gala Name'!C$5,\"\",LEFT(A1708,1)&B1708&C1708)","v":"M560"},0.85699896099999995]
["Male",5,61,0.847752273,null,{"$f":"IF(C1709<'Gala Name'!C$5,\"\",LEFT(A1709,1)&B1709&C1709)","v":"M561"},0.847752273]
["Male",5,62,0.838338425,null,{"$f":"IF(C1710<'Gala Name'!C$5,\"\",LEFT(A1710,1)&B1710&C1710)","v":"M562"},0.838338425]
["Male",5,63,0.82877802,null,{"$f":"IF(C1711<'Gala Name'!C$5,\"\",LEFT(A1711,1)&B1711&C1711)","v":"M563"},0.82877802]
["Male",5,64,0.81908968199999999,null,{"$f":"IF(C1712<'Gala Name'!C$5,\"\",LEFT(A1712,1)&B1712&C1712)","v":"M564"},0.81908968199999999]
["Male",5,65,0.80928971100000002,null,{"$f":"IF(C1713<'Gala Name'!C$5,\"\",LEFT(A1713,1)&B1713&C1713)","v":"M565"},0.80928971100000002]
["Male",5,66,0.79939175500000004,null,{"$f":"IF(C1714<'Gala Name'!C$5,\"\",LEFT(A1714,1)&B1714&C1714)","v":"M566"},0.79939175500000004]
["Male",5,67,0.78940648700000005,null,{"$f":"IF(C1715<'Gala Name'!C$5,\"\",LEFT(A1715,1)&B1715&C1715)","v":"M567"},0.78940648700000005]
["Male",5,68,0.77934129100000005,null,{"$f":"IF(C1716<'Gala Name'!C$5,\"\",LEFT(A1716,1)&B1716&C1716)","v":"M568"},0.77934129100000005]
["Male",5,69,0.76919995699999999,null,{"$f":"IF(C1717<'Gala Name'!C$5,\"\",LEFT(A1717,1)&B1717&C1717)","v":"M569"},0.76919995699999999]
["Male",5,70,0.75898239300000003,null,{"$f":"IF(C1718<'Gala Name'!C$5,\"\",LEFT(A1718,1)&B1718&C1718)","v":"M570"},0.75898239300000003]
["Male",5,71,0.74868433099999998,null,{"$f":"IF(C1719<'Gala Name'!C$5,\"\",LEFT(A1719,1)&B1719&C1719)","v":"M571"},0.74868433099999998]
["Male",5,72,0.73829705800000001,null,{"$f":"IF(C1720<'Gala Name'!C$5,\"\",LEFT(A1720,1)&B1720&C1720)","v":"M572"},0.73829705800000001]
["Male",5,73,0.72780714199999996,null,{"$f":"IF(C1721<'Gala Name'!C$5,\"\",LEFT(A1721,1)&B1721&C1721)","v":"M573"},0.72780714199999996]
["Male",5,74,0.71719618100000004,null,{"$f":"IF(C1722<'Gala Name'!C$5,\"\",LEFT(A1722,1)&B1722&C1722)","v":"M574"},0.71719618100000004]
["Male",5,75,0.70644054899999997,null,{"$f":"IF(C1723<'Gala Name'!C$5,\"\",LEFT(A1723,1)&B1723&C1723)","v":"M575"},0.70644054899999997]
["Male",5,76,0.69551115799999996,null,{"$f":"IF(C1724<'Gala Name'!C$5,\"\",LEFT(A1724,1)&B1724&C1724)","v":"M576"},0.69551115799999996]
["Male",5,77,0.68437322899999997,null,{"$f":"IF(C1725<'Gala Name'!C$5,\"\",LEFT(A1725,1)&B1725&C1725)","v":"M577"},0.68437322899999997]
["Male",5,78,0.67298606800000005,null,{"$f":"IF(C1726<'Gala Name'!C$5,\"\",LEFT(A1726,1)&B1726&C1726)","v":"M578"},0.67298606800000005]
["Male",5,79,0.66130285600000005,null,{"$f":"IF(C1727<'Gala Name'!C$5,\"\",LEFT(A1727,1)&B1727&C1727)","v":"M579"},0.66130285600000005]
["Male",5,80,0.64927044300000003,null,{"$f":"IF(C1728<'Gala Name'!C$5,\"\",LEFT(A1728,1)&B1728&C1728)","v":"M580"},0.64927044300000003]
["Male",5,81,0.63682915900000003,null,{"$f":"IF(C1729<'Gala Name'!C$5,\"\",LEFT(A1729,1)&B1729&C1729)","v":"M581"},0.63682915900000003]
["Male",5,82,0.62391262300000006,null,{"$f":"IF(C1730<'Gala Name'!C$5,\"\",LEFT(A1730,1)&B1730&C1730)","v":"M582"},0.62391262300000006]
["Male",5,83,0.61044757400000005,null,{"$f":"IF(C1731<'Gala Name'!C$5,\"\",LEFT(A1731,1)&B1731&C1731)","v":"M583"},{"$f":"D1731","v":0.61044757400000005}]
["Male",5,84,0.59635369900000001,null,{"$f":"IF(C1732<'Gala Name'!C$5,\"\",LEFT(A1732,1)&B1732&C1732)","v":"M584"},0.59635369900000001]
["Male",5,85,0.58154347799999995,null,{"$f":"IF(C1733<'Gala Name'!C$5,\"\",LEFT(A1733,1)&B1733&C1733)","v":"M585"},0.58154347799999995]
["Male",5,86,0.56592203600000002,null,{"$f":"IF(C1734<'Gala Name'!C$5,\"\",LEFT(A1734,1)&B1734&C1734)","v":"M586"},0.56592203600000002]
["Male",5,87,0.54938700399999996,null,{"$f":"IF(C1735<'Gala Name'!C$5,\"\",LEFT(A1735,1)&B1735&C1735)","v":"M587"},0.54938700399999996]
["Male",5,88,0.53182839000000004,null,{"$f":"IF(C1736<'Gala Name'!C$5,\"\",LEFT(A1736,1)&B1736&C1736)","v":"M588"},0.53182839000000004]
["Male",5,89,0.51312845500000004,null,{"$f":"IF(C1737<'Gala Name'!C$5,\"\",LEFT(A1737,1)&B1737&C1737)","v":"M589"},0.51312845500000004]
["Male",5,90,0.49316160399999998,null,{"$f":"IF(C1738<'Gala Name'!C$5,\"\",LEFT(A1738,1)&B1738&C1738)","v":"M590"},0.49316160399999998]
["Male",5,91,0.47179428499999998,null,{"$f":"IF(C1739<'Gala Name'!C$5,\"\",LEFT(A1739,1)&B1739&C1739)","v":"M591"},0.47179428499999998]
["Male",5,92,0.44888489100000001,null,{"$f":"IF(C1740<'Gala Name'!C$5,\"\",LEFT(A1740,1)&B1740&C1740)","v":"M592"},0.44888489100000001]
["Male",5,93,0.42428368300000002,null,{"$f":"IF(C1741<'Gala Name'!C$5,\"\",LEFT(A1741,1)&B1741&C1741)","v":"M593"},0.42428368300000002]
["Male",5,94,0.39783270799999998,null,{"$f":"IF(C1742<'Gala Name'!C$5,\"\",LEFT(A1742,1)&B1742&C1742)","v":"M594"},0.39783270799999998]
["Male",5,95,0.369365736,null,{"$f":"IF(C1743<'Gala Name'!C$5,\"\",LEFT(A1743,1)&B1743&C1743)","v":"M595"},0.369365736]
["Male",5,96,0.33870820400000001,null,{"$f":"IF(C1744<'Gala Name'!C$5,\"\",LEFT(A1744,1)&B1744&C1744)","v":"M596"},0.33870820400000001]
["Male",5,97,0.30567717,null,{"$f":"IF(C1745<'Gala Name'!C$5,\"\",LEFT(A1745,1)&B1745&C1745)","v":"M597"},0.30567717]
["Male",5,98,0.27008126999999998,null,{"$f":"IF(C1746<'Gala Name'!C$5,\"\",LEFT(A1746,1)&B1746&C1746)","v":"M598"},0.27008126999999998]
["Male",5,99,0.23172069300000001,null,{"$f":"IF(C1747<'Gala Name'!C$5,\"\",LEFT(A1747,1)&B1747&C1747)","v":"M599"},0.23172069300000001]
["Male",5,100,0.190387159,null,{"$f":"IF(C1748<'Gala Name'!C$5,\"\",LEFT(A1748,1)&B1748&C1748)","v":"M5100"},0.190387159]
["Male",6,25,1.0008440110000001,null,{"$f":"IF(C1749<'Gala Name'!C$5,\"\",LEFT(A1749,1)&B1749&C1749)","v":"M625"},1.0008440110000001]
["Male",6,26,0.99273561099999996,null,{"$f":"IF(C1750<'Gala Name'!C$5,\"\",LEFT(A1750,1)&B1750&C1750)","v":"M626"},0.99273561099999996]
["Male",6,27,0.98645437700000005,null,{"$f":"IF(C1751<'Gala Name'!C$5,\"\",LEFT(A1751,1)&B1751&C1751)","v":"M627"},0.98645437700000005]
["Male",6,28,0.98168480700000005,null,{"$f":"IF(C1752<'Gala Name'!C$5,\"\",LEFT(A1752,1)&B1752&C1752)","v":"M628"},0.98168480700000005]
["Male",6,29,0.97814231100000004,null,{"$f":"IF(C1753<'Gala Name'!C$5,\"\",LEFT(A1753,1)&B1753&C1753)","v":"M629"},0.97814231100000004]
["Male",6,30,0.97557139599999998,null,{"$f":"IF(C1754<'Gala Name'!C$5,\"\",LEFT(A1754,1)&B1754&C1754)","v":"M630"},0.97557139599999998]
["Male",6,31,0.97374390899999996,null,{"$f":"IF(C1755<'Gala Name'!C$5,\"\",LEFT(A1755,1)&B1755&C1755)","v":"M631"},0.97374390899999996]
["Male",6,32,0.97245731800000001,null,{"$f":"IF(C1756<'Gala Name'!C$5,\"\",LEFT(A1756,1)&B1756&C1756)","v":"M632"},0.97245731800000001]
["Male",6,33,0.97153305199999995,null,{"$f":"IF(C1757<'Gala Name'!C$5,\"\",LEFT(A1757,1)&B1757&C1757)","v":"M633"},0.97153305199999995]
["Male",6,34,0.97081488199999999,null,{"$f":"IF(C1758<'Gala Name'!C$5,\"\",LEFT(A1758,1)&B1758&C1758)","v":"M634"},0.97081488199999999]
["Male",6,35,0.97016735499999995,null,{"$f":"IF(C1759<'Gala Name'!C$5,\"\",LEFT(A1759,1)&B1759&C1759)","v":"M635"},0.97016735499999995]
["Male",6,36,0.96947427399999997,null,{"$f":"IF(C1760<'Gala Name'!C$5,\"\",LEFT(A1760,1)&B1760&C1760)","v":"M636"},0.96947427399999997]
["Male",6,37,0.96863722799999996,null,{"$f":"IF(C1761<'Gala Name'!C$5,\"\",LEFT(A1761,1)&B1761&C1761)","v":"M637"},0.96863722799999996]
["Male",6,38,0.96757417199999995,null,{"$f":"IF(C1762<'Gala Name'!C$5,\"\",LEFT(A1762,1)&B1762&C1762)","v":"M638"},0.96757417199999995]
["Male",6,39,0.96621805100000002,null,{"$f":"IF(C1763<'Gala Name'!C$5,\"\",LEFT(A1763,1)&B1763&C1763)","v":"M639"},0.96621805100000002]
["Male",6,40,0.96451547800000004,null,{"$f":"IF(C1764<'Gala Name'!C$5,\"\",LEFT(A1764,1)&B1764&C1764)","v":"M640"},0.96451547800000004]
["Male",6,41,0.96242545599999996,null,{"$f":"IF(C1765<'Gala Name'!C$5,\"\",LEFT(A1765,1)&B1765&C1765)","v":"M641"},0.96242545599999996]
["Male",6,42,0.95991815300000005,null,{"$f":"IF(C1766<'Gala Name'!C$5,\"\",LEFT(A1766,1)&B1766&C1766)","v":"M642"},0.95991815300000005]
["Male",6,43,0.95697372400000003,null,{"$f":"IF(C1767<'Gala Name'!C$5,\"\",LEFT(A1767,1)&B1767&C1767)","v":"M643"},0.95697372400000003]
["Male",6,44,0.95358117799999997,null,{"$f":"IF(C1768<'Gala Name'!C$5,\"\",LEFT(A1768,1)&B1768&C1768)","v":"M644"},0.95358117799999997]
["Male",6,45,0.94973729900000003,null,{"$f":"IF(C1769<'Gala Name'!C$5,\"\",LEFT(A1769,1)&B1769&C1769)","v":"M645"},0.94973729900000003]
["Male",6,46,0.94544561299999996,null,{"$f":"IF(C1770<'Gala Name'!C$5,\"\",LEFT(A1770,1)&B1770&C1770)","v":"M646"},0.94544561299999996]
["Male",6,47,0.94071540399999998,null,{"$f":"IF(C1771<'Gala Name'!C$5,\"\",LEFT(A1771,1)&B1771&C1771)","v":"M647"},0.94071540399999998]
["Male",6,48,0.93556077699999995,null,{"$f":"IF(C1772<'Gala Name'!C$5,\"\",LEFT(A1772,1)&B1772&C1772)","v":"M648"},0.93556077699999995]
["Male",6,49,0.92999977499999997,null,{"$f":"IF(C1773<'Gala Name'!C$5,\"\",LEFT(A1773,1)&B1773&C1773)","v":"M649"},0.92999977499999997]
["Male",6,50,0.92405353800000001,null,{"$f":"IF(C1774<'Gala Name'!C$5,\"\",LEFT(A1774,1)&B1774&C1774)","v":"M650"},0.92405353800000001]
["Male",6,51,0.91774551199999999,null,{"$f":"IF(C1775<'Gala Name'!C$5,\"\",LEFT(A1775,1)&B1775&C1775)","v":"M651"},0.91774551199999999]
["Male",6,52,0.91110071199999998,null,{"$f":"IF(C1776<'Gala Name'!C$5,\"\",LEFT(A1776,1)&B1776&C1776)","v":"M652"},0.91110071199999998]
["Male",6,53,0.90414502799999996,null,{"$f":"IF(C1777<'Gala Name'!C$5,\"\",LEFT(A1777,1)&B1777&C1777)","v":"M653"},0.90414502799999996]
["Male",6,54,0.89690458100000003,null,{"$f":"IF(C1778<'Gala Name'!C$5,\"\",LEFT(A1778,1)&B1778&C1778)","v":"M654"},0.89690458100000003]
["Male",6,55,0.88940512699999996,null,{"$f":"IF(C1779<'Gala Name'!C$5,\"\",LEFT(A1779,1)&B1779&C1779)","v":"M655"},0.88940512699999996]
["Male",6,56,0.88167151399999999,null,{"$f":"IF(C1780<'Gala Name'!C$5,\"\",LEFT(A1780,1)&B1780&C1780)","v":"M656"},0.88167151399999999]
["Male",6,57,0.87372718000000005,null,{"$f":"IF(C1781<'Gala Name'!C$5,\"\",LEFT(A1781,1)&B1781&C1781)","v":"M657"},0.87372718000000005]
["Male",6,58,0.86559370899999999,null,{"$f":"IF(C1782<'Gala Name'!C$5,\"\",LEFT(A1782,1)&B1782&C1782)","v":"M658"},0.86559370899999999]
["Male",6,59,0.85729042300000002,null,{"$f":"IF(C1783<'Gala Name'!C$5,\"\",LEFT(A1783,1)&B1783&C1783)","v":"M659"},0.85729042300000002]
["Male",6,60,0.84883403899999998,null,{"$f":"IF(C1784<'Gala Name'!C$5,\"\",LEFT(A1784,1)&B1784&C1784)","v":"M660"},0.84883403899999998]
["Male",6,61,0.84023835899999999,null,{"$f":"IF(C1785<'Gala Name'!C$5,\"\",LEFT(A1785,1)&B1785&C1785)","v":"M661"},0.84023835899999999]
["Male",6,62,0.83151401899999999,null,{"$f":"IF(C1786<'Gala Name'!C$5,\"\",LEFT(A1786,1)&B1786&C1786)","v":"M662"},0.83151401899999999]
["Male",6,63,0.82266828000000003,null,{"$f":"IF(C1787<'Gala Name'!C$5,\"\",LEFT(A1787,1)&B1787&C1787)","v":"M663"},0.82266828000000003]
["Male",6,64,0.81370487599999997,null,{"$f":"IF(C1788<'Gala Name'!C$5,\"\",LEFT(A1788,1)&B1788&C1788)","v":"M664"},0.81370487599999997]
["Male",6,65,0.80462389599999995,null,{"$f":"IF(C1789<'Gala Name'!C$5,\"\",LEFT(A1789,1)&B1789&C1789)","v":"M665"},0.80462389599999995]
["Male",6,66,0.79542173599999999,null,{"$f":"IF(C1790<'Gala Name'!C$5,\"\",LEFT(A1790,1)&B1790&C1790)","v":"M666"},0.79542173599999999]
["Male",6,67,0.78609107700000003,null,{"$f":"IF(C1791<'Gala Name'!C$5,\"\",LEFT(A1791,1)&B1791&C1791)","v":"M667"},0.78609107700000003]
["Male",6,68,0.77662092599999999,null,{"$f":"IF(C1792<'Gala Name'!C$5,\"\",LEFT(A1792,1)&B1792&C1792)","v":"M668"},0.77662092599999999]
["Male",6,69,0.76699670499999995,null,{"$f":"IF(C1793<'Gala Name'!C$5,\"\",LEFT(A1793,1)&B1793&C1793)","v":"M669"},0.76699670499999995]
["Male",6,70,0.75720038000000001,null,{"$f":"IF(C1794<'Gala Name'!C$5,\"\",LEFT(A1794,1)&B1794&C1794)","v":"M670"},0.75720038000000001]
["Male",6,71,0.74721064699999995,null,{"$f":"IF(C1795<'Gala Name'!C$5,\"\",LEFT(A1795,1)&B1795&C1795)","v":"M671"},{"$f":"D1795","v":0.74721064699999995}]
["Male",6,72,0.73700316300000002,null,{"$f":"IF(C1796<'Gala Name'!C$5,\"\",LEFT(A1796,1)&B1796&C1796)","v":"M672"},0.73700316300000002]
["Male",6,73,0.72655082699999995,null,{"$f":"IF(C1797<'Gala Name'!C$5,\"\",LEFT(A1797,1)&B1797&C1797)","v":"M673"},0.72655082699999995]
["Male",6,74,0.71582410799999996,null,{"$f":"IF(C1798<'Gala Name'!C$5,\"\",LEFT(A1798,1)&B1798&C1798)","v":"M674"},0.71582410799999996]
["Male",6,75,0.704791422,null,{"$f":"IF(C1799<'Gala Name'!C$5,\"\",LEFT(A1799,1)&B1799&C1799)","v":"M675"},0.704791422]
["Male",6,76,0.69341956000000005,null,{"$f":"IF(C1800<'Gala Name'!C$5,\"\",LEFT(A1800,1)&B1800&C1800)","v":"M676"},0.69341956000000005]
["Male",6,77,0.681674161,null,{"$f":"IF(C1801<'Gala Name'!C$5,\"\",LEFT(A1801,1)&B1801&C1801)","v":"M677"},0.681674161]
["Male",6,78,0.66952023599999999,null,{"$f":"IF(C1802<'Gala Name'!C$5,\"\",LEFT(A1802,1)&B1802&C1802)","v":"M678"},0.66952023599999999]
["Male",6,79,0.656922742,null,{"$f":"IF(C1803<'Gala Name'!C$5,\"\",LEFT(A1803,1)&B1803&C1803)","v":"M679"},0.656922742]
["Male",6,80,0.64384719700000004,null,{"$f":"IF(C1804<'Gala Name'!C$5,\"\",LEFT(A1804,1)&B1804&C1804)","v":"M680"},0.64384719700000004]
["Male",6,81,0.63026035800000002,null,{"$f":"IF(C1805<'Gala Name'!C$5,\"\",LEFT(A1805,1)&B1805&C1805)","v":"M681"},0.63026035800000002]
["Male",6,82,0.61613092999999997,null,{"$f":"IF(C1806<'Gala Name'!C$5,\"\",LEFT(A1806,1)&B1806&C1806)","v":"M682"},0.61613092999999997]
["Male",6,83,0.60143033899999998,null,{"$f":"IF(C1807<'Gala Name'!C$5,\"\",LEFT(A1807,1)&B1807&C1807)","v":"M683"},0.60143033899999998]
["Male",6,84,0.58613354399999995,null,{"$f":"IF(C1808<'Gala Name'!C$5,\"\",LEFT(A1808,1)&B1808&C1808)","v":"M684"},0.58613354399999995]
["Male",6,85,0.5702199,null,{"$f":"IF(C1809<'Gala Name'!C$5,\"\",LEFT(A1809,1)&B1809&C1809)","v":"M685"},0.5702199]
["Male",6,86,0.55367407499999999,null,{"$f":"IF(C1810<'Gala Name'!C$5,\"\",LEFT(A1810,1)&B1810&C1810)","v":"M686"},0.55367407499999999]
["Male",6,87,0.53648700500000002,null,{"$f":"IF(C1811<'Gala Name'!C$5,\"\",LEFT(A1811,1)&B1811&C1811)","v":"M687"},0.53648700500000002]
["Male",6,88,0.51865690900000005,null,{"$f":"IF(C1812<'Gala Name'!C$5,\"\",LEFT(A1812,1)&B1812&C1812)","v":"M688"},0.51865690900000005]
["Male",6,89,0.50019034399999995,null,{"$f":"IF(C1813<'Gala Name'!C$5,\"\",LEFT(A1813,1)&B1813&C1813)","v":"M689"},0.50019034399999995]
["Male",6,90,0.48110331299999998,null,{"$f":"IF(C1814<'Gala Name'!C$5,\"\",LEFT(A1814,1)&B1814&C1814)","v":"M690"},0.48110331299999998]
["Male",6,91,0.46142242100000003,null,{"$f":"IF(C1815<'Gala Name'!C$5,\"\",LEFT(A1815,1)&B1815&C1815)","v":"M691"},0.46142242100000003]
["Male",6,92,0.44118607700000001,null,{"$f":"IF(C1816<'Gala Name'!C$5,\"\",LEFT(A1816,1)&B1816&C1816)","v":"M692"},0.44118607700000001]
["Male",6,93,0.42044575000000001,null,{"$f":"IF(C1817<'Gala Name'!C$5,\"\",LEFT(A1817,1)&B1817&C1817)","v":"M693"},0.42044575000000001]
["Male",6,94,0.39926726899999998,null,{"$f":"IF(C1818<'Gala Name'!C$5,\"\",LEFT(A1818,1)&B1818&C1818)","v":"M694"},0.39926726899999998]
["Male",6,95,0.37773217199999998,null,{"$f":"IF(C1819<'Gala Name'!C$5,\"\",LEFT(A1819,1)&B1819&C1819)","v":"M695"},0.37773217199999998]
["Male",6,96,0.35593910699999998,null,{"$f":"IF(C1820<'Gala Name'!C$5,\"\",LEFT(A1820,1)&B1820&C1820)","v":"M696"},0.35593910699999998]
["Male",6,97,0.33400527600000002,null,{"$f":"IF(C1821<'Gala Name'!C$5,\"\",LEFT(A1821,1)&B1821&C1821)","v":"M697"},0.33400527600000002]
["Male",6,98,0.31206793500000002,null,{"$f":"IF(C1822<'Gala Name'!C$5,\"\",LEFT(A1822,1)&B1822&C1822)","v":"M698"},0.31206793500000002]
["Male",6,99,0.29028593400000002,null,{"$f":"IF(C1823<'Gala Name'!C$5,\"\",LEFT(A1823,1)&B1823&C1823)","v":"M699"},0.29028593400000002]
["Male",6,100,0.268841316,null,{"$f":"IF(C1824<'Gala Name'!C$5,\"\",LEFT(A1824,1)&B1824&C1824)","v":"M6100"},0.268841316]
["Male",7,25,1.002819119,null,{"$f":"IF(C1825<'Gala Name'!C$5,\"\",LEFT(A1825,1)&B1825&C1825)","v":"M725"},1.002819119]
["Male",7,26,1.0075161239999999,null,{"$f":"IF(C1826<'Gala Name'!C$5,\"\",LEFT(A1826,1)&B1826&C1826)","v":"M726"},1.0075161239999999]
["Male",7,27,1.0105654369999999,null,{"$f":"IF(C1827<'Gala Name'!C$5,\"\",LEFT(A1827,1)&B1827&C1827)","v":"M727"},1.0105654369999999]
["Male",7,28,1.0121983130000001,null,{"$f":"IF(C1828<'Gala Name'!C$5,\"\",LEFT(A1828,1)&B1828&C1828)","v":"M728"},1.0121983130000001]
["Male",7,29,1.0126216429999999,null,{"$f":"IF(C1829<'Gala Name'!C$5,\"\",LEFT(A1829,1)&B1829&C1829)","v":"M729"},1.0126216429999999]
["Male",7,30,1.012019545,null,{"$f":"IF(C1830<'Gala Name'!C$5,\"\",LEFT(A1830,1)&B1830&C1830)","v":"M730"},1.012019545]
["Male",7,31,1.0105549009999999,null,{"$f":"IF(C1831<'Gala Name'!C$5,\"\",LEFT(A1831,1)&B1831&C1831)","v":"M731"},1.0105549009999999]
["Male",7,32,1.0083708549999999,null,{"$f":"IF(C1832<'Gala Name'!C$5,\"\",LEFT(A1832,1)&B1832&C1832)","v":"M732"},1.0083708549999999]
["Male",7,33,1.005592246,null,{"$f":"IF(C1833<'Gala Name'!C$5,\"\",LEFT(A1833,1)&B1833&C1833)","v":"M733"},1.005592246]
["Male",7,34,1.0023270019999999,null,{"$f":"IF(C1834<'Gala Name'!C$5,\"\",LEFT(A1834,1)&B1834&C1834)","v":"M734"},1.0023270019999999]
["Male",7,35,0.99866748299999997,null,{"$f":"IF(C1835<'Gala Name'!C$5,\"\",LEFT(A1835,1)&B1835&C1835)","v":"M735"},0.99866748299999997]
["Male",7,36,0.994691773,null,{"$f":"IF(C1836<'Gala Name'!C$5,\"\",LEFT(A1836,1)&B1836&C1836)","v":"M736"},0.994691773]
["Male",7,37,0.99046491800000003,null,{"$f":"IF(C1837<'Gala Name'!C$5,\"\",LEFT(A1837,1)&B1837&C1837)","v":"M737"},0.99046491800000003]
["Male",7,38,0.98604012399999996,null,{"$f":"IF(C1838<'Gala Name'!C$5,\"\",LEFT(A1838,1)&B1838&C1838)","v":"M738"},0.98604012399999996]
["Male",7,39,0.981459898,null,{"$f":"IF(C1839<'Gala Name'!C$5,\"\",LEFT(A1839,1)&B1839&C1839)","v":"M739"},0.981459898]
["Male",7,40,0.97675713900000005,null,{"$f":"IF(C1840<'Gala Name'!C$5,\"\",LEFT(A1840,1)&B1840&C1840)","v":"M740"},0.97675713900000005]
["Male",7,41,0.971956186,null,{"$f":"IF(C1841<'Gala Name'!C$5,\"\",LEFT(A1841,1)&B1841&C1841)","v":"M741"},0.971956186]
["Male",7,42,0.96707380799999998,null,{"$f":"IF(C1842<'Gala Name'!C$5,\"\",LEFT(A1842,1)&B1842&C1842)","v":"M742"},0.96707380799999998]
["Male",7,43,0.96212015399999995,null,{"$f":"IF(C1843<'Gala Name'!C$5,\"\",LEFT(A1843,1)&B1843&C1843)","v":"M743"},0.96212015399999995]
["Male",7,44,0.957099641,null,{"$f":"IF(C1844<'Gala Name'!C$5,\"\",LEFT(A1844,1)&B1844&C1844)","v":"M744"},0.957099641]
["Male",7,45,0.95201180500000004,null,{"$f":"IF(C1845<'Gala Name'!C$5,\"\",LEFT(A1845,1)&B1845&C1845)","v":"M745"},0.95201180500000004]
["Male",7,46,0.94685209199999998,null,{"$f":"IF(C1846<'Gala Name'!C$5,\"\",LEFT(A1846,1)&B1846&C1846)","v":"M746"},0.94685209199999998]
["Male",7,47,0.94161260899999999,null,{"$f":"IF(C1847<'Gala Name'!C$5,\"\",LEFT(A1847,1)&B1847&C1847)","v":"M747"},0.94161260899999999]
["Male",7,48,0.93628281599999996,null,{"$f":"IF(C1848<'Gala Name'!C$5,\"\",LEFT(A1848,1)&B1848&C1848)","v":"M748"},0.93628281599999996]
["Male",7,49,0.930850175,null,{"$f":"IF(C1849<'Gala Name'!C$5,\"\",LEFT(A1849,1)&B1849&C1849)","v":"M749"},0.930850175]
["Male",7,50,0.92530074399999995,null,{"$f":"IF(C1850<'Gala Name'!C$5,\"\",LEFT(A1850,1)&B1850&C1850)","v":"M750"},0.92530074399999995]
["Male",7,51,0.91961973200000002,null,{"$f":"IF(C1851<'Gala Name'!C$5,\"\",LEFT(A1851,1)&B1851&C1851)","v":"M751"},0.91961973200000002]
["Male",7,52,0.913791986,null,{"$f":"IF(C1852<'Gala Name'!C$5,\"\",LEFT(A1852,1)&B1852&C1852)","v":"M752"},0.913791986]
["Male",7,53,0.90780245000000004,null,{"$f":"IF(C1853<'Gala Name'!C$5,\"\",LEFT(A1853,1)&B1853&C1853)","v":"M753"},0.90780245000000004]
["Male",7,54,0.90163655399999998,null,{"$f":"IF(C1854<'Gala Name'!C$5,\"\",LEFT(A1854,1)&B1854&C1854)","v":"M754"},0.90163655399999998]
["Male",7,55,0.89528057000000005,null,{"$f":"IF(C1855<'Gala Name'!C$5,\"\",LEFT(A1855,1)&B1855&C1855)","v":"M755"},0.89528057000000005]
["Male",7,56,0.88872190900000003,null,{"$f":"IF(C1856<'Gala Name'!C$5,\"\",LEFT(A1856,1)&B1856&C1856)","v":"M756"},0.88872190900000003]
["Male",7,57,0.88194936899999998,null,{"$f":"IF(C1857<'Gala Name'!C$5,\"\",LEFT(A1857,1)&B1857&C1857)","v":"M757"},0.88194936899999998]
["Male",7,58,0.87495333600000003,null,{"$f":"IF(C1858<'Gala Name'!C$5,\"\",LEFT(A1858,1)&B1858&C1858)","v":"M758"},0.87495333600000003]
["Male",7,59,0.86772593600000003,null,{"$f":"IF(C1859<'Gala Name'!C$5,\"\",LEFT(A1859,1)&B1859&C1859)","v":"M759"},{"$f":"D1859","v":0.86772593600000003}]
["Male",7,60,0.86026113400000004,null,{"$f":"IF(C1860<'Gala Name'!C$5,\"\",LEFT(A1860,1)&B1860&C1860)","v":"M760"},0.86026113400000004]
["Male",7,61,0.85255478600000001,null,{"$f":"IF(C1861<'Gala Name'!C$5,\"\",LEFT(A1861,1)&B1861&C1861)","v":"M761"},0.85255478600000001]
["Male",7,62,0.84460463900000005,null,{"$f":"IF(C1862<'Gala Name'!C$5,\"\",LEFT(A1862,1)&B1862&C1862)","v":"M762"},0.84460463900000005]
["Male",7,63,0.836410286,null,{"$f":"IF(C1863<'Gala Name'!C$5,\"\",LEFT(A1863,1)&B1863&C1863)","v":"M763"},0.836410286]
["Male",7,64,0.82797306500000001,null,{"$f":"IF(C1864<'Gala Name'!C$5,\"\",LEFT(A1864,1)&B1864&C1864)","v":"M764"},0.82797306500000001]
["Male",7,65,0.81929591199999996,null,{"$f":"IF(C1865<'Gala Name'!C$5,\"\",LEFT(A1865,1)&B1865&C1865)","v":"M765"},0.81929591199999996]
["Male",7,66,0.81038316700000002,null,{"$f":"IF(C1866<'Gala Name'!C$5,\"\",LEFT(A1866,1)&B1866&C1866)","v":"M766"},0.81038316700000002]
["Male",7,67,0.801240324,null,{"$f":"IF(C1867<'Gala Name'!C$5,\"\",LEFT(A1867,1)&B1867&C1867)","v":"M767"},0.801240324]
["Male",7,68,0.79187373500000002,null,{"$f":"IF(C1868<'Gala Name'!C$5,\"\",LEFT(A1868,1)&B1868&C1868)","v":"M768"},0.79187373500000002]
["Male",7,69,0.78229026700000004,null,{"$f":"IF(C1869<'Gala Name'!C$5,\"\",LEFT(A1869,1)&B1869&C1869)","v":"M769"},0.78229026700000004]
["Male",7,70,0.77249690299999996,null,{"$f":"IF(C1870<'Gala Name'!C$5,\"\",LEFT(A1870,1)&B1870&C1870)","v":"M770"},0.77249690299999996]
["Male",7,71,0.76250029900000005,null,{"$f":"IF(C1871<'Gala Name'!C$5,\"\",LEFT(A1871,1)&B1871&C1871)","v":"M771"},0.76250029900000005]
["Male",7,72,0.75230628700000002,null,{"$f":"IF(C1872<'Gala Name'!C$5,\"\",LEFT(A1872,1)&B1872&C1872)","v":"M772"},0.75230628700000002]
["Male",7,73,0.74191933499999996,null,{"$f":"IF(C1873<'Gala Name'!C$5,\"\",LEFT(A1873,1)&B1873&C1873)","v":"M773"},0.74191933499999996]
["Male",7,74,0.73134194600000002,null,{"$f":"IF(C1874<'Gala Name'!C$5,\"\",LEFT(A1874,1)&B1874&C1874)","v":"M774"},0.73134194600000002]
["Male",7,75,0.72057402100000001,null,{"$f":"IF(C1875<'Gala Name'!C$5,\"\",LEFT(A1875,1)&B1875&C1875)","v":"M775"},0.72057402100000001]
["Male",7,76,0.70961216299999996,null,{"$f":"IF(C1876<'Gala Name'!C$5,\"\",LEFT(A1876,1)&B1876&C1876)","v":"M776"},0.70961216299999996]
["Male",7,77,0.69844893200000002,null,{"$f":"IF(C1877<'Gala Name'!C$5,\"\",LEFT(A1877,1)&B1877&C1877)","v":"M777"},0.69844893200000002]
["Male",7,78,0.68707205500000001,null,{"$f":"IF(C1878<'Gala Name'!C$5,\"\",LEFT(A1878,1)&B1878&C1878)","v":"M778"},0.68707205500000001]
["Male",7,79,0.67546358299999998,null,{"$f":"IF(C1879<'Gala Name'!C$5,\"\",LEFT(A1879,1)&B1879&C1879)","v":"M779"},0.67546358299999998]
["Male",7,80,0.66359900100000002,null,{"$f":"IF(C1880<'Gala Name'!C$5,\"\",LEFT(A1880,1)&B1880&C1880)","v":"M780"},0.66359900100000002]
["Male",7,81,0.65144628199999999,null,{"$f":"IF(C1881<'Gala Name'!C$5,\"\",LEFT(A1881,1)&B1881&C1881)","v":"M781"},0.65144628199999999]
["Male",7,82,0.63896489999999995,null,{"$f":"IF(C1882<'Gala Name'!C$5,\"\",LEFT(A1882,1)&B1882&C1882)","v":"M782"},0.63896489999999995]
["Male",7,83,0.62610478599999997,null,{"$f":"IF(C1883<'Gala Name'!C$5,\"\",LEFT(A1883,1)&B1883&C1883)","v":"M783"},0.62610478599999997]
["Male",7,84,0.61280524300000005,null,{"$f":"IF(C1884<'Gala Name'!C$5,\"\",LEFT(A1884,1)&B1884&C1884)","v":"M784"},0.61280524300000005]
["Male",7,85,0.59899379900000005,null,{"$f":"IF(C1885<'Gala Name'!C$5,\"\",LEFT(A1885,1)&B1885&C1885)","v":"M785"},0.59899379900000005]
["Male",7,86,0.58458502199999995,null,{"$f":"IF(C1886<'Gala Name'!C$5,\"\",LEFT(A1886,1)&B1886&C1886)","v":"M786"},0.58458502199999995]
["Male",7,87,0.56947928000000003,null,{"$f":"IF(C1887<'Gala Name'!C$5,\"\",LEFT(A1887,1)&B1887&C1887)","v":"M787"},0.56947928000000003]
["Male",7,88,0.55356144900000004,null,{"$f":"IF(C1888<'Gala Name'!C$5,\"\",LEFT(A1888,1)&B1888&C1888)","v":"M788"},0.55356144900000004]
["Male",7,89,0.53669957899999998,null,{"$f":"IF(C1889<'Gala Name'!C$5,\"\",LEFT(A1889,1)&B1889&C1889)","v":"M789"},0.53669957899999998]
["Male",7,90,0.51874350499999999,null,{"$f":"IF(C1890<'Gala Name'!C$5,\"\",LEFT(A1890,1)&B1890&C1890)","v":"M790"},0.51874350499999999]
["Male",7,91,0.49952340499999998,null,{"$f":"IF(C1891<'Gala Name'!C$5,\"\",LEFT(A1891,1)&B1891&C1891)","v":"M791"},0.49952340499999998]
["Male",7,92,0.478848316,null,{"$f":"IF(C1892<'Gala Name'!C$5,\"\",LEFT(A1892,1)&B1892&C1892)","v":"M792"},0.478848316]
["Male",7,93,0.45650459900000001,null,{"$f":"IF(C1893<'Gala Name'!C$5,\"\",LEFT(A1893,1)&B1893&C1893)","v":"M793"},0.45650459900000001]
["Male",7,94,0.43225434600000001,null,{"$f":"IF(C1894<'Gala Name'!C$5,\"\",LEFT(A1894,1)&B1894&C1894)","v":"M794"},0.43225434600000001]
["Male",7,95,0.40583375100000002,null,{"$f":"IF(C1895<'Gala Name'!C$5,\"\",LEFT(A1895,1)&B1895&C1895)","v":"M795"},0.40583375100000002]
["Male",7,96,0.37695141599999998,null,{"$f":"IF(C1896<'Gala Name'!C$5,\"\",LEFT(A1896,1)&B1896&C1896)","v":"M796"},0.37695141599999998]
["Male",7,97,0.34528662399999999,null,{"$f":"IF(C1897<'Gala Name'!C$5,\"\",LEFT(A1897,1)&B1897&C1897)","v":"M797"},0.34528662399999999]
["Male",7,98,0.310487548,null,{"$f":"IF(C1898<'Gala Name'!C$5,\"\",LEFT(A1898,1)&B1898&C1898)","v":"M798"},0.310487548]
["Male",7,99,0.272169416,null,{"$f":"IF(C1899<'Gala Name'!C$5,\"\",LEFT(A1899,1)&B1899&C1899)","v":"M799"},0.272169416]
["Male",7,100,0.22991262900000001,null,{"$f":"IF(C1900<'Gala Name'!C$5,\"\",LEFT(A1900,1)&B1900&C1900)","v":"M7100"},0.22991262900000001]
["Male",8,25,1.0010890619999999,null,{"$f":"IF(C1901<'Gala Name'!C$5,\"\",LEFT(A1901,1)&B1901&C1901)","v":"M825"},1.0010890619999999]
["Male",8,26,0.99432907100000001,null,{"$f":"IF(C1902<'Gala Name'!C$5,\"\",LEFT(A1902,1)&B1902&C1902)","v":"M826"},0.99432907100000001]
["Male",8,27,0.98911777999999995,null,{"$f":"IF(C1903<'Gala Name'!C$5,\"\",LEFT(A1903,1)&B1903&C1903)","v":"M827"},0.98911777999999995]
["Male",8,28,0.98513740900000002,null,{"$f":"IF(C1904<'Gala Name'!C$5,\"\",LEFT(A1904,1)&B1904&C1904)","v":"M828"},0.98513740900000002]
["Male",8,29,0.982106123,null,{"$f":"IF(C1905<'Gala Name'!C$5,\"\",LEFT(A1905,1)&B1905&C1905)","v":"M829"},0.982106123]
["Male",8,30,0.97977563700000003,null,{"$f":"IF(C1906<'Gala Name'!C$5,\"\",LEFT(A1906,1)&B1906&C1906)","v":"M830"},0.97977563700000003]
["Male",8,31,0.97792887799999995,null,{"$f":"IF(C1907<'Gala Name'!C$5,\"\",LEFT(A1907,1)&B1907&C1907)","v":"M831"},0.97792887799999995]
["Male",8,32,0.97637773900000002,null,{"$f":"IF(C1908<'Gala Name'!C$5,\"\",LEFT(A1908,1)&B1908&C1908)","v":"M832"},0.97637773900000002]
["Male",8,33,0.974960893,null,{"$f":"IF(C1909<'Gala Name'!C$5,\"\",LEFT(A1909,1)&B1909&C1909)","v":"M833"},0.974960893]
["Male",8,34,0.97354168399999996,null,{"$f":"IF(C1910<'Gala Name'!C$5,\"\",LEFT(A1910,1)&B1910&C1910)","v":"M834"},0.97354168399999996]
["Male",8,35,0.97200609599999999,null,{"$f":"IF(C1911<'Gala Name'!C$5,\"\",LEFT(A1911,1)&B1911&C1911)","v":"M835"},0.97200609599999999]
["Male",8,36,0.97026078800000004,null,{"$f":"IF(C1912<'Gala Name'!C$5,\"\",LEFT(A1912,1)&B1912&C1912)","v":"M836"},0.97026078800000004]
["Male",8,37,0.96823120900000004,null,{"$f":"IF(C1913<'Gala Name'!C$5,\"\",LEFT(A1913,1)&B1913&C1913)","v":"M837"},0.96823120900000004]
["Male",8,38,0.96585978100000003,null,{"$f":"IF(C1914<'Gala Name'!C$5,\"\",LEFT(A1914,1)&B1914&C1914)","v":"M838"},0.96585978100000003]
["Male",8,39,0.96310415800000004,null,{"$f":"IF(C1915<'Gala Name'!C$5,\"\",LEFT(A1915,1)&B1915&C1915)","v":"M839"},0.96310415800000004]
["Male",8,40,0.95993556000000002,null,{"$f":"IF(C1916<'Gala Name'!C$5,\"\",LEFT(A1916,1)&B1916&C1916)","v":"M840"},0.95993556000000002]
["Male",8,41,0.95633717699999998,null,{"$f":"IF(C1917<'Gala Name'!C$5,\"\",LEFT(A1917,1)&B1917&C1917)","v":"M841"},0.95633717699999998]
["Male",8,42,0.95230264899999995,null,{"$f":"IF(C1918<'Gala Name'!C$5,\"\",LEFT(A1918,1)&B1918&C1918)","v":"M842"},0.95230264899999995]
["Male",8,43,0.94783461599999996,null,{"$f":"IF(C1919<'Gala Name'!C$5,\"\",LEFT(A1919,1)&B1919&C1919)","v":"M843"},0.94783461599999996]
["Male",8,44,0.94294334700000004,null,{"$f":"IF(C1920<'Gala Name'!C$5,\"\",LEFT(A1920,1)&B1920&C1920)","v":"M844"},0.94294334700000004]
["Male",8,45,0.93764543700000003,null,{"$f":"IF(C1921<'Gala Name'!C$5,\"\",LEFT(A1921,1)&B1921&C1921)","v":"M845"},0.93764543700000003]
["Male",8,46,0.93196257900000001,null,{"$f":"IF(C1922<'Gala Name'!C$5,\"\",LEFT(A1922,1)&B1922&C1922)","v":"M846"},0.93196257900000001]
["Male",8,47,0.925920411,null,{"$f":"IF(C1923<'Gala Name'!C$5,\"\",LEFT(A1923,1)&B1923&C1923)","v":"M847"},{"$f":"D1923","v":0.925920411}]
["Male",8,48,0.919547436,null,{"$f":"IF(C1924<'Gala Name'!C$5,\"\",LEFT(A1924,1)&B1924&C1924)","v":"M848"},0.919547436]
["Male",8,49,0.91287401199999996,null,{"$f":"IF(C1925<'Gala Name'!C$5,\"\",LEFT(A1925,1)&B1925&C1925)","v":"M849"},0.91287401199999996]
["Male",8,50,0.90593142199999999,null,{"$f":"IF(C1926<'Gala Name'!C$5,\"\",LEFT(A1926,1)&B1926&C1926)","v":"M850"},0.90593142199999999]
["Male",8,51,0.89875100799999996,null,{"$f":"IF(C1927<'Gala Name'!C$5,\"\",LEFT(A1927,1)&B1927&C1927)","v":"M851"},0.89875100799999996]
["Male",8,52,0.89136338800000003,null,{"$f":"IF(C1928<'Gala Name'!C$5,\"\",LEFT(A1928,1)&B1928&C1928)","v":"M852"},0.89136338800000003]
["Male",8,53,0.88379774200000005,null,{"$f":"IF(C1929<'Gala Name'!C$5,\"\",LEFT(A1929,1)&B1929&C1929)","v":"M853"},0.88379774200000005]
["Male",8,54,0.87608116800000002,null,{"$f":"IF(C1930<'Gala Name'!C$5,\"\",LEFT(A1930,1)&B1930&C1930)","v":"M854"},0.87608116800000002]
["Male",8,55,0.86823811900000003,null,{"$f":"IF(C1931<'Gala Name'!C$5,\"\",LEFT(A1931,1)&B1931&C1931)","v":"M855"},0.86823811900000003]
["Male",8,56,0.86028990800000005,null,{"$f":"IF(C1932<'Gala Name'!C$5,\"\",LEFT(A1932,1)&B1932&C1932)","v":"M856"},0.86028990800000005]
["Male",8,57,0.852254285,null,{"$f":"IF(C1933<'Gala Name'!C$5,\"\",LEFT(A1933,1)&B1933&C1933)","v":"M857"},0.852254285]
["Male",8,58,0.84414509500000001,null,{"$f":"IF(C1934<'Gala Name'!C$5,\"\",LEFT(A1934,1)&B1934&C1934)","v":"M858"},0.84414509500000001]
["Male",8,59,0.83597200100000002,null,{"$f":"IF(C1935<'Gala Name'!C$5,\"\",LEFT(A1935,1)&B1935&C1935)","v":"M859"},0.83597200100000002]
["Male",8,60,0.82774028300000002,null,{"$f":"IF(C1936<'Gala Name'!C$5,\"\",LEFT(A1936,1)&B1936&C1936)","v":"M860"},0.82774028300000002]
["Male",8,61,0.819450715,null,{"$f":"IF(C1937<'Gala Name'!C$5,\"\",LEFT(A1937,1)&B1937&C1937)","v":"M861"},0.819450715]
["Male",8,62,0.81109950900000005,null,{"$f":"IF(C1938<'Gala Name'!C$5,\"\",LEFT(A1938,1)&B1938&C1938)","v":"M862"},0.81109950900000005]
["Male",8,63,0.80267833399999999,null,{"$f":"IF(C1939<'Gala Name'!C$5,\"\",LEFT(A1939,1)&B1939&C1939)","v":"M863"},0.80267833399999999]
["Male",8,64,0.79417441300000002,null,{"$f":"IF(C1940<'Gala Name'!C$5,\"\",LEFT(A1940,1)&B1940&C1940)","v":"M864"},0.79417441300000002]
["Male",8,65,0.78557068600000002,null,{"$f":"IF(C1941<'Gala Name'!C$5,\"\",LEFT(A1941,1)&B1941&C1941)","v":"M865"},0.78557068600000002]
["Male",8,66,0.77684605299999998,null,{"$f":"IF(C1942<'Gala Name'!C$5,\"\",LEFT(A1942,1)&B1942&C1942)","v":"M866"},0.77684605299999998]
["Male",8,67,0.76797568500000002,null,{"$f":"IF(C1943<'Gala Name'!C$5,\"\",LEFT(A1943,1)&B1943&C1943)","v":"M867"},0.76797568500000002]
["Male",8,68,0.75893141200000003,null,{"$f":"IF(C1944<'Gala Name'!C$5,\"\",LEFT(A1944,1)&B1944&C1944)","v":"M868"},0.75893141200000003]
["Male",8,69,0.74968218499999995,null,{"$f":"IF(C1945<'Gala Name'!C$5,\"\",LEFT(A1945,1)&B1945&C1945)","v":"M869"},0.74968218499999995]
["Male",8,70,0.74019460699999995,null,{"$f":"IF(C1946<'Gala Name'!C$5,\"\",LEFT(A1946,1)&B1946&C1946)","v":"M870"},0.74019460699999995]
["Male",8,71,0.73043354199999999,null,{"$f":"IF(C1947<'Gala Name'!C$5,\"\",LEFT(A1947,1)&B1947&C1947)","v":"M871"},0.73043354199999999]
["Male",8,72,0.72036279299999995,null,{"$f":"IF(C1948<'Gala Name'!C$5,\"\",LEFT(A1948,1)&B1948&C1948)","v":"M872"},0.72036279299999995]
["Male",8,73,0.70994585899999996,null,{"$f":"IF(C1949<'Gala Name'!C$5,\"\",LEFT(A1949,1)&B1949&C1949)","v":"M873"},0.70994585899999996]
["Male",8,74,0.69914675999999998,null,{"$f":"IF(C1950<'Gala Name'!C$5,\"\",LEFT(A1950,1)&B1950&C1950)","v":"M874"},0.69914675999999998]
["Male",8,75,0.68793093999999999,null,{"$f":"IF(C1951<'Gala Name'!C$5,\"\",LEFT(A1951,1)&B1951&C1951)","v":"M875"},0.68793093999999999]
["Male",8,76,0.67626623500000005,null,{"$f":"IF(C1952<'Gala Name'!C$5,\"\",LEFT(A1952,1)&B1952&C1952)","v":"M876"},0.67626623500000005]
["Male",8,77,0.66412392899999995,null,{"$f":"IF(C1953<'Gala Name'!C$5,\"\",LEFT(A1953,1)&B1953&C1953)","v":"M877"},0.66412392899999995]
["Male",8,78,0.65147986800000002,null,{"$f":"IF(C1954<'Gala Name'!C$5,\"\",LEFT(A1954,1)&B1954&C1954)","v":"M878"},0.65147986800000002]
["Male",8,79,0.63831565800000001,null,{"$f":"IF(C1955<'Gala Name'!C$5,\"\",LEFT(A1955,1)&B1955&C1955)","v":"M879"},0.63831565800000001]
["Male",8,80,0.62461992899999996,null,{"$f":"IF(C1956<'Gala Name'!C$5,\"\",LEFT(A1956,1)&B1956&C1956)","v":"M880"},0.62461992899999996]
["Male",8,81,0.61038967899999996,null,{"$f":"IF(C1957<'Gala Name'!C$5,\"\",LEFT(A1957,1)&B1957&C1957)","v":"M881"},0.61038967899999996]
["Male",8,82,0.59563168700000002,null,{"$f":"IF(C1958<'Gala Name'!C$5,\"\",LEFT(A1958,1)&B1958&C1958)","v":"M882"},0.59563168700000002]
["Male",8,83,0.58036400200000005,null,{"$f":"IF(C1959<'Gala Name'!C$5,\"\",LEFT(A1959,1)&B1959&C1959)","v":"M883"},0.58036400200000005]
["Male",8,84,0.56461749999999999,null,{"$f":"IF(C1960<'Gala Name'!C$5,\"\",LEFT(A1960,1)&B1960&C1960)","v":"M884"},0.56461749999999999]
["Male",8,85,0.54843752499999998,null,{"$f":"IF(C1961<'Gala Name'!C$5,\"\",LEFT(A1961,1)&B1961&C1961)","v":"M885"},0.54843752499999998]
["Male",8,86,0.53188559000000002,null,{"$f":"IF(C1962<'Gala Name'!C$5,\"\",LEFT(A1962,1)&B1962&C1962)","v":"M886"},0.53188559000000002]
["Male",8,87,0.51504116300000002,null,{"$f":"IF(C1963<'Gala Name'!C$5,\"\",LEFT(A1963,1)&B1963&C1963)","v":"M887"},0.51504116300000002]
["Male",8,88,0.49800351900000001,null,{"$f":"IF(C1964<'Gala Name'!C$5,\"\",LEFT(A1964,1)&B1964&C1964)","v":"M888"},0.49800351900000001]
["Male",8,89,0.48089366900000002,null,{"$f":"IF(C1965<'Gala Name'!C$5,\"\",LEFT(A1965,1)&B1965&C1965)","v":"M889"},0.48089366900000002]
["Male",8,90,0.46385636299999999,null,{"$f":"IF(C1966<'Gala Name'!C$5,\"\",LEFT(A1966,1)&B1966&C1966)","v":"M890"},0.46385636299999999]
["Male",8,91,0.44706215999999999,null,{"$f":"IF(C1967<'Gala Name'!C$5,\"\",LEFT(A1967,1)&B1967&C1967)","v":"M891"},0.44706215999999999]
["Male",8,92,0.43070958199999998,null,{"$f":"IF(C1968<'Gala Name'!C$5,\"\",LEFT(A1968,1)&B1968&C1968)","v":"M892"},0.43070958199999998]
["Male",8,93,0.415027329,null,{"$f":"IF(C1969<'Gala Name'!C$5,\"\",LEFT(A1969,1)&B1969&C1969)","v":"M893"},0.415027329]
["Male",8,94,0.40027658199999999,null,{"$f":"IF(C1970<'Gala Name'!C$5,\"\",LEFT(A1970,1)&B1970&C1970)","v":"M894"},0.40027658199999999]
["Male",8,95,0.38675336199999999,null,{"$f":"IF(C1971<'Gala Name'!C$5,\"\",LEFT(A1971,1)&B1971&C1971)","v":"M895"},0.38675336199999999]
["Male",8,96,0.37479098100000002,null,{"$f":"IF(C1972<'Gala Name'!C$5,\"\",LEFT(A1972,1)&B1972&C1972)","v":"M896"},0.37479098100000002]
["Male",8,97,0.36476254899999999,null,{"$f":"IF(C1973<'Gala Name'!C$5,\"\",LEFT(A1973,1)&B1973&C1973)","v":"M897"},0.36476254899999999]
["Male",8,98,0.35708356699999999,null,{"$f":"IF(C1974<'Gala Name'!C$5,\"\",LEFT(A1974,1)&B1974&C1974)","v":"M898"},0.35708356699999999]
["Male",8,99,0.352214588,null,{"$f":"IF(C1975<'Gala Name'!C$5,\"\",LEFT(A1975,1)&B1975&C1975)","v":"M899"},0.352214588]
["Male",8,100,0.35066395099999997,null,{"$f":"IF(C1976<'Gala Name'!C$5,\"\",LEFT(A1976,1)&B1976&C1976)","v":"M8100"},0.35066395099999997]
["Male",9,25,1.0033662050000001,null,{"$f":"IF(C1977<'Gala Name'!C$5,\"\",LEFT(A1977,1)&B1977&C1977)","v":"M925"},1.0033662050000001]
["Male",9,26,1.001790307,null,{"$f":"IF(C1978<'Gala Name'!C$5,\"\",LEFT(A1978,1)&B1978&C1978)","v":"M926"},1.001790307]
["Male",9,27,1.0011694769999999,null,{"$f":"IF(C1979<'Gala Name'!C$5,\"\",LEFT(A1979,1)&B1979&C1979)","v":"M927"},1.0011694769999999]
["Male",9,28,1.001207959,null,{"$f":"IF(C1980<'Gala Name'!C$5,\"\",LEFT(A1980,1)&B1980&C1980)","v":"M928"},1.001207959]
["Male",9,29,1.001648603,null,{"$f":"IF(C1981<'Gala Name'!C$5,\"\",LEFT(A1981,1)&B1981&C1981)","v":"M929"},1.001648603]
["Male",9,30,1.002270072,null,{"$f":"IF(C1982<'Gala Name'!C$5,\"\",LEFT(A1982,1)&B1982&C1982)","v":"M930"},1.002270072]
["Male",9,31,1.002884128,null,{"$f":"IF(C1983<'Gala Name'!C$5,\"\",LEFT(A1983,1)&B1983&C1983)","v":"M931"},1.002884128]
["Male",9,32,1.003333016,null,{"$f":"IF(C1984<'Gala Name'!C$5,\"\",LEFT(A1984,1)&B1984&C1984)","v":"M932"},1.003333016]
["Male",9,33,1.0034869319999999,null,{"$f":"IF(C1985<'Gala Name'!C$5,\"\",LEFT(A1985,1)&B1985&C1985)","v":"M933"},1.0034869319999999]
["Male",9,34,1.00324159,null,{"$f":"IF(C1986<'Gala Name'!C$5,\"\",LEFT(A1986,1)&B1986&C1986)","v":"M934"},1.00324159]
["Male",9,35,1.0025158700000001,null,{"$f":"IF(C1987<'Gala Name'!C$5,\"\",LEFT(A1987,1)&B1987&C1987)","v":"M935"},{"$f":"D1987","v":1.0025158700000001}]
["Male",9,36,1.001249566,null,{"$f":"IF(C1988<'Gala Name'!C$5,\"\",LEFT(A1988,1)&B1988&C1988)","v":"M936"},1.001249566]
["Male",9,37,0.99940121199999998,null,{"$f":"IF(C1989<'Gala Name'!C$5,\"\",LEFT(A1989,1)&B1989&C1989)","v":"M937"},0.99940121199999998]
["Male",9,38,0.99694601500000002,null,{"$f":"IF(C1990<'Gala Name'!C$5,\"\",LEFT(A1990,1)&B1990&C1990)","v":"M938"},0.99694601500000002]
["Male",9,39,0.99387386200000005,null,{"$f":"IF(C1991<'Gala Name'!C$5,\"\",LEFT(A1991,1)&B1991&C1991)","v":"M939"},0.99387386200000005]
["Male",9,40,0.99018742800000004,null,{"$f":"IF(C1992<'Gala Name'!C$5,\"\",LEFT(A1992,1)&B1992&C1992)","v":"M940"},0.99018742800000004]
["Male",9,41,0.98590037100000005,null,{"$f":"IF(C1993<'Gala Name'!C$5,\"\",LEFT(A1993,1)&B1993&C1993)","v":"M941"},0.98590037100000005]
["Male",9,42,0.98103561900000003,null,{"$f":"IF(C1994<'Gala Name'!C$5,\"\",LEFT(A1994,1)&B1994&C1994)","v":"M942"},0.98103561900000003]
["Male",9,43,0.97562374299999999,null,{"$f":"IF(C1995<'Gala Name'!C$5,\"\",LEFT(A1995,1)&B1995&C1995)","v":"M943"},0.97562374299999999]
["Male",9,44,0.96970142800000003,null,{"$f":"IF(C1996<'Gala Name'!C$5,\"\",LEFT(A1996,1)&B1996&C1996)","v":"M944"},0.96970142800000003]
["Male",9,45,0.96331002600000004,null,{"$f":"IF(C1997<'Gala Name'!C$5,\"\",LEFT(A1997,1)&B1997&C1997)","v":"M945"},0.96331002600000004]
["Male",9,46,0.95649420500000004,null,{"$f":"IF(C1998<'Gala Name'!C$5,\"\",LEFT(A1998,1)&B1998&C1998)","v":"M946"},0.95649420500000004]
["Male",9,47,0.94930069100000003,null,{"$f":"IF(C1999<'Gala Name'!C$5,\"\",LEFT(A1999,1)&B1999&C1999)","v":"M947"},0.94930069100000003]
["Male",9,48,0.94177708900000001,null,{"$f":"IF(C2000<'Gala Name'!C$5,\"\",LEFT(A2000,1)&B2000&C2000)","v":"M948"},0.94177708900000001]
["Male",9,49,0.93397080899999996,null,{"$f":"IF(C2001<'Gala Name'!C$5,\"\",LEFT(A2001,1)&B2001&C2001)","v":"M949"},0.93397080899999996]
["Male",9,50,0.92592807099999996,null,{"$f":"IF(C2002<'Gala Name'!C$5,\"\",LEFT(A2002,1)&B2002&C2002)","v":"M950"},0.92592807099999996]
["Male",9,51,0.91769300799999998,null,{"$f":"IF(C2003<'Gala Name'!C$5,\"\",LEFT(A2003,1)&B2003&C2003)","v":"M951"},0.91769300799999998]
["Male",9,52,0.90930685300000003,null,{"$f":"IF(C2004<'Gala Name'!C$5,\"\",LEFT(A2004,1)&B2004&C2004)","v":"M952"},0.90930685300000003]
["Male",9,53,0.90080722499999999,null,{"$f":"IF(C2005<'Gala Name'!C$5,\"\",LEFT(A2005,1)&B2005&C2005)","v":"M953"},0.90080722499999999]
["Male",9,54,0.89222749400000001,null,{"$f":"IF(C2006<'Gala Name'!C$5,\"\",LEFT(A2006,1)&B2006&C2006)","v":"M954"},0.89222749400000001]
["Male",9,55,0.88359624699999995,null,{"$f":"IF(C2007<'Gala Name'!C$5,\"\",LEFT(A2007,1)&B2007&C2007)","v":"M955"},0.88359624699999995]
["Male",9,56,0.87493684000000005,null,{"$f":"IF(C2008<'Gala Name'!C$5,\"\",LEFT(A2008,1)&B2008&C2008)","v":"M956"},0.87493684000000005]
["Male",9,57,0.86626703900000002,null,{"$f":"IF(C2009<'Gala Name'!C$5,\"\",LEFT(A2009,1)&B2009&C2009)","v":"M957"},0.86626703900000002]
["Male",9,58,0.85759875500000005,null,{"$f":"IF(C2010<'Gala Name'!C$5,\"\",LEFT(A2010,1)&B2010&C2010)","v":"M958"},0.85759875500000005]
["Male",9,59,0.84893786599999999,null,{"$f":"IF(C2011<'Gala Name'!C$5,\"\",LEFT(A2011,1)&B2011&C2011)","v":"M959"},0.84893786599999999]
["Male",9,60,0.84028413199999996,null,{"$f":"IF(C2012<'Gala Name'!C$5,\"\",LEFT(A2012,1)&B2012&C2012)","v":"M960"},0.84028413199999996]
["Male",9,61,0.83163119900000004,null,{"$f":"IF(C2013<'Gala Name'!C$5,\"\",LEFT(A2013,1)&B2013&C2013)","v":"M961"},0.83163119900000004]
["Male",9,62,0.82296669700000002,null,{"$f":"IF(C2014<'Gala Name'!C$5,\"\",LEFT(A2014,1)&B2014&C2014)","v":"M962"},0.82296669700000002]
["Male",9,63,0.81427241900000003,null,{"$f":"IF(C2015<'Gala Name'!C$5,\"\",LEFT(A2015,1)&B2015&C2015)","v":"M963"},0.81427241900000003]
["Male",9,64,0.80552460299999995,null,{"$f":"IF(C2016<'Gala Name'!C$5,\"\",LEFT(A2016,1)&B2016&C2016)","v":"M964"},0.80552460299999995]
["Male",9,65,0.79669429599999997,null,{"$f":"IF(C2017<'Gala Name'!C$5,\"\",LEFT(A2017,1)&B2017&C2017)","v":"M965"},0.79669429599999997]
["Male",9,66,0.78774781199999999,null,{"$f":"IF(C2018<'Gala Name'!C$5,\"\",LEFT(A2018,1)&B2018&C2018)","v":"M966"},0.78774781199999999]
["Male",9,67,0.77864727700000003,null,{"$f":"IF(C2019<'Gala Name'!C$5,\"\",LEFT(A2019,1)&B2019&C2019)","v":"M967"},0.77864727700000003]
["Male",9,68,0.76935126899999995,null,{"$f":"IF(C2020<'Gala Name'!C$5,\"\",LEFT(A2020,1)&B2020&C2020)","v":"M968"},0.76935126899999995]
["Male",9,69,0.75981554600000001,null,{"$f":"IF(C2021<'Gala Name'!C$5,\"\",LEFT(A2021,1)&B2021&C2021)","v":"M969"},0.75981554600000001]
["Male",9,70,0.74999386400000001,null,{"$f":"IF(C2022<'Gala Name'!C$5,\"\",LEFT(A2022,1)&B2022&C2022)","v":"M970"},0.74999386400000001]
["Male",9,71,0.73983888600000003,null,{"$f":"IF(C2023<'Gala Name'!C$5,\"\",LEFT(A2023,1)&B2023&C2023)","v":"M971"},0.73983888600000003]
["Male",9,72,0.72930318199999999,null,{"$f":"IF(C2024<'Gala Name'!C$5,\"\",LEFT(A2024,1)&B2024&C2024)","v":"M972"},0.72930318199999999]
["Male",9,73,0.718340321,null,{"$f":"IF(C2025<'Gala Name'!C$5,\"\",LEFT(A2025,1)&B2025&C2025)","v":"M973"},0.718340321]
["Male",9,74,0.70690604700000004,null,{"$f":"IF(C2026<'Gala Name'!C$5,\"\",LEFT(A2026,1)&B2026&C2026)","v":"M974"},0.70690604700000004]
["Male",9,75,0.69495955600000003,null,{"$f":"IF(C2027<'Gala Name'!C$5,\"\",LEFT(A2027,1)&B2027&C2027)","v":"M975"},0.69495955600000003]
["Male",9,76,0.68246485099999998,null,{"$f":"IF(C2028<'Gala Name'!C$5,\"\",LEFT(A2028,1)&B2028&C2028)","v":"M976"},0.68246485099999998]
["Male",9,77,0.66939219999999999,null,{"$f":"IF(C2029<'Gala Name'!C$5,\"\",LEFT(A2029,1)&B2029&C2029)","v":"M977"},0.66939219999999999]
["Male",9,78,0.65571967399999997,null,{"$f":"IF(C2030<'Gala Name'!C$5,\"\",LEFT(A2030,1)&B2030&C2030)","v":"M978"},0.65571967399999997]
["Male",9,79,0.64143478300000001,null,{"$f":"IF(C2031<'Gala Name'!C$5,\"\",LEFT(A2031,1)&B2031&C2031)","v":"M979"},0.64143478300000001]
["Male",9,80,0.62653619699999996,null,{"$f":"IF(C2032<'Gala Name'!C$5,\"\",LEFT(A2032,1)&B2032&C2032)","v":"M980"},0.62653619699999996]
["Male",9,81,0.61103556000000003,null,{"$f":"IF(C2033<'Gala Name'!C$5,\"\",LEFT(A2033,1)&B2033&C2033)","v":"M981"},0.61103556000000003]
["Male",9,82,0.59495939799999997,null,{"$f":"IF(C2034<'Gala Name'!C$5,\"\",LEFT(A2034,1)&B2034&C2034)","v":"M982"},0.59495939799999997]
["Male",9,83,0.57835110700000003,null,{"$f":"IF(C2035<'Gala Name'!C$5,\"\",LEFT(A2035,1)&B2035&C2035)","v":"M983"},0.57835110700000003]
["Male",9,84,0.561273044,null,{"$f":"IF(C2036<'Gala Name'!C$5,\"\",LEFT(A2036,1)&B2036&C2036)","v":"M984"},0.561273044]
["Male",9,85,0.54380870100000001,null,{"$f":"IF(C2037<'Gala Name'!C$5,\"\",LEFT(A2037,1)&B2037&C2037)","v":"M985"},0.54380870100000001]
["Male",9,86,0.52606496999999997,null,{"$f":"IF(C2038<'Gala Name'!C$5,\"\",LEFT(A2038,1)&B2038&C2038)","v":"M986"},0.52606496999999997]
["Male",9,87,0.508174499,null,{"$f":"IF(C2039<'Gala Name'!C$5,\"\",LEFT(A2039,1)&B2039&C2039)","v":"M987"},0.508174499]
["Male",9,88,0.49029814300000002,null,{"$f":"IF(C2040<'Gala Name'!C$5,\"\",LEFT(A2040,1)&B2040&C2040)","v":"M988"},0.49029814300000002]
["Male",9,89,0.47262749799999998,null,{"$f":"IF(C2041<'Gala Name'!C$5,\"\",LEFT(A2041,1)&B2041&C2041)","v":"M989"},0.47262749799999998]
["Male",9,90,0.45538752799999999,null,{"$f":"IF(C2042<'Gala Name'!C$5,\"\",LEFT(A2042,1)&B2042&C2042)","v":"M990"},0.45538752799999999]
["Male",9,91,0.43883928700000002,null,{"$f":"IF(C2043<'Gala Name'!C$5,\"\",LEFT(A2043,1)&B2043&C2043)","v":"M991"},0.43883928700000002]
["Male",9,92,0.423282726,null,{"$f":"IF(C2044<'Gala Name'!C$5,\"\",LEFT(A2044,1)&B2044&C2044)","v":"M992"},0.423282726]
["Male",9,93,0.409059593,null,{"$f":"IF(C2045<'Gala Name'!C$5,\"\",LEFT(A2045,1)&B2045&C2045)","v":"M993"},0.409059593]
["Male",9,94,0.39655642099999999,null,{"$f":"IF(C2046<'Gala Name'!C$5,\"\",LEFT(A2046,1)&B2046&C2046)","v":"M994"},0.39655642099999999]
["Male",9,95,0.38620760999999998,null,{"$f":"IF(C2047<'Gala Name'!C$5,\"\",LEFT(A2047,1)&B2047&C2047)","v":"M995"},0.38620760999999998]
["Male",9,96,0.37849859699999999,null,{"$f":"IF(C2048<'Gala Name'!C$5,\"\",LEFT(A2048,1)&B2048&C2048)","v":"M996"},0.37849859699999999]
["Male",9,97,0.37396911900000002,null,{"$f":"IF(C2049<'Gala Name'!C$5,\"\",LEFT(A2049,1)&B2049&C2049)","v":"M997"},0.37396911900000002]
["Male",9,98,0.373216563,null,{"$f":"IF(C2050<'Gala Name'!C$5,\"\",LEFT(A2050,1)&B2050&C2050)","v":"M998"},0.373216563]
["Male",9,99,0.37689940700000002,null,{"$f":"IF(C2051<'Gala Name'!C$5,\"\",LEFT(A2051,1)&B2051&C2051)","v":"M999"},{"$f":"D2051","v":0.37689940700000002}]
["Male",9,100,0.38574075299999999,null,{"$f":"IF(C2052<'Gala Name'!C$5,\"\",LEFT(A2052,1)&B2052&C2052)","v":"M9100"},0.38574075299999999]
["Male",10,25,1.0015815640000001,null,{"$f":"IF(C2053<'Gala Name'!C$5,\"\",LEFT(A2053,1)&B2053&C2053)","v":"M1025"},1.0015815640000001]
["Male",10,26,1.016070582,null,{"$f":"IF(C2054<'Gala Name'!C$5,\"\",LEFT(A2054,1)&B2054&C2054)","v":"M1026"},1.016070582]
["Male",10,27,1.0252649579999999,null,{"$f":"IF(C2055<'Gala Name'!C$5,\"\",LEFT(A2055,1)&B2055&C2055)","v":"M1027"},1.0252649579999999]
["Male",10,28,1.0300907269999999,null,{"$f":"IF(C2056<'Gala Name'!C$5,\"\",LEFT(A2056,1)&B2056&C2056)","v":"M1028"},1.0300907269999999]
["Male",10,29,1.0313683680000001,null,{"$f":"IF(C2057<'Gala Name'!C$5,\"\",LEFT(A2057,1)&B2057&C2057)","v":"M1029"},1.0313683680000001]
["Male",10,30,1.0298200289999999,null,{"$f":"IF(C2058<'Gala Name'!C$5,\"\",LEFT(A2058,1)&B2058&C2058)","v":"M1030"},1.0298200289999999]
["Male",10,31,1.026076516,null,{"$f":"IF(C2059<'Gala Name'!C$5,\"\",LEFT(A2059,1)&B2059&C2059)","v":"M1031"},1.026076516]
["Male",10,32,1.0206840530000001,null,{"$f":"IF(C2060<'Gala Name'!C$5,\"\",LEFT(A2060,1)&B2060&C2060)","v":"M1032"},1.0206840530000001]
["Male",10,33,1.0141108059999999,null,{"$f":"IF(C2061<'Gala Name'!C$5,\"\",LEFT(A2061,1)&B2061&C2061)","v":"M1033"},1.0141108059999999]
["Male",10,34,1.0067531780000001,null,{"$f":"IF(C2062<'Gala Name'!C$5,\"\",LEFT(A2062,1)&B2062&C2062)","v":"M1034"},1.0067531780000001]
["Male",10,35,0.99894187199999995,null,{"$f":"IF(C2063<'Gala Name'!C$5,\"\",LEFT(A2063,1)&B2063&C2063)","v":"M1035"},0.99894187199999995]
["Male",10,36,0.99094772200000003,null,{"$f":"IF(C2064<'Gala Name'!C$5,\"\",LEFT(A2064,1)&B2064&C2064)","v":"M1036"},0.99094772200000003]
["Male",10,37,0.98298729299999998,null,{"$f":"IF(C2065<'Gala Name'!C$5,\"\",LEFT(A2065,1)&B2065&C2065)","v":"M1037"},0.98298729299999998]
["Male",10,38,0.97522824500000005,null,{"$f":"IF(C2066<'Gala Name'!C$5,\"\",LEFT(A2066,1)&B2066&C2066)","v":"M1038"},0.97522824500000005]
["Male",10,39,0.96779446999999996,null,{"$f":"IF(C2067<'Gala Name'!C$5,\"\",LEFT(A2067,1)&B2067&C2067)","v":"M1039"},0.96779446999999996]
["Male",10,40,0.96077099700000002,null,{"$f":"IF(C2068<'Gala Name'!C$5,\"\",LEFT(A2068,1)&B2068&C2068)","v":"M1040"},0.96077099700000002]
["Male",10,41,0.95420866100000001,null,{"$f":"IF(C2069<'Gala Name'!C$5,\"\",LEFT(A2069,1)&B2069&C2069)","v":"M1041"},0.95420866100000001]
["Male",10,42,0.94812854199999996,null,{"$f":"IF(C2070<'Gala Name'!C$5,\"\",LEFT(A2070,1)&B2070&C2070)","v":"M1042"},0.94812854199999996]
["Male",10,43,0.94252617800000005,null,{"$f":"IF(C2071<'Gala Name'!C$5,\"\",LEFT(A2071,1)&B2071&C2071)","v":"M1043"},0.94252617800000005]
["Male",10,44,0.93737553500000004,null,{"$f":"IF(C2072<'Gala Name'!C$5,\"\",LEFT(A2072,1)&B2072&C2072)","v":"M1044"},0.93737553500000004]
["Male",10,45,0.93263275499999998,null,{"$f":"IF(C2073<'Gala Name'!C$5,\"\",LEFT(A2073,1)&B2073&C2073)","v":"M1045"},0.93263275499999998]
["Male",10,46,0.92823966499999999,null,{"$f":"IF(C2074<'Gala Name'!C$5,\"\",LEFT(A2074,1)&B2074&C2074)","v":"M1046"},0.92823966499999999]
["Male",10,47,0.92412706300000003,null,{"$f":"IF(C2075<'Gala Name'!C$5,\"\",LEFT(A2075,1)&B2075&C2075)","v":"M1047"},0.92412706300000003]
["Male",10,48,0.92021775900000002,null,{"$f":"IF(C2076<'Gala Name'!C$5,\"\",LEFT(A2076,1)&B2076&C2076)","v":"M1048"},0.92021775900000002]
["Male",10,49,0.91642939899999998,null,{"$f":"IF(C2077<'Gala Name'!C$5,\"\",LEFT(A2077,1)&B2077&C2077)","v":"M1049"},0.91642939899999998]
["Male",10,50,0.91267704599999999,null,{"$f":"IF(C2078<'Gala Name'!C$5,\"\",LEFT(A2078,1)&B2078&C2078)","v":"M1050"},0.91267704599999999]
["Male",10,51,0.90887553399999998,null,{"$f":"IF(C2079<'Gala Name'!C$5,\"\",LEFT(A2079,1)&B2079&C2079)","v":"M1051"},0.90887553399999998]
["Male",10,52,0.90494158899999999,null,{"$f":"IF(C2080<'Gala Name'!C$5,\"\",LEFT(A2080,1)&B2080&C2080)","v":"M1052"},0.90494158899999999]
["Male",10,53,0.90079571800000002,null,{"$f":"IF(C2081<'Gala Name'!C$5,\"\",LEFT(A2081,1)&B2081&C2081)","v":"M1053"},0.90079571800000002]
["Male",10,54,0.89636386899999998,null,{"$f":"IF(C2082<'Gala Name'!C$5,\"\",LEFT(A2082,1)&B2082&C2082)","v":"M1054"},0.89636386899999998]
["Male",10,55,0.89157885299999995,null,{"$f":"IF(C2083<'Gala Name'!C$5,\"\",LEFT(A2083,1)&B2083&C2083)","v":"M1055"},0.89157885299999995]
["Male",10,56,0.88638154199999997,null,{"$f":"IF(C2084<'Gala Name'!C$5,\"\",LEFT(A2084,1)&B2084&C2084)","v":"M1056"},0.88638154199999997]
["Male",10,57,0.88072182600000004,null,{"$f":"IF(C2085<'Gala Name'!C$5,\"\",LEFT(A2085,1)&B2085&C2085)","v":"M1057"},0.88072182600000004]
["Male",10,58,0.87455934899999999,null,{"$f":"IF(C2086<'Gala Name'!C$5,\"\",LEFT(A2086,1)&B2086&C2086)","v":"M1058"},0.87455934899999999]
["Male",10,59,0.86786400100000005,null,{"$f":"IF(C2087<'Gala Name'!C$5,\"\",LEFT(A2087,1)&B2087&C2087)","v":"M1059"},0.86786400100000005]
["Male",10,60,0.86061619199999995,null,{"$f":"IF(C2088<'Gala Name'!C$5,\"\",LEFT(A2088,1)&B2088&C2088)","v":"M1060"},0.86061619199999995]
["Male",10,61,0.85280687799999999,null,{"$f":"IF(C2089<'Gala Name'!C$5,\"\",LEFT(A2089,1)&B2089&C2089)","v":"M1061"},0.85280687799999999]
["Male",10,62,0.84443737200000002,null,{"$f":"IF(C2090<'Gala Name'!C$5,\"\",LEFT(A2090,1)&B2090&C2090)","v":"M1062"},0.84443737200000002]
["Male",10,63,0.83551890900000003,null,{"$f":"IF(C2091<'Gala Name'!C$5,\"\",LEFT(A2091,1)&B2091&C2091)","v":"M1063"},0.83551890900000003]
["Male",10,64,0.82607198800000003,null,{"$f":"IF(C2092<'Gala Name'!C$5,\"\",LEFT(A2092,1)&B2092&C2092)","v":"M1064"},0.82607198800000003]
["Male",10,65,0.81612547999999996,null,{"$f":"IF(C2093<'Gala Name'!C$5,\"\",LEFT(A2093,1)&B2093&C2093)","v":"M1065"},0.81612547999999996]
["Male",10,66,0.80571550000000003,null,{"$f":"IF(C2094<'Gala Name'!C$5,\"\",LEFT(A2094,1)&B2094&C2094)","v":"M1066"},0.80571550000000003]
["Male",10,67,0.79488405299999998,null,{"$f":"IF(C2095<'Gala Name'!C$5,\"\",LEFT(A2095,1)&B2095&C2095)","v":"M1067"},0.79488405299999998]
["Male",10,68,0.783677446,null,{"$f":"IF(C2096<'Gala Name'!C$5,\"\",LEFT(A2096,1)&B2096&C2096)","v":"M1068"},0.783677446]
["Male",10,69,0.77214446800000003,null,{"$f":"IF(C2097<'Gala Name'!C$5,\"\",LEFT(A2097,1)&B2097&C2097)","v":"M1069"},0.77214446800000003]
["Male",10,70,0.76033433500000003,null,{"$f":"IF(C2098<'Gala Name'!C$5,\"\",LEFT(A2098,1)&B2098&C2098)","v":"M1070"},0.76033433500000003]
["Male",10,71,0.74829441100000005,null,{"$f":"IF(C2099<'Gala Name'!C$5,\"\",LEFT(A2099,1)&B2099&C2099)","v":"M1071"},0.74829441100000005]
["Male",10,72,0.73606768899999997,null,{"$f":"IF(C2100<'Gala Name'!C$5,\"\",LEFT(A2100,1)&B2100&C2100)","v":"M1072"},0.73606768899999997]
["Male",10,73,0.72369004299999995,null,{"$f":"IF(C2101<'Gala Name'!C$5,\"\",LEFT(A2101,1)&B2101&C2101)","v":"M1073"},0.72369004299999995]
["Male",10,74,0.71118725199999999,null,{"$f":"IF(C2102<'Gala Name'!C$5,\"\",LEFT(A2102,1)&B2102&C2102)","v":"M1074"},0.71118725199999999]
["Male",10,75,0.69857178499999995,null,{"$f":"IF(C2103<'Gala Name'!C$5,\"\",LEFT(A2103,1)&B2103&C2103)","v":"M1075"},0.69857178499999995]
["Male",10,76,0.68583936300000004,null,{"$f":"IF(C2104<'Gala Name'!C$5,\"\",LEFT(A2104,1)&B2104&C2104)","v":"M1076"},0.68583936300000004]
["Male",10,77,0.672965276,null,{"$f":"IF(C2105<'Gala Name'!C$5,\"\",LEFT(A2105,1)&B2105&C2105)","v":"M1077"},0.672965276]
["Male",10,78,0.65990048599999995,null,{"$f":"IF(C2106<'Gala Name'!C$5,\"\",LEFT(A2106,1)&B2106&C2106)","v":"M1078"},0.65990048599999995]
["Male",10,79,0.64656748100000005,null,{"$f":"IF(C2107<'Gala Name'!C$5,\"\",LEFT(A2107,1)&B2107&C2107)","v":"M1079"},0.64656748100000005]
["Male",10,80,0.63285590800000002,null,{"$f":"IF(C2108<'Gala Name'!C$5,\"\",LEFT(A2108,1)&B2108&C2108)","v":"M1080"},0.63285590800000002]
["Male",10,81,0.61861796999999996,null,{"$f":"IF(C2109<'Gala Name'!C$5,\"\",LEFT(A2109,1)&B2109&C2109)","v":"M1081"},0.61861796999999996]
["Male",10,82,0.603663591,null,{"$f":"IF(C2110<'Gala Name'!C$5,\"\",LEFT(A2110,1)&B2110&C2110)","v":"M1082"},0.603663591]
["Male",10,83,0.58775535300000004,null,{"$f":"IF(C2111<'Gala Name'!C$5,\"\",LEFT(A2111,1)&B2111&C2111)","v":"M1083"},0.58775535300000004]
["Male",10,84,0.57060319400000004,null,{"$f":"IF(C2112<'Gala Name'!C$5,\"\",LEFT(A2112,1)&B2112&C2112)","v":"M1084"},0.57060319400000004]
["Male",10,85,0.55185888299999997,null,{"$f":"IF(C2113<'Gala Name'!C$5,\"\",LEFT(A2113,1)&B2113&C2113)","v":"M1085"},0.55185888299999997]
["Male",10,86,0.531110254,null,{"$f":"IF(C2114<'Gala Name'!C$5,\"\",LEFT(A2114,1)&B2114&C2114)","v":"M1086"},0.531110254]
["Male",10,87,0.50787521400000002,null,{"$f":"IF(C2115<'Gala Name'!C$5,\"\",LEFT(A2115,1)&B2115&C2115)","v":"M1087"},{"$f":"D2115","v":0.50787521400000002}]
["Male",10,88,0.481595522,null,{"$f":"IF(C2116<'Gala Name'!C$5,\"\",LEFT(A2116,1)&B2116&C2116)","v":"M1088"},0.481595522]
["Male",10,89,0.451630325,null,{"$f":"IF(C2117<'Gala Name'!C$5,\"\",LEFT(A2117,1)&B2117&C2117)","v":"M1089"},0.451630325]
["Male",10,90,0.41724947600000001,null,{"$f":"IF(C2118<'Gala Name'!C$5,\"\",LEFT(A2118,1)&B2118&C2118)","v":"M1090"},0.41724947600000001]
["Male",10,91,0.37762660599999998,null,{"$f":"IF(C2119<'Gala Name'!C$5,\"\",LEFT(A2119,1)&B2119&C2119)","v":"M1091"},0.37762660599999998]
["Male",10,92,0.33183198000000003,null,{"$f":"IF(C2120<'Gala Name'!C$5,\"\",LEFT(A2120,1)&B2120&C2120)","v":"M1092"},0.33183198000000003]
["Male",10,93,0.27882510399999999,null,{"$f":"IF(C2121<'Gala Name'!C$5,\"\",LEFT(A2121,1)&B2121&C2121)","v":"M1093"},0.27882510399999999]
["Male",10,94,0.217447115,null,{"$f":"IF(C2122<'Gala Name'!C$5,\"\",LEFT(A2122,1)&B2122&C2122)","v":"M1094"},0.217447115]
["Male",10,95,0.146412932,null,{"$f":"IF(C2123<'Gala Name'!C$5,\"\",LEFT(A2123,1)&B2123&C2123)","v":"M1095"},0.146412932]
["Male",10,96,6.4303171000000006E-2,null,{"$f":"IF(C2124<'Gala Name'!C$5,\"\",LEFT(A2124,1)&B2124&C2124)","v":"M1096"},6.4303171000000006E-2]
["Male",10,97,-3.0444158999999998E-2,null,{"$f":"IF(C2125<'Gala Name'!C$5,\"\",LEFT(A2125,1)&B2125&C2125)","v":"M1097"},-3.0444158999999998E-2]
["Male",10,98,-0.139542206,null,{"$f":"IF(C2126<'Gala Name'!C$5,\"\",LEFT(A2126,1)&B2126&C2126)","v":"M1098"},-0.139542206]
["Male",10,99,-0.26486404800000002,null,{"$f":"IF(C2127<'Gala Name'!C$5,\"\",LEFT(A2127,1)&B2127&C2127)","v":"M1099"},-0.26486404800000002]
["Male",10,100,-0.40845169799999997,null,{"$f":"IF(C2128<'Gala Name'!C$5,\"\",LEFT(A2128,1)&B2128&C2128)","v":"M10100"},-0.40845169799999997]
["Male",11,25,1.0004803229999999,null,{"$f":"IF(C2129<'Gala Name'!C$5,\"\",LEFT(A2129,1)&B2129&C2129)","v":"M1125"},1.0004803229999999]
["Male",11,26,1.005807822,null,{"$f":"IF(C2130<'Gala Name'!C$5,\"\",LEFT(A2130,1)&B2130&C2130)","v":"M1126"},1.005807822]
["Male",11,27,1.008211849,null,{"$f":"IF(C2131<'Gala Name'!C$5,\"\",LEFT(A2131,1)&B2131&C2131)","v":"M1127"},1.008211849]
["Male",11,28,1.0082735110000001,null,{"$f":"IF(C2132<'Gala Name'!C$5,\"\",LEFT(A2132,1)&B2132&C2132)","v":"M1128"},1.0082735110000001]
["Male",11,29,1.006500312,null,{"$f":"IF(C2133<'Gala Name'!C$5,\"\",LEFT(A2133,1)&B2133&C2133)","v":"M1129"},1.006500312]
["Male",11,30,1.003331505,null,{"$f":"IF(C2134<'Gala Name'!C$5,\"\",LEFT(A2134,1)&B2134&C2134)","v":"M1130"},1.003331505]
["Male",11,31,0.999143263,null,{"$f":"IF(C2135<'Gala Name'!C$5,\"\",LEFT(A2135,1)&B2135&C2135)","v":"M1131"},0.999143263]
["Male",11,32,0.99425366800000003,null,{"$f":"IF(C2136<'Gala Name'!C$5,\"\",LEFT(A2136,1)&B2136&C2136)","v":"M1132"},0.99425366800000003]
["Male",11,33,0.98892753300000003,null,{"$f":"IF(C2137<'Gala Name'!C$5,\"\",LEFT(A2137,1)&B2137&C2137)","v":"M1133"},0.98892753300000003]
["Male",11,34,0.98338104000000004,null,{"$f":"IF(C2138<'Gala Name'!C$5,\"\",LEFT(A2138,1)&B2138&C2138)","v":"M1134"},0.98338104000000004]
["Male",11,35,0.97778620000000005,null,{"$f":"IF(C2139<'Gala Name'!C$5,\"\",LEFT(A2139,1)&B2139&C2139)","v":"M1135"},0.97778620000000005]
["Male",11,36,0.97227514400000004,null,{"$f":"IF(C2140<'Gala Name'!C$5,\"\",LEFT(A2140,1)&B2140&C2140)","v":"M1136"},0.97227514400000004]
["Male",11,37,0.96694422400000002,null,{"$f":"IF(C2141<'Gala Name'!C$5,\"\",LEFT(A2141,1)&B2141&C2141)","v":"M1137"},0.96694422400000002]
["Male",11,38,0.96185795100000004,null,{"$f":"IF(C2142<'Gala Name'!C$5,\"\",LEFT(A2142,1)&B2142&C2142)","v":"M1138"},0.96185795100000004]
["Male",11,39,0.95705274600000001,null,{"$f":"IF(C2143<'Gala Name'!C$5,\"\",LEFT(A2143,1)&B2143&C2143)","v":"M1139"},0.95705274600000001]
["Male",11,40,0.952540516,null,{"$f":"IF(C2144<'Gala Name'!C$5,\"\",LEFT(A2144,1)&B2144&C2144)","v":"M1140"},0.952540516]
["Male",11,41,0.94831205799999996,null,{"$f":"IF(C2145<'Gala Name'!C$5,\"\",LEFT(A2145,1)&B2145&C2145)","v":"M1141"},0.94831205799999996]
["Male",11,42,0.94434027799999998,null,{"$f":"IF(C2146<'Gala Name'!C$5,\"\",LEFT(A2146,1)&B2146&C2146)","v":"M1142"},0.94434027799999998]
["Male",11,43,0.94058323799999999,null,{"$f":"IF(C2147<'Gala Name'!C$5,\"\",LEFT(A2147,1)&B2147&C2147)","v":"M1143"},0.94058323799999999]
["Male",11,44,0.936987028,null,{"$f":"IF(C2148<'Gala Name'!C$5,\"\",LEFT(A2148,1)&B2148&C2148)","v":"M1144"},0.936987028]
["Male",11,45,0.93348845000000003,null,{"$f":"IF(C2149<'Gala Name'!C$5,\"\",LEFT(A2149,1)&B2149&C2149)","v":"M1145"},0.93348845000000003]
["Male",11,46,0.93001754299999995,null,{"$f":"IF(C2150<'Gala Name'!C$5,\"\",LEFT(A2150,1)&B2150&C2150)","v":"M1146"},0.93001754299999995]
["Male",11,47,0.92649991200000004,null,{"$f":"IF(C2151<'Gala Name'!C$5,\"\",LEFT(A2151,1)&B2151&C2151)","v":"M1147"},0.92649991200000004]
["Male",11,48,0.92285889300000001,null,{"$f":"IF(C2152<'Gala Name'!C$5,\"\",LEFT(A2152,1)&B2152&C2152)","v":"M1148"},0.92285889300000001]
["Male",11,49,0.919017533,null,{"$f":"IF(C2153<'Gala Name'!C$5,\"\",LEFT(A2153,1)&B2153&C2153)","v":"M1149"},0.919017533]
["Male",11,50,0.91490040100000003,null,{"$f":"IF(C2154<'Gala Name'!C$5,\"\",LEFT(A2154,1)&B2154&C2154)","v":"M1150"},0.91490040100000003]
["Male",11,51,0.91043521299999997,null,{"$f":"IF(C2155<'Gala Name'!C$5,\"\",LEFT(A2155,1)&B2155&C2155)","v":"M1151"},0.91043521299999997]
["Male",11,52,0.90555428599999999,null,{"$f":"IF(C2156<'Gala Name'!C$5,\"\",LEFT(A2156,1)&B2156&C2156)","v":"M1152"},0.90555428599999999]
["Male",11,53,0.90019581100000001,null,{"$f":"IF(C2157<'Gala Name'!C$5,\"\",LEFT(A2157,1)&B2157&C2157)","v":"M1153"},0.90019581100000001]
["Male",11,54,0.89430495700000001,null,{"$f":"IF(C2158<'Gala Name'!C$5,\"\",LEFT(A2158,1)&B2158&C2158)","v":"M1154"},0.89430495700000001]
["Male",11,55,0.88783478299999996,null,{"$f":"IF(C2159<'Gala Name'!C$5,\"\",LEFT(A2159,1)&B2159&C2159)","v":"M1155"},0.88783478299999996]
["Male",11,56,0.88074698900000004,null,{"$f":"IF(C2160<'Gala Name'!C$5,\"\",LEFT(A2160,1)&B2160&C2160)","v":"M1156"},0.88074698900000004]
["Male",11,57,0.87301247999999998,null,{"$f":"IF(C2161<'Gala Name'!C$5,\"\",LEFT(A2161,1)&B2161&C2161)","v":"M1157"},0.87301247999999998]
["Male",11,58,0.86461175499999998,null,{"$f":"IF(C2162<'Gala Name'!C$5,\"\",LEFT(A2162,1)&B2162&C2162)","v":"M1158"},0.86461175499999998]
["Male",11,59,0.85553512099999995,null,{"$f":"IF(C2163<'Gala Name'!C$5,\"\",LEFT(A2163,1)&B2163&C2163)","v":"M1159"},0.85553512099999995]
["Male",11,60,0.84578272799999998,null,{"$f":"IF(C2164<'Gala Name'!C$5,\"\",LEFT(A2164,1)&B2164&C2164)","v":"M1160"},0.84578272799999998]
["Male",11,61,0.83536442600000005,null,{"$f":"IF(C2165<'Gala Name'!C$5,\"\",LEFT(A2165,1)&B2165&C2165)","v":"M1161"},0.83536442600000005]
["Male",11,62,0.82429944799999999,null,{"$f":"IF(C2166<'Gala Name'!C$5,\"\",LEFT(A2166,1)&B2166&C2166)","v":"M1162"},0.82429944799999999]
["Male",11,63,0.81261591700000002,null,{"$f":"IF(C2167<'Gala Name'!C$5,\"\",LEFT(A2167,1)&B2167&C2167)","v":"M1163"},0.81261591700000002]
["Male",11,64,0.800350165,null,{"$f":"IF(C2168<'Gala Name'!C$5,\"\",LEFT(A2168,1)&B2168&C2168)","v":"M1164"},0.800350165]
["Male",11,65,0.78754589100000005,null,{"$f":"IF(C2169<'Gala Name'!C$5,\"\",LEFT(A2169,1)&B2169&C2169)","v":"M1165"},0.78754589100000005]
["Male",11,66,0.77425313100000004,null,{"$f":"IF(C2170<'Gala Name'!C$5,\"\",LEFT(A2170,1)&B2170&C2170)","v":"M1166"},0.77425313100000004]
["Male",11,67,0.76052705399999998,null,{"$f":"IF(C2171<'Gala Name'!C$5,\"\",LEFT(A2171,1)&B2171&C2171)","v":"M1167"},0.76052705399999998]
["Male",11,68,0.74642657899999998,null,{"$f":"IF(C2172<'Gala Name'!C$5,\"\",LEFT(A2172,1)&B2172&C2172)","v":"M1168"},0.74642657899999998]
["Male",11,69,0.73201282000000001,null,{"$f":"IF(C2173<'Gala Name'!C$5,\"\",LEFT(A2173,1)&B2173&C2173)","v":"M1169"},0.73201282000000001]
["Male",11,70,0.71734735100000002,null,{"$f":"IF(C2174<'Gala Name'!C$5,\"\",LEFT(A2174,1)&B2174&C2174)","v":"M1170"},0.71734735100000002]
["Male",11,71,0.70249028800000002,null,{"$f":"IF(C2175<'Gala Name'!C$5,\"\",LEFT(A2175,1)&B2175&C2175)","v":"M1171"},0.70249028800000002]
["Male",11,72,0.68749820699999997,null,{"$f":"IF(C2176<'Gala Name'!C$5,\"\",LEFT(A2176,1)&B2176&C2176)","v":"M1172"},0.68749820699999997]
["Male",11,73,0.67242187099999995,null,{"$f":"IF(C2177<'Gala Name'!C$5,\"\",LEFT(A2177,1)&B2177&C2177)","v":"M1173"},0.67242187099999995]
["Male",11,74,0.65730379000000005,null,{"$f":"IF(C2178<'Gala Name'!C$5,\"\",LEFT(A2178,1)&B2178&C2178)","v":"M1174"},0.65730379000000005]
["Male",11,75,0.64217560100000004,null,{"$f":"IF(C2179<'Gala Name'!C$5,\"\",LEFT(A2179,1)&B2179&C2179)","v":"M1175"},{"$f":"D2179","v":0.64217560100000004}]
["Male",11,76,0.62705526700000003,null,{"$f":"IF(C2180<'Gala Name'!C$5,\"\",LEFT(A2180,1)&B2180&C2180)","v":"M1176"},0.62705526700000003]
["Male",11,77,0.61194410200000005,null,{"$f":"IF(C2181<'Gala Name'!C$5,\"\",LEFT(A2181,1)&B2181&C2181)","v":"M1177"},0.61194410200000005]
["Male",11,78,0.596823624,null,{"$f":"IF(C2182<'Gala Name'!C$5,\"\",LEFT(A2182,1)&B2182&C2182)","v":"M1178"},0.596823624]
["Male",11,79,0.58165222100000002,null,{"$f":"IF(C2183<'Gala Name'!C$5,\"\",LEFT(A2183,1)&B2183&C2183)","v":"M1179"},0.58165222100000002]
["Male",11,80,0.56636164600000005,null,{"$f":"IF(C2184<'Gala Name'!C$5,\"\",LEFT(A2184,1)&B2184&C2184)","v":"M1180"},0.56636164600000005]
["Male",11,81,0.550853335,null,{"$f":"IF(C2185<'Gala Name'!C$5,\"\",LEFT(A2185,1)&B2185&C2185)","v":"M1181"},0.550853335]
["Male",11,82,0.53499454599999996,null,{"$f":"IF(C2186<'Gala Name'!C$5,\"\",LEFT(A2186,1)&B2186&C2186)","v":"M1182"},0.53499454599999996]
["Male",11,83,0.51861431999999996,null,{"$f":"IF(C2187<'Gala Name'!C$5,\"\",LEFT(A2187,1)&B2187&C2187)","v":"M1183"},0.51861431999999996]
["Male",11,84,0.50149927000000005,null,{"$f":"IF(C2188<'Gala Name'!C$5,\"\",LEFT(A2188,1)&B2188&C2188)","v":"M1184"},0.50149927000000005]
["Male",11,85,0.48338918600000003,null,{"$f":"IF(C2189<'Gala Name'!C$5,\"\",LEFT(A2189,1)&B2189&C2189)","v":"M1185"},0.48338918600000003]
["Male",11,86,0.463972469,null,{"$f":"IF(C2190<'Gala Name'!C$5,\"\",LEFT(A2190,1)&B2190&C2190)","v":"M1186"},0.463972469]
["Male",11,87,0.44288138300000002,null,{"$f":"IF(C2191<'Gala Name'!C$5,\"\",LEFT(A2191,1)&B2191&C2191)","v":"M1187"},0.44288138300000002]
["Male",11,88,0.41968713499999999,null,{"$f":"IF(C2192<'Gala Name'!C$5,\"\",LEFT(A2192,1)&B2192&C2192)","v":"M1188"},0.41968713499999999]
["Male",11,89,0.39389477000000001,null,{"$f":"IF(C2193<'Gala Name'!C$5,\"\",LEFT(A2193,1)&B2193&C2193)","v":"M1189"},0.39389477000000001]
["Male",11,90,0.36493790199999998,null,{"$f":"IF(C2194<'Gala Name'!C$5,\"\",LEFT(A2194,1)&B2194&C2194)","v":"M1190"},0.36493790199999998]
["Male",11,91,0.33217325199999997,null,{"$f":"IF(C2195<'Gala Name'!C$5,\"\",LEFT(A2195,1)&B2195&C2195)","v":"M1191"},0.33217325199999997]
["Male",11,92,0.29487502100000001,null,{"$f":"IF(C2196<'Gala Name'!C$5,\"\",LEFT(A2196,1)&B2196&C2196)","v":"M1192"},0.29487502100000001]
["Male",11,93,0.25222908199999999,null,{"$f":"IF(C2197<'Gala Name'!C$5,\"\",LEFT(A2197,1)&B2197&C2197)","v":"M1193"},0.25222908199999999]
["Male",11,94,0.20332699400000001,null,{"$f":"IF(C2198<'Gala Name'!C$5,\"\",LEFT(A2198,1)&B2198&C2198)","v":"M1194"},0.20332699400000001]
["Male",11,95,0.14715983599999999,null,{"$f":"IF(C2199<'Gala Name'!C$5,\"\",LEFT(A2199,1)&B2199&C2199)","v":"M1195"},0.14715983599999999]
["Male",11,96,8.2611876000000001E-2,null,{"$f":"IF(C2200<'Gala Name'!C$5,\"\",LEFT(A2200,1)&B2200&C2200)","v":"M1196"},8.2611876000000001E-2]
["Male",11,97,8.4540459999999998E-3,null,{"$f":"IF(C2201<'Gala Name'!C$5,\"\",LEFT(A2201,1)&B2201&C2201)","v":"M1197"},8.4540459999999998E-3]
["Male",11,98,-7.6662747000000003E-2,null,{"$f":"IF(C2202<'Gala Name'!C$5,\"\",LEFT(A2202,1)&B2202&C2202)","v":"M1198"},-7.6662747000000003E-2]
["Male",11,99,-0.174214495,null,{"$f":"IF(C2203<'Gala Name'!C$5,\"\",LEFT(A2203,1)&B2203&C2203)","v":"M1199"},-0.174214495]
["Male",11,100,-0.285811131,null,{"$f":"IF(C2204<'Gala Name'!C$5,\"\",LEFT(A2204,1)&B2204&C2204)","v":"M11100"},-0.285811131]
["Male",12,25,1.0008389090000001,null,{"$f":"IF(C2205<'Gala Name'!C$5,\"\",LEFT(A2205,1)&B2205&C2205)","v":"M1225"},1.0008389090000001]
["Male",12,26,1.009634667,null,{"$f":"IF(C2206<'Gala Name'!C$5,\"\",LEFT(A2206,1)&B2206&C2206)","v":"M1226"},1.009634667]
["Male",12,27,1.014496015,null,{"$f":"IF(C2207<'Gala Name'!C$5,\"\",LEFT(A2207,1)&B2207&C2207)","v":"M1227"},1.014496015]
["Male",12,28,1.0162378519999999,null,{"$f":"IF(C2208<'Gala Name'!C$5,\"\",LEFT(A2208,1)&B2208&C2208)","v":"M1228"},1.0162378519999999]
["Male",12,29,1.0155631009999999,null,{"$f":"IF(C2209<'Gala Name'!C$5,\"\",LEFT(A2209,1)&B2209&C2209)","v":"M1229"},1.0155631009999999]
["Male",12,30,1.0130716559999999,null,{"$f":"IF(C2210<'Gala Name'!C$5,\"\",LEFT(A2210,1)&B2210&C2210)","v":"M1230"},1.0130716559999999]
["Male",12,31,1.0092690049999999,null,{"$f":"IF(C2211<'Gala Name'!C$5,\"\",LEFT(A2211,1)&B2211&C2211)","v":"M1231"},1.0092690049999999]
["Male",12,32,1.0045745340000001,null,{"$f":"IF(C2212<'Gala Name'!C$5,\"\",LEFT(A2212,1)&B2212&C2212)","v":"M1232"},1.0045745340000001]
["Male",12,33,0.99932950300000001,null,{"$f":"IF(C2213<'Gala Name'!C$5,\"\",LEFT(A2213,1)&B2213&C2213)","v":"M1233"},0.99932950300000001]
["Male",12,34,0.99380469800000004,null,{"$f":"IF(C2214<'Gala Name'!C$5,\"\",LEFT(A2214,1)&B2214&C2214)","v":"M1234"},0.99380469800000004]
["Male",12,35,0.98820776700000001,null,{"$f":"IF(C2215<'Gala Name'!C$5,\"\",LEFT(A2215,1)&B2215&C2215)","v":"M1235"},0.98820776700000001]
["Male",12,36,0.98269021999999995,null,{"$f":"IF(C2216<'Gala Name'!C$5,\"\",LEFT(A2216,1)&B2216&C2216)","v":"M1236"},0.98269021999999995]
["Male",12,37,0.97735411800000005,null,{"$f":"IF(C2217<'Gala Name'!C$5,\"\",LEFT(A2217,1)&B2217&C2217)","v":"M1237"},0.97735411800000005]
["Male",12,38,0.97225842799999995,null,{"$f":"IF(C2218<'Gala Name'!C$5,\"\",LEFT(A2218,1)&B2218&C2218)","v":"M1238"},0.97225842799999995]
["Male",12,39,0.967425066,null,{"$f":"IF(C2219<'Gala Name'!C$5,\"\",LEFT(A2219,1)&B2219&C2219)","v":"M1239"},0.967425066]
["Male",12,40,0.96284460199999999,null,{"$f":"IF(C2220<'Gala Name'!C$5,\"\",LEFT(A2220,1)&B2220&C2220)","v":"M1240"},0.96284460199999999]
["Male",12,41,0.95848165699999999,null,{"$f":"IF(C2221<'Gala Name'!C$5,\"\",LEFT(A2221,1)&B2221&C2221)","v":"M1241"},0.95848165699999999]
["Male",12,42,0.95427996100000001,null,{"$f":"IF(C2222<'Gala Name'!C$5,\"\",LEFT(A2222,1)&B2222&C2222)","v":"M1242"},0.95427996100000001]
["Male",12,43,0.95016710400000004,null,{"$f":"IF(C2223<'Gala Name'!C$5,\"\",LEFT(A2223,1)&B2223&C2223)","v":"M1243"},0.95016710400000004]
["Male",12,44,0.94605894599999996,null,{"$f":"IF(C2224<'Gala Name'!C$5,\"\",LEFT(A2224,1)&B2224&C2224)","v":"M1244"},0.94605894599999996]
["Male",12,45,0.94186371999999996,null,{"$f":"IF(C2225<'Gala Name'!C$5,\"\",LEFT(A2225,1)&B2225&C2225)","v":"M1245"},0.94186371999999996]
["Male",12,46,0.93748579700000001,null,{"$f":"IF(C2226<'Gala Name'!C$5,\"\",LEFT(A2226,1)&B2226&C2226)","v":"M1246"},0.93748579700000001]
["Male",12,47,0.93282913999999995,null,{"$f":"IF(C2227<'Gala Name'!C$5,\"\",LEFT(A2227,1)&B2227&C2227)","v":"M1247"},0.93282913999999995]
["Male",12,48,0.92780042600000001,null,{"$f":"IF(C2228<'Gala Name'!C$5,\"\",LEFT(A2228,1)&B2228&C2228)","v":"M1248"},0.92780042600000001]
["Male",12,49,0.92231184499999996,null,{"$f":"IF(C2229<'Gala Name'!C$5,\"\",LEFT(A2229,1)&B2229&C2229)","v":"M1249"},0.92231184499999996]
["Male",12,50,0.91628358399999998,null,{"$f":"IF(C2230<'Gala Name'!C$5,\"\",LEFT(A2230,1)&B2230&C2230)","v":"M1250"},0.91628358399999998]
["Male",12,51,0.90964597300000005,null,{"$f":"IF(C2231<'Gala Name'!C$5,\"\",LEFT(A2231,1)&B2231&C2231)","v":"M1251"},0.90964597300000005]
["Male",12,52,0.90234132300000003,null,{"$f":"IF(C2232<'Gala Name'!C$5,\"\",LEFT(A2232,1)&B2232&C2232)","v":"M1252"},0.90234132300000003]
["Male",12,53,0.89432542900000001,null,{"$f":"IF(C2233<'Gala Name'!C$5,\"\",LEFT(A2233,1)&B2233&C2233)","v":"M1253"},0.89432542900000001]
["Male",12,54,0.88556875499999999,null,{"$f":"IF(C2234<'Gala Name'!C$5,\"\",LEFT(A2234,1)&B2234&C2234)","v":"M1254"},0.88556875499999999]
["Male",12,55,0.87605729099999996,null,{"$f":"IF(C2235<'Gala Name'!C$5,\"\",LEFT(A2235,1)&B2235&C2235)","v":"M1255"},0.87605729099999996]
["Male",12,56,0.86579309599999998,null,{"$f":"IF(C2236<'Gala Name'!C$5,\"\",LEFT(A2236,1)&B2236&C2236)","v":"M1256"},0.86579309599999998]
["Male",12,57,0.85479450599999995,null,{"$f":"IF(C2237<'Gala Name'!C$5,\"\",LEFT(A2237,1)&B2237&C2237)","v":"M1257"},0.85479450599999995]
["Male",12,58,0.84309602299999997,null,{"$f":"IF(C2238<'Gala Name'!C$5,\"\",LEFT(A2238,1)&B2238&C2238)","v":"M1258"},0.84309602299999997]
["Male",12,59,0.83074788600000005,null,{"$f":"IF(C2239<'Gala Name'!C$5,\"\",LEFT(A2239,1)&B2239&C2239)","v":"M1259"},0.83074788600000005]
["Male",12,60,0.81781530700000005,null,{"$f":"IF(C2240<'Gala Name'!C$5,\"\",LEFT(A2240,1)&B2240&C2240)","v":"M1260"},0.81781530700000005]
["Male",12,61,0.80437739600000002,null,{"$f":"IF(C2241<'Gala Name'!C$5,\"\",LEFT(A2241,1)&B2241&C2241)","v":"M1261"},0.80437739600000002]
["Male",12,62,0.790525751,null,{"$f":"IF(C2242<'Gala Name'!C$5,\"\",LEFT(A2242,1)&B2242&C2242)","v":"M1262"},0.790525751]
["Male",12,63,0.77636273600000005,null,{"$f":"IF(C2243<'Gala Name'!C$5,\"\",LEFT(A2243,1)&B2243&C2243)","v":"M1263"},{"$f":"D2243","v":0.77636273600000005}]
["Male",12,64,0.76199942200000004,null,{"$f":"IF(C2244<'Gala Name'!C$5,\"\",LEFT(A2244,1)&B2244&C2244)","v":"M1264"},0.76199942200000004]
["Male",12,65,0.74755322000000002,null,{"$f":"IF(C2245<'Gala Name'!C$5,\"\",LEFT(A2245,1)&B2245&C2245)","v":"M1265"},0.74755322000000002]
["Male",12,66,0.73314517599999995,null,{"$f":"IF(C2246<'Gala Name'!C$5,\"\",LEFT(A2246,1)&B2246&C2246)","v":"M1266"},0.73314517599999995]
["Male",12,67,0.71889695099999995,null,{"$f":"IF(C2247<'Gala Name'!C$5,\"\",LEFT(A2247,1)&B2247&C2247)","v":"M1267"},0.71889695099999995]
["Male",12,68,0.70492747700000002,null,{"$f":"IF(C2248<'Gala Name'!C$5,\"\",LEFT(A2248,1)&B2248&C2248)","v":"M1268"},0.70492747700000002]
["Male",12,69,0.69134928399999995,null,{"$f":"IF(C2249<'Gala Name'!C$5,\"\",LEFT(A2249,1)&B2249&C2249)","v":"M1269"},0.69134928399999995]
["Male",12,70,0.67826451200000004,null,{"$f":"IF(C2250<'Gala Name'!C$5,\"\",LEFT(A2250,1)&B2250&C2250)","v":"M1270"},0.67826451200000004]
["Male",12,71,0.66576059099999996,null,{"$f":"IF(C2251<'Gala Name'!C$5,\"\",LEFT(A2251,1)&B2251&C2251)","v":"M1271"},0.66576059099999996]
["Male",12,72,0.65390560200000003,null,{"$f":"IF(C2252<'Gala Name'!C$5,\"\",LEFT(A2252,1)&B2252&C2252)","v":"M1272"},0.65390560200000003]
["Male",12,73,0.64274331799999995,null,{"$f":"IF(C2253<'Gala Name'!C$5,\"\",LEFT(A2253,1)&B2253&C2253)","v":"M1273"},0.64274331799999995]
["Male",12,74,0.63228790800000001,null,{"$f":"IF(C2254<'Gala Name'!C$5,\"\",LEFT(A2254,1)&B2254&C2254)","v":"M1274"},0.63228790800000001]
["Male",12,75,0.62251833700000003,null,{"$f":"IF(C2255<'Gala Name'!C$5,\"\",LEFT(A2255,1)&B2255&C2255)","v":"M1275"},0.62251833700000003]
["Male",12,76,0.613372425,null,{"$f":"IF(C2256<'Gala Name'!C$5,\"\",LEFT(A2256,1)&B2256&C2256)","v":"M1276"},0.613372425]
["Male",12,77,0.60474059300000005,null,{"$f":"IF(C2257<'Gala Name'!C$5,\"\",LEFT(A2257,1)&B2257&C2257)","v":"M1277"},0.60474059300000005]
["Male",12,78,0.59645928199999998,null,{"$f":"IF(C2258<'Gala Name'!C$5,\"\",LEFT(A2258,1)&B2258&C2258)","v":"M1278"},0.59645928199999998]
["Male",12,79,0.588304045,null,{"$f":"IF(C2259<'Gala Name'!C$5,\"\",LEFT(A2259,1)&B2259&C2259)","v":"M1279"},0.588304045]
["Male",12,80,0.57998232599999999,null,{"$f":"IF(C2260<'Gala Name'!C$5,\"\",LEFT(A2260,1)&B2260&C2260)","v":"M1280"},0.57998232599999999]
["Male",12,81,0.57112590100000005,null,{"$f":"IF(C2261<'Gala Name'!C$5,\"\",LEFT(A2261,1)&B2261&C2261)","v":"M1281"},0.57112590100000005]
["Male",12,82,0.56128301000000003,null,{"$f":"IF(C2262<'Gala Name'!C$5,\"\",LEFT(A2262,1)&B2262&C2262)","v":"M1282"},0.56128301000000003]
["Male",12,83,0.54991015200000004,null,{"$f":"IF(C2263<'Gala Name'!C$5,\"\",LEFT(A2263,1)&B2263&C2263)","v":"M1283"},0.54991015200000004]
["Male",12,84,0.53636356900000004,null,{"$f":"IF(C2264<'Gala Name'!C$5,\"\",LEFT(A2264,1)&B2264&C2264)","v":"M1284"},0.53636356900000004]
["Male",12,85,0.51989039599999998,null,{"$f":"IF(C2265<'Gala Name'!C$5,\"\",LEFT(A2265,1)&B2265&C2265)","v":"M1285"},0.51989039599999998]
["Male",12,86,0.49961949300000003,null,{"$f":"IF(C2266<'Gala Name'!C$5,\"\",LEFT(A2266,1)&B2266&C2266)","v":"M1286"},0.49961949300000003]
["Male",12,87,0.474551956,null,{"$f":"IF(C2267<'Gala Name'!C$5,\"\",LEFT(A2267,1)&B2267&C2267)","v":"M1287"},0.474551956]
["Male",12,88,0.44355129700000001,null,{"$f":"IF(C2268<'Gala Name'!C$5,\"\",LEFT(A2268,1)&B2268&C2268)","v":"M1288"},0.44355129700000001]
["Male",12,89,0.40533330299999998,null,{"$f":"IF(C2269<'Gala Name'!C$5,\"\",LEFT(A2269,1)&B2269&C2269)","v":"M1289"},0.40533330299999998]
["Male",12,90,0.35845558,null,{"$f":"IF(C2270<'Gala Name'!C$5,\"\",LEFT(A2270,1)&B2270&C2270)","v":"M1290"},0.35845558]
["Male",12,91,0.30130675899999998,null,{"$f":"IF(C2271<'Gala Name'!C$5,\"\",LEFT(A2271,1)&B2271&C2271)","v":"M1291"},0.30130675899999998]
["Male",12,92,0.23209538800000001,null,{"$f":"IF(C2272<'Gala Name'!C$5,\"\",LEFT(A2272,1)&B2272&C2272)","v":"M1292"},0.23209538800000001]
["Male",12,93,0.14883850300000001,null,{"$f":"IF(C2273<'Gala Name'!C$5,\"\",LEFT(A2273,1)&B2273&C2273)","v":"M1293"},0.14883850300000001]
["Male",12,94,4.9349862000000001E-2,null,{"$f":"IF(C2274<'Gala Name'!C$5,\"\",LEFT(A2274,1)&B2274&C2274)","v":"M1294"},4.9349862000000001E-2]
["Male",12,95,-6.8772127000000002E-2,null,{"$f":"IF(C2275<'Gala Name'!C$5,\"\",LEFT(A2275,1)&B2275&C2275)","v":"M1295"},-6.8772127000000002E-2]
["Male",12,96,-0.208156814,null,{"$f":"IF(C2276<'Gala Name'!C$5,\"\",LEFT(A2276,1)&B2276&C2276)","v":"M1296"},-0.208156814]
["Male",12,97,-0.37167403700000001,null,{"$f":"IF(C2277<'Gala Name'!C$5,\"\",LEFT(A2277,1)&B2277&C2277)","v":"M1297"},-0.37167403700000001]
["Male",12,98,-0.56244717,null,{"$f":"IF(C2278<'Gala Name'!C$5,\"\",LEFT(A2278,1)&B2278&C2278)","v":"M1298"},-0.56244717]
["Male",12,99,-0.783866497,null,{"$f":"IF(C2279<'Gala Name'!C$5,\"\",LEFT(A2279,1)&B2279&C2279)","v":"M1299"},-0.783866497]
["Male",12,100,-1.039602913,null,{"$f":"IF(C2280<'Gala Name'!C$5,\"\",LEFT(A2280,1)&B2280&C2280)","v":"M12100"},-1.039602913]
["Male",13,25,1.0016881070000001,null,{"$f":"IF(C2281<'Gala Name'!C$5,\"\",LEFT(A2281,1)&B2281&C2281)","v":"M1325"},1.0016881070000001]
["Male",13,26,1.002191134,null,{"$f":"IF(C2282<'Gala Name'!C$5,\"\",LEFT(A2282,1)&B2282&C2282)","v":"M1326"},1.002191134]
["Male",13,27,1.002325997,null,{"$f":"IF(C2283<'Gala Name'!C$5,\"\",LEFT(A2283,1)&B2283&C2283)","v":"M1327"},1.002325997]
["Male",13,28,1.0020651840000001,null,{"$f":"IF(C2284<'Gala Name'!C$5,\"\",LEFT(A2284,1)&B2284&C2284)","v":"M1328"},1.0020651840000001]
["Male",13,29,1.00138767,null,{"$f":"IF(C2285<'Gala Name'!C$5,\"\",LEFT(A2285,1)&B2285&C2285)","v":"M1329"},1.00138767]
["Male",13,30,1.000278432,null,{"$f":"IF(C2286<'Gala Name'!C$5,\"\",LEFT(A2286,1)&B2286&C2286)","v":"M1330"},1.000278432]
["Male",13,31,0.99872797499999999,null,{"$f":"IF(C2287<'Gala Name'!C$5,\"\",LEFT(A2287,1)&B2287&C2287)","v":"M1331"},0.99872797499999999]
["Male",13,32,0.99673188000000001,null,{"$f":"IF(C2288<'Gala Name'!C$5,\"\",LEFT(A2288,1)&B2288&C2288)","v":"M1332"},0.99673188000000001]
["Male",13,33,0.99429035700000001,null,{"$f":"IF(C2289<'Gala Name'!C$5,\"\",LEFT(A2289,1)&B2289&C2289)","v":"M1333"},0.99429035700000001]
["Male",13,34,0.99140781200000005,null,{"$f":"IF(C2290<'Gala Name'!C$5,\"\",LEFT(A2290,1)&B2290&C2290)","v":"M1334"},0.99140781200000005]
["Male",13,35,0.988092423,null,{"$f":"IF(C2291<'Gala Name'!C$5,\"\",LEFT(A2291,1)&B2291&C2291)","v":"M1335"},0.988092423]
["Male",13,36,0.98435574299999995,null,{"$f":"IF(C2292<'Gala Name'!C$5,\"\",LEFT(A2292,1)&B2292&C2292)","v":"M1336"},0.98435574299999995]
["Male",13,37,0.98021229300000001,null,{"$f":"IF(C2293<'Gala Name'!C$5,\"\",LEFT(A2293,1)&B2293&C2293)","v":"M1337"},0.98021229300000001]
["Male",13,38,0.97567918799999998,null,{"$f":"IF(C2294<'Gala Name'!C$5,\"\",LEFT(A2294,1)&B2294&C2294)","v":"M1338"},0.97567918799999998]
["Male",13,39,0.97077576499999996,null,{"$f":"IF(C2295<'Gala Name'!C$5,\"\",LEFT(A2295,1)&B2295&C2295)","v":"M1339"},0.97077576499999996]
["Male",13,40,0.96552322599999996,null,{"$f":"IF(C2296<'Gala Name'!C$5,\"\",LEFT(A2296,1)&B2296&C2296)","v":"M1340"},0.96552322599999996]
["Male",13,41,0.95994429100000001,null,{"$f":"IF(C2297<'Gala Name'!C$5,\"\",LEFT(A2297,1)&B2297&C2297)","v":"M1341"},0.95994429100000001]
["Male",13,42,0.95406287000000001,null,{"$f":"IF(C2298<'Gala Name'!C$5,\"\",LEFT(A2298,1)&B2298&C2298)","v":"M1342"},0.95406287000000001]
["Male",13,43,0.94790374200000005,null,{"$f":"IF(C2299<'Gala Name'!C$5,\"\",LEFT(A2299,1)&B2299&C2299)","v":"M1343"},0.94790374200000005]
["Male",13,44,0.94149224799999998,null,{"$f":"IF(C2300<'Gala Name'!C$5,\"\",LEFT(A2300,1)&B2300&C2300)","v":"M1344"},0.94149224799999998]
["Male",13,45,0.93485399499999999,null,{"$f":"IF(C2301<'Gala Name'!C$5,\"\",LEFT(A2301,1)&B2301&C2301)","v":"M1345"},0.93485399499999999]
["Male",13,46,0.92801457899999995,null,{"$f":"IF(C2302<'Gala Name'!C$5,\"\",LEFT(A2302,1)&B2302&C2302)","v":"M1346"},0.92801457899999995]
["Male",13,47,0.92099931000000002,null,{"$f":"IF(C2303<'Gala Name'!C$5,\"\",LEFT(A2303,1)&B2303&C2303)","v":"M1347"},0.92099931000000002]
["Male",13,48,0.91383296300000005,null,{"$f":"IF(C2304<'Gala Name'!C$5,\"\",LEFT(A2304,1)&B2304&C2304)","v":"M1348"},0.91383296300000005]
["Male",13,49,0.90653952500000001,null,{"$f":"IF(C2305<'Gala Name'!C$5,\"\",LEFT(A2305,1)&B2305&C2305)","v":"M1349"},0.90653952500000001]
["Male",13,50,0.89914197299999998,null,{"$f":"IF(C2306<'Gala Name'!C$5,\"\",LEFT(A2306,1)&B2306&C2306)","v":"M1350"},0.89914197299999998]
["Male",13,51,0.89166204599999999,null,{"$f":"IF(C2307<'Gala Name'!C$5,\"\",LEFT(A2307,1)&B2307&C2307)","v":"M1351"},{"$f":"D2307","v":0.89166204599999999}]
["Male",13,52,0.88412004799999999,null,{"$f":"IF(C2308<'Gala Name'!C$5,\"\",LEFT(A2308,1)&B2308&C2308)","v":"M1352"},0.88412004799999999]
["Male",13,53,0.87653464800000003,null,{"$f":"IF(C2309<'Gala Name'!C$5,\"\",LEFT(A2309,1)&B2309&C2309)","v":"M1353"},0.87653464800000003]
["Male",13,54,0.86892269899999997,null,{"$f":"IF(C2310<'Gala Name'!C$5,\"\",LEFT(A2310,1)&B2310&C2310)","v":"M1354"},0.86892269899999997]
["Male",13,55,0.86129907500000003,null,{"$f":"IF(C2311<'Gala Name'!C$5,\"\",LEFT(A2311,1)&B2311&C2311)","v":"M1355"},0.86129907500000003]
["Male",13,56,0.85367650900000003,null,{"$f":"IF(C2312<'Gala Name'!C$5,\"\",LEFT(A2312,1)&B2312&C2312)","v":"M1356"},0.85367650900000003]
["Male",13,57,0.84606545300000002,null,{"$f":"IF(C2313<'Gala Name'!C$5,\"\",LEFT(A2313,1)&B2313&C2313)","v":"M1357"},0.84606545300000002]
["Male",13,58,0.83847394900000005,null,{"$f":"IF(C2314<'Gala Name'!C$5,\"\",LEFT(A2314,1)&B2314&C2314)","v":"M1358"},0.83847394900000005]
["Male",13,59,0.83090750400000002,null,{"$f":"IF(C2315<'Gala Name'!C$5,\"\",LEFT(A2315,1)&B2315&C2315)","v":"M1359"},0.83090750400000002]
["Male",13,60,0.82336899200000002,null,{"$f":"IF(C2316<'Gala Name'!C$5,\"\",LEFT(A2316,1)&B2316&C2316)","v":"M1360"},0.82336899200000002]
["Male",13,61,0.81585855799999996,null,{"$f":"IF(C2317<'Gala Name'!C$5,\"\",LEFT(A2317,1)&B2317&C2317)","v":"M1361"},0.81585855799999996]
["Male",13,62,0.80837353599999995,null,{"$f":"IF(C2318<'Gala Name'!C$5,\"\",LEFT(A2318,1)&B2318&C2318)","v":"M1362"},0.80837353599999995]
["Male",13,63,0.800908383,null,{"$f":"IF(C2319<'Gala Name'!C$5,\"\",LEFT(A2319,1)&B2319&C2319)","v":"M1363"},0.800908383]
["Male",13,64,0.79345462499999997,null,{"$f":"IF(C2320<'Gala Name'!C$5,\"\",LEFT(A2320,1)&B2320&C2320)","v":"M1364"},0.79345462499999997]
["Male",13,65,0.78600081099999997,null,{"$f":"IF(C2321<'Gala Name'!C$5,\"\",LEFT(A2321,1)&B2321&C2321)","v":"M1365"},0.78600081099999997]
["Male",13,66,0.77853248600000002,null,{"$f":"IF(C2322<'Gala Name'!C$5,\"\",LEFT(A2322,1)&B2322&C2322)","v":"M1366"},0.77853248600000002]
["Male",13,67,0.77103217099999999,null,{"$f":"IF(C2323<'Gala Name'!C$5,\"\",LEFT(A2323,1)&B2323&C2323)","v":"M1367"},0.77103217099999999]
["Male",13,68,0.76347936000000005,null,{"$f":"IF(C2324<'Gala Name'!C$5,\"\",LEFT(A2324,1)&B2324&C2324)","v":"M1368"},0.76347936000000005]
["Male",13,69,0.75585052600000002,null,{"$f":"IF(C2325<'Gala Name'!C$5,\"\",LEFT(A2325,1)&B2325&C2325)","v":"M1369"},0.75585052600000002]
["Male",13,70,0.74811914400000001,null,{"$f":"IF(C2326<'Gala Name'!C$5,\"\",LEFT(A2326,1)&B2326&C2326)","v":"M1370"},0.74811914400000001]
["Male",13,71,0.74025571999999995,null,{"$f":"IF(C2327<'Gala Name'!C$5,\"\",LEFT(A2327,1)&B2327&C2327)","v":"M1371"},0.74025571999999995]
["Male",13,72,0.73222783899999999,null,{"$f":"IF(C2328<'Gala Name'!C$5,\"\",LEFT(A2328,1)&B2328&C2328)","v":"M1372"},0.73222783899999999]
["Male",13,73,0.72400022100000005,null,{"$f":"IF(C2329<'Gala Name'!C$5,\"\",LEFT(A2329,1)&B2329&C2329)","v":"M1373"},0.72400022100000005]
["Male",13,74,0.71553479499999995,null,{"$f":"IF(C2330<'Gala Name'!C$5,\"\",LEFT(A2330,1)&B2330&C2330)","v":"M1374"},0.71553479499999995]
["Male",13,75,0.70679077800000001,null,{"$f":"IF(C2331<'Gala Name'!C$5,\"\",LEFT(A2331,1)&B2331&C2331)","v":"M1375"},0.70679077800000001]
["Male",13,76,0.69772477300000002,null,{"$f":"IF(C2332<'Gala Name'!C$5,\"\",LEFT(A2332,1)&B2332&C2332)","v":"M1376"},0.69772477300000002]
["Male",13,77,0.68829087700000002,null,{"$f":"IF(C2333<'Gala Name'!C$5,\"\",LEFT(A2333,1)&B2333&C2333)","v":"M1377"},0.68829087700000002]
["Male",13,78,0.67844079999999996,null,{"$f":"IF(C2334<'Gala Name'!C$5,\"\",LEFT(A2334,1)&B2334&C2334)","v":"M1378"},0.67844079999999996]
["Male",13,79,0.66812400299999997,null,{"$f":"IF(C2335<'Gala Name'!C$5,\"\",LEFT(A2335,1)&B2335&C2335)","v":"M1379"},0.66812400299999997]
["Male",13,80,0.65728783700000004,null,{"$f":"IF(C2336<'Gala Name'!C$5,\"\",LEFT(A2336,1)&B2336&C2336)","v":"M1380"},0.65728783700000004]
["Male",13,81,0.64587771000000005,null,{"$f":"IF(C2337<'Gala Name'!C$5,\"\",LEFT(A2337,1)&B2337&C2337)","v":"M1381"},0.64587771000000005]
["Male",13,82,0.63383724900000005,null,{"$f":"IF(C2338<'Gala Name'!C$5,\"\",LEFT(A2338,1)&B2338&C2338)","v":"M1382"},0.63383724900000005]
["Male",13,83,0.62110849199999996,null,{"$f":"IF(C2339<'Gala Name'!C$5,\"\",LEFT(A2339,1)&B2339&C2339)","v":"M1383"},0.62110849199999996]
["Male",13,84,0.60763207799999996,null,{"$f":"IF(C2340<'Gala Name'!C$5,\"\",LEFT(A2340,1)&B2340&C2340)","v":"M1384"},0.60763207799999996]
["Male",13,85,0.59334746100000002,null,{"$f":"IF(C2341<'Gala Name'!C$5,\"\",LEFT(A2341,1)&B2341&C2341)","v":"M1385"},0.59334746100000002]
["Male",13,86,0.57819312599999995,null,{"$f":"IF(C2342<'Gala Name'!C$5,\"\",LEFT(A2342,1)&B2342&C2342)","v":"M1386"},0.57819312599999995]
["Male",13,87,0.56210682999999995,null,{"$f":"IF(C2343<'Gala Name'!C$5,\"\",LEFT(A2343,1)&B2343&C2343)","v":"M1387"},0.56210682999999995]
["Male",13,88,0.54502583900000001,null,{"$f":"IF(C2344<'Gala Name'!C$5,\"\",LEFT(A2344,1)&B2344&C2344)","v":"M1388"},0.54502583900000001]
["Male",13,89,0.52688719900000003,null,{"$f":"IF(C2345<'Gala Name'!C$5,\"\",LEFT(A2345,1)&B2345&C2345)","v":"M1389"},0.52688719900000003]
["Male",13,90,0.50762799599999997,null,{"$f":"IF(C2346<'Gala Name'!C$5,\"\",LEFT(A2346,1)&B2346&C2346)","v":"M1390"},0.50762799599999997]
["Male",13,91,0.487185649,null,{"$f":"IF(C2347<'Gala Name'!C$5,\"\",LEFT(A2347,1)&B2347&C2347)","v":"M1391"},0.487185649]
["Male",13,92,0.465498203,null,{"$f":"IF(C2348<'Gala Name'!C$5,\"\",LEFT(A2348,1)&B2348&C2348)","v":"M1392"},0.465498203]
["Male",13,93,0.44250463800000001,null,{"$f":"IF(C2349<'Gala Name'!C$5,\"\",LEFT(A2349,1)&B2349&C2349)","v":"M1393"},0.44250463800000001]
["Male",13,94,0.41814519500000003,null,{"$f":"IF(C2350<'Gala Name'!C$5,\"\",LEFT(A2350,1)&B2350&C2350)","v":"M1394"},0.41814519500000003]
["Male",13,95,0.39236170500000001,null,{"$f":"IF(C2351<'Gala Name'!C$5,\"\",LEFT(A2351,1)&B2351&C2351)","v":"M1395"},0.39236170500000001]
["Male",13,96,0.36509794099999998,null,{"$f":"IF(C2352<'Gala Name'!C$5,\"\",LEFT(A2352,1)&B2352&C2352)","v":"M1396"},0.36509794099999998]
["Male",13,97,0.336299974,null,{"$f":"IF(C2353<'Gala Name'!C$5,\"\",LEFT(A2353,1)&B2353&C2353)","v":"M1397"},0.336299974]
["Male",13,98,0.30591655000000001,null,{"$f":"IF(C2354<'Gala Name'!C$5,\"\",LEFT(A2354,1)&B2354&C2354)","v":"M1398"},0.30591655000000001]
["Male",13,99,0.27389946900000001,null,{"$f":"IF(C2355<'Gala Name'!C$5,\"\",LEFT(A2355,1)&B2355&C2355)","v":"M1399"},0.27389946900000001]
["Male",13,100,0.24020398900000001,null,{"$f":"IF(C2356<'Gala Name'!C$5,\"\",LEFT(A2356,1)&B2356&C2356)","v":"M13100"},0.24020398900000001]
["Male",14,25,1.004859266,null,{"$f":"IF(C2357<'Gala Name'!C$5,\"\",LEFT(A2357,1)&B2357&C2357)","v":"M1425"},1.004859266]
["Male",14,26,1.0067730239999999,null,{"$f":"IF(C2358<'Gala Name'!C$5,\"\",LEFT(A2358,1)&B2358&C2358)","v":"M1426"},1.0067730239999999]
["Male",14,27,1.00813752,null,{"$f":"IF(C2359<'Gala Name'!C$5,\"\",LEFT(A2359,1)&B2359&C2359)","v":"M1427"},1.00813752]
["Male",14,28,1.0089426530000001,null,{"$f":"IF(C2360<'Gala Name'!C$5,\"\",LEFT(A2360,1)&B2360&C2360)","v":"M1428"},1.0089426530000001]
["Male",14,29,1.0091828549999999,null,{"$f":"IF(C2361<'Gala Name'!C$5,\"\",LEFT(A2361,1)&B2361&C2361)","v":"M1429"},1.0091828549999999]
["Male",14,30,1.008856773,null,{"$f":"IF(C2362<'Gala Name'!C$5,\"\",LEFT(A2362,1)&B2362&C2362)","v":"M1430"},1.008856773]
["Male",14,31,1.007966956,null,{"$f":"IF(C2363<'Gala Name'!C$5,\"\",LEFT(A2363,1)&B2363&C2363)","v":"M1431"},1.007966956]
["Male",14,32,1.006519543,null,{"$f":"IF(C2364<'Gala Name'!C$5,\"\",LEFT(A2364,1)&B2364&C2364)","v":"M1432"},1.006519543]
["Male",14,33,1.004523968,null,{"$f":"IF(C2365<'Gala Name'!C$5,\"\",LEFT(A2365,1)&B2365&C2365)","v":"M1433"},1.004523968]
["Male",14,34,1.00199266,null,{"$f":"IF(C2366<'Gala Name'!C$5,\"\",LEFT(A2366,1)&B2366&C2366)","v":"M1434"},1.00199266]
["Male",14,35,0.99894076099999995,null,{"$f":"IF(C2367<'Gala Name'!C$5,\"\",LEFT(A2367,1)&B2367&C2367)","v":"M1435"},0.99894076099999995]
["Male",14,36,0.99538583700000005,null,{"$f":"IF(C2368<'Gala Name'!C$5,\"\",LEFT(A2368,1)&B2368&C2368)","v":"M1436"},0.99538583700000005]
["Male",14,37,0.99134761199999999,null,{"$f":"IF(C2369<'Gala Name'!C$5,\"\",LEFT(A2369,1)&B2369&C2369)","v":"M1437"},0.99134761199999999]
["Male",14,38,0.98684769000000006,null,{"$f":"IF(C2370<'Gala Name'!C$5,\"\",LEFT(A2370,1)&B2370&C2370)","v":"M1438"},0.98684769000000006]
["Male",14,39,0.98190930099999996,null,{"$f":"IF(C2371<'Gala Name'!C$5,\"\",LEFT(A2371,1)&B2371&C2371)","v":"M1439"},{"$f":"D2371","v":0.98190930099999996}]
["Male",14,40,0.97655704200000004,null,{"$f":"IF(C2372<'Gala Name'!C$5,\"\",LEFT(A2372,1)&B2372&C2372)","v":"M1440"},0.97655704200000004]
["Male",14,41,0.97081662700000004,null,{"$f":"IF(C2373<'Gala Name'!C$5,\"\",LEFT(A2373,1)&B2373&C2373)","v":"M1441"},0.97081662700000004]
["Male",14,42,0.96471464699999998,null,{"$f":"IF(C2374<'Gala Name'!C$5,\"\",LEFT(A2374,1)&B2374&C2374)","v":"M1442"},0.96471464699999998]
["Male",14,43,0.95827833200000001,null,{"$f":"IF(C2375<'Gala Name'!C$5,\"\",LEFT(A2375,1)&B2375&C2375)","v":"M1443"},0.95827833200000001]
["Male",14,44,0.95153532299999999,null,{"$f":"IF(C2376<'Gala Name'!C$5,\"\",LEFT(A2376,1)&B2376&C2376)","v":"M1444"},0.95153532299999999]
["Male",14,45,0.944513449,null,{"$f":"IF(C2377<'Gala Name'!C$5,\"\",LEFT(A2377,1)&B2377&C2377)","v":"M1445"},0.944513449]
["Male",14,46,0.93724050699999994,null,{"$f":"IF(C2378<'Gala Name'!C$5,\"\",LEFT(A2378,1)&B2378&C2378)","v":"M1446"},0.93724050699999994]
["Male",14,47,0.92974405900000001,null,{"$f":"IF(C2379<'Gala Name'!C$5,\"\",LEFT(A2379,1)&B2379&C2379)","v":"M1447"},0.92974405900000001]
["Male",14,48,0.92205121999999995,null,{"$f":"IF(C2380<'Gala Name'!C$5,\"\",LEFT(A2380,1)&B2380&C2380)","v":"M1448"},0.92205121999999995]
["Male",14,49,0.91418846799999998,null,{"$f":"IF(C2381<'Gala Name'!C$5,\"\",LEFT(A2381,1)&B2381&C2381)","v":"M1449"},0.91418846799999998]
["Male",14,50,0.90618145100000003,null,{"$f":"IF(C2382<'Gala Name'!C$5,\"\",LEFT(A2382,1)&B2382&C2382)","v":"M1450"},0.90618145100000003]
["Male",14,51,0.89805480000000004,null,{"$f":"IF(C2383<'Gala Name'!C$5,\"\",LEFT(A2383,1)&B2383&C2383)","v":"M1451"},0.89805480000000004]
["Male",14,52,0.88983195699999995,null,{"$f":"IF(C2384<'Gala Name'!C$5,\"\",LEFT(A2384,1)&B2384&C2384)","v":"M1452"},0.88983195699999995]
["Male",14,53,0.88153499899999999,null,{"$f":"IF(C2385<'Gala Name'!C$5,\"\",LEFT(A2385,1)&B2385&C2385)","v":"M1453"},0.88153499899999999]
["Male",14,54,0.87318447700000001,null,{"$f":"IF(C2386<'Gala Name'!C$5,\"\",LEFT(A2386,1)&B2386&C2386)","v":"M1454"},0.87318447700000001]
["Male",14,55,0.86479925499999999,null,{"$f":"IF(C2387<'Gala Name'!C$5,\"\",LEFT(A2387,1)&B2387&C2387)","v":"M1455"},0.86479925499999999]
["Male",14,56,0.85639636100000005,null,{"$f":"IF(C2388<'Gala Name'!C$5,\"\",LEFT(A2388,1)&B2388&C2388)","v":"M1456"},0.85639636100000005]
["Male",14,57,0.84799084000000002,null,{"$f":"IF(C2389<'Gala Name'!C$5,\"\",LEFT(A2389,1)&B2389&C2389)","v":"M1457"},0.84799084000000002]
["Male",14,58,0.83959561699999996,null,{"$f":"IF(C2390<'Gala Name'!C$5,\"\",LEFT(A2390,1)&B2390&C2390)","v":"M1458"},0.83959561699999996]
["Male",14,59,0.83122136400000002,null,{"$f":"IF(C2391<'Gala Name'!C$5,\"\",LEFT(A2391,1)&B2391&C2391)","v":"M1459"},0.83122136400000002]
["Male",14,60,0.82287637300000005,null,{"$f":"IF(C2392<'Gala Name'!C$5,\"\",LEFT(A2392,1)&B2392&C2392)","v":"M1460"},0.82287637300000005]
["Male",14,61,0.81456644099999997,null,{"$f":"IF(C2393<'Gala Name'!C$5,\"\",LEFT(A2393,1)&B2393&C2393)","v":"M1461"},0.81456644099999997]
["Male",14,62,0.806294752,null,{"$f":"IF(C2394<'Gala Name'!C$5,\"\",LEFT(A2394,1)&B2394&C2394)","v":"M1462"},0.806294752]
["Male",14,63,0.79806177700000003,null,{"$f":"IF(C2395<'Gala Name'!C$5,\"\",LEFT(A2395,1)&B2395&C2395)","v":"M1463"},0.79806177700000003]
["Male",14,64,0.78986516799999995,null,{"$f":"IF(C2396<'Gala Name'!C$5,\"\",LEFT(A2396,1)&B2396&C2396)","v":"M1464"},0.78986516799999995]
["Male",14,65,0.78169966899999999,null,{"$f":"IF(C2397<'Gala Name'!C$5,\"\",LEFT(A2397,1)&B2397&C2397)","v":"M1465"},0.78169966899999999]
["Male",14,66,0.77355702999999998,null,{"$f":"IF(C2398<'Gala Name'!C$5,\"\",LEFT(A2398,1)&B2398&C2398)","v":"M1466"},0.77355702999999998]
["Male",14,67,0.76542592300000001,null,{"$f":"IF(C2399<'Gala Name'!C$5,\"\",LEFT(A2399,1)&B2399&C2399)","v":"M1467"},0.76542592300000001]
["Male",14,68,0.75729187099999995,null,{"$f":"IF(C2400<'Gala Name'!C$5,\"\",LEFT(A2400,1)&B2400&C2400)","v":"M1468"},0.75729187099999995]
["Male",14,69,0.74913718100000004,null,{"$f":"IF(C2401<'Gala Name'!C$5,\"\",LEFT(A2401,1)&B2401&C2401)","v":"M1469"},0.74913718100000004]
["Male",14,70,0.74094088300000005,null,{"$f":"IF(C2402<'Gala Name'!C$5,\"\",LEFT(A2402,1)&B2402&C2402)","v":"M1470"},0.74094088300000005]
["Male",14,71,0.73267867499999995,null,{"$f":"IF(C2403<'Gala Name'!C$5,\"\",LEFT(A2403,1)&B2403&C2403)","v":"M1471"},0.73267867499999995]
["Male",14,72,0.72432287699999998,null,{"$f":"IF(C2404<'Gala Name'!C$5,\"\",LEFT(A2404,1)&B2404&C2404)","v":"M1472"},0.72432287699999998]
["Male",14,73,0.71584238600000005,null,{"$f":"IF(C2405<'Gala Name'!C$5,\"\",LEFT(A2405,1)&B2405&C2405)","v":"M1473"},0.71584238600000005]
["Male",14,74,0.70720264799999999,null,{"$f":"IF(C2406<'Gala Name'!C$5,\"\",LEFT(A2406,1)&B2406&C2406)","v":"M1474"},0.70720264799999999]
["Male",14,75,0.69836562400000002,null,{"$f":"IF(C2407<'Gala Name'!C$5,\"\",LEFT(A2407,1)&B2407&C2407)","v":"M1475"},0.69836562400000002]
["Male",14,76,0.68928976900000005,null,{"$f":"IF(C2408<'Gala Name'!C$5,\"\",LEFT(A2408,1)&B2408&C2408)","v":"M1476"},0.68928976900000005]
["Male",14,77,0.679930021,null,{"$f":"IF(C2409<'Gala Name'!C$5,\"\",LEFT(A2409,1)&B2409&C2409)","v":"M1477"},0.679930021]
["Male",14,78,0.67023778599999995,null,{"$f":"IF(C2410<'Gala Name'!C$5,\"\",LEFT(A2410,1)&B2410&C2410)","v":"M1478"},0.67023778599999995]
["Male",14,79,0.66016094299999994,null,{"$f":"IF(C2411<'Gala Name'!C$5,\"\",LEFT(A2411,1)&B2411&C2411)","v":"M1479"},0.66016094299999994]
["Male",14,80,0.64964384100000006,null,{"$f":"IF(C2412<'Gala Name'!C$5,\"\",LEFT(A2412,1)&B2412&C2412)","v":"M1480"},0.64964384100000006]
["Male",14,81,0.638627316,null,{"$f":"IF(C2413<'Gala Name'!C$5,\"\",LEFT(A2413,1)&B2413&C2413)","v":"M1481"},0.638627316]
["Male",14,82,0.62704870400000001,null,{"$f":"IF(C2414<'Gala Name'!C$5,\"\",LEFT(A2414,1)&B2414&C2414)","v":"M1482"},0.62704870400000001]
["Male",14,83,0.61484186600000001,null,{"$f":"IF(C2415<'Gala Name'!C$5,\"\",LEFT(A2415,1)&B2415&C2415)","v":"M1483"},0.61484186600000001]
["Male",14,84,0.60193722000000005,null,{"$f":"IF(C2416<'Gala Name'!C$5,\"\",LEFT(A2416,1)&B2416&C2416)","v":"M1484"},0.60193722000000005]
["Male",14,85,0.58826177499999999,null,{"$f":"IF(C2417<'Gala Name'!C$5,\"\",LEFT(A2417,1)&B2417&C2417)","v":"M1485"},0.58826177499999999]
["Male",14,86,0.57373917600000002,null,{"$f":"IF(C2418<'Gala Name'!C$5,\"\",LEFT(A2418,1)&B2418&C2418)","v":"M1486"},0.57373917600000002]
["Male",14,87,0.558289755,null,{"$f":"IF(C2419<'Gala Name'!C$5,\"\",LEFT(A2419,1)&B2419&C2419)","v":"M1487"},0.558289755]
["Male",14,88,0.54183058399999995,null,{"$f":"IF(C2420<'Gala Name'!C$5,\"\",LEFT(A2420,1)&B2420&C2420)","v":"M1488"},0.54183058399999995]
["Male",14,89,0.52427553900000001,null,{"$f":"IF(C2421<'Gala Name'!C$5,\"\",LEFT(A2421,1)&B2421&C2421)","v":"M1489"},0.52427553900000001]
["Male",14,90,0.50553537100000001,null,{"$f":"IF(C2422<'Gala Name'!C$5,\"\",LEFT(A2422,1)&B2422&C2422)","v":"M1490"},0.50553537100000001]
["Male",14,91,0.48551777899999998,null,{"$f":"IF(C2423<'Gala Name'!C$5,\"\",LEFT(A2423,1)&B2423&C2423)","v":"M1491"},0.48551777899999998]
["Male",14,92,0.464127495,null,{"$f":"IF(C2424<'Gala Name'!C$5,\"\",LEFT(A2424,1)&B2424&C2424)","v":"M1492"},0.464127495]
["Male",14,93,0.44126636899999999,null,{"$f":"IF(C2425<'Gala Name'!C$5,\"\",LEFT(A2425,1)&B2425&C2425)","v":"M1493"},0.44126636899999999]
["Male",14,94,0.41683347100000001,null,{"$f":"IF(C2426<'Gala Name'!C$5,\"\",LEFT(A2426,1)&B2426&C2426)","v":"M1494"},0.41683347100000001]
["Male",14,95,0.390725182,null,{"$f":"IF(C2427<'Gala Name'!C$5,\"\",LEFT(A2427,1)&B2427&C2427)","v":"M1495"},0.390725182]
["Male",14,96,0.36283531499999999,null,{"$f":"IF(C2428<'Gala Name'!C$5,\"\",LEFT(A2428,1)&B2428&C2428)","v":"M1496"},0.36283531499999999]
["Male",14,97,0.33305521700000001,null,{"$f":"IF(C2429<'Gala Name'!C$5,\"\",LEFT(A2429,1)&B2429&C2429)","v":"M1497"},0.33305521700000001]
["Male",14,98,0.30127390100000001,null,{"$f":"IF(C2430<'Gala Name'!C$5,\"\",LEFT(A2430,1)&B2430&C2430)","v":"M1498"},0.30127390100000001]
["Male",14,99,0.267378167,null,{"$f":"IF(C2431<'Gala Name'!C$5,\"\",LEFT(A2431,1)&B2431&C2431)","v":"M1499"},0.267378167]
["Male",14,100,0.23125273800000001,null,{"$f":"IF(C2432<'Gala Name'!C$5,\"\",LEFT(A2432,1)&B2432&C2432)","v":"M14100"},0.23125273800000001]
["Male",15,25,1.002433438,null,{"$f":"IF(C2433<'Gala Name'!C$5,\"\",LEFT(A2433,1)&B2433&C2433)","v":"M1525"},1.002433438]
["Male",15,26,1.0035703659999999,null,{"$f":"IF(C2434<'Gala Name'!C$5,\"\",LEFT(A2434,1)&B2434&C2434)","v":"M1526"},1.0035703659999999]
["Male",15,27,1.003410041,null,{"$f":"IF(C2435<'Gala Name'!C$5,\"\",LEFT(A2435,1)&B2435&C2435)","v":"M1527"},{"$f":"D2435","v":1.003410041}]
["Male",15,28,1.002152009,null,{"$f":"IF(C2436<'Gala Name'!C$5,\"\",LEFT(A2436,1)&B2436&C2436)","v":"M1528"},1.002152009]
["Male",15,29,0.99997123799999998,null,{"$f":"IF(C2437<'Gala Name'!C$5,\"\",LEFT(A2437,1)&B2437&C2437)","v":"M1529"},0.99997123799999998]
["Male",15,30,0.99702005599999999,null,{"$f":"IF(C2438<'Gala Name'!C$5,\"\",LEFT(A2438,1)&B2438&C2438)","v":"M1530"},0.99702005599999999]
["Male",15,31,0.993430013,null,{"$f":"IF(C2439<'Gala Name'!C$5,\"\",LEFT(A2439,1)&B2439&C2439)","v":"M1531"},0.993430013]
["Male",15,32,0.98931367199999998,null,{"$f":"IF(C2440<'Gala Name'!C$5,\"\",LEFT(A2440,1)&B2440&C2440)","v":"M1532"},0.98931367199999998]
["Male",15,33,0.984766327,null,{"$f":"IF(C2441<'Gala Name'!C$5,\"\",LEFT(A2441,1)&B2441&C2441)","v":"M1533"},0.984766327]
["Male",15,34,0.97986764900000001,null,{"$f":"IF(C2442<'Gala Name'!C$5,\"\",LEFT(A2442,1)&B2442&C2442)","v":"M1534"},0.97986764900000001]
["Male",15,35,0.97468325899999997,null,{"$f":"IF(C2443<'Gala Name'!C$5,\"\",LEFT(A2443,1)&B2443&C2443)","v":"M1535"},0.97468325899999997]
["Male",15,36,0.96926623300000003,null,{"$f":"IF(C2444<'Gala Name'!C$5,\"\",LEFT(A2444,1)&B2444&C2444)","v":"M1536"},0.96926623300000003]
["Male",15,37,0.96365853199999996,null,{"$f":"IF(C2445<'Gala Name'!C$5,\"\",LEFT(A2445,1)&B2445&C2445)","v":"M1537"},0.96365853199999996]
["Male",15,38,0.95789235800000005,null,{"$f":"IF(C2446<'Gala Name'!C$5,\"\",LEFT(A2446,1)&B2446&C2446)","v":"M1538"},0.95789235800000005]
["Male",15,39,0.95199144099999999,null,{"$f":"IF(C2447<'Gala Name'!C$5,\"\",LEFT(A2447,1)&B2447&C2447)","v":"M1539"},0.95199144099999999]
["Male",15,40,0.94597225399999996,null,{"$f":"IF(C2448<'Gala Name'!C$5,\"\",LEFT(A2448,1)&B2448&C2448)","v":"M1540"},0.94597225399999996]
["Male",15,41,0.93984515599999996,null,{"$f":"IF(C2449<'Gala Name'!C$5,\"\",LEFT(A2449,1)&B2449&C2449)","v":"M1541"},0.93984515599999996]
["Male",15,42,0.93361545800000001,null,{"$f":"IF(C2450<'Gala Name'!C$5,\"\",LEFT(A2450,1)&B2450&C2450)","v":"M1542"},0.93361545800000001]
["Male",15,43,0.92728442499999997,null,{"$f":"IF(C2451<'Gala Name'!C$5,\"\",LEFT(A2451,1)&B2451&C2451)","v":"M1543"},0.92728442499999997]
["Male",15,44,0.92085020200000001,null,{"$f":"IF(C2452<'Gala Name'!C$5,\"\",LEFT(A2452,1)&B2452&C2452)","v":"M1544"},0.92085020200000001]
["Male",15,45,0.91430866399999999,null,{"$f":"IF(C2453<'Gala Name'!C$5,\"\",LEFT(A2453,1)&B2453&C2453)","v":"M1545"},0.91430866399999999]
["Male",15,46,0.90765420200000002,null,{"$f":"IF(C2454<'Gala Name'!C$5,\"\",LEFT(A2454,1)&B2454&C2454)","v":"M1546"},0.90765420200000002]
["Male",15,47,0.90088042999999995,null,{"$f":"IF(C2455<'Gala Name'!C$5,\"\",LEFT(A2455,1)&B2455&C2455)","v":"M1547"},0.90088042999999995]
["Male",15,48,0.89398082700000003,null,{"$f":"IF(C2456<'Gala Name'!C$5,\"\",LEFT(A2456,1)&B2456&C2456)","v":"M1548"},0.89398082700000003]
["Male",15,49,0.886949298,null,{"$f":"IF(C2457<'Gala Name'!C$5,\"\",LEFT(A2457,1)&B2457&C2457)","v":"M1549"},0.886949298]
["Male",15,50,0.87978066799999999,null,{"$f":"IF(C2458<'Gala Name'!C$5,\"\",LEFT(A2458,1)&B2458&C2458)","v":"M1550"},0.87978066799999999]
["Male",15,51,0.87247110800000005,null,{"$f":"IF(C2459<'Gala Name'!C$5,\"\",LEFT(A2459,1)&B2459&C2459)","v":"M1551"},0.87247110800000005]
["Male",15,52,0.86501848100000001,null,{"$f":"IF(C2460<'Gala Name'!C$5,\"\",LEFT(A2460,1)&B2460&C2460)","v":"M1552"},0.86501848100000001]
["Male",15,53,0.85742262199999997,null,{"$f":"IF(C2461<'Gala Name'!C$5,\"\",LEFT(A2461,1)&B2461&C2461)","v":"M1553"},0.85742262199999997]
["Male",15,54,0.84968553999999996,null,{"$f":"IF(C2462<'Gala Name'!C$5,\"\",LEFT(A2462,1)&B2462&C2462)","v":"M1554"},0.84968553999999996]
["Male",15,55,0.84181155500000004,null,{"$f":"IF(C2463<'Gala Name'!C$5,\"\",LEFT(A2463,1)&B2463&C2463)","v":"M1555"},0.84181155500000004]
["Male",15,56,0.83380735900000003,null,{"$f":"IF(C2464<'Gala Name'!C$5,\"\",LEFT(A2464,1)&B2464&C2464)","v":"M1556"},0.83380735900000003]
["Male",15,57,0.82568200400000002,null,{"$f":"IF(C2465<'Gala Name'!C$5,\"\",LEFT(A2465,1)&B2465&C2465)","v":"M1557"},0.82568200400000002]
["Male",15,58,0.81744682000000002,null,{"$f":"IF(C2466<'Gala Name'!C$5,\"\",LEFT(A2466,1)&B2466&C2466)","v":"M1558"},0.81744682000000002]
["Male",15,59,0.80911526199999995,null,{"$f":"IF(C2467<'Gala Name'!C$5,\"\",LEFT(A2467,1)&B2467&C2467)","v":"M1559"},0.80911526199999995]
["Male",15,60,0.80070268,null,{"$f":"IF(C2468<'Gala Name'!C$5,\"\",LEFT(A2468,1)&B2468&C2468)","v":"M1560"},0.80070268]
["Male",15,61,0.792226023,null,{"$f":"IF(C2469<'Gala Name'!C$5,\"\",LEFT(A2469,1)&B2469&C2469)","v":"M1561"},0.792226023]
["Male",15,62,0.78370346999999996,null,{"$f":"IF(C2470<'Gala Name'!C$5,\"\",LEFT(A2470,1)&B2470&C2470)","v":"M1562"},0.78370346999999996]
["Male",15,63,0.77515398199999996,null,{"$f":"IF(C2471<'Gala Name'!C$5,\"\",LEFT(A2471,1)&B2471&C2471)","v":"M1563"},0.77515398199999996]
["Male",15,64,0.766596791,null,{"$f":"IF(C2472<'Gala Name'!C$5,\"\",LEFT(A2472,1)&B2472&C2472)","v":"M1564"},0.766596791]
["Male",15,65,0.75805081299999999,null,{"$f":"IF(C2473<'Gala Name'!C$5,\"\",LEFT(A2473,1)&B2473&C2473)","v":"M1565"},0.75805081299999999]
["Male",15,66,0.74953398699999996,null,{"$f":"IF(C2474<'Gala Name'!C$5,\"\",LEFT(A2474,1)&B2474&C2474)","v":"M1566"},0.74953398699999996]
["Male",15,67,0.74106254699999996,null,{"$f":"IF(C2475<'Gala Name'!C$5,\"\",LEFT(A2475,1)&B2475&C2475)","v":"M1567"},0.74106254699999996]
["Male",15,68,0.73265021699999999,null,{"$f":"IF(C2476<'Gala Name'!C$5,\"\",LEFT(A2476,1)&B2476&C2476)","v":"M1568"},0.73265021699999999]
["Male",15,69,0.724307335,null,{"$f":"IF(C2477<'Gala Name'!C$5,\"\",LEFT(A2477,1)&B2477&C2477)","v":"M1569"},0.724307335]
["Male",15,70,0.71603991099999997,null,{"$f":"IF(C2478<'Gala Name'!C$5,\"\",LEFT(A2478,1)&B2478&C2478)","v":"M1570"},0.71603991099999997]
["Male",15,71,0.70784860100000002,null,{"$f":"IF(C2479<'Gala Name'!C$5,\"\",LEFT(A2479,1)&B2479&C2479)","v":"M1571"},0.70784860100000002]
["Male",15,72,0.69972762099999997,null,{"$f":"IF(C2480<'Gala Name'!C$5,\"\",LEFT(A2480,1)&B2480&C2480)","v":"M1572"},0.69972762099999997]
["Male",15,73,0.69166358400000005,null,{"$f":"IF(C2481<'Gala Name'!C$5,\"\",LEFT(A2481,1)&B2481&C2481)","v":"M1573"},0.69166358400000005]
["Male",15,74,0.68363425899999997,null,{"$f":"IF(C2482<'Gala Name'!C$5,\"\",LEFT(A2482,1)&B2482&C2482)","v":"M1574"},0.68363425899999997]
["Male",15,75,0.67560727200000004,null,{"$f":"IF(C2483<'Gala Name'!C$5,\"\",LEFT(A2483,1)&B2483&C2483)","v":"M1575"},0.67560727200000004]
["Male",15,76,0.66753872000000003,null,{"$f":"IF(C2484<'Gala Name'!C$5,\"\",LEFT(A2484,1)&B2484&C2484)","v":"M1576"},0.66753872000000003]
["Male",15,77,0.65937172399999999,null,{"$f":"IF(C2485<'Gala Name'!C$5,\"\",LEFT(A2485,1)&B2485&C2485)","v":"M1577"},0.65937172399999999]
["Male",15,78,0.651034903,null,{"$f":"IF(C2486<'Gala Name'!C$5,\"\",LEFT(A2486,1)&B2486&C2486)","v":"M1578"},0.651034903]
["Male",15,79,0.64244078000000004,null,{"$f":"IF(C2487<'Gala Name'!C$5,\"\",LEFT(A2487,1)&B2487&C2487)","v":"M1579"},0.64244078000000004]
["Male",15,80,0.63348411299999996,null,{"$f":"IF(C2488<'Gala Name'!C$5,\"\",LEFT(A2488,1)&B2488&C2488)","v":"M1580"},0.63348411299999996]
["Male",15,81,0.62404016100000004,null,{"$f":"IF(C2489<'Gala Name'!C$5,\"\",LEFT(A2489,1)&B2489&C2489)","v":"M1581"},0.62404016100000004]
["Male",15,82,0.61396286300000003,null,{"$f":"IF(C2490<'Gala Name'!C$5,\"\",LEFT(A2490,1)&B2490&C2490)","v":"M1582"},0.61396286300000003]
["Male",15,83,0.60308296400000005,null,{"$f":"IF(C2491<'Gala Name'!C$5,\"\",LEFT(A2491,1)&B2491&C2491)","v":"M1583"},0.60308296400000005]
["Male",15,84,0.59120605199999998,null,{"$f":"IF(C2492<'Gala Name'!C$5,\"\",LEFT(A2492,1)&B2492&C2492)","v":"M1584"},0.59120605199999998]
["Male",15,85,0.57811053700000004,null,{"$f":"IF(C2493<'Gala Name'!C$5,\"\",LEFT(A2493,1)&B2493&C2493)","v":"M1585"},0.57811053700000004]
["Male",15,86,0.56354554599999995,null,{"$f":"IF(C2494<'Gala Name'!C$5,\"\",LEFT(A2494,1)&B2494&C2494)","v":"M1586"},0.56354554599999995]
["Male",15,87,0.54722875400000004,null,{"$f":"IF(C2495<'Gala Name'!C$5,\"\",LEFT(A2495,1)&B2495&C2495)","v":"M1587"},0.54722875400000004]
["Male",15,88,0.52884414000000002,null,{"$f":"IF(C2496<'Gala Name'!C$5,\"\",LEFT(A2496,1)&B2496&C2496)","v":"M1588"},0.52884414000000002]
["Male",15,89,0.50803966899999997,null,{"$f":"IF(C2497<'Gala Name'!C$5,\"\",LEFT(A2497,1)&B2497&C2497)","v":"M1589"},0.50803966899999997]
["Male",15,90,0.48442490999999999,null,{"$f":"IF(C2498<'Gala Name'!C$5,\"\",LEFT(A2498,1)&B2498&C2498)","v":"M1590"},0.48442490999999999]
["Male",15,91,0.45756856899999998,null,{"$f":"IF(C2499<'Gala Name'!C$5,\"\",LEFT(A2499,1)&B2499&C2499)","v":"M1591"},{"$f":"D2499","v":0.45756856899999998}]
["Male",15,92,0.42699596099999998,null,{"$f":"IF(C2500<'Gala Name'!C$5,\"\",LEFT(A2500,1)&B2500&C2500)","v":"M1592"},0.42699596099999998]
["Male",15,93,0.39218640799999999,null,{"$f":"IF(C2501<'Gala Name'!C$5,\"\",LEFT(A2501,1)&B2501&C2501)","v":"M1593"},0.39218640799999999]
["Male",15,94,0.35257055799999998,null,{"$f":"IF(C2502<'Gala Name'!C$5,\"\",LEFT(A2502,1)&B2502&C2502)","v":"M1594"},0.35257055799999998]
["Male",15,95,0.30752763999999999,null,{"$f":"IF(C2503<'Gala Name'!C$5,\"\",LEFT(A2503,1)&B2503&C2503)","v":"M1595"},0.30752763999999999]
["Male",15,96,0.25638264700000002,null,{"$f":"IF(C2504<'Gala Name'!C$5,\"\",LEFT(A2504,1)&B2504&C2504)","v":"M1596"},0.25638264700000002]
["Male",15,97,0.19840343499999999,null,{"$f":"IF(C2505<'Gala Name'!C$5,\"\",LEFT(A2505,1)&B2505&C2505)","v":"M1597"},0.19840343499999999]
["Male",15,98,0.13279777000000001,null,{"$f":"IF(C2506<'Gala Name'!C$5,\"\",LEFT(A2506,1)&B2506&C2506)","v":"M1598"},0.13279777000000001]
["Male",15,99,5.8710282000000003E-2,null,{"$f":"IF(C2507<'Gala Name'!C$5,\"\",LEFT(A2507,1)&B2507&C2507)","v":"M1599"},5.8710282000000003E-2]
["Male",15,100,-2.4780634999999999E-2,null,{"$f":"IF(C2508<'Gala Name'!C$5,\"\",LEFT(A2508,1)&B2508&C2508)","v":"M15100"},-2.4780634999999999E-2]
["Male",16,25,1.0044963549999999,null,{"$f":"IF(C2509<'Gala Name'!C$5,\"\",LEFT(A2509,1)&B2509&C2509)","v":"M1625"},1.0044963549999999]
["Male",16,26,1.004799384,null,{"$f":"IF(C2510<'Gala Name'!C$5,\"\",LEFT(A2510,1)&B2510&C2510)","v":"M1626"},1.004799384]
["Male",16,27,1.0044721459999999,null,{"$f":"IF(C2511<'Gala Name'!C$5,\"\",LEFT(A2511,1)&B2511&C2511)","v":"M1627"},1.0044721459999999]
["Male",16,28,1.0035887059999999,null,{"$f":"IF(C2512<'Gala Name'!C$5,\"\",LEFT(A2512,1)&B2512&C2512)","v":"M1628"},1.0035887059999999]
["Male",16,29,1.0022130920000001,null,{"$f":"IF(C2513<'Gala Name'!C$5,\"\",LEFT(A2513,1)&B2513&C2513)","v":"M1629"},1.0022130920000001]
["Male",16,30,1.0004001659999999,null,{"$f":"IF(C2514<'Gala Name'!C$5,\"\",LEFT(A2514,1)&B2514&C2514)","v":"M1630"},1.0004001659999999]
["Male",16,31,0.99819645499999998,null,{"$f":"IF(C2515<'Gala Name'!C$5,\"\",LEFT(A2515,1)&B2515&C2515)","v":"M1631"},0.99819645499999998]
["Male",16,32,0.99564094599999997,null,{"$f":"IF(C2516<'Gala Name'!C$5,\"\",LEFT(A2516,1)&B2516&C2516)","v":"M1632"},0.99564094599999997]
["Male",16,33,0.99276585500000003,null,{"$f":"IF(C2517<'Gala Name'!C$5,\"\",LEFT(A2517,1)&B2517&C2517)","v":"M1633"},0.99276585500000003]
["Male",16,34,0.98959734399999999,null,{"$f":"IF(C2518<'Gala Name'!C$5,\"\",LEFT(A2518,1)&B2518&C2518)","v":"M1634"},0.98959734399999999]
["Male",16,35,0.98615621899999995,null,{"$f":"IF(C2519<'Gala Name'!C$5,\"\",LEFT(A2519,1)&B2519&C2519)","v":"M1635"},0.98615621899999995]
["Male",16,36,0.98245858100000005,null,{"$f":"IF(C2520<'Gala Name'!C$5,\"\",LEFT(A2520,1)&B2520&C2520)","v":"M1636"},0.98245858100000005]
["Male",16,37,0.97851644599999998,null,{"$f":"IF(C2521<'Gala Name'!C$5,\"\",LEFT(A2521,1)&B2521&C2521)","v":"M1637"},0.97851644599999998]
["Male",16,38,0.97433833199999997,null,{"$f":"IF(C2522<'Gala Name'!C$5,\"\",LEFT(A2522,1)&B2522&C2522)","v":"M1638"},0.97433833199999997]
["Male",16,39,0.96992979999999995,null,{"$f":"IF(C2523<'Gala Name'!C$5,\"\",LEFT(A2523,1)&B2523&C2523)","v":"M1639"},0.96992979999999995]
["Male",16,40,0.965293976,null,{"$f":"IF(C2524<'Gala Name'!C$5,\"\",LEFT(A2524,1)&B2524&C2524)","v":"M1640"},0.965293976]
["Male",16,41,0.96043201899999997,null,{"$f":"IF(C2525<'Gala Name'!C$5,\"\",LEFT(A2525,1)&B2525&C2525)","v":"M1641"},0.96043201899999997]
["Male",16,42,0.95534356899999995,null,{"$f":"IF(C2526<'Gala Name'!C$5,\"\",LEFT(A2526,1)&B2526&C2526)","v":"M1642"},0.95534356899999995]
["Male",16,43,0.95002715000000004,null,{"$f":"IF(C2527<'Gala Name'!C$5,\"\",LEFT(A2527,1)&B2527&C2527)","v":"M1643"},0.95002715000000004]
["Male",16,44,0.94448054000000004,null,{"$f":"IF(C2528<'Gala Name'!C$5,\"\",LEFT(A2528,1)&B2528&C2528)","v":"M1644"},0.94448054000000004]
["Male",16,45,0.93870110900000003,null,{"$f":"IF(C2529<'Gala Name'!C$5,\"\",LEFT(A2529,1)&B2529&C2529)","v":"M1645"},0.93870110900000003]
["Male",16,46,0.93268611099999998,null,{"$f":"IF(C2530<'Gala Name'!C$5,\"\",LEFT(A2530,1)&B2530&C2530)","v":"M1646"},0.93268611099999998]
["Male",16,47,0.92643295699999995,null,{"$f":"IF(C2531<'Gala Name'!C$5,\"\",LEFT(A2531,1)&B2531&C2531)","v":"M1647"},0.92643295699999995]
["Male",16,48,0.91993943499999997,null,{"$f":"IF(C2532<'Gala Name'!C$5,\"\",LEFT(A2532,1)&B2532&C2532)","v":"M1648"},0.91993943499999997]
["Male",16,49,0.91320390500000004,null,{"$f":"IF(C2533<'Gala Name'!C$5,\"\",LEFT(A2533,1)&B2533&C2533)","v":"M1649"},0.91320390500000004]
["Male",16,50,0.90622545799999998,null,{"$f":"IF(C2534<'Gala Name'!C$5,\"\",LEFT(A2534,1)&B2534&C2534)","v":"M1650"},0.90622545799999998]
["Male",16,51,0.89900403299999998,null,{"$f":"IF(C2535<'Gala Name'!C$5,\"\",LEFT(A2535,1)&B2535&C2535)","v":"M1651"},0.89900403299999998]
["Male",16,52,0.89154050699999998,null,{"$f":"IF(C2536<'Gala Name'!C$5,\"\",LEFT(A2536,1)&B2536&C2536)","v":"M1652"},0.89154050699999998]
["Male",16,53,0.88383674199999995,null,{"$f":"IF(C2537<'Gala Name'!C$5,\"\",LEFT(A2537,1)&B2537&C2537)","v":"M1653"},0.88383674199999995]
["Male",16,54,0.87589559900000002,null,{"$f":"IF(C2538<'Gala Name'!C$5,\"\",LEFT(A2538,1)&B2538&C2538)","v":"M1654"},0.87589559900000002]
["Male",16,55,0.86772091799999995,null,{"$f":"IF(C2539<'Gala Name'!C$5,\"\",LEFT(A2539,1)&B2539&C2539)","v":"M1655"},0.86772091799999995]
["Male",16,56,0.85931746200000003,null,{"$f":"IF(C2540<'Gala Name'!C$5,\"\",LEFT(A2540,1)&B2540&C2540)","v":"M1656"},0.85931746200000003]
["Male",16,57,0.85069082399999996,null,{"$f":"IF(C2541<'Gala Name'!C$5,\"\",LEFT(A2541,1)&B2541&C2541)","v":"M1657"},0.85069082399999996]
["Male",16,58,0.84184729700000005,null,{"$f":"IF(C2542<'Gala Name'!C$5,\"\",LEFT(A2542,1)&B2542&C2542)","v":"M1658"},0.84184729700000005]
["Male",16,59,0.83279371499999999,null,{"$f":"IF(C2543<'Gala Name'!C$5,\"\",LEFT(A2543,1)&B2543&C2543)","v":"M1659"},0.83279371499999999]
["Male",16,60,0.82353724800000006,null,{"$f":"IF(C2544<'Gala Name'!C$5,\"\",LEFT(A2544,1)&B2544&C2544)","v":"M1660"},0.82353724800000006]
["Male",16,61,0.81408517199999997,null,{"$f":"IF(C2545<'Gala Name'!C$5,\"\",LEFT(A2545,1)&B2545&C2545)","v":"M1661"},0.81408517199999997]
["Male",16,62,0.80444459599999996,null,{"$f":"IF(C2546<'Gala Name'!C$5,\"\",LEFT(A2546,1)&B2546&C2546)","v":"M1662"},0.80444459599999996]
["Male",16,63,0.79462215899999999,null,{"$f":"IF(C2547<'Gala Name'!C$5,\"\",LEFT(A2547,1)&B2547&C2547)","v":"M1663"},0.79462215899999999]
["Male",16,64,0.78462368400000004,null,{"$f":"IF(C2548<'Gala Name'!C$5,\"\",LEFT(A2548,1)&B2548&C2548)","v":"M1664"},0.78462368400000004]
["Male",16,65,0.77445380500000005,null,{"$f":"IF(C2549<'Gala Name'!C$5,\"\",LEFT(A2549,1)&B2549&C2549)","v":"M1665"},0.77445380500000005]
["Male",16,66,0.76411555200000003,null,{"$f":"IF(C2550<'Gala Name'!C$5,\"\",LEFT(A2550,1)&B2550&C2550)","v":"M1666"},0.76411555200000003]
["Male",16,67,0.75360990500000002,null,{"$f":"IF(C2551<'Gala Name'!C$5,\"\",LEFT(A2551,1)&B2551&C2551)","v":"M1667"},0.75360990500000002]
["Male",16,68,0.74293530600000002,null,{"$f":"IF(C2552<'Gala Name'!C$5,\"\",LEFT(A2552,1)&B2552&C2552)","v":"M1668"},0.74293530600000002]
["Male",16,69,0.73208714399999997,null,{"$f":"IF(C2553<'Gala Name'!C$5,\"\",LEFT(A2553,1)&B2553&C2553)","v":"M1669"},0.73208714399999997]
["Male",16,70,0.72105719899999998,null,{"$f":"IF(C2554<'Gala Name'!C$5,\"\",LEFT(A2554,1)&B2554&C2554)","v":"M1670"},0.72105719899999998]
["Male",16,71,0.70983304800000002,null,{"$f":"IF(C2555<'Gala Name'!C$5,\"\",LEFT(A2555,1)&B2555&C2555)","v":"M1671"},0.70983304800000002]
["Male",16,72,0.69839744299999995,null,{"$f":"IF(C2556<'Gala Name'!C$5,\"\",LEFT(A2556,1)&B2556&C2556)","v":"M1672"},0.69839744299999995]
["Male",16,73,0.686727647,null,{"$f":"IF(C2557<'Gala Name'!C$5,\"\",LEFT(A2557,1)&B2557&C2557)","v":"M1673"},0.686727647]
["Male",16,74,0.67479473800000001,null,{"$f":"IF(C2558<'Gala Name'!C$5,\"\",LEFT(A2558,1)&B2558&C2558)","v":"M1674"},0.67479473800000001]
["Male",16,75,0.66256287400000002,null,{"$f":"IF(C2559<'Gala Name'!C$5,\"\",LEFT(A2559,1)&B2559&C2559)","v":"M1675"},0.66256287400000002]
["Male",16,76,0.64998852500000004,null,{"$f":"IF(C2560<'Gala Name'!C$5,\"\",LEFT(A2560,1)&B2560&C2560)","v":"M1676"},0.64998852500000004]
["Male",16,77,0.63701967100000001,null,{"$f":"IF(C2561<'Gala Name'!C$5,\"\",LEFT(A2561,1)&B2561&C2561)","v":"M1677"},0.63701967100000001]
["Male",16,78,0.62359496000000003,null,{"$f":"IF(C2562<'Gala Name'!C$5,\"\",LEFT(A2562,1)&B2562&C2562)","v":"M1678"},0.62359496000000003]
["Male",16,79,0.609642833,null,{"$f":"IF(C2563<'Gala Name'!C$5,\"\",LEFT(A2563,1)&B2563&C2563)","v":"M1679"},{"$f":"D2563","v":0.609642833}]
["Male",16,80,0.59508061300000004,null,{"$f":"IF(C2564<'Gala Name'!C$5,\"\",LEFT(A2564,1)&B2564&C2564)","v":"M1680"},0.59508061300000004]
["Male",16,81,0.57981356100000003,null,{"$f":"IF(C2565<'Gala Name'!C$5,\"\",LEFT(A2565,1)&B2565&C2565)","v":"M1681"},0.57981356100000003]
["Male",16,82,0.56373388800000002,null,{"$f":"IF(C2566<'Gala Name'!C$5,\"\",LEFT(A2566,1)&B2566&C2566)","v":"M1682"},0.56373388800000002]
["Male",16,83,0.54671974400000001,null,{"$f":"IF(C2567<'Gala Name'!C$5,\"\",LEFT(A2567,1)&B2567&C2567)","v":"M1683"},0.54671974400000001]
["Male",16,84,0.52863416200000002,null,{"$f":"IF(C2568<'Gala Name'!C$5,\"\",LEFT(A2568,1)&B2568&C2568)","v":"M1684"},0.52863416200000002]
["Male",16,85,0.50932396700000004,null,{"$f":"IF(C2569<'Gala Name'!C$5,\"\",LEFT(A2569,1)&B2569&C2569)","v":"M1685"},0.50932396700000004]
["Male",16,86,0.48861865399999999,null,{"$f":"IF(C2570<'Gala Name'!C$5,\"\",LEFT(A2570,1)&B2570&C2570)","v":"M1686"},0.48861865399999999]
["Male",16,87,0.46632922799999998,null,{"$f":"IF(C2571<'Gala Name'!C$5,\"\",LEFT(A2571,1)&B2571&C2571)","v":"M1687"},0.46632922799999998]
["Male",16,88,0.44224700700000003,null,{"$f":"IF(C2572<'Gala Name'!C$5,\"\",LEFT(A2572,1)&B2572&C2572)","v":"M1688"},0.44224700700000003]
["Male",16,89,0.416142393,null,{"$f":"IF(C2573<'Gala Name'!C$5,\"\",LEFT(A2573,1)&B2573&C2573)","v":"M1689"},0.416142393]
["Male",16,90,0.38776360199999999,null,{"$f":"IF(C2574<'Gala Name'!C$5,\"\",LEFT(A2574,1)&B2574&C2574)","v":"M1690"},0.38776360199999999]
["Male",16,91,0.35683536399999999,null,{"$f":"IF(C2575<'Gala Name'!C$5,\"\",LEFT(A2575,1)&B2575&C2575)","v":"M1691"},0.35683536399999999]
["Male",16,92,0.32305758400000001,null,{"$f":"IF(C2576<'Gala Name'!C$5,\"\",LEFT(A2576,1)&B2576&C2576)","v":"M1692"},0.32305758400000001]
["Male",16,93,0.28610396900000001,null,{"$f":"IF(C2577<'Gala Name'!C$5,\"\",LEFT(A2577,1)&B2577&C2577)","v":"M1693"},0.28610396900000001]
["Male",16,94,0.24562061900000001,null,{"$f":"IF(C2578<'Gala Name'!C$5,\"\",LEFT(A2578,1)&B2578&C2578)","v":"M1694"},0.24562061900000001]
["Male",16,95,0.20122458100000001,null,{"$f":"IF(C2579<'Gala Name'!C$5,\"\",LEFT(A2579,1)&B2579&C2579)","v":"M1695"},0.20122458100000001]
["Male",16,96,0.15250237,null,{"$f":"IF(C2580<'Gala Name'!C$5,\"\",LEFT(A2580,1)&B2580&C2580)","v":"M1696"},0.15250237]
["Male",16,97,9.9008451999999997E-2,null,{"$f":"IF(C2581<'Gala Name'!C$5,\"\",LEFT(A2581,1)&B2581&C2581)","v":"M1697"},9.9008451999999997E-2]
["Male",16,98,4.0263693000000003E-2,null,{"$f":"IF(C2582<'Gala Name'!C$5,\"\",LEFT(A2582,1)&B2582&C2582)","v":"M1698"},4.0263693000000003E-2]
["Male",16,99,-2.4246228000000002E-2,null,{"$f":"IF(C2583<'Gala Name'!C$5,\"\",LEFT(A2583,1)&B2583&C2583)","v":"M1699"},-2.4246228000000002E-2]
["Male",16,100,-9.5072440999999994E-2,null,{"$f":"IF(C2584<'Gala Name'!C$5,\"\",LEFT(A2584,1)&B2584&C2584)","v":"M16100"},-9.5072440999999994E-2]
["Male",17,25,1.000276806,null,{"$f":"IF(C2585<'Gala Name'!C$5,\"\",LEFT(A2585,1)&B2585&C2585)","v":"M1725"},1.000276806]
["Male",17,26,0.99648407800000005,null,{"$f":"IF(C2586<'Gala Name'!C$5,\"\",LEFT(A2586,1)&B2586&C2586)","v":"M1726"},0.99648407800000005]
["Male",17,27,0.99245252900000003,null,{"$f":"IF(C2587<'Gala Name'!C$5,\"\",LEFT(A2587,1)&B2587&C2587)","v":"M1727"},0.99245252900000003]
["Male",17,28,0.98828727299999997,null,{"$f":"IF(C2588<'Gala Name'!C$5,\"\",LEFT(A2588,1)&B2588&C2588)","v":"M1728"},0.98828727299999997]
["Male",17,29,0.98407264699999997,null,{"$f":"IF(C2589<'Gala Name'!C$5,\"\",LEFT(A2589,1)&B2589&C2589)","v":"M1729"},0.98407264699999997]
["Male",17,30,0.97987410399999997,null,{"$f":"IF(C2590<'Gala Name'!C$5,\"\",LEFT(A2590,1)&B2590&C2590)","v":"M1730"},0.97987410399999997]
["Male",17,31,0.97574003799999998,null,{"$f":"IF(C2591<'Gala Name'!C$5,\"\",LEFT(A2591,1)&B2591&C2591)","v":"M1731"},0.97574003799999998]
["Male",17,32,0.97170353099999995,null,{"$f":"IF(C2592<'Gala Name'!C$5,\"\",LEFT(A2592,1)&B2592&C2592)","v":"M1732"},0.97170353099999995]
["Male",17,33,0.96778403099999999,null,{"$f":"IF(C2593<'Gala Name'!C$5,\"\",LEFT(A2593,1)&B2593&C2593)","v":"M1733"},0.96778403099999999]
["Male",17,34,0.96398894800000001,null,{"$f":"IF(C2594<'Gala Name'!C$5,\"\",LEFT(A2594,1)&B2594&C2594)","v":"M1734"},0.96398894800000001]
["Male",17,35,0.96031519200000004,null,{"$f":"IF(C2595<'Gala Name'!C$5,\"\",LEFT(A2595,1)&B2595&C2595)","v":"M1735"},0.96031519200000004]
["Male",17,36,0.95675062099999997,null,{"$f":"IF(C2596<'Gala Name'!C$5,\"\",LEFT(A2596,1)&B2596&C2596)","v":"M1736"},0.95675062099999997]
["Male",17,37,0.95327542700000001,null,{"$f":"IF(C2597<'Gala Name'!C$5,\"\",LEFT(A2597,1)&B2597&C2597)","v":"M1737"},0.95327542700000001]
["Male",17,38,0.94986344700000003,null,{"$f":"IF(C2598<'Gala Name'!C$5,\"\",LEFT(A2598,1)&B2598&C2598)","v":"M1738"},0.94986344700000003]
["Male",17,39,0.94648339500000001,null,{"$f":"IF(C2599<'Gala Name'!C$5,\"\",LEFT(A2599,1)&B2599&C2599)","v":"M1739"},0.94648339500000001]
["Male",17,40,0.94310002900000001,null,{"$f":"IF(C2600<'Gala Name'!C$5,\"\",LEFT(A2600,1)&B2600&C2600)","v":"M1740"},0.94310002900000001]
["Male",17,41,0.93967523799999997,null,{"$f":"IF(C2601<'Gala Name'!C$5,\"\",LEFT(A2601,1)&B2601&C2601)","v":"M1741"},0.93967523799999997]
["Male",17,42,0.93616906099999997,null,{"$f":"IF(C2602<'Gala Name'!C$5,\"\",LEFT(A2602,1)&B2602&C2602)","v":"M1742"},0.93616906099999997]
["Male",17,43,0.93254062800000004,null,{"$f":"IF(C2603<'Gala Name'!C$5,\"\",LEFT(A2603,1)&B2603&C2603)","v":"M1743"},0.93254062800000004]
["Male",17,44,0.92874903200000003,null,{"$f":"IF(C2604<'Gala Name'!C$5,\"\",LEFT(A2604,1)&B2604&C2604)","v":"M1744"},0.92874903200000003]
["Male",17,45,0.92475412400000001,null,{"$f":"IF(C2605<'Gala Name'!C$5,\"\",LEFT(A2605,1)&B2605&C2605)","v":"M1745"},0.92475412400000001]
["Male",17,46,0.92051723900000004,null,{"$f":"IF(C2606<'Gala Name'!C$5,\"\",LEFT(A2606,1)&B2606&C2606)","v":"M1746"},0.92051723900000004]
["Male",17,47,0.91600184600000001,null,{"$f":"IF(C2607<'Gala Name'!C$5,\"\",LEFT(A2607,1)&B2607&C2607)","v":"M1747"},0.91600184600000001]
["Male",17,48,0.911174123,null,{"$f":"IF(C2608<'Gala Name'!C$5,\"\",LEFT(A2608,1)&B2608&C2608)","v":"M1748"},0.911174123]
["Male",17,49,0.90600346399999998,null,{"$f":"IF(C2609<'Gala Name'!C$5,\"\",LEFT(A2609,1)&B2609&C2609)","v":"M1749"},0.90600346399999998]
["Male",17,50,0.90046290799999995,null,{"$f":"IF(C2610<'Gala Name'!C$5,\"\",LEFT(A2610,1)&B2610&C2610)","v":"M1750"},0.90046290799999995]
["Male",17,51,0.89452949900000001,null,{"$f":"IF(C2611<'Gala Name'!C$5,\"\",LEFT(A2611,1)&B2611&C2611)","v":"M1751"},0.89452949900000001]
["Male",17,52,0.88818456599999995,null,{"$f":"IF(C2612<'Gala Name'!C$5,\"\",LEFT(A2612,1)&B2612&C2612)","v":"M1752"},0.88818456599999995]
["Male",17,53,0.88141394100000003,null,{"$f":"IF(C2613<'Gala Name'!C$5,\"\",LEFT(A2613,1)&B2613&C2613)","v":"M1753"},0.88141394100000003]
["Male",17,54,0.87420808900000002,null,{"$f":"IF(C2614<'Gala Name'!C$5,\"\",LEFT(A2614,1)&B2614&C2614)","v":"M1754"},0.87420808900000002]
["Male",17,55,0.86656217999999996,null,{"$f":"IF(C2615<'Gala Name'!C$5,\"\",LEFT(A2615,1)&B2615&C2615)","v":"M1755"},0.86656217999999996]
["Male",17,56,0.85847607699999995,null,{"$f":"IF(C2616<'Gala Name'!C$5,\"\",LEFT(A2616,1)&B2616&C2616)","v":"M1756"},0.85847607699999995]
["Male",17,57,0.84995425400000002,null,{"$f":"IF(C2617<'Gala Name'!C$5,\"\",LEFT(A2617,1)&B2617&C2617)","v":"M1757"},0.84995425400000002]
["Male",17,58,0.84100564300000002,null,{"$f":"IF(C2618<'Gala Name'!C$5,\"\",LEFT(A2618,1)&B2618&C2618)","v":"M1758"},0.84100564300000002]
["Male",17,59,0.83164340599999997,null,{"$f":"IF(C2619<'Gala Name'!C$5,\"\",LEFT(A2619,1)&B2619&C2619)","v":"M1759"},0.83164340599999997]
["Male",17,60,0.82188463099999998,null,{"$f":"IF(C2620<'Gala Name'!C$5,\"\",LEFT(A2620,1)&B2620&C2620)","v":"M1760"},0.82188463099999998]
["Male",17,61,0.81174996099999996,null,{"$f":"IF(C2621<'Gala Name'!C$5,\"\",LEFT(A2621,1)&B2621&C2621)","v":"M1761"},0.81174996099999996]
["Male",17,62,0.80126314499999995,null,{"$f":"IF(C2622<'Gala Name'!C$5,\"\",LEFT(A2622,1)&B2622&C2622)","v":"M1762"},0.80126314499999995]
["Male",17,63,0.79045051600000005,null,{"$f":"IF(C2623<'Gala Name'!C$5,\"\",LEFT(A2623,1)&B2623&C2623)","v":"M1763"},0.79045051600000005]
["Male",17,64,0.77934040000000004,null,{"$f":"IF(C2624<'Gala Name'!C$5,\"\",LEFT(A2624,1)&B2624&C2624)","v":"M1764"},0.77934040000000004]
["Male",17,65,0.76796244400000002,null,{"$f":"IF(C2625<'Gala Name'!C$5,\"\",LEFT(A2625,1)&B2625&C2625)","v":"M1765"},0.76796244400000002]
["Male",17,66,0.75634688100000003,null,{"$f":"IF(C2626<'Gala Name'!C$5,\"\",LEFT(A2626,1)&B2626&C2626)","v":"M1766"},0.75634688100000003]
["Male",17,67,0.74452371100000003,null,{"$f":"IF(C2627<'Gala Name'!C$5,\"\",LEFT(A2627,1)&B2627&C2627)","v":"M1767"},{"$f":"D2627","v":0.74452371100000003}]
["Male",17,68,0.73252181699999996,null,{"$f":"IF(C2628<'Gala Name'!C$5,\"\",LEFT(A2628,1)&B2628&C2628)","v":"M1768"},0.73252181699999996]
["Male",17,69,0.720368008,null,{"$f":"IF(C2629<'Gala Name'!C$5,\"\",LEFT(A2629,1)&B2629&C2629)","v":"M1769"},0.720368008]
["Male",17,70,0.70808597699999998,null,{"$f":"IF(C2630<'Gala Name'!C$5,\"\",LEFT(A2630,1)&B2630&C2630)","v":"M1770"},0.70808597699999998]
["Male",17,71,0.69569520399999996,null,{"$f":"IF(C2631<'Gala Name'!C$5,\"\",LEFT(A2631,1)&B2631&C2631)","v":"M1771"},0.69569520399999996]
["Male",17,72,0.683209768,null,{"$f":"IF(C2632<'Gala Name'!C$5,\"\",LEFT(A2632,1)&B2632&C2632)","v":"M1772"},0.683209768]
["Male",17,73,0.67063710099999996,null,{"$f":"IF(C2633<'Gala Name'!C$5,\"\",LEFT(A2633,1)&B2633&C2633)","v":"M1773"},0.67063710099999996]
["Male",17,74,0.65797665699999996,null,{"$f":"IF(C2634<'Gala Name'!C$5,\"\",LEFT(A2634,1)&B2634&C2634)","v":"M1774"},0.65797665699999996]
["Male",17,75,0.64521851600000002,null,{"$f":"IF(C2635<'Gala Name'!C$5,\"\",LEFT(A2635,1)&B2635&C2635)","v":"M1775"},0.64521851600000002]
["Male",17,76,0.63234190700000004,null,{"$f":"IF(C2636<'Gala Name'!C$5,\"\",LEFT(A2636,1)&B2636&C2636)","v":"M1776"},0.63234190700000004]
["Male",17,77,0.61931366799999998,null,{"$f":"IF(C2637<'Gala Name'!C$5,\"\",LEFT(A2637,1)&B2637&C2637)","v":"M1777"},0.61931366799999998]
["Male",17,78,0.60608662099999999,null,{"$f":"IF(C2638<'Gala Name'!C$5,\"\",LEFT(A2638,1)&B2638&C2638)","v":"M1778"},0.60608662099999999]
["Male",17,79,0.59259788599999996,null,{"$f":"IF(C2639<'Gala Name'!C$5,\"\",LEFT(A2639,1)&B2639&C2639)","v":"M1779"},0.59259788599999996]
["Male",17,80,0.57876710899999995,null,{"$f":"IF(C2640<'Gala Name'!C$5,\"\",LEFT(A2640,1)&B2640&C2640)","v":"M1780"},0.57876710899999995]
["Male",17,81,0.56449462800000005,null,{"$f":"IF(C2641<'Gala Name'!C$5,\"\",LEFT(A2641,1)&B2641&C2641)","v":"M1781"},0.56449462800000005]
["Male",17,82,0.54965956000000005,null,{"$f":"IF(C2642<'Gala Name'!C$5,\"\",LEFT(A2642,1)&B2642&C2642)","v":"M1782"},0.54965956000000005]
["Male",17,83,0.534117815,null,{"$f":"IF(C2643<'Gala Name'!C$5,\"\",LEFT(A2643,1)&B2643&C2643)","v":"M1783"},0.534117815]
["Male",17,84,0.51770003899999995,null,{"$f":"IF(C2644<'Gala Name'!C$5,\"\",LEFT(A2644,1)&B2644&C2644)","v":"M1784"},0.51770003899999995]
["Male",17,85,0.50020948099999996,null,{"$f":"IF(C2645<'Gala Name'!C$5,\"\",LEFT(A2645,1)&B2645&C2645)","v":"M1785"},0.50020948099999996]
["Male",17,86,0.48141979000000001,null,{"$f":"IF(C2646<'Gala Name'!C$5,\"\",LEFT(A2646,1)&B2646&C2646)","v":"M1786"},0.48141979000000001]
["Male",17,87,0.46107273500000001,null,{"$f":"IF(C2647<'Gala Name'!C$5,\"\",LEFT(A2647,1)&B2647&C2647)","v":"M1787"},0.46107273500000001]
["Male",17,88,0.43887585699999998,null,{"$f":"IF(C2648<'Gala Name'!C$5,\"\",LEFT(A2648,1)&B2648&C2648)","v":"M1788"},0.43887585699999998]
["Male",17,89,0.41450004099999999,null,{"$f":"IF(C2649<'Gala Name'!C$5,\"\",LEFT(A2649,1)&B2649&C2649)","v":"M1789"},0.41450004099999999]
["Male",17,90,0.38757702100000002,null,{"$f":"IF(C2650<'Gala Name'!C$5,\"\",LEFT(A2650,1)&B2650&C2650)","v":"M1790"},0.38757702100000002]
["Male",17,91,0.35769680799999998,null,{"$f":"IF(C2651<'Gala Name'!C$5,\"\",LEFT(A2651,1)&B2651&C2651)","v":"M1791"},0.35769680799999998]
["Male",17,92,0.32440504599999997,null,{"$f":"IF(C2652<'Gala Name'!C$5,\"\",LEFT(A2652,1)&B2652&C2652)","v":"M1792"},0.32440504599999997]
["Male",17,93,0.28720029699999999,null,{"$f":"IF(C2653<'Gala Name'!C$5,\"\",LEFT(A2653,1)&B2653&C2653)","v":"M1793"},0.28720029699999999]
["Male",17,94,0.24553124800000001,null,{"$f":"IF(C2654<'Gala Name'!C$5,\"\",LEFT(A2654,1)&B2654&C2654)","v":"M1794"},0.24553124800000001]
["Male",17,95,0.198793847,null,{"$f":"IF(C2655<'Gala Name'!C$5,\"\",LEFT(A2655,1)&B2655&C2655)","v":"M1795"},0.198793847]
["Male",17,96,0.14632836900000001,null,{"$f":"IF(C2656<'Gala Name'!C$5,\"\",LEFT(A2656,1)&B2656&C2656)","v":"M1796"},0.14632836900000001]
["Male",17,97,8.7416404000000003E-2,null,{"$f":"IF(C2657<'Gala Name'!C$5,\"\",LEFT(A2657,1)&B2657&C2657)","v":"M1797"},8.7416404000000003E-2]
["Male",17,98,2.1277773999999999E-2,null,{"$f":"IF(C2658<'Gala Name'!C$5,\"\",LEFT(A2658,1)&B2658&C2658)","v":"M1798"},2.1277773999999999E-2]
["Male",17,99,-5.2932623999999998E-2,null,{"$f":"IF(C2659<'Gala Name'!C$5,\"\",LEFT(A2659,1)&B2659&C2659)","v":"M1799"},-5.2932623999999998E-2]
["Male",17,100,-0.136128045,null,{"$f":"IF(C2660<'Gala Name'!C$5,\"\",LEFT(A2660,1)&B2660&C2660)","v":"M17100"},-0.136128045]
["Male",29,25,1.0016601190000001,null,{"$f":"IF(C2661<'Gala Name'!C$5,\"\",LEFT(A2661,1)&B2661&C2661)","v":"M2925"},1.0016601190000001]
["Male",29,26,1.0007902369999999,null,{"$f":"IF(C2662<'Gala Name'!C$5,\"\",LEFT(A2662,1)&B2662&C2662)","v":"M2926"},1.0007902369999999]
["Male",29,27,0.99979321300000001,null,{"$f":"IF(C2663<'Gala Name'!C$5,\"\",LEFT(A2663,1)&B2663&C2663)","v":"M2927"},0.99979321300000001]
["Male",29,28,0.99864306199999997,null,{"$f":"IF(C2664<'Gala Name'!C$5,\"\",LEFT(A2664,1)&B2664&C2664)","v":"M2928"},0.99864306199999997]
["Male",29,29,0.99731621599999998,null,{"$f":"IF(C2665<'Gala Name'!C$5,\"\",LEFT(A2665,1)&B2665&C2665)","v":"M2929"},0.99731621599999998]
["Male",29,30,0.99579149199999994,null,{"$f":"IF(C2666<'Gala Name'!C$5,\"\",LEFT(A2666,1)&B2666&C2666)","v":"M2930"},0.99579149199999994]
["Male",29,31,0.99405006299999998,null,{"$f":"IF(C2667<'Gala Name'!C$5,\"\",LEFT(A2667,1)&B2667&C2667)","v":"M2931"},0.99405006299999998]
["Male",29,32,0.99207541899999996,null,{"$f":"IF(C2668<'Gala Name'!C$5,\"\",LEFT(A2668,1)&B2668&C2668)","v":"M2932"},0.99207541899999996]
["Male",29,33,0.98985332000000004,null,{"$f":"IF(C2669<'Gala Name'!C$5,\"\",LEFT(A2669,1)&B2669&C2669)","v":"M2933"},0.98985332000000004]
["Male",29,34,0.98737174699999997,null,{"$f":"IF(C2670<'Gala Name'!C$5,\"\",LEFT(A2670,1)&B2670&C2670)","v":"M2934"},0.98737174699999997]
["Male",29,35,0.98462084000000005,null,{"$f":"IF(C2671<'Gala Name'!C$5,\"\",LEFT(A2671,1)&B2671&C2671)","v":"M2935"},0.98462084000000005]
["Male",29,36,0.98159283500000005,null,{"$f":"IF(C2672<'Gala Name'!C$5,\"\",LEFT(A2672,1)&B2672&C2672)","v":"M2936"},0.98159283500000005]
["Male",29,37,0.97828199299999996,null,{"$f":"IF(C2673<'Gala Name'!C$5,\"\",LEFT(A2673,1)&B2673&C2673)","v":"M2937"},0.97828199299999996]
["Male",29,38,0.97468452100000003,null,{"$f":"IF(C2674<'Gala Name'!C$5,\"\",LEFT(A2674,1)&B2674&C2674)","v":"M2938"},0.97468452100000003]
["Male",29,39,0.97079848800000001,null,{"$f":"IF(C2675<'Gala Name'!C$5,\"\",LEFT(A2675,1)&B2675&C2675)","v":"M2939"},0.97079848800000001]
["Male",29,40,0.96662373400000001,null,{"$f":"IF(C2676<'Gala Name'!C$5,\"\",LEFT(A2676,1)&B2676&C2676)","v":"M2940"},0.96662373400000001]
["Male",29,41,0.96216177199999997,null,{"$f":"IF(C2677<'Gala Name'!C$5,\"\",LEFT(A2677,1)&B2677&C2677)","v":"M2941"},0.96216177199999997]
["Male",29,42,0.95741568499999996,null,{"$f":"IF(C2678<'Gala Name'!C$5,\"\",LEFT(A2678,1)&B2678&C2678)","v":"M2942"},0.95741568499999996]
["Male",29,43,0.95239001400000001,null,{"$f":"IF(C2679<'Gala Name'!C$5,\"\",LEFT(A2679,1)&B2679&C2679)","v":"M2943"},0.95239001400000001]
["Male",29,44,0.94709064300000001,null,{"$f":"IF(C2680<'Gala Name'!C$5,\"\",LEFT(A2680,1)&B2680&C2680)","v":"M2944"},0.94709064300000001]
["Male",29,45,0.94152467399999995,null,{"$f":"IF(C2681<'Gala Name'!C$5,\"\",LEFT(A2681,1)&B2681&C2681)","v":"M2945"},0.94152467399999995]
["Male",29,46,0.93570029600000004,null,{"$f":"IF(C2682<'Gala Name'!C$5,\"\",LEFT(A2682,1)&B2682&C2682)","v":"M2946"},0.93570029600000004]
["Male",29,47,0.92962665200000005,null,{"$f":"IF(C2683<'Gala Name'!C$5,\"\",LEFT(A2683,1)&B2683&C2683)","v":"M2947"},0.92962665200000005]
["Male",29,48,0.92331369200000002,null,{"$f":"IF(C2684<'Gala Name'!C$5,\"\",LEFT(A2684,1)&B2684&C2684)","v":"M2948"},0.92331369200000002]
["Male",29,49,0.91677202499999999,null,{"$f":"IF(C2685<'Gala Name'!C$5,\"\",LEFT(A2685,1)&B2685&C2685)","v":"M2949"},0.91677202499999999]
["Male",29,50,0.910012763,null,{"$f":"IF(C2686<'Gala Name'!C$5,\"\",LEFT(A2686,1)&B2686&C2686)","v":"M2950"},0.910012763]
["Male",29,51,0.90304735899999999,null,{"$f":"IF(C2687<'Gala Name'!C$5,\"\",LEFT(A2687,1)&B2687&C2687)","v":"M2951"},0.90304735899999999]
["Male",29,52,0.89588743699999995,null,{"$f":"IF(C2688<'Gala Name'!C$5,\"\",LEFT(A2688,1)&B2688&C2688)","v":"M2952"},0.89588743699999995]
["Male",29,53,0.88854461600000001,null,{"$f":"IF(C2689<'Gala Name'!C$5,\"\",LEFT(A2689,1)&B2689&C2689)","v":"M2953"},0.88854461600000001]
["Male",29,54,0.88103032800000003,null,{"$f":"IF(C2690<'Gala Name'!C$5,\"\",LEFT(A2690,1)&B2690&C2690)","v":"M2954"},0.88103032800000003]
["Male",29,55,0.87335563100000002,null,{"$f":"IF(C2691<'Gala Name'!C$5,\"\",LEFT(A2691,1)&B2691&C2691)","v":"M2955"},{"$f":"D2691","v":0.87335563100000002}]
["Male",29,56,0.86553101099999996,null,{"$f":"IF(C2692<'Gala Name'!C$5,\"\",LEFT(A2692,1)&B2692&C2692)","v":"M2956"},0.86553101099999996]
["Male",29,57,0.85756618299999998,null,{"$f":"IF(C2693<'Gala Name'!C$5,\"\",LEFT(A2693,1)&B2693&C2693)","v":"M2957"},0.85756618299999998]
["Male",29,58,0.84946988099999998,null,{"$f":"IF(C2694<'Gala Name'!C$5,\"\",LEFT(A2694,1)&B2694&C2694)","v":"M2958"},0.84946988099999998]
["Male",29,59,0.84124964499999999,null,{"$f":"IF(C2695<'Gala Name'!C$5,\"\",LEFT(A2695,1)&B2695&C2695)","v":"M2959"},0.84124964499999999]
["Male",29,60,0.83291159599999998,null,{"$f":"IF(C2696<'Gala Name'!C$5,\"\",LEFT(A2696,1)&B2696&C2696)","v":"M2960"},0.83291159599999998]
["Male",29,61,0.82446021300000005,null,{"$f":"IF(C2697<'Gala Name'!C$5,\"\",LEFT(A2697,1)&B2697&C2697)","v":"M2961"},0.82446021300000005]
["Male",29,62,0.81589809700000004,null,{"$f":"IF(C2698<'Gala Name'!C$5,\"\",LEFT(A2698,1)&B2698&C2698)","v":"M2962"},0.81589809700000004]
["Male",29,63,0.807225729,null,{"$f":"IF(C2699<'Gala Name'!C$5,\"\",LEFT(A2699,1)&B2699&C2699)","v":"M2963"},0.807225729]
["Male",29,64,0.79844122299999998,null,{"$f":"IF(C2700<'Gala Name'!C$5,\"\",LEFT(A2700,1)&B2700&C2700)","v":"M2964"},0.79844122299999998]
["Male",29,65,0.78954007400000004,null,{"$f":"IF(C2701<'Gala Name'!C$5,\"\",LEFT(A2701,1)&B2701&C2701)","v":"M2965"},0.78954007400000004]
["Male",29,66,0.78051489600000001,null,{"$f":"IF(C2702<'Gala Name'!C$5,\"\",LEFT(A2702,1)&B2702&C2702)","v":"M2966"},0.78051489600000001]
["Male",29,67,0.77135515499999996,null,{"$f":"IF(C2703<'Gala Name'!C$5,\"\",LEFT(A2703,1)&B2703&C2703)","v":"M2967"},0.77135515499999996]
["Male",29,68,0.76204689800000003,null,{"$f":"IF(C2704<'Gala Name'!C$5,\"\",LEFT(A2704,1)&B2704&C2704)","v":"M2968"},0.76204689800000003]
["Male",29,69,0.75257247000000005,null,{"$f":"IF(C2705<'Gala Name'!C$5,\"\",LEFT(A2705,1)&B2705&C2705)","v":"M2969"},0.75257247000000005]
["Male",29,70,0.74291023,null,{"$f":"IF(C2706<'Gala Name'!C$5,\"\",LEFT(A2706,1)&B2706&C2706)","v":"M2970"},0.74291023]
["Male",29,71,0.73303425600000005,null,{"$f":"IF(C2707<'Gala Name'!C$5,\"\",LEFT(A2707,1)&B2707&C2707)","v":"M2971"},0.73303425600000005]
["Male",29,72,0.722914049,null,{"$f":"IF(C2708<'Gala Name'!C$5,\"\",LEFT(A2708,1)&B2708&C2708)","v":"M2972"},0.722914049]
["Male",29,73,0.71251422399999997,null,{"$f":"IF(C2709<'Gala Name'!C$5,\"\",LEFT(A2709,1)&B2709&C2709)","v":"M2973"},0.71251422399999997]
["Male",29,74,0.70179419799999998,null,{"$f":"IF(C2710<'Gala Name'!C$5,\"\",LEFT(A2710,1)&B2710&C2710)","v":"M2974"},0.70179419799999998]
["Male",29,75,0.69070787099999997,null,{"$f":"IF(C2711<'Gala Name'!C$5,\"\",LEFT(A2711,1)&B2711&C2711)","v":"M2975"},0.69070787099999997]
["Male",29,76,0.67920330500000003,null,{"$f":"IF(C2712<'Gala Name'!C$5,\"\",LEFT(A2712,1)&B2712&C2712)","v":"M2976"},0.67920330500000003]
["Male",29,77,0.66722238300000003,null,{"$f":"IF(C2713<'Gala Name'!C$5,\"\",LEFT(A2713,1)&B2713&C2713)","v":"M2977"},0.66722238300000003]
["Male",29,78,0.654700481,null,{"$f":"IF(C2714<'Gala Name'!C$5,\"\",LEFT(A2714,1)&B2714&C2714)","v":"M2978"},0.654700481]
["Male",29,79,0.64156611399999997,null,{"$f":"IF(C2715<'Gala Name'!C$5,\"\",LEFT(A2715,1)&B2715&C2715)","v":"M2979"},0.64156611399999997]
["Male",29,80,0.62774059000000004,null,{"$f":"IF(C2716<'Gala Name'!C$5,\"\",LEFT(A2716,1)&B2716&C2716)","v":"M2980"},0.62774059000000004]
["Male",29,81,0.61313765099999995,null,{"$f":"IF(C2717<'Gala Name'!C$5,\"\",LEFT(A2717,1)&B2717&C2717)","v":"M2981"},0.61313765099999995]
["Male",29,82,0.59766310700000003,null,{"$f":"IF(C2718<'Gala Name'!C$5,\"\",LEFT(A2718,1)&B2718&C2718)","v":"M2982"},0.59766310700000003]
["Male",29,83,0.58121446499999996,null,{"$f":"IF(C2719<'Gala Name'!C$5,\"\",LEFT(A2719,1)&B2719&C2719)","v":"M2983"},0.58121446499999996]
["Male",29,84,0.563680556,null,{"$f":"IF(C2720<'Gala Name'!C$5,\"\",LEFT(A2720,1)&B2720&C2720)","v":"M2984"},0.563680556]
["Male",29,85,0.54494114199999999,null,{"$f":"IF(C2721<'Gala Name'!C$5,\"\",LEFT(A2721,1)&B2721&C2721)","v":"M2985"},0.54494114199999999]
["Male",29,86,0.52486653599999999,null,{"$f":"IF(C2722<'Gala Name'!C$5,\"\",LEFT(A2722,1)&B2722&C2722)","v":"M2986"},0.52486653599999999]
["Male",29,87,0.50331719600000002,null,{"$f":"IF(C2723<'Gala Name'!C$5,\"\",LEFT(A2723,1)&B2723&C2723)","v":"M2987"},0.50331719600000002]
["Male",29,88,0.48014332700000001,null,{"$f":"IF(C2724<'Gala Name'!C$5,\"\",LEFT(A2724,1)&B2724&C2724)","v":"M2988"},0.48014332700000001]
["Male",29,89,0.45518446800000001,null,{"$f":"IF(C2725<'Gala Name'!C$5,\"\",LEFT(A2725,1)&B2725&C2725)","v":"M2989"},0.45518446800000001]
["Male",29,90,0.428269077,null,{"$f":"IF(C2726<'Gala Name'!C$5,\"\",LEFT(A2726,1)&B2726&C2726)","v":"M2990"},0.428269077]
["Male",29,91,0.39921410800000001,null,{"$f":"IF(C2727<'Gala Name'!C$5,\"\",LEFT(A2727,1)&B2727&C2727)","v":"M2991"},0.39921410800000001]
["Male",29,92,0.36782457899999998,null,{"$f":"IF(C2728<'Gala Name'!C$5,\"\",LEFT(A2728,1)&B2728&C2728)","v":"M2992"},0.36782457899999998]
["Male",29,93,0.33389313900000001,null,{"$f":"IF(C2729<'Gala Name'!C$5,\"\",LEFT(A2729,1)&B2729&C2729)","v":"M2993"},0.33389313900000001]
["Male",29,94,0.29719962300000002,null,{"$f":"IF(C2730<'Gala Name'!C$5,\"\",LEFT(A2730,1)&B2730&C2730)","v":"M2994"},0.29719962300000002]
["Male",29,95,0.257510605,null,{"$f":"IF(C2731<'Gala Name'!C$5,\"\",LEFT(A2731,1)&B2731&C2731)","v":"M2995"},0.257510605]
["Male",29,96,0.214578939,null,{"$f":"IF(C2732<'Gala Name'!C$5,\"\",LEFT(A2732,1)&B2732&C2732)","v":"M2996"},0.214578939]
["Male",29,97,0.16814330199999999,null,{"$f":"IF(C2733<'Gala Name'!C$5,\"\",LEFT(A2733,1)&B2733&C2733)","v":"M2997"},0.16814330199999999]
["Male",29,98,0.117927718,null,{"$f":"IF(C2734<'Gala Name'!C$5,\"\",LEFT(A2734,1)&B2734&C2734)","v":"M2998"},0.117927718]
["Male",29,99,6.3641089999999997E-2,null,{"$f":"IF(C2735<'Gala Name'!C$5,\"\",LEFT(A2735,1)&B2735&C2735)","v":"M2999"},6.3641089999999997E-2]
["Male",29,100,4.9767140000000001E-3,null,{"$f":"IF(C2736<'Gala Name'!C$5,\"\",LEFT(A2736,1)&B2736&C2736)","v":"M29100"},4.9767140000000001E-3]

{"sheet":"Input Results","index":7,"n_rows":544,"n_cols":30,"rows_kept":544,"cut":false,"hidden":true,"merged":[]}
[]
[null,{"$f":"COUNTA(Teams!C3:C10)","v":0}]
[]
[null,"Event","Event","Lane","Club","Swimmer Name","Date of Birth","Age","Swimmer - HIDE","Time","DSQ Reason","Ref Placed","Format","Numeric",null,"Place","Points",{"$f":"D4","v":"Lane"},"*","Place","Lane","*",1,null,"ASA","Sex","Combined","Conversion","Adj Time","Masters Rank"]
[{"$f":"IF(J5=\"\",\"\",B5)","v":""},1,{"$f":"IF(D5=1,VLOOKUP(B5,Events!B:H,6,FALSE)&VLOOKUP(B5,Events!B:H,7,FALSE),\"\")","v":"   "},1,{"$f":"IF(D5=\"\",\"\",IF(VLOOKUP(D5,Teams!$B$3:$C$10,2,FALSE)=\"\",\"\",VLOOKUP(D5,Teams!$B$3:$C$10,2,FALSE)))","v":""},null,null,{"$f":"IF(G5=\"\",\"\",YEAR('Gala Name'!$C$9)-YEAR(G5))","v":""},{"$f":"IF(IF(J5=\"DSQ\",PROPER(K5),PROPER(F5))=\"\",\"\",IF(J5=\"DSQ\",PROPER(K5),PROPER(F5)))","v":""},null,{"$f":"IF(J5=\"DSQ\",\"Enter Reason\",\"\")","v":""},{"$f":"IF(OR(J5=\"\",J5=\"DSQ\"),\"\",IF(OR(J5=J6,J5=J7,J5=J8,J5=J9,J5=J10,J5=J11,J5=J12),\"Enter Placings\",\"\"))","v":""},{"$f":"IF(J5=\"\",\"\",UPPER(TEXT(J5,\"0 00.00\")))","v":""},{"$f":"IF(J5=\"DSQ\",999999,IF(J5=\"DNF\",999999,IF(J5=\"\",\"\",IF(LEFT(M5,1)=\"0\",RIGHT(M5,5)*1,LEFT(J5,1)*60+RIGHT(M5,5)*1))))","v":""},null,{"$f":"IF(L5<>\"\",L5,IF(OR(J5=\"DNF\",J5=\"DSQ\"),0,IF(N5=\"\",\"\",RANK(N5,N5:N12,1))))","v":""},{"$f":"IF(P5=\"\",0,IF(P5=0,0,VLOOKUP(P:P,Points!B:C,2,FALSE)))","v":0},1,null,{"$f":"IF(P13>0.9,1,\"\")","v":""},{"$f":"IFERROR(IF(T5=\"\",\"\",VLOOKUP(T5,P5:R12,3,FALSE)),\"\")","v":""},null,1,null,{"$f":"IF(D5=\"\",\"\",IFERROR(VLOOKUP(B5,Events!B:L,11,FALSE),Y4))","v":""},{"$f":"IF(LEFT(C5,1)=\"\",Z4,LEFT(C5,1))","v":" "},{"$f":"Z5&Y5&H5","v":" "},{"$f":"IFERROR(VLOOKUP(AA:AA,'Masters Convertion'!F:G,2,FALSE),\"\")","v":""},{"$f":"IF(AB5=\"\",\"\",ROUNDDOWN(AB5*N5,2))","v":""},{"$f":"IF('Gala Name'!C$4=\"No\",\"\",IFERROR(RANK(N5,N5:N12,1),\"\"))","v":""}]
[{"$f":"IF(J6=\"\",\"\",B5)","v":""},null,null,2,{"$f":"IF(D6=\"\",\"\",IF(VLOOKUP(D6,Teams!$B$3:$C$10,2,FALSE)=\"\",\"\",VLOOKUP(D6,Teams!$B$3:$C$10,2,FALSE)))","v":""},null,null,{"$f":"IF(G6=\"\",\"\",YEAR('Gala Name'!$C$9)-YEAR(G6))","v":""},{"$f":"IF(IF(J6=\"DSQ\",PROPER(K6),PROPER(F6))=\"\",\"\",IF(J6=\"DSQ\",PROPER(K6),PROPER(F6)))","v":""},null,"",{"$f":"IF(OR(J6=\"\",J6=\"DSQ\"),\"\",IF(OR(J6=J5,J6=J7,J6=J8,J6=J9,J6=J10,J6=J11,J6=J12),\"Enter Placings\",\"\"))","v":""},{"$f":"IF(J6=\"\",\"\",UPPER(TEXT(J6,\"0 00.00\")))","v":""},{"$f":"IF(J6=\"DSQ\",999999,IF(J6=\"DNF\",999999,IF(J6=\"\",\"\",IF(LEFT(M6,1)=\"0\",RIGHT(M6,5)*1,LEFT(J6,1)*60+RIGHT(M6,5)*1))))","v":""},null,{"$f":"IF(L6<>\"\",L6,IF(OR(J6=\"DNF\",J6=\"DSQ\"),0,IF(N6=\"\",\"\",RANK(N6,N5:N12,1))))","v":""},{"$f":"IF(P6=\"\",0,IF(P6=0,0,VLOOKUP(P:P,Points!B:C,2,FALSE)))","v":0},2,null,{"$f":"IF(P13>1.9,2,\"\")","v":""},{"$f":"IFERROR(IF(T6=\"\",\"\",VLOOKUP(T6,P5:R12,3,FALSE)),\"\")","v":""},null,2,null,{"$f":"IF(D6=\"\",\"\",IFERROR(VLOOKUP(B6,Events!B:L,11,FALSE),Y5))","v":""}," ",{"$f":"Z6&Y6&H6","v":" "},{"$f":"IFERROR(VLOOKUP(AA:AA,'Masters Convertion'!F:G,2,FALSE),\"\")","v":""},{"$f":"IF(AB6=\"\",\"\",ROUNDDOWN(AB6*N6,2))","v":""},{"$f":"IF('Gala Name'!C$4=\"No\",\"\",IFERROR(RANK(N6,N6:N13,1),\"\"))","v":""}]
[{"$f":"IF(J7=\"\",\"\",B5)","v":""},null,null,3,{"$f":"IF(D7=\"\",\"\",IF(VLOOKUP(D7,Teams!$B$3:$C$10,2,FALSE)=\"\",\"\",VLOOKUP(D7,Teams!$B$3:$C$10,2,FALSE)))","v":""},null,null,{"$f":"IF(G7=\"\",\"\",YEAR('Gala Name'!$C$9)-YEAR(G7))","v":""},"",null,"",{"$f":"IF(OR(J7=\"\",J7=\"DSQ\"),\"\",IF(OR(J7=J5,J7=J6,J7=J8,J7=J9,J7=J10,J7=J11,J7=J12),\"Enter Placings\",\"\"))","v":""},"","",null,{"$f":"IF(L7<>\"\",L7,IF(OR(J7=\"DNF\",J7=\"DSQ\"),0,IF(N7=\"\",\"\",RANK(N7,N5:N12,1))))","v":""},{"$f":"IF(P7=\"\",0,IF(P7=0,0,VLOOKUP(P:P,Points!B:C,2,FALSE)))","v":0},3,null,{"$f":"IF(P13>2.9,3,\"\")","v":""},{"$f":"IFERROR(IF(T7=\"\",\"\",VLOOKUP(T7,P5:R12,3,FALSE)),\"\")","v":""},null,3,null,{"$f":"IF(D7=\"\",\"\",IFERROR(VLOOKUP(B7,Events!B:L,11,FALSE),Y6))","v":""}," "," ",{"$f":"IFERROR(VLOOKUP(AA:AA,'Masters Convertion'!F:G,2,FALSE),\"\")","v":""},{"$f":"IF(AB7=\"\",\"\",ROUNDDOWN(AB7*N7,2))","v":""},{"$f":"IF('Gala Name'!C$4=\"No\",\"\",IFERROR(RANK(N7,N7:N14,1),\"\"))","v":""}]
[{"$f":"IF(J8=\"\",\"\",B5)","v":""},null,null,4,{"$f":"IF(D8=\"\",\"\",IF(VLOOKUP(D8,Teams!$B$3:$C$10,2,FALSE)=\"\",\"\",VLOOKUP(D8,Teams!$B$3:$C$10,2,FALSE)))","v":""},null,null,{"$f":"IF(G8=\"\",\"\",YEAR('Gala Name'!$C$9)-YEAR(G8))","v":""},"",null,"",{"$f":"IF(OR(J8=\"\",J8=\"DSQ\"),\"\",IF(OR(J8=J5,J8=J6,J8=J7,J8=J9,J8=J10,J8=J11,J8=J12),\"Enter Placings\",\"\"))","v":""},"","",null,{"$f":"IF(L8<>\"\",L8,IF(OR(J8=\"DNF\",J8=\"DSQ\"),0,IF(N8=\"\",\"\",RANK(N8,N5:N12,1))))","v":""},{"$f":"IF(P8=\"\",0,IF(P8=0,0,VLOOKUP(P:P,Points!B:C,2,FALSE)))","v":0},4,null,{"$f":"IF(P13>3.9,4,\"\")","v":""},{"$f":"IFERROR(IF(T8=\"\",\"\",VLOOKUP(T8,P5:R12,3,FALSE)),\"\")","v":""},null,4,null,{"$f":"IF(D8=\"\",\"\",IFERROR(VLOOKUP(B8,Events!B:L,11,FALSE),Y7))","v":""}," "," ",{"$f":"IFERROR(VLOOKUP(AA:AA,'Masters Convertion'!F:G,2,FALSE),\"\")","v":""},{"$f":"IF(AB8=\"\",\"\",ROUNDDOWN(AB8*N8,2))","v":""},{"$f":"IF('Gala Name'!C$4=\"No\",\"\",IFERROR(RANK(N8,N8:N15,1),\"\"))","v":""}]
[{"$f":"IF(J9=\"\",\"\",B5)","v":""},null,null,5,{"$f":"IF(D9=\"\",\"\",IF(VLOOKUP(D9,Teams!$B$3:$C$10,2,FALSE)=\"\",\"\",VLOOKUP(D9,Teams!$B$3:$C$10,2,FALSE)))","v":""},null,null,{"$f":"IF(G9=\"\",\"\",YEAR('Gala Name'!$C$9)-YEAR(G9))","v":""},"",null,{"$f":"IF(J9=\"DSQ\",\"Enter Reason\",\"\")","v":""},{"$f":"IF(OR(J9=\"\",J9=\"DSQ\"),\"\",IF(OR(J9=J6,J9=J7,J9=J8,J9=J10,J9=J11,J9=J12,J9=J5),\"Enter Placings\",\"\"))","v":""},"","",null,{"$f":"IF(L9<>\"\",L9,IF(OR(J9=\"DNF\",J9=\"DSQ\"),0,IF(N9=\"\",\"\",RANK(N9,N5:N12,1))))","v":""},{"$f":"IF(P9=\"\",0,IF(P9=0,0,VLOOKUP(P:P,Points!B:C,2,FALSE)))","v":0},5,null,{"$f":"IF(P13>4.9,5,\"\")","v":""},{"$f":"IFERROR(IF(T9=\"\",\"\",VLOOKUP(T9,P5:R12,3,FALSE)),\"\")","v":""},null,5,null,{"$f":"IF(D9=\"\",\"\",IFERROR(VLOOKUP(B9,Events!B:L,11,FALSE),Y8))","v":""}," "," ",{"$f":"IFERROR(VLOOKUP(AA:AA,'Masters Convertion'!F:G,2,FALSE),\"\")","v":""},"",{"$f":"IF('Gala Name'!C$4=\"No\",\"\",IFERROR(RANK(N9,N9:N16,1),\"\"))","v":""}]
[{"$f":"IF(J10=\"\",\"\",B5)","v":""},null,null,6,{"$f":"IF(D10=\"\",\"\",IF(VLOOKUP(D10,Teams!$B$3:$C$10,2,FALSE)=\"\",\"\",VLOOKUP(D10,Teams!$B$3:$C$10,2,FALSE)))","v":""},null,null,{"$f":"IF(G10=\"\",\"\",YEAR('Gala Name'!$C$9)-YEAR(G10))","v":""},"",null,"",{"$f":"IF(OR(J10=\"\",J10=\"DSQ\"),\"\",IF(OR(J10=J7,J10=J8,J10=J9,J10=J11,J10=J12,J10=J6,J10=J5),\"Enter Placings\",\"\"))","v":""},"","",null,{"$f":"IF(L10<>\"\",L10,IF(OR(J10=\"DNF\",J10=\"DSQ\"),0,IF(N10=\"\",\"\",RANK(N10,N5:N12,1))))","v":""},{"$f":"IF(P10=\"\",0,IF(P10=0,0,VLOOKUP(P:P,Points!B:C,2,FALSE)))","v":0},6,null,{"$f":"IF(P13>5.9,6,\"\")","v":""},{"$f":"IFERROR(IF(T10=\"\",\"\",VLOOKUP(T10,P5:R12,3,FALSE)),\"\")","v":""},null,6,null,{"$f":"IF(D10=\"\",\"\",IFERROR(VLOOKUP(B10,Events!B:L,11,FALSE),Y9))","v":""}," "," ",{"$f":"IFERROR(VLOOKUP(AA:AA,'Masters Convertion'!F:G,2,FALSE),\"\")","v":""},"",{"$f":"IF('Gala Name'!C$4=\"No\",\"\",IFERROR(RANK(N10,N10:N17,1),\"\"))","v":""}]
[{"$f":"IF(J11=\"\",\"\",B5)","v":""},null,null,7,{"$f":"IF(D11=\"\",\"\",IF(VLOOKUP(D11,Teams!$B$3:$C$10,2,FALSE)=\"\",\"\",VLOOKUP(D11,Teams!$B$3:$C$10,2,FALSE)))","v":""},null,null,{"$f":"IF(G11=\"\",\"\",YEAR('Gala Name'!$C$9)-YEAR(G11))","v":""},"",null,"",{"$f":"IF(OR(J11=\"\",J11=\"DSQ\"),\"\",IF(OR(J11=J8,J11=J9,J11=J10,J11=J12,J11=J5,J11=J6,J11=J7),\"Enter Placings\",\"\"))","v":""},"","",null,{"$f":"IF(L11<>\"\",L11,IF(OR(J11=\"DNF\",J11=\"DSQ\"),0,IF(N11=\"\",\"\",RANK(N11,N5:N12,1))))","v":""},{"$f":"IF(P11=\"\",0,IF(P11=0,0,VLOOKUP(P:P,Points!B:C,2,FALSE)))","v":0},7,null,{"$f":"IF(P13>6.9,7,\"\")","v":""},{"$f":"IFERROR(IF(T11=\"\",\"\",VLOOKUP(T11,P5:R12,3,FALSE)),\"\")","v":""},null,7,null,{"$f":"IF(D11=\"\",\"\",IFERROR(VLOOKUP(B11,Events!B:L,11,FALSE),Y10))","v":""}," "," ",{"$f":"IFERROR(VLOOKUP(AA:AA,'Masters Convertion'!F:G,2,FALSE),\"\")","v":""},"",{"$f":"IF('Gala Name'!C$4=\"No\",\"\",IFERROR(RANK(N11,N11:N18,1),\"\"))","v":""}]
[{"$f":"IF(J12=\"\",\"\",B5)","v":""},null,null,8,{"$f":"IF(D12=\"\",\"\",IF(VLOOKUP(D12,Teams!$B$3:$C$10,2,FALSE)=\"\",\"\",VLOOKUP(D12,Teams!$B$3:$C$10,2,FALSE)))","v":""},null,null,{"$f":"IF(G12=\"\",\"\",YEAR('Gala Name'!$C$9)-YEAR(G12))","v":""},"",null,"",{"$f":"IF(OR(J12=\"\",J12=\"DSQ\"),\"\",IF(OR(J12=J9,J12=J10,J12=J11,J12=J5,J12=J6,J12=J7,J12=J8),\"Enter Placings\",\"\"))","v":""},"","",null,{"$f":"IF(L12<>\"\",L12,IF(OR(J12=\"DNF\",J12=\"DSQ\"),0,IF(N12=\"\",\"\",RANK(N12,N5:N12,1))))","v":""},{"$f":"IF(P12=\"\",0,IF(P12=0,0,VLOOKUP(P:P,Points!B:C,2,FALSE)))","v":0},8,null,{"$f":"IF(P13>7.9,8,\"\")","v":""},{"$f":"IFERROR(IF(T12=\"\",\"\",VLOOKUP(T12,P5:R12,3,FALSE)),\"\")","v":""},null,8,null,{"$f":"IF(D12=\"\",\"\",IFERROR(VLOOKUP(B12,Events!B:L,11,FALSE),Y11))","v":""}," "," ",{"$f":"IFERROR(VLOOKUP(AA:AA,'Masters Convertion'!F:G,2,FALSE),\"\")","v":""},"",{"$f":"IF('Gala Name'!C$4=\"No\",\"\",IFERROR(RANK(N12,N12:N19,1),\"\"))","v":""}]
[null,null,null,null,null,null,null,null,null,null,null,null,"","",null,{"$f":"MAX(P5:P12)","v":0},null,null,null,null,null,null,"*"]
["",{"$f":"B5+1","v":2},{"$f":"IF(D14=1,VLOOKUP(B14,Events!B:H,6,FALSE)&VLOOKUP(B14,Events!B:H,7,FALSE),\"\")","v":"   "},1,{"$f":"IF(D14=\"\",\"\",IF(VLOOKUP(D14,Teams!$B$3:$C$10,2,FALSE)=\"\",\"\",VLOOKUP(D14,Teams!$B$3:$C$10,2,FALSE)))","v":""},null,null,{"$f":"IF(G14=\"\",\"\",YEAR('Gala Name'!$C$9)-YEAR(G14))","v":""},"",null,"",{"$f":"IF(OR(J14=\"\",J14=\"DSQ\"),\"\",IF(OR(J14=J15,J14=J16,J14=J17,J14=J18,J14=J19,J14=J20,J14=J21),\"Enter Placings\",\"\"))","v":""},"","",null,{"$f":"IF(L14<>\"\",L14,IF(OR(J14=\"DNF\",J14=\"DSQ\"),0,IF(N14=\"\",\"\",RANK(N14,N13:N20,1))))","v":""},{"$f":"IF(P14=\"\",0,IF(P14=0,0,VLOOKUP(P:P,Points!B:C,2,FALSE)))","v":0},{"$f":"D14","v":1},null,{"$f":"IF(P22>0.9,1,\"\")","v":""},{"$f":"IFERROR(IF(T14=\"\",\"\",VLOOKUP(T14,P14:R21,3,FALSE)),\"\")","v":""},null,1,null,{"$f":"IF(D14=\"\",\"\",IFERROR(VLOOKUP(B14,Events!B:L,11,FALSE),Y13))","v":""},{"$f":"IF(LEFT(C14,1)=\"\",Z13,LEFT(C14,1))","v":" "}," ",{"$f":"IFERROR(VLOOKUP(AA:AA,'Masters Convertion'!F:G,2,FALSE),\"\")","v":""},"",{"$f":"IF('Gala Name'!C$4=\"No\",\"\",IFERROR(RANK(N14,N14:N21,1),\"\"))","v":""}]
[{"$f":"IF(J15=\"\",\"\",B14)","v":""},null,null,2,{"$f":"IF(D15=\"\",\"\",IF(VLOOKUP(D15,Teams!$B$3:$C$10,2,FALSE)=\"\",\"\",VLOOKUP(D15,Teams!$B$3:$C$10,2,FALSE)))","v":""},null,null,{"$f":"IF(G15=\"\",\"\",YEAR('Gala Name'!$C$9)-YEAR(G15))","v":""},"",null,"",{"$f":"IF(OR(J15=\"\",J15=\"DSQ\"),\"\",IF(OR(J15=J14,J15=J16,J15=J17,J15=J18,J15=J19,J15=J20,J15=J21),\"Enter Placings\",\"\"))","v":""},"","",null,{"$f":"IF(L15<>\"\",L15,IF(OR(J15=\"DNF\",J15=\"DSQ\"),0,IF(N15=\"\",\"\",RANK(N15,N14:N21,1))))","v":""},{"$f":"IF(P15=\"\",0,IF(P15=0,0,VLOOKUP(P:P,Points!B:C,2,FALSE)))","v":0},2,null,{"$f":"IF(P22>1.9,2,\"\")","v":""},{"$f":"IFERROR(IF(T15=\"\",\"\",VLOOKUP(T15,P14:R21,3,FALSE)),\"\")","v":""},null,2,null,{"$f":"IF(D15=\"\",\"\",IFERROR(VLOOKUP(B15,Events!B:L,11,FALSE),Y14))","v":""},{"$f":"IF(LEFT(C15,1)=\"\",Z14,LEFT(C15,1))","v":" "}," ",{"$f":"IFERROR(VLOOKUP(AA:AA,'Masters Convertion'!F:G,2,FALSE),\"\")","v":""},"",{"$f":"IF('Gala Name'!C$4=\"No\",\"\",IFERROR(RANK(N15,N15:N22,1),\"\"))","v":""}]
[{"$f":"IF(J16=\"\",\"\",B14)","v":""},null,null,3,{"$f":"IF(D16=\"\",\"\",IF(VLOOKUP(D16,Teams!$B$3:$C$10,2,FALSE)=\"\",\"\",VLOOKUP(D16,Teams!$B$3:$C$10,2,FALSE)))","v":""},null,null,{"$f":"IF(G16=\"\",\"\",YEAR('Gala Name'!$C$9)-YEAR(G16))","v":""},"",null,{"$f":"IF(J16=\"DSQ\",\"Enter Reason\",\"\")","v":""},"","","",null,{"$f":"IF(L16<>\"\",L16,IF(OR(J16=\"DNF\",J16=\"DSQ\"),0,IF(N16=\"\",\"\",RANK(N16,N14:N21,1))))","v":""},{"$f":"IF(P16=\"\",0,IF(P16=0,0,VLOOKUP(P:P,Points!B:C,2,FALSE)))","v":0},3,null,{"$f":"IF(P22>2.9,3,\"\")","v":""},{"$f":"IFERROR(IF(T16=\"\",\"\",VLOOKUP(T16,P14:R21,3,FALSE)),\"\")","v":""},null,3,null,{"$f":"IF(D16=\"\",\"\",IFERROR(VLOOKUP(B16,Events!B:L,11,FALSE),Y15))","v":""},{"$f":"IF(LEFT(C16,1)=\"\",Z15,LEFT(C16,1))","v":" "}," ",{"$f":"IFERROR(VLOOKUP(AA:AA,'Masters Convertion'!F:G,2,FALSE),\"\")","v":""},"",{"$f":"IF('Gala Name'!C$4=\"No\",\"\",IFERROR(RANK(N16,N16:N23,1),\"\"))","v":""}]
[{"$f":"IF(J17=\"\",\"\",B14)","v":""},null,null,4,{"$f":"IF(D17=\"\",\"\",IF(VLOOKUP(D17,Teams!$B$3:$C$10,2,FALSE)=\"\",\"\",VLOOKUP(D17,Teams!$B$3:$C$10,2,FALSE)))","v":""},null,null,{"$f":"IF(G17=\"\",\"\",YEAR('Gala Name'!$C$9)-YEAR(G17))","v":""},"",null,"","","","",null,{"$f":"IF(L17<>\"\",L17,IF(OR(J17=\"DNF\",J17=\"DSQ\"),0,IF(N17=\"\",\"\",RANK(N17,N14:N21,1))))","v":""},{"$f":"IF(P17=\"\",0,IF(P17=0,0,VLOOKUP(P:P,Points!B:C,2,FALSE)))","v":0},4,null,{"$f":"IF(P22>3.9,4,\"\")","v":""},{"$f":"IFERROR(IF(T17=\"\",\"\",VLOOKUP(T17,P14:R21,3,FALSE)),\"\")","v":""},null,4,null,{"$f":"IF(D17=\"\",\"\",IFERROR(VLOOKUP(B17,Events!B:L,11,FALSE),Y16))","v":""},{"$f":"IF(LEFT(C17,1)=\"\",Z16,LEFT(C17,1))","v":" "}," ",{"$f":"IFERROR(VLOOKUP(AA:AA,'Masters Convertion'!F:G,2,FALSE),\"\")","v":""},"",{"$f":"IF('Gala Name'!C$4=\"No\",\"\",IFERROR(RANK(N17,N17:N24,1),\"\"))","v":""}]
[{"$f":"IF(J18=\"\",\"\",B14)","v":""},null,null,5,{"$f":"IF(D18=\"\",\"\",IF(VLOOKUP(D18,Teams!$B$3:$C$10,2,FALSE)=\"\",\"\",VLOOKUP(D18,Teams!$B$3:$C$10,2,FALSE)))","v":""},null,null,{"$f":"IF(G18=\"\",\"\",YEAR('Gala Name'!$C$9)-YEAR(G18))","v":""},"",null,"","","","",null,{"$f":"IF(L18<>\"\",L18,IF(OR(J18=\"DNF\",J18=\"DSQ\"),0,IF(N18=\"\",\"\",RANK(N18,N14:N21,1))))","v":""},{"$f":"IF(P18=\"\",0,IF(P18=0,0,VLOOKUP(P:P,Points!B:C,2,FALSE)))","v":0},5,null,{"$f":"IF(P22>4.9,5,\"\")","v":""},{"$f":"IFERROR(IF(T18=\"\",\"\",VLOOKUP(T18,P14:R21,3,FALSE)),\"\")","v":""},null,5,null,{"$f":"IF(D18=\"\",\"\",IFERROR(VLOOKUP(B18,Events!B:L,11,FALSE),Y17))","v":""}," "," ",{"$f":"IFERROR(VLOOKUP(AA:AA,'Masters Convertion'!F:G,2,FALSE),\"\")","v":""},"",{"$f":"IF('Gala Name'!C$4=\"No\",\"\",IFERROR(RANK(N18,N18:N25,1),\"\"))","v":""}]
[{"$f":"IF(J19=\"\",\"\",B14)","v":""},null,null,6,{"$f":"IF(D19=\"\",\"\",IF(VLOOKUP(D19,Teams!$B$3:$C$10,2,FALSE)=\"\",\"\",VLOOKUP(D19,Teams!$B$3:$C$10,2,FALSE)))","v":""},null,null,{"$f":"IF(G19=\"\",\"\",YEAR('Gala Name'!$C$9)-YEAR(G19))","v":""},"",null,"","","","",null,{"$f":"IF(L19<>\"\",L19,IF(OR(J19=\"DNF\",J19=\"DSQ\"),0,IF(N19=\"\",\"\",RANK(N19,N14:N21,1))))","v":""},{"$f":"IF(P19=\"\",0,IF(P19=0,0,VLOOKUP(P:P,Points!B:C,2,FALSE)))","v":0},6,null,{"$f":"IF(P22>5.9,6,\"\")","v":""},{"$f":"IFERROR(IF(T19=\"\",\"\",VLOOKUP(T19,P14:R21,3,FALSE)),\"\")","v":""},null,6,null,{"$f":"IF(D19=\"\",\"\",IFERROR(VLOOKUP(B19,Events!B:L,11,FALSE),Y18))","v":""}," "," ",{"$f":"IFERROR(VLOOKUP(AA:AA,'Masters Convertion'!F:G,2,FALSE),\"\")","v":""},"",{"$f":"IF('Gala Name'!C$4=\"No\",\"\",IFERROR(RANK(N19,N19:N26,1),\"\"))","v":""}]
[{"$f":"IF(J20=\"\",\"\",B14)","v":""},null,null,7,{"$f":"IF(D20=\"\",\"\",IF(VLOOKUP(D20,Teams!$B$3:$C$10,2,FALSE)=\"\",\"\",VLOOKUP(D20,Teams!$B$3:$C$10,2,FALSE)))","v":""},null,null,{"$f":"IF(G20=\"\",\"\",YEAR('Gala Name'!$C$9)-YEAR(G20))","v":""},"",null,"","","","",null,{"$f":"IF(L20<>\"\",L20,IF(OR(J20=\"DNF\",J20=\"DSQ\"),0,IF(N20=\"\",\"\",RANK(N20,N14:N21,1))))","v":""},{"$f":"IF(P20=\"\",0,IF(P20=0,0,VLOOKUP(P:P,Points!B:C,2,FALSE)))","v":0},7,null,{"$f":"IF(P22>6.9,7,\"\")","v":""},{"$f":"IFERROR(IF(T20=\"\",\"\",VLOOKUP(T20,P14:R21,3,FALSE)),\"\")","v":""},null,7,null,{"$f":"IF(D20=\"\",\"\",IFERROR(VLOOKUP(B20,Events!B:L,11,FALSE),Y19))","v":""}," "," ",{"$f":"IFERROR(VLOOKUP(AA:AA,'Masters Convertion'!F:G,2,FALSE),\"\")","v":""},"",{"$f":"IF('Gala Name'!C$4=\"No\",\"\",IFERROR(RANK(N20,N20:N27,1),\"\"))","v":""}]
[{"$f":"IF(J21=\"\",\"\",B14)","v":""},null,null,8,{"$f":"IF(D21=\"\",\"\",IF(VLOOKUP(D21,Teams!$B$3:$C$10,2,FALSE)=\"\",\"\",VLOOKUP(D21,Teams!$B$3:$C$10,2,FALSE)))","v":""},null,null,{"$f":"IF(G21=\"\",\"\",YEAR('Gala Name'!$C$9)-YEAR(G21))","v":""},"",null,"","","","",null,{"$f":"IF(L21<>\"\",L21,IF(OR(J21=\"DNF\",J21=\"DSQ\"),0,IF(N21=\"\",\"\",RANK(N21,N14:N21,1))))","v":""},{"$f":"IF(P21=\"\",0,IF(P21=0,0,VLOOKUP(P:P,Points!B:C,2,FALSE)))","v":0},8,null,{"$f":"IF(P22>7.9,8,\"\")","v":""},{"$f":"IFERROR(IF(T21=\"\",\"\",VLOOKUP(T21,P14:R21,3,FALSE)),\"\")","v":""},null,8,null,{"$f":"IF(D21=\"\",\"\",IFERROR(VLOOKUP(B21,Events!B:L,11,FALSE),Y20))","v":""}," "," ",{"$f":"IFERROR(VLOOKUP(AA:AA,'Masters Convertion'!F:G,2,FALSE),\"\")","v":""},"",{"$f":"IF('Gala Name'!C$4=\"No\",\"\",IFERROR(RANK(N21,N21:N28,1),\"\"))","v":""}]
[null,null,null,null,null,null,null,null,null,null,null,null,"","",null,{"$f":"MAX(P14:P21)","v":0},null,null,null,null,null,null,"*"]
["",{"$f":"B14+1","v":3},{"$f":"IF(D23=1,VLOOKUP(B23,Events!B:H,6,FALSE)&VLOOKUP(B23,Events!B:H,7,FALSE),\"\")","v":"   "},1,{"$f":"IF(D23=\"\",\"\",IF(VLOOKUP(D23,Teams!$B$3:$C$10,2,FALSE)=\"\",\"\",VLOOKUP(D23,Teams!$B$3:$C$10,2,FALSE)))","v":""},null,null,{"$f":"IF(G23=\"\",\"\",YEAR('Gala Name'!$C$9)-YEAR(G23))","v":""},"",null,{"$f":"IF(J23=\"DSQ\",\"Enter Reason\",\"\")","v":""},{"$f":"IF(OR(J23=\"\",J23=\"DSQ\"),\"\",IF(OR(J23=J24,J23=J25,J23=J26,J23=J27,J23=J28,J23=J29,J23=J30),\"Enter Placings\",\"\"))","v":""},"","",null,{"$f":"IF(L23<>\"\",L23,IF(OR(J23=\"DNF\",J23=\"DSQ\"),0,IF(N23=\"\",\"\",RANK(N23,N23:N30,1))))","v":""},{"$f":"IF(P23=\"\",0,IF(P23=0,0,VLOOKUP(P:P,Points!B:C,2,FALSE)))","v":0},{"$f":"D23","v":1},null,{"$f":"IF(P31>0.9,1,\"\")","v":""},{"$f":"IFERROR(IF(T23=\"\",\"\",VLOOKUP(T23,P23:R30,3,FALSE)),\"\")","v":""},null,1,null,{"$f":"IF(D23=\"\",\"\",IFERROR(VLOOKUP(B23,Events!B:L,11,FALSE),Y22))","v":""}," "," ",{"$f":"IFERROR(VLOOKUP(AA:AA,'Masters Convertion'!F:G,2,FALSE),\"\")","v":""},"",{"$f":"IF('Gala Name'!C$4=\"No\",\"\",IFERROR(RANK(N23,N23:N30,1),\"\"))","v":""}]
[{"$f":"IF(J24=\"\",\"\",B23)","v":""},null,null,2,{"$f":"IF(D24=\"\",\"\",IF(VLOOKUP(D24,Teams!$B$3:$C$10,2,FALSE)=\"\",\"\",VLOOKUP(D24,Teams!$B$3:$C$10,2,FALSE)))","v":""},null,null,{"$f":"IF(G24=\"\",\"\",YEAR('Gala Name'!$C$9)-YEAR(G24))","v":""},"",null,"",{"$f":"IF(OR(J24=\"\",J24=\"DSQ\"),\"\",IF(OR(J24=J23,J24=J25,J24=J26,J24=J27,J24=J28,J24=J29,J24=J30),\"Enter Placings\",\"\"))","v":""},"","",null,{"$f":"IF(L24<>\"\",L24,IF(OR(J24=\"DNF\",J24=\"DSQ\"),0,IF(N24=\"\",\"\",RANK(N24,N23:N30,1))))","v":""},{"$f":"IF(P24=\"\",0,IF(P24=0,0,VLOOKUP(P:P,Points!B:C,2,FALSE)))","v":0},2,null,{"$f":"IF(P31>1.9,2,\"\")","v":""},{"$f":"IFERROR(IF(T24=\"\",\"\",VLOOKUP(T24,P23:R30,3,FALSE)),\"\")","v":""},null,2,null,{"$f":"IF(D24=\"\",\"\",IFERROR(VLOOKUP(B24,Events!B:L,11,FALSE),Y23))","v":""}," "," ",{"$f":"IFERROR(VLOOKUP(AA:AA,'Masters Convertion'!F:G,2,FALSE),\"\")","v":""},"",{"$f":"IF('Gala Name'!C$4=\"No\",\"\",IFERROR(RANK(N24,N24:N31,1),\"\"))","v":""}]
[{"$f":"IF(J25=\"\",\"\",B23)","v":""},null,null,3,{"$f":"IF(D25=\"\",\"\",IF(VLOOKUP(D25,Teams!$B$3:$C$10,2,FALSE)=\"\",\"\",VLOOKUP(D25,Teams!$B$3:$C$10,2,FALSE)))","v":""},null,null,{"$f":"IF(G25=\"\",\"\",YEAR('Gala Name'!$C$9)-YEAR(G25))","v":""},"",null,"","","","",null,{"$f":"IF(L25<>\"\",L25,IF(OR(J25=\"DNF\",J25=\"DSQ\"),0,IF(N25=\"\",\"\",RANK(N25,N23:N30,1))))","v":""},{"$f":"IF(P25=\"\",0,IF(P25=0,0,VLOOKUP(P:P,Points!B:C,2,FALSE)))","v":0},3,null,{"$f":"IF(P31>2.9,3,\"\")","v":""},{"$f":"IFERROR(IF(T25=\"\",\"\",VLOOKUP(T25,P23:R30,3,FALSE)),\"\")","v":""},null,3,null,{"$f":"IF(D25=\"\",\"\",IFERROR(VLOOKUP(B25,Events!B:L,11,FALSE),Y24))","v":""}," "," ",{"$f":"IFERROR(VLOOKUP(AA:AA,'Masters Convertion'!F:G,2,FALSE),\"\")","v":""},"",{"$f":"IF('Gala Name'!C$4=\"No\",\"\",IFERROR(RANK(N25,N25:N32,1),\"\"))","v":""}]
[{"$f":"IF(J26=\"\",\"\",B23)","v":""},null,null,4,{"$f":"IF(D26=\"\",\"\",IF(VLOOKUP(D26,Teams!$B$3:$C$10,2,FALSE)=\"\",\"\",VLOOKUP(D26,Teams!$B$3:$C$10,2,FALSE)))","v":""},null,null,{"$f":"IF(G26=\"\",\"\",YEAR('Gala Name'!$C$9)-YEAR(G26))","v":""},"",null,"","","","",null,{"$f":"IF(L26<>\"\",L26,IF(OR(J26=\"DNF\",J26=\"DSQ\"),0,IF(N26=\"\",\"\",RANK(N26,N23:N30,1))))","v":""},{"$f":"IF(P26=\"\",0,IF(P26=0,0,VLOOKUP(P:P,Points!B:C,2,FALSE)))","v":0},4,null,{"$f":"IF(P31>3.9,4,\"\")","v":""},{"$f":"IFERROR(IF(T26=\"\",\"\",VLOOKUP(T26,P23:R30,3,FALSE)),\"\")","v":""},null,4,null,{"$f":"IF(D26=\"\",\"\",IFERROR(VLOOKUP(B26,Events!B:L,11,FALSE),Y25))","v":""}," "," ",{"$f":"IFERROR(VLOOKUP(AA:AA,'Masters Convertion'!F:G,2,FALSE),\"\")","v":""},"",{"$f":"IF('Gala Name'!C$4=\"No\",\"\",IFERROR(RANK(N26,N26:N33,1),\"\"))","v":""}]
[{"$f":"IF(J27=\"\",\"\",B23)","v":""},null,null,5,{"$f":"IF(D27=\"\",\"\",IF(VLOOKUP(D27,Teams!$B$3:$C$10,2,FALSE)=\"\",\"\",VLOOKUP(D27,Teams!$B$3:$C$10,2,FALSE)))","v":""},null,null,{"$f":"IF(G27=\"\",\"\",YEAR('Gala Name'!$C$9)-YEAR(G27))","v":""},"",null,"","","","",null,{"$f":"IF(L27<>\"\",L27,IF(OR(J27=\"DNF\",J27=\"DSQ\"),0,IF(N27=\"\",\"\",RANK(N27,N23:N30,1))))","v":""},{"$f":"IF(P27=\"\",0,IF(P27=0,0,VLOOKUP(P:P,Points!B:C,2,FALSE)))","v":0},5,null,{"$f":"IF(P31>4.9,5,\"\")","v":""},{"$f":"IFERROR(IF(T27=\"\",\"\",VLOOKUP(T27,P23:R30,3,FALSE)),\"\")","v":""},null,5,null,{"$f":"IF(D27=\"\",\"\",IFERROR(VLOOKUP(B27,Events!B:L,11,FALSE),Y26))","v":""}," "," ",{"$f":"IFERROR(VLOOKUP(AA:AA,'Masters Convertion'!F:G,2,FALSE),\"\")","v":""},"",{"$f":"IF('Gala Name'!C$4=\"No\",\"\",IFERROR(RANK(N27,N27:N34,1),\"\"))","v":""}]
[{"$f":"IF(J28=\"\",\"\",B23)","v":""},null,null,6,{"$f":"IF(D28=\"\",\"\",IF(VLOOKUP(D28,Teams!$B$3:$C$10,2,FALSE)=\"\",\"\",VLOOKUP(D28,Teams!$B$3:$C$10,2,FALSE)))","v":""},null,null,{"$f":"IF(G28=\"\",\"\",YEAR('Gala Name'!$C$9)-YEAR(G28))","v":""},"",null,"","","","",null,{"$f":"IF(L28<>\"\",L28,IF(OR(J28=\"DNF\",J28=\"DSQ\"),0,IF(N28=\"\",\"\",RANK(N28,N23:N30,1))))","v":""},{"$f":"IF(P28=\"\",0,IF(P28=0,0,VLOOKUP(P:P,Points!B:C,2,FALSE)))","v":0},6,null,{"$f":"IF(P31>5.9,6,\"\")","v":""},{"$f":"IFERROR(IF(T28=\"\",\"\",VLOOKUP(T28,P23:R30,3,FALSE)),\"\")","v":""},null,6,null,{"$f":"IF(D28=\"\",\"\",IFERROR(VLOOKUP(B28,Events!B:L,11,FALSE),Y27))","v":""}," "," ",{"$f":"IFERROR(VLOOKUP(AA:AA,'Masters Convertion'!F:G,2,FALSE),\"\")","v":""},"",{"$f":"IF('Gala Name'!C$4=\"No\",\"\",IFERROR(RANK(N28,N28:N35,1),\"\"))","v":""}]
[{"$f":"IF(J29=\"\",\"\",B23)","v":""},null,null,7,{"$f":"IF(D29=\"\",\"\",IF(VLOOKUP(D29,Teams!$B$3:$C$10,2,FALSE)=\"\",\"\",VLOOKUP(D29,Teams!$B$3:$C$10,2,FALSE)))","v":""},null,null,{"$f":"IF(G29=\"\",\"\",YEAR('Gala Name'!$C$9)-YEAR(G29))","v":""},"",null,"","","","",null,{"$f":"IF(L29<>\"\",L29,IF(OR(J29=\"DNF\",J29=\"DSQ\"),0,IF(N29=\"\",\"\",RANK(N29,N23:N30,1))))","v":""},{"$f":"IF(P29=\"\",0,IF(P29=0,0,VLOOKUP(P:P,Points!B:C,2,FALSE)))","v":0},7,null,{"$f":"IF(P31>6.9,7,\"\")","v":""},{"$f":"IFERROR(IF(T29=\"\",\"\",VLOOKUP(T29,P23:R30,3,FALSE)),\"\")","v":""},null,7,null,{"$f":"IF(D29=\"\",\"\",IFERROR(VLOOKUP(B29,Events!B:L,11,FALSE),Y28))","v":""}," "," ",{"$f":"IFERROR(VLOOKUP(AA:AA,'Masters Convertion'!F:G,2,FALSE),\"\")","v":""},"",{"$f":"IF('Gala Name'!C$4=\"No\",\"\",IFERROR(RANK(N29,N29:N36,1),\"\"))","v":""}]
[{"$f":"IF(J30=\"\",\"\",B23)","v":""},null,null,8,{"$f":"IF(D30=\"\",\"\",IF(VLOOKUP(D30,Teams!$B$3:$C$10,2,FALSE)=\"\",\"\",VLOOKUP(D30,Teams!$B$3:$C$10,2,FALSE)))","v":""},null,null,{"$f":"IF(G30=\"\",\"\",YEAR('Gala Name'!$C$9)-YEAR(G30))","v":""},"",null,"","","","",null,{"$f":"IF(L30<>\"\",L30,IF(OR(J30=\"DNF\",J30=\"DSQ\"),0,IF(N30=\"\",\"\",RANK(N30,N23:N30,1))))","v":""},{"$f":"IF(P30=\"\",0,IF(P30=0,0,VLOOKUP(P:P,Points!B:C,2,FALSE)))","v":0},8,null,{"$f":"IF(P31>7.9,8,\"\")","v":""},{"$f":"IFERROR(IF(T30=\"\",\"\",VLOOKUP(T30,P23:R30,3,FALSE)),\"\")","v":""},null,8,null,{"$f":"IF(D30=\"\",\"\",IFERROR(VLOOKUP(B30,Events!B:L,11,FALSE),Y29))","v":""}," "," ",{"$f":"IFERROR(VLOOKUP(AA:AA,'Masters Convertion'!F:G,2,FALSE),\"\")","v":""},"",{"$f":"IF('Gala Name'!C$4=\"No\",\"\",IFERROR(RANK(N30,N30:N37,1),\"\"))","v":""}]
[null,null,null,null,null,null,null,null,null,null,null,null,"","",null,{"$f":"MAX(P23:P30)","v":0},null,null,null,null,null,null,"*"]
["",{"$f":"B23+1","v":4},{"$f":"IF(D32=1,VLOOKUP(B32,Events!B:H,6,FALSE)&VLOOKUP(B32,Events!B:H,7,FALSE),\"\")","v":"   "},1,{"$f":"IF(D32=\"\",\"\",IF(VLOOKUP(D32,Teams!$B$3:$C$10,2,FALSE)=\"\",\"\",VLOOKUP(D32,Teams!$B$3:$C$10,2,FALSE)))","v":""},null,null,{"$f":"IF(G32=\"\",\"\",YEAR('Gala Name'!$C$9)-YEAR(G32))","v":""},"",null,{"$f":"IF(J32=\"DSQ\",\"Enter Reason\",\"\")","v":""},{"$f":"IF(OR(J32=\"\",J32=\"DSQ\"),\"\",IF(OR(J32=J33,J32=J34,J32=J35,J32=J36,J32=J37,J32=J38,J32=J39),\"Enter Placings\",\"\"))","v":""},"","",null,{"$f":"IF(L32<>\"\",L32,IF(OR(J32=\"DNF\",J32=\"DSQ\"),0,IF(N32=\"\",\"\",RANK(N32,N32:N39,1))))","v":""},{"$f":"IF(P32=\"\",0,IF(P32=0,0,VLOOKUP(P:P,Points!B:C,2,FALSE)))","v":0},{"$f":"D32","v":1},null,{"$f":"IF(P40>0.9,1,\"\")","v":""},{"$f":"IFERROR(IF(T32=\"\",\"\",VLOOKUP(T32,P32:R39,3,FALSE)),\"\")","v":""},null,1,null,{"$f":"IF(D32=\"\",\"\",IFERROR(VLOOKUP(B32,Events!B:L,11,FALSE),Y31))","v":""}," "," ",{"$f":"IFERROR(VLOOKUP(AA:AA,'Masters Convertion'!F:G,2,FALSE),\"\")","v":""},"",{"$f":"IF('Gala Name'!C$4=\"No\",\"\",IFERROR(RANK(N32,N32:N39,1),\"\"))","v":""}]
[{"$f":"IF(J33=\"\",\"\",B32)","v":""},null,null,2,{"$f":"IF(D33=\"\",\"\",IF(VLOOKUP(D33,Teams!$B$3:$C$10,2,FALSE)=\"\",\"\",VLOOKUP(D33,Teams!$B$3:$C$10,2,FALSE)))","v":""},null,null,{"$f":"IF(G33=\"\",\"\",YEAR('Gala Name'!$C$9)-YEAR(G33))","v":""},"",null,"",{"$f":"IF(OR(J33=\"\",J33=\"DSQ\"),\"\",IF(OR(J33=J32,J33=J34,J33=J35,J33=J36,J33=J37,J33=J38,J33=J39),\"Enter Placings\",\"\"))","v":""},"","",null,{"$f":"IF(L33<>\"\",L33,IF(OR(J33=\"DNF\",J33=\"DSQ\"),0,IF(N33=\"\",\"\",RANK(N33,N32:N39,1))))","v":""},{"$f":"IF(P33=\"\",0,IF(P33=0,0,VLOOKUP(P:P,Points!B:C,2,FALSE)))","v":0},2,null,{"$f":"IF(P40>1.9,2,\"\")","v":""},{"$f":"IFERROR(IF(T33=\"\",\"\",VLOOKUP(T33,P32:R39,3,FALSE)),\"\")","v":""},null,2,null,{"$f":"IF(D33=\"\",\"\",IFERROR(VLOOKUP(B33,Events!B:L,11,FALSE),Y32))","v":""}," "," ",{"$f":"IFERROR(VLOOKUP(AA:AA,'Masters Convertion'!F:G,2,FALSE),\"\")","v":""},"",{"$f":"IF('Gala Name'!C$4=\"No\",\"\",IFERROR(RANK(N33,N33:N40,1),\"\"))","v":""}]
[{"$f":"IF(J34=\"\",\"\",B32)","v":""},null,null,3,{"$f":"IF(D34=\"\",\"\",IF(VLOOKUP(D34,Teams!$B$3:$C$10,2,FALSE)=\"\",\"\",VLOOKUP(D34,Teams!$B$3:$C$10,2,FALSE)))","v":""},null,null,{"$f":"IF(G34=\"\",\"\",YEAR('Gala Name'!$C$9)-YEAR(G34))","v":""},"",null,"","","","",null,{"$f":"IF(L34<>\"\",L34,IF(OR(J34=\"DNF\",J34=\"DSQ\"),0,IF(N34=\"\",\"\",RANK(N34,N32:N39,1))))","v":""},{"$f":"IF(P34=\"\",0,IF(P34=0,0,VLOOKUP(P:P,Points!B:C,2,FALSE)))","v":0},3,null,{"$f":"IF(P40>2.9,3,\"\")","v":""},{"$f":"IFERROR(IF(T34=\"\",\"\",VLOOKUP(T34,P32:R39,3,FALSE)),\"\")","v":""},null,3,null,{"$f":"IF(D34=\"\",\"\",IFERROR(VLOOKUP(B34,Events!B:L,11,FALSE),Y33))","v":""}," "," ",{"$f":"IFERROR(VLOOKUP(AA:AA,'Masters Convertion'!F:G,2,FALSE),\"\")","v":""},"",{"$f":"IF('Gala Name'!C$4=\"No\",\"\",IFERROR(RANK(N34,N34:N41,1),\"\"))","v":""}]
[{"$f":"IF(J35=\"\",\"\",B32)","v":""},null,null,4,{"$f":"IF(D35=\"\",\"\",IF(VLOOKUP(D35,Teams!$B$3:$C$10,2,FALSE)=\"\",\"\",VLOOKUP(D35,Teams!$B$3:$C$10,2,FALSE)))","v":""},null,null,{"$f":"IF(G35=\"\",\"\",YEAR('Gala Name'!$C$9)-YEAR(G35))","v":""},"",null,"","","","",null,{"$f":"IF(L35<>\"\",L35,IF(OR(J35=\"DNF\",J35=\"DSQ\"),0,IF(N35=\"\",\"\",RANK(N35,N32:N39,1))))","v":""},{"$f":"IF(P35=\"\",0,IF(P35=0,0,VLOOKUP(P:P,Points!B:C,2,FALSE)))","v":0},4,null,{"$f":"IF(P40>3.9,4,\"\")","v":""},{"$f":"IFERROR(IF(T35=\"\",\"\",VLOOKUP(T35,P32:R39,3,FALSE)),\"\")","v":""},null,4,null,{"$f":"IF(D35=\"\",\"\",IFERROR(VLOOKUP(B35,Events!B:L,11,FALSE),Y34))","v":""}," "," ",{"$f":"IFERROR(VLOOKUP(AA:AA,'Masters Convertion'!F:G,2,FALSE),\"\")","v":""},"",{"$f":"IF('Gala Name'!C$4=\"No\",\"\",IFERROR(RANK(N35,N35:N42,1),\"\"))","v":""}]
[{"$f":"IF(J36=\"\",\"\",B32)","v":""},null,null,5,{"$f":"IF(D36=\"\",\"\",IF(VLOOKUP(D36,Teams!$B$3:$C$10,2,FALSE)=\"\",\"\",VLOOKUP(D36,Teams!$B$3:$C$10,2,FALSE)))","v":""},null,null,{"$f":"IF(G36=\"\",\"\",YEAR('Gala Name'!$C$9)-YEAR(G36))","v":""},"",null,"","","","",null,{"$f":"IF(L36<>\"\",L36,IF(OR(J36=\"DNF\",J36=\"DSQ\"),0,IF(N36=\"\",\"\",RANK(N36,N32:N39,1))))","v":""},{"$f":"IF(P36=\"\",0,IF(P36=0,0,VLOOKUP(P:P,Points!B:C,2,FALSE)))","v":0},5,null,{"$f":"IF(P40>4.9,5,\"\")","v":""},{"$f":"IFERROR(IF(T36=\"\",\"\",VLOOKUP(T36,P32:R39,3,FALSE)),\"\")","v":""},null,5,null,{"$f":"IF(D36=\"\",\"\",IFERROR(VLOOKUP(B36,Events!B:L,11,FALSE),Y35))","v":""}," "," ",{"$f":"IFERROR(VLOOKUP(AA:AA,'Masters Convertion'!F:G,2,FALSE),\"\")","v":""},"",{"$f":"IF('Gala Name'!C$4=\"No\",\"\",IFERROR(RANK(N36,N36:N43,1),\"\"))","v":""}]
[{"$f":"IF(J37=\"\",\"\",B32)","v":""},null,null,6,{"$f":"IF(D37=\"\",\"\",IF(VLOOKUP(D37,Teams!$B$3:$C$10,2,FALSE)=\"\",\"\",VLOOKUP(D37,Teams!$B$3:$C$10,2,FALSE)))","v":""},null,null,{"$f":"IF(G37=\"\",\"\",YEAR('Gala Name'!$C$9)-YEAR(G37))","v":""},"",null,"","","","",null,{"$f":"IF(L37<>\"\",L37,IF(OR(J37=\"DNF\",J37=\"DSQ\"),0,IF(N37=\"\",\"\",RANK(N37,N32:N39,1))))","v":""},{"$f":"IF(P37=\"\",0,IF(P37=0,0,VLOOKUP(P:P,Points!B:C,2,FALSE)))","v":0},6,null,{"$f":"IF(P40>5.9,6,\"\")","v":""},{"$f":"IFERROR(IF(T37=\"\",\"\",VLOOKUP(T37,P32:R39,3,FALSE)),\"\")","v":""},null,6,null,{"$f":"IF(D37=\"\",\"\",IFERROR(VLOOKUP(B37,Events!B:L,11,FALSE),Y36))","v":""}," "," ",{"$f":"IFERROR(VLOOKUP(AA:AA,'Masters Convertion'!F:G,2,FALSE),\"\")","v":""},"",{"$f":"IF('Gala Name'!C$4=\"No\",\"\",IFERROR(RANK(N37,N37:N44,1),\"\"))","v":""}]
[{"$f":"IF(J38=\"\",\"\",B32)","v":""},null,null,7,{"$f":"IF(D38=\"\",\"\",IF(VLOOKUP(D38,Teams!$B$3:$C$10,2,FALSE)=\"\",\"\",VLOOKUP(D38,Teams!$B$3:$C$10,2,FALSE)))","v":""},null,null,{"$f":"IF(G38=\"\",\"\",YEAR('Gala Name'!$C$9)-YEAR(G38))","v":""},"",null,"","","","",null,{"$f":"IF(L38<>\"\",L38,IF(OR(J38=\"DNF\",J38=\"DSQ\"),0,IF(N38=\"\",\"\",RANK(N38,N32:N39,1))))","v":""},{"$f":"IF(P38=\"\",0,IF(P38=0,0,VLOOKUP(P:P,Points!B:C,2,FALSE)))","v":0},7,null,{"$f":"IF(P40>6.9,7,\"\")","v":""},{"$f":"IFERROR(IF(T38=\"\",\"\",VLOOKUP(T38,P32:R39,3,FALSE)),\"\")","v":""},null,7,null,{"$f":"IF(D38=\"\",\"\",IFERROR(VLOOKUP(B38,Events!B:L,11,FALSE),Y37))","v":""}," "," ",{"$f":"IFERROR(VLOOKUP(AA:AA,'Masters Convertion'!F:G,2,FALSE),\"\")","v":""},"",{"$f":"IF('Gala Name'!C$4=\"No\",\"\",IFERROR(RANK(N38,N38:N45,1),\"\"))","v":""}]
[{"$f":"IF(J39=\"\",\"\",B32)","v":""},null,null,8,{"$f":"IF(D39=\"\",\"\",IF(VLOOKUP(D39,Teams!$B$3:$C$10,2,FALSE)=\"\",\"\",VLOOKUP(D39,Teams!$B$3:$C$10,2,FALSE)))","v":""},null,null,{"$f":"IF(G39=\"\",\"\",YEAR('Gala Name'!$C$9)-YEAR(G39))","v":""},"",null,"","","","",null,{"$f":"IF(L39<>\"\",L39,IF(OR(J39=\"DNF\",J39=\"DSQ\"),0,IF(N39=\"\",\"\",RANK(N39,N32:N39,1))))","v":""},{"$f":"IF(P39=\"\",0,IF(P39=0,0,VLOOKUP(P:P,Points!B:C,2,FALSE)))","v":0},8,null,{"$f":"IF(P40>7.9,8,\"\")","v":""},{"$f":"IFERROR(IF(T39=\"\",\"\",VLOOKUP(T39,P32:R39,3,FALSE)),\"\")","v":""},null,8,null,{"$f":"IF(D39=\"\",\"\",IFERROR(VLOOKUP(B39,Events!B:L,11,FALSE),Y38))","v":""}," "," ",{"$f":"IFERROR(VLOOKUP(AA:AA,'Masters Convertion'!F:G,2,FALSE),\"\")","v":""},"",{"$f":"IF('Gala Name'!C$4=\"No\",\"\",IFERROR(RANK(N39,N39:N46,1),\"\"))","v":""}]
[null,null,null,null,null,null,null,null,null,null,null,null,"","",null,{"$f":"MAX(P32:P39)","v":0},null,null,null,null,null,null,"*"]
["",{"$f":"B32+1","v":5},{"$f":"IF(D41=1,VLOOKUP(B41,Events!B:H,6,FALSE)&VLOOKUP(B41,Events!B:H,7,FALSE),\"\")","v":"   "},1,{"$f":"IF(D41=\"\",\"\",IF(VLOOKUP(D41,Teams!$B$3:$C$10,2,FALSE)=\"\",\"\",VLOOKUP(D41,Teams!$B$3:$C$10,2,FALSE)))","v":""},null,null,{"$f":"IF(G41=\"\",\"\",YEAR('Gala Name'!$C$9)-YEAR(G41))","v":""},"",null,{"$f":"IF(J41=\"DSQ\",\"Enter Reason\",\"\")","v":""},{"$f":"IF(OR(J41=\"\",J41=\"DSQ\"),\"\",IF(OR(J41=J42,J41=J43,J41=J44,J41=J45,J41=J46,J41=J47,J41=J48),\"Enter Placings\",\"\"))","v":""},"","",null,{"$f":"IF(L41<>\"\",L41,IF(OR(J41=\"DNF\",J41=\"DSQ\"),0,IF(N41=\"\",\"\",RANK(N41,N41:N48,1))))","v":""},{"$f":"IF(P41=\"\",0,IF(P41=0,0,VLOOKUP(P:P,Points!B:C,2,FALSE)))","v":0},{"$f":"D41","v":1},null,{"$f":"IF(P49>0.9,1,\"\")","v":""},{"$f":"IFERROR(IF(T41=\"\",\"\",VLOOKUP(T41,P41:R48,3,FALSE)),\"\")","v":""},null,1,null,{"$f":"IF(D41=\"\",\"\",IFERROR(VLOOKUP(B41,Events!B:L,11,FALSE),Y40))","v":""}," "," ",{"$f":"IFERROR(VLOOKUP(AA:AA,'Masters Convertion'!F:G,2,FALSE),\"\")","v":""},"",{"$f":"IF('Gala Name'!C$4=\"No\",\"\",IFERROR(RANK(N41,N41:N48,1),\"\"))","v":""}]
[{"$f":"IF(J42=\"\",\"\",B41)","v":""},null,null,2,{"$f":"IF(D42=\"\",\"\",IF(VLOOKUP(D42,Teams!$B$3:$C$10,2,FALSE)=\"\",\"\",VLOOKUP(D42,Teams!$B$3:$C$10,2,FALSE)))","v":""},null,null,{"$f":"IF(G42=\"\",\"\",YEAR('Gala Name'!$C$9)-YEAR(G42))","v":""},"",null,"",{"$f":"IF(OR(J42=\"\",J42=\"DSQ\"),\"\",IF(OR(J42=J41,J42=J43,J42=J44,J42=J45,J42=J46,J42=J47,J42=J48),\"Enter Placings\",\"\"))","v":""},"","",null,{"$f":"IF(L42<>\"\",L42,IF(OR(J42=\"DNF\",J42=\"DSQ\"),0,IF(N42=\"\",\"\",RANK(N42,N41:N48,1))))","v":""},{"$f":"IF(P42=\"\",0,IF(P42=0,0,VLOOKUP(P:P,Points!B:C,2,FALSE)))","v":0},2,null,{"$f":"IF(P49>1.9,2,\"\")","v":""},{"$f":"IFERROR(IF(T42=\"\",\"\",VLOOKUP(T42,P41:R48,3,FALSE)),\"\")","v":""},null,2,null,{"$f":"IF(D42=\"\",\"\",IFERROR(VLOOKUP(B42,Events!B:L,11,FALSE),Y41))","v":""}," "," ",{"$f":"IFERROR(VLOOKUP(AA:AA,'Masters Convertion'!F:G,2,FALSE),\"\")","v":""},"",{"$f":"IF('Gala Name'!C$4=\"No\",\"\",IFERROR(RANK(N42,N42:N49,1),\"\"))","v":""}]
[{"$f":"IF(J43=\"\",\"\",B41)","v":""},null,null,3,{"$f":"IF(D43=\"\",\"\",IF(VLOOKUP(D43,Teams!$B$3:$C$10,2,FALSE)=\"\",\"\",VLOOKUP(D43,Teams!$B$3:$C$10,2,FALSE)))","v":""},null,null,{"$f":"IF(G43=\"\",\"\",YEAR('Gala Name'!$C$9)-YEAR(G43))","v":""},"",null,"",{"$f":"IF(OR(J43=\"\",J43=\"DSQ\"),\"\",IF(OR(J43=J41,J43=J42,J43=J44,J43=J45,J43=J46,J43=J47,J43=J48),\"Enter Placings\",\"\"))","v":""},"","",null,{"$f":"IF(L43<>\"\",L43,IF(OR(J43=\"DNF\",J43=\"DSQ\"),0,IF(N43=\"\",\"\",RANK(N43,N41:N48,1))))","v":""},{"$f":"IF(P43=\"\",0,IF(P43=0,0,VLOOKUP(P:P,Points!B:C,2,FALSE)))","v":0},3,null,{"$f":"IF(P49>2.9,3,\"\")","v":""},{"$f":"IFERROR(IF(T43=\"\",\"\",VLOOKUP(T43,P41:R48,3,FALSE)),\"\")","v":""},null,3,null,{"$f":"IF(D43=\"\",\"\",IFERROR(VLOOKUP(B43,Events!B:L,11,FALSE),Y42))","v":""}," "," ",{"$f":"IFERROR(VLOOKUP(AA:AA,'Masters Convertion'!F:G,2,FALSE),\"\")","v":""},"",{"$f":"IF('Gala Name'!C$4=\"No\",\"\",IFERROR(RANK(N43,N43:N50,1),\"\"))","v":""}]
[{"$f":"IF(J44=\"\",\"\",B41)","v":""},null,null,4,{"$f":"IF(D44=\"\",\"\",IF(VLOOKUP(D44,Teams!$B$3:$C$10,2,FALSE)=\"\",\"\",VLOOKUP(D44,Teams!$B$3:$C$10,2,FALSE)))","v":""},null,null,{"$f":"IF(G44=\"\",\"\",YEAR('Gala Name'!$C$9)-YEAR(G44))","v":""},"",null,"",{"$f":"IF(OR(J44=\"\",J44=\"DSQ\"),\"\",IF(OR(J44=J41,J44=J42,J44=J43,J44=J45,J44=J46,J44=J47,J44=J48),\"Enter Placings\",\"\"))","v":""},"","",null,{"$f":"IF(L44<>\"\",L44,IF(OR(J44=\"DNF\",J44=\"DSQ\"),0,IF(N44=\"\",\"\",RANK(N44,N41:N48,1))))","v":""},{"$f":"IF(P44=\"\",0,IF(P44=0,0,VLOOKUP(P:P,Points!B:C,2,FALSE)))","v":0},4,null,{"$f":"IF(P49>3.9,4,\"\")","v":""},{"$f":"IFERROR(IF(T44=\"\",\"\",VLOOKUP(T44,P41:R48,3,FALSE)),\"\")","v":""},null,4,null,{"$f":"IF(D44=\"\",\"\",IFERROR(VLOOKUP(B44,Events!B:L,11,FALSE),Y43))","v":""}," "," ",{"$f":"IFERROR(VLOOKUP(AA:AA,'Masters Convertion'!F:G,2,FALSE),\"\")","v":""},"",{"$f":"IF('Gala Name'!C$4=\"No\",\"\",IFERROR(RANK(N44,N44:N51,1),\"\"))","v":""}]
[{"$f":"IF(J45=\"\",\"\",B41)","v":""},null,null,5,{"$f":"IF(D45=\"\",\"\",IF(VLOOKUP(D45,Teams!$B$3:$C$10,2,FALSE)=\"\",\"\",VLOOKUP(D45,Teams!$B$3:$C$10,2,FALSE)))","v":""},null,null,{"$f":"IF(G45=\"\",\"\",YEAR('Gala Name'!$C$9)-YEAR(G45))","v":""},"",null,"",{"$f":"IF(OR(J45=\"\",J45=\"DSQ\"),\"\",IF(OR(J45=J42,J45=J43,J45=J44,J45=J46,J45=J47,J45=J48,J45=J41),\"Enter Placings\",\"\"))","v":""},"","",null,{"$f":"IF(L45<>\"\",L45,IF(OR(J45=\"DNF\",J45=\"DSQ\"),0,IF(N45=\"\",\"\",RANK(N45,N41:N48,1))))","v":""},{"$f":"IF(P45=\"\",0,IF(P45=0,0,VLOOKUP(P:P,Points!B:C,2,FALSE)))","v":0},5,null,{"$f":"IF(P49>4.9,5,\"\")","v":""},{"$f":"IFERROR(IF(T45=\"\",\"\",VLOOKUP(T45,P41:R48,3,FALSE)),\"\")","v":""},null,5,null,{"$f":"IF(D45=\"\",\"\",IFERROR(VLOOKUP(B45,Events!B:L,11,FALSE),Y44))","v":""}," "," ",{"$f":"IFERROR(VLOOKUP(AA:AA,'Masters Convertion'!F:G,2,FALSE),\"\")","v":""},"",{"$f":"IF('Gala Name'!C$4=\"No\",\"\",IFERROR(RANK(N45,N45:N52,1),\"\"))","v":""}]
[{"$f":"IF(J46=\"\",\"\",B41)","v":""},null,null,6,{"$f":"IF(D46=\"\",\"\",IF(VLOOKUP(D46,Teams!$B$3:$C$10,2,FALSE)=\"\",\"\",VLOOKUP(D46,Teams!$B$3:$C$10,2,FALSE)))","v":""},null,null,{"$f":"IF(G46=\"\",\"\",YEAR('Gala Name'!$C$9)-YEAR(G46))","v":""},"",null,"",{"$f":"IF(OR(J46=\"\",J46=\"DSQ\"),\"\",IF(OR(J46=J43,J46=J44,J46=J45,J46=J47,J46=J48,J46=J42,J46=J41),\"Enter Placings\",\"\"))","v":""},"","",null,{"$f":"IF(L46<>\"\",L46,IF(OR(J46=\"DNF\",J46=\"DSQ\"),0,IF(N46=\"\",\"\",RANK(N46,N41:N48,1))))","v":""},{"$f":"IF(P46=\"\",0,IF(P46=0,0,VLOOKUP(P:P,Points!B:C,2,FALSE)))","v":0},6,null,{"$f":"IF(P49>5.9,6,\"\")","v":""},{"$f":"IFERROR(IF(T46=\"\",\"\",VLOOKUP(T46,P41:R48,3,FALSE)),\"\")","v":""},null,6,null,{"$f":"IF(D46=\"\",\"\",IFERROR(VLOOKUP(B46,Events!B:L,11,FALSE),Y45))","v":""}," "," ",{"$f":"IFERROR(VLOOKUP(AA:AA,'Masters Convertion'!F:G,2,FALSE),\"\")","v":""},"",{"$f":"IF('Gala Name'!C$4=\"No\",\"\",IFERROR(RANK(N46,N46:N53,1),\"\"))","v":""}]
[{"$f":"IF(J47=\"\",\"\",B41)","v":""},null,null,7,{"$f":"IF(D47=\"\",\"\",IF(VLOOKUP(D47,Teams!$B$3:$C$10,2,FALSE)=\"\",\"\",VLOOKUP(D47,Teams!$B$3:$C$10,2,FALSE)))","v":""},null,null,{"$f":"IF(G47=\"\",\"\",YEAR('Gala Name'!$C$9)-YEAR(G47))","v":""},"",null,"",{"$f":"IF(OR(J47=\"\",J47=\"DSQ\"),\"\",IF(OR(J47=J44,J47=J45,J47=J46,J47=J48,J47=J41,J47=J42,J47=J43),\"Enter Placings\",\"\"))","v":""},"","",null,{"$f":"IF(L47<>\"\",L47,IF(OR(J47=\"DNF\",J47=\"DSQ\"),0,IF(N47=\"\",\"\",RANK(N47,N41:N48,1))))","v":""},{"$f":"IF(P47=\"\",0,IF(P47=0,0,VLOOKUP(P:P,Points!B:C,2,FALSE)))","v":0},7,null,{"$f":"IF(P49>6.9,7,\"\")","v":""},{"$f":"IFERROR(IF(T47=\"\",\"\",VLOOKUP(T47,P41:R48,3,FALSE)),\"\")","v":""},null,7,null,{"$f":"IF(D47=\"\",\"\",IFERROR(VLOOKUP(B47,Events!B:L,11,FALSE),Y46))","v":""}," "," ",{"$f":"IFERROR(VLOOKUP(AA:AA,'Masters Convertion'!F:G,2,FALSE),\"\")","v":""},"",{"$f":"IF('Gala Name'!C$4=\"No\",\"\",IFERROR(RANK(N47,N47:N54,1),\"\"))","v":""}]
[{"$f":"IF(J48=\"\",\"\",B41)","v":""},null,null,8,{"$f":"IF(D48=\"\",\"\",IF(VLOOKUP(D48,Teams!$B$3:$C$10,2,FALSE)=\"\",\"\",VLOOKUP(D48,Teams!$B$3:$C$10,2,FALSE)))","v":""},null,null,{"$f":"IF(G48=\"\",\"\",YEAR('Gala Name'!$C$9)-YEAR(G48))","v":""},"",null,"",{"$f":"IF(OR(J48=\"\",J48=\"DSQ\"),\"\",IF(OR(J48=J45,J48=J46,J48=J47,J48=J41,J48=J42,J48=J43,J48=J44),\"Enter Placings\",\"\"))","v":""},"","",null,{"$f":"IF(L48<>\"\",L48,IF(OR(J48=\"DNF\",J48=\"DSQ\"),0,IF(N48=\"\",\"\",RANK(N48,N41:N48,1))))","v":""},{"$f":"IF(P48=\"\",0,IF(P48=0,0,VLOOKUP(P:P,Points!B:C,2,FALSE)))","v":0},8,null,{"$f":"IF(P49>7.9,8,\"\")","v":""},{"$f":"IFERROR(IF(T48=\"\",\"\",VLOOKUP(T48,P41:R48,3,FALSE)),\"\")","v":""},null,8,null,{"$f":"IF(D48=\"\",\"\",IFERROR(VLOOKUP(B48,Events!B:L,11,FALSE),Y47))","v":""}," "," ",{"$f":"IFERROR(VLOOKUP(AA:AA,'Masters Convertion'!F:G,2,FALSE),\"\")","v":""},"",{"$f":"IF('Gala Name'!C$4=\"No\",\"\",IFERROR(RANK(N48,N48:N55,1),\"\"))","v":""}]
[null,null,null,null,null,null,null,null,null,null,null,null,"","",null,{"$f":"MAX(P41:P48)","v":0},null,null,null,null,null,null,"*"]
["",{"$f":"B41+1","v":6},{"$f":"IF(D50=1,VLOOKUP(B50,Events!B:H,6,FALSE)&VLOOKUP(B50,Events!B:H,7,FALSE),\"\")","v":"   "},1,{"$f":"IF(D50=\"\",\"\",IF(VLOOKUP(D50,Teams!$B$3:$C$10,2,FALSE)=\"\",\"\",VLOOKUP(D50,Teams!$B$3:$C$10,2,FALSE)))","v":""},null,null,{"$f":"IF(G50=\"\",\"\",YEAR('Gala Name'!$C$9)-YEAR(G50))","v":""},"",null,"",{"$f":"IF(OR(J50=\"\",J50=\"DSQ\"),\"\",IF(OR(J50=J51,J50=J52,J50=J53,J50=J54,J50=J55,J50=J56,J50=J57),\"Enter Placings\",\"\"))","v":""},"","",null,{"$f":"IF(L50<>\"\",L50,IF(OR(J50=\"DNF\",J50=\"DSQ\"),0,IF(N50=\"\",\"\",RANK(N50,N50:N57,1))))","v":""},{"$f":"IF(P50=\"\",0,IF(P50=0,0,VLOOKUP(P:P,Points!B:C,2,FALSE)))","v":0},{"$f":"D50","v":1},null,{"$f":"IF(P58>0.9,1,\"\")","v":""},{"$f":"IFERROR(IF(T50=\"\",\"\",VLOOKUP(T50,P50:R57,3,FALSE)),\"\")","v":""},null,1,null,{"$f":"IF(D50=\"\",\"\",IFERROR(VLOOKUP(B50,Events!B:L,11,FALSE),Y49))","v":""}," "," ",{"$f":"IFERROR(VLOOKUP(AA:AA,'Masters Convertion'!F:G,2,FALSE),\"\")","v":""},"",{"$f":"IF('Gala Name'!C$4=\"No\",\"\",IFERROR(RANK(N50,N50:N57,1),\"\"))","v":""}]
[{"$f":"IF(J51=\"\",\"\",B50)","v":""},null,null,2,{"$f":"IF(D51=\"\",\"\",IF(VLOOKUP(D51,Teams!$B$3:$C$10,2,FALSE)=\"\",\"\",VLOOKUP(D51,Teams!$B$3:$C$10,2,FALSE)))","v":""},null,null,{"$f":"IF(G51=\"\",\"\",YEAR('Gala Name'!$C$9)-YEAR(G51))","v":""},"",null,"",{"$f":"IF(OR(J51=\"\",J51=\"DSQ\"),\"\",IF(OR(J51=J50,J51=J52,J51=J53,J51=J54,J51=J55,J51=J56,J51=J57),\"Enter Placings\",\"\"))","v":""},"","",null,{"$f":"IF(L51<>\"\",L51,IF(OR(J51=\"DNF\",J51=\"DSQ\"),0,IF(N51=\"\",\"\",RANK(N51,N50:N57,1))))","v":""},{"$f":"IF(P51=\"\",0,IF(P51=0,0,VLOOKUP(P:P,Points!B:C,2,FALSE)))","v":0},2,null,{"$f":"IF(P58>1.9,2,\"\")","v":""},{"$f":"IFERROR(IF(T51=\"\",\"\",VLOOKUP(T51,P50:R57,3,FALSE)),\"\")","v":""},null,2,null,{"$f":"IF(D51=\"\",\"\",IFERROR(VLOOKUP(B51,Events!B:L,11,FALSE),Y50))","v":""}," "," ",{"$f":"IFERROR(VLOOKUP(AA:AA,'Masters Convertion'!F:G,2,FALSE),\"\")","v":""},"",{"$f":"IF('Gala Name'!C$4=\"No\",\"\",IFERROR(RANK(N51,N51:N58,1),\"\"))","v":""}]
[{"$f":"IF(J52=\"\",\"\",B50)","v":""},null,null,3,{"$f":"IF(D52=\"\",\"\",IF(VLOOKUP(D52,Teams!$B$3:$C$10,2,FALSE)=\"\",\"\",VLOOKUP(D52,Teams!$B$3:$C$10,2,FALSE)))","v":""},null,null,{"$f":"IF(G52=\"\",\"\",YEAR('Gala Name'!$C$9)-YEAR(G52))","v":""},"",null,"",{"$f":"IF(OR(J52=\"\",J52=\"DSQ\"),\"\",IF(OR(J52=J50,J52=J51,J52=J53,J52=J54,J52=J55,J52=J56,J52=J57),\"Enter Placings\",\"\"))","v":""},"","",null,{"$f":"IF(L52<>\"\",L52,IF(OR(J52=\"DNF\",J52=\"DSQ\"),0,IF(N52=\"\",\"\",RANK(N52,N50:N57,1))))","v":""},{"$f":"IF(P52=\"\",0,IF(P52=0,0,VLOOKUP(P:P,Points!B:C,2,FALSE)))","v":0},3,null,{"$f":"IF(P58>2.9,3,\"\")","v":""},{"$f":"IFERROR(IF(T52=\"\",\"\",VLOOKUP(T52,P50:R57,3,FALSE)),\"\")","v":""},null,3,null,{"$f":"IF(D52=\"\",\"\",IFERROR(VLOOKUP(B52,Events!B:L,11,FALSE),Y51))","v":""}," "," ",{"$f":"IFERROR(VLOOKUP(AA:AA,'Masters Convertion'!F:G,2,FALSE),\"\")","v":""},"",{"$f":"IF('Gala Name'!C$4=\"No\",\"\",IFERROR(RANK(N52,N52:N59,1),\"\"))","v":""}]
[{"$f":"IF(J53=\"\",\"\",B50)","v":""},null,null,4,{"$f":"IF(D53=\"\",\"\",IF(VLOOKUP(D53,Teams!$B$3:$C$10,2,FALSE)=\"\",\"\",VLOOKUP(D53,Teams!$B$3:$C$10,2,FALSE)))","v":""},null,null,{"$f":"IF(G53=\"\",\"\",YEAR('Gala Name'!$C$9)-YEAR(G53))","v":""},"",null,"",{"$f":"IF(OR(J53=\"\",J53=\"DSQ\"),\"\",IF(OR(J53=J50,J53=J51,J53=J52,J53=J54,J53=J55,J53=J56,J53=J57),\"Enter Placings\",\"\"))","v":""},"","",null,{"$f":"IF(L53<>\"\",L53,IF(OR(J53=\"DNF\",J53=\"DSQ\"),0,IF(N53=\"\",\"\",RANK(N53,N50:N57,1))))","v":""},{"$f":"IF(P53=\"\",0,IF(P53=0,0,VLOOKUP(P:P,Points!B:C,2,FALSE)))","v":0},4,null,{"$f":"IF(P58>3.9,4,\"\")","v":""},{"$f":"IFERROR(IF(T53=\"\",\"\",VLOOKUP(T53,P50:R57,3,FALSE)),\"\")","v":""},null,4,null,{"$f":"IF(D53=\"\",\"\",IFERROR(VLOOKUP(B53,Events!B:L,11,FALSE),Y52))","v":""}," "," ",{"$f":"IFERROR(VLOOKUP(AA:AA,'Masters Convertion'!F:G,2,FALSE),\"\")","v":""},"",{"$f":"IF('Gala Name'!C$4=\"No\",\"\",IFERROR(RANK(N53,N53:N60,1),\"\"))","v":""}]
[{"$f":"IF(J54=\"\",\"\",B50)","v":""},null,null,5,{"$f":"IF(D54=\"\",\"\",IF(VLOOKUP(D54,Teams!$B$3:$C$10,2,FALSE)=\"\",\"\",VLOOKUP(D54,Teams!$B$3:$C$10,2,FALSE)))","v":""},null,null,{"$f":"IF(G54=\"\",\"\",YEAR('Gala Name'!$C$9)-YEAR(G54))","v":""},"",null,"",{"$f":"IF(OR(J54=\"\",J54=\"DSQ\"),\"\",IF(OR(J54=J51,J54=J52,J54=J53,J54=J55,J54=J56,J54=J57,J54=J50),\"Enter Placings\",\"\"))","v":""},"","",null,{"$f":"IF(L54<>\"\",L54,IF(OR(J54=\"DNF\",J54=\"DSQ\"),0,IF(N54=\"\",\"\",RANK(N54,N50:N57,1))))","v":""},{"$f":"IF(P54=\"\",0,IF(P54=0,0,VLOOKUP(P:P,Points!B:C,2,FALSE)))","v":0},5,null,{"$f":"IF(P58>4.9,5,\"\")","v":""},{"$f":"IFERROR(IF(T54=\"\",\"\",VLOOKUP(T54,P50:R57,3,FALSE)),\"\")","v":""},null,5,null,{"$f":"IF(D54=\"\",\"\",IFERROR(VLOOKUP(B54,Events!B:L,11,FALSE),Y53))","v":""}," "," ",{"$f":"IFERROR(VLOOKUP(AA:AA,'Masters Convertion'!F:G,2,FALSE),\"\")","v":""},"",{"$f":"IF('Gala Name'!C$4=\"No\",\"\",IFERROR(RANK(N54,N54:N61,1),\"\"))","v":""}]
[{"$f":"IF(J55=\"\",\"\",B50)","v":""},null,null,6,{"$f":"IF(D55=\"\",\"\",IF(VLOOKUP(D55,Teams!$B$3:$C$10,2,FALSE)=\"\",\"\",VLOOKUP(D55,Teams!$B$3:$C$10,2,FALSE)))","v":""},null,null,{"$f":"IF(G55=\"\",\"\",YEAR('Gala Name'!$C$9)-YEAR(G55))","v":""},"",null,"",{"$f":"IF(OR(J55=\"\",J55=\"DSQ\"),\"\",IF(OR(J55=J52,J55=J53,J55=J54,J55=J56,J55=J57,J55=J51,J55=J50),\"Enter Placings\",\"\"))","v":""},"","",null,{"$f":"IF(L55<>\"\",L55,IF(OR(J55=\"DNF\",J55=\"DSQ\"),0,IF(N55=\"\",\"\",RANK(N55,N50:N57,1))))","v":""},{"$f":"IF(P55=\"\",0,IF(P55=0,0,VLOOKUP(P:P,Points!B:C,2,FALSE)))","v":0},6,null,{"$f":"IF(P58>5.9,6,\"\")","v":""},{"$f":"IFERROR(IF(T55=\"\",\"\",VLOOKUP(T55,P50:R57,3,FALSE)),\"\")","v":""},null,6,null,{"$f":"IF(D55=\"\",\"\",IFERROR(VLOOKUP(B55,Events!B:L,11,FALSE),Y54))","v":""}," "," ",{"$f":"IFERROR(VLOOKUP(AA:AA,'Masters Convertion'!F:G,2,FALSE),\"\")","v":""},"",{"$f":"IF('Gala Name'!C$4=\"No\",\"\",IFERROR(RANK(N55,N55:N62,1),\"\"))","v":""}]
[{"$f":"IF(J56=\"\",\"\",B50)","v":""},null,null,7,{"$f":"IF(D56=\"\",\"\",IF(VLOOKUP(D56,Teams!$B$3:$C$10,2,FALSE)=\"\",\"\",VLOOKUP(D56,Teams!$B$3:$C$10,2,FALSE)))","v":""},null,null,{"$f":"IF(G56=\"\",\"\",YEAR('Gala Name'!$C$9)-YEAR(G56))","v":""},"",null,"",{"$f":"IF(OR(J56=\"\",J56=\"DSQ\"),\"\",IF(OR(J56=J53,J56=J54,J56=J55,J56=J57,J56=J50,J56=J51,J56=J52),\"Enter Placings\",\"\"))","v":""},"","",null,{"$f":"IF(L56<>\"\",L56,IF(OR(J56=\"DNF\",J56=\"DSQ\"),0,IF(N56=\"\",\"\",RANK(N56,N50:N57,1))))","v":""},{"$f":"IF(P56=\"\",0,IF(P56=0,0,VLOOKUP(P:P,Points!B:C,2,FALSE)))","v":0},7,null,{"$f":"IF(P58>6.9,7,\"\")","v":""},{"$f":"IFERROR(IF(T56=\"\",\"\",VLOOKUP(T56,P50:R57,3,FALSE)),\"\")","v":""},null,7,null,{"$f":"IF(D56=\"\",\"\",IFERROR(VLOOKUP(B56,Events!B:L,11,FALSE),Y55))","v":""}," "," ",{"$f":"IFERROR(VLOOKUP(AA:AA,'Masters Convertion'!F:G,2,FALSE),\"\")","v":""},"",{"$f":"IF('Gala Name'!C$4=\"No\",\"\",IFERROR(RANK(N56,N56:N63,1),\"\"))","v":""}]
[{"$f":"IF(J57=\"\",\"\",B50)","v":""},null,null,8,{"$f":"IF(D57=\"\",\"\",IF(VLOOKUP(D57,Teams!$B$3:$C$10,2,FALSE)=\"\",\"\",VLOOKUP(D57,Teams!$B$3:$C$10,2,FALSE)))","v":""},null,null,{"$f":"IF(G57=\"\",\"\",YEAR('Gala Name'!$C$9)-YEAR(G57))","v":""},"",null,"",{"$f":"IF(OR(J57=\"\",J57=\"DSQ\"),\"\",IF(OR(J57=J54,J57=J55,J57=J56,J57=J50,J57=J51,J57=J52,J57=J53),\"Enter Placings\",\"\"))","v":""},"","",null,{"$f":"IF(L57<>\"\",L57,IF(OR(J57=\"DNF\",J57=\"DSQ\"),0,IF(N57=\"\",\"\",RANK(N57,N50:N57,1))))","v":""},{"$f":"IF(P57=\"\",0,IF(P57=0,0,VLOOKUP(P:P,Points!B:C,2,FALSE)))","v":0},8,null,{"$f":"IF(P58>7.9,8,\"\")","v":""},{"$f":"IFERROR(IF(T57=\"\",\"\",VLOOKUP(T57,P50:R57,3,FALSE)),\"\")","v":""},null,8,null,{"$f":"IF(D57=\"\",\"\",IFERROR(VLOOKUP(B57,Events!B:L,11,FALSE),Y56))","v":""}," "," ",{"$f":"IFERROR(VLOOKUP(AA:AA,'Masters Convertion'!F:G,2,FALSE),\"\")","v":""},"",{"$f":"IF('Gala Name'!C$4=\"No\",\"\",IFERROR(RANK(N57,N57:N64,1),\"\"))","v":""}]
[null,null,null,null,null,null,null,null,null,null,null,null,"","",null,{"$f":"MAX(P50:P57)","v":0},null,null,null,null,null,null,"*"]
["",{"$f":"B50+1","v":7},{"$f":"IF(D59=1,VLOOKUP(B59,Events!B:H,6,FALSE)&VLOOKUP(B59,Events!B:H,7,FALSE),\"\")","v":"   "},1,{"$f":"IF(D59=\"\",\"\",IF(VLOOKUP(D59,Teams!$B$3:$C$10,2,FALSE)=\"\",\"\",VLOOKUP(D59,Teams!$B$3:$C$10,2,FALSE)))","v":""},null,null,{"$f":"IF(G59=\"\",\"\",YEAR('Gala Name'!$C$9)-YEAR(G59))","v":""},"",null,"",{"$f":"IF(OR(J59=\"\",J59=\"DSQ\"),\"\",IF(OR(J59=J60,J59=J61,J59=J62,J59=J63,J59=J64,J59=J65,J59=J66),\"Enter Placings\",\"\"))","v":""},"","",null,{"$f":"IF(L59<>\"\",L59,IF(OR(J59=\"DNF\",J59=\"DSQ\"),0,IF(N59=\"\",\"\",RANK(N59,N59:N66,1))))","v":""},{"$f":"IF(P59=\"\",0,IF(P59=0,0,VLOOKUP(P:P,Points!B:C,2,FALSE)))","v":0},{"$f":"D59","v":1},null,{"$f":"IF(P67>0.9,1,\"\")","v":""},{"$f":"IFERROR(IF(T59=\"\",\"\",VLOOKUP(T59,P59:R66,3,FALSE)),\"\")","v":""},null,1,null,{"$f":"IF(D59=\"\",\"\",IFERROR(VLOOKUP(B59,Events!B:L,11,FALSE),Y58))","v":""}," "," ",{"$f":"IFERROR(VLOOKUP(AA:AA,'Masters Convertion'!F:G,2,FALSE),\"\")","v":""},"",{"$f":"IF('Gala Name'!C$4=\"No\",\"\",IFERROR(RANK(N59,N59:N66,1),\"\"))","v":""}]
[{"$f":"IF(J60=\"\",\"\",B59)","v":""},null,null,2,{"$f":"IF(D60=\"\",\"\",IF(VLOOKUP(D60,Teams!$B$3:$C$10,2,FALSE)=\"\",\"\",VLOOKUP(D60,Teams!$B$3:$C$10,2,FALSE)))","v":""},null,null,{"$f":"IF(G60=\"\",\"\",YEAR('Gala Name'!$C$9)-YEAR(G60))","v":""},"",null,"",{"$f":"IF(OR(J60=\"\",J60=\"DSQ\"),\"\",IF(OR(J60=J59,J60=J61,J60=J62,J60=J63,J60=J64,J60=J65,J60=J66),\"Enter Placings\",\"\"))","v":""},"","",null,{"$f":"IF(L60<>\"\",L60,IF(OR(J60=\"DNF\",J60=\"DSQ\"),0,IF(N60=\"\",\"\",RANK(N60,N59:N66,1))))","v":""},{"$f":"IF(P60=\"\",0,IF(P60=0,0,VLOOKUP(P:P,Points!B:C,2,FALSE)))","v":0},2,null,{"$f":"IF(P67>1.9,2,\"\")","v":""},{"$f":"IFERROR(IF(T60=\"\",\"\",VLOOKUP(T60,P59:R66,3,FALSE)),\"\")","v":""},null,2,null,{"$f":"IF(D60=\"\",\"\",IFERROR(VLOOKUP(B60,Events!B:L,11,FALSE),Y59))","v":""}," "," ",{"$f":"IFERROR(VLOOKUP(AA:AA,'Masters Convertion'!F:G,2,FALSE),\"\")","v":""},"",{"$f":"IF('Gala Name'!C$4=\"No\",\"\",IFERROR(RANK(N60,N60:N67,1),\"\"))","v":""}]
[{"$f":"IF(J61=\"\",\"\",B59)","v":""},null,null,3,{"$f":"IF(D61=\"\",\"\",IF(VLOOKUP(D61,Teams!$B$3:$C$10,2,FALSE)=\"\",\"\",VLOOKUP(D61,Teams!$B$3:$C$10,2,FALSE)))","v":""},null,null,{"$f":"IF(G61=\"\",\"\",YEAR('Gala Name'!$C$9)-YEAR(G61))","v":""},"",null,"",{"$f":"IF(OR(J61=\"\",J61=\"DSQ\"),\"\",IF(OR(J61=J59,J61=J60,J61=J62,J61=J63,J61=J64,J61=J65,J61=J66),\"Enter Placings\",\"\"))","v":""},"","",null,{"$f":"IF(L61<>\"\",L61,IF(OR(J61=\"DNF\",J61=\"DSQ\"),0,IF(N61=\"\",\"\",RANK(N61,N59:N66,1))))","v":""},{"$f":"IF(P61=\"\",0,IF(P61=0,0,VLOOKUP(P:P,Points!B:C,2,FALSE)))","v":0},3,null,{"$f":"IF(P67>2.9,3,\"\")","v":""},{"$f":"IFERROR(IF(T61=\"\",\"\",VLOOKUP(T61,P59:R66,3,FALSE)),\"\")","v":""},null,3,null,{"$f":"IF(D61=\"\",\"\",IFERROR(VLOOKUP(B61,Events!B:L,11,FALSE),Y60))","v":""}," "," ",{"$f":"IFERROR(VLOOKUP(AA:AA,'Masters Convertion'!F:G,2,FALSE),\"\")","v":""},"",{"$f":"IF('Gala Name'!C$4=\"No\",\"\",IFERROR(RANK(N61,N61:N68,1),\"\"))","v":""}]
[{"$f":"IF(J62=\"\",\"\",B59)","v":""},null,null,4,{"$f":"IF(D62=\"\",\"\",IF(VLOOKUP(D62,Teams!$B$3:$C$10,2,FALSE)=\"\",\"\",VLOOKUP(D62,Teams!$B$3:$C$10,2,FALSE)))","v":""},null,null,{"$f":"IF(G62=\"\",\"\",YEAR('Gala Name'!$C$9)-YEAR(G62))","v":""},"",null,"",{"$f":"IF(OR(J62=\"\",J62=\"DSQ\"),\"\",IF(OR(J62=J59,J62=J60,J62=J61,J62=J63,J62=J64,J62=J65,J62=J66),\"Enter Placings\",\"\"))","v":""},"","",null,{"$f":"IF(L62<>\"\",L62,IF(OR(J62=\"DNF\",J62=\"DSQ\"),0,IF(N62=\"\",\"\",RANK(N62,N59:N66,1))))","v":""},{"$f":"IF(P62=\"\",0,IF(P62=0,0,VLOOKUP(P:P,Points!B:C,2,FALSE)))","v":0},4,null,{"$f":"IF(P67>3.9,4,\"\")","v":""},{"$f":"IFERROR(IF(T62=\"\",\"\",VLOOKUP(T62,P59:R66,3,FALSE)),\"\")","v":""},null,4,null,{"$f":"IF(D62=\"\",\"\",IFERROR(VLOOKUP(B62,Events!B:L,11,FALSE),Y61))","v":""}," "," ",{"$f":"IFERROR(VLOOKUP(AA:AA,'Masters Convertion'!F:G,2,FALSE),\"\")","v":""},"",{"$f":"IF('Gala Name'!C$4=\"No\",\"\",IFERROR(RANK(N62,N62:N69,1),\"\"))","v":""}]
[{"$f":"IF(J63=\"\",\"\",B59)","v":""},null,null,5,{"$f":"IF(D63=\"\",\"\",IF(VLOOKUP(D63,Teams!$B$3:$C$10,2,FALSE)=\"\",\"\",VLOOKUP(D63,Teams!$B$3:$C$10,2,FALSE)))","v":""},null,null,{"$f":"IF(G63=\"\",\"\",YEAR('Gala Name'!$C$9)-YEAR(G63))","v":""},"",null,"",{"$f":"IF(OR(J63=\"\",J63=\"DSQ\"),\"\",IF(OR(J63=J60,J63=J61,J63=J62,J63=J64,J63=J65,J63=J66,J63=J59),\"Enter Placings\",\"\"))","v":""},"","",null,{"$f":"IF(L63<>\"\",L63,IF(OR(J63=\"DNF\",J63=\"DSQ\"),0,IF(N63=\"\",\"\",RANK(N63,N59:N66,1))))","v":""},{"$f":"IF(P63=\"\",0,IF(P63=0,0,VLOOKUP(P:P,Points!B:C,2,FALSE)))","v":0},5,null,{"$f":"IF(P67>4.9,5,\"\")","v":""},{"$f":"IFERROR(IF(T63=\"\",\"\",VLOOKUP(T63,P59:R66,3,FALSE)),\"\")","v":""},null,5,null,{"$f":"IF(D63=\"\",\"\",IFERROR(VLOOKUP(B63,Events!B:L,11,FALSE),Y62))","v":""}," "," ",{"$f":"IFERROR(VLOOKUP(AA:AA,'Masters Convertion'!F:G,2,FALSE),\"\")","v":""},"",{"$f":"IF('Gala Name'!C$4=\"No\",\"\",IFERROR(RANK(N63,N63:N70,1),\"\"))","v":""}]
[{"$f":"IF(J64=\"\",\"\",B59)","v":""},null,null,6,{"$f":"IF(D64=\"\",\"\",IF(VLOOKUP(D64,Teams!$B$3:$C$10,2,FALSE)=\"\",\"\",VLOOKUP(D64,Teams!$B$3:$C$10,2,FALSE)))","v":""},null,null,{"$f":"IF(G64=\"\",\"\",YEAR('Gala Name'!$C$9)-YEAR(G64))","v":""},"",null,"",{"$f":"IF(OR(J64=\"\",J64=\"DSQ\"),\"\",IF(OR(J64=J61,J64=J62,J64=J63,J64=J65,J64=J66,J64=J60,J64=J59),\"Enter Placings\",\"\"))","v":""},"","",null,{"$f":"IF(L64<>\"\",L64,IF(OR(J64=\"DNF\",J64=\"DSQ\"),0,IF(N64=\"\",\"\",RANK(N64,N59:N66,1))))","v":""},{"$f":"IF(P64=\"\",0,IF(P64=0,0,VLOOKUP(P:P,Points!B:C,2,FALSE)))","v":0},6,null,{"$f":"IF(P67>5.9,6,\"\")","v":""},{"$f":"IFERROR(IF(T64=\"\",\"\",VLOOKUP(T64,P59:R66,3,FALSE)),\"\")","v":""},null,6,null,{"$f":"IF(D64=\"\",\"\",IFERROR(VLOOKUP(B64,Events!B:L,11,FALSE),Y63))","v":""}," "," ",{"$f":"IFERROR(VLOOKUP(AA:AA,'Masters Convertion'!F:G,2,FALSE),\"\")","v":""},"",{"$f":"IF('Gala Name'!C$4=\"No\",\"\",IFERROR(RANK(N64,N64:N71,1),\"\"))","v":""}]
[{"$f":"IF(J65=\"\",\"\",B59)","v":""},null,null,7,{"$f":"IF(D65=\"\",\"\",IF(VLOOKUP(D65,Teams!$B$3:$C$10,2,FALSE)=\"\",\"\",VLOOKUP(D65,Teams!$B$3:$C$10,2,FALSE)))","v":""},null,null,{"$f":"IF(G65=\"\",\"\",YEAR('Gala Name'!$C$9)-YEAR(G65))","v":""},"",null,"",{"$f":"IF(OR(J65=\"\",J65=\"DSQ\"),\"\",IF(OR(J65=J62,J65=J63,J65=J64,J65=J66,J65=J59,J65=J60,J65=J61),\"Enter Placings\",\"\"))","v":""},"","",null,{"$f":"IF(L65<>\"\",L65,IF(OR(J65=\"DNF\",J65=\"DSQ\"),0,IF(N65=\"\",\"\",RANK(N65,N59:N66,1))))","v":""},{"$f":"IF(P65=\"\",0,IF(P65=0,0,VLOOKUP(P:P,Points!B:C,2,FALSE)))","v":0},7,null,{"$f":"IF(P67>6.9,7,\"\")","v":""},{"$f":"IFERROR(IF(T65=\"\",\"\",VLOOKUP(T65,P59:R66,3,FALSE)),\"\")","v":""},null,7,null,{"$f":"IF(D65=\"\",\"\",IFERROR(VLOOKUP(B65,Events!B:L,11,FALSE),Y64))","v":""}," "," ",{"$f":"IFERROR(VLOOKUP(AA:AA,'Masters Convertion'!F:G,2,FALSE),\"\")","v":""},"",{"$f":"IF('Gala Name'!C$4=\"No\",\"\",IFERROR(RANK(N65,N65:N72,1),\"\"))","v":""}]
[{"$f":"IF(J66=\"\",\"\",B59)","v":""},null,null,8,{"$f":"IF(D66=\"\",\"\",IF(VLOOKUP(D66,Teams!$B$3:$C$10,2,FALSE)=\"\",\"\",VLOOKUP(D66,Teams!$B$3:$C$10,2,FALSE)))","v":""},null,null,{"$f":"IF(G66=\"\",\"\",YEAR('Gala Name'!$C$9)-YEAR(G66))","v":""},"",null,"",{"$f":"IF(OR(J66=\"\",J66=\"DSQ\"),\"\",IF(OR(J66=J63,J66=J64,J66=J65,J66=J59,J66=J60,J66=J61,J66=J62),\"Enter Placings\",\"\"))","v":""},"","",null,{"$f":"IF(L66<>\"\",L66,IF(OR(J66=\"DNF\",J66=\"DSQ\"),0,IF(N66=\"\",\"\",RANK(N66,N59:N66,1))))","v":""},{"$f":"IF(P66=\"\",0,IF(P66=0,0,VLOOKUP(P:P,Points!B:C,2,FALSE)))","v":0},8,null,{"$f":"IF(P67>7.9,8,\"\")","v":""},{"$f":"IFERROR(IF(T66=\"\",\"\",VLOOKUP(T66,P59:R66,3,FALSE)),\"\")","v":""},null,8,null,{"$f":"IF(D66=\"\",\"\",IFERROR(VLOOKUP(B66,Events!B:L,11,FALSE),Y65))","v":""}," "," ",{"$f":"IFERROR(VLOOKUP(AA:AA,'Masters Convertion'!F:G,2,FALSE),\"\")","v":""},"",{"$f":"IF('Gala Name'!C$4=\"No\",\"\",IFERROR(RANK(N66,N66:N73,1),\"\"))","v":""}]
[null,null,null,null,null,null,null,null,null,null,null,null,"","",null,{"$f":"MAX(P59:P66)","v":0},null,null,null,null,null,null,"*"]
["",{"$f":"B59+1","v":8},{"$f":"IF(D68=1,VLOOKUP(B68,Events!B:H,6,FALSE)&VLOOKUP(B68,Events!B:H,7,FALSE),\"\")","v":"   "},1,{"$f":"IF(D68=\"\",\"\",IF(VLOOKUP(D68,Teams!$B$3:$C$10,2,FALSE)=\"\",\"\",VLOOKUP(D68,Teams!$B$3:$C$10,2,FALSE)))","v":""},null,null,{"$f":"IF(G68=\"\",\"\",YEAR('Gala Name'!$C$9)-YEAR(G68))","v":""},"",null,"",{"$f":"IF(OR(J68=\"\",J68=\"DSQ\"),\"\",IF(OR(J68=J69,J68=J70,J68=J71,J68=J72,J68=J73,J68=J74,J68=J75),\"Enter Placings\",\"\"))","v":""},"","",null,{"$f":"IF(L68<>\"\",L68,IF(OR(J68=\"DNF\",J68=\"DSQ\"),0,IF(N68=\"\",\"\",RANK(N68,N68:N75,1))))","v":""},{"$f":"IF(P68=\"\",0,IF(P68=0,0,VLOOKUP(P:P,Points!B:C,2,FALSE)))","v":0},{"$f":"D68","v":1},null,{"$f":"IF(P76>0.9,1,\"\")","v":""},{"$f":"IFERROR(IF(T68=\"\",\"\",VLOOKUP(T68,P68:R75,3,FALSE)),\"\")","v":""},null,1,null,{"$f":"IF(D68=\"\",\"\",IFERROR(VLOOKUP(B68,Events!B:L,11,FALSE),Y67))","v":""}," "," ",{"$f":"IFERROR(VLOOKUP(AA:AA,'Masters Convertion'!F:G,2,FALSE),\"\")","v":""},"",{"$f":"IF('Gala Name'!C$4=\"No\",\"\",IFERROR(RANK(N68,N68:N75,1),\"\"))","v":""}]
[{"$f":"IF(J69=\"\",\"\",B68)","v":""},null,null,2,{"$f":"IF(D69=\"\",\"\",IF(VLOOKUP(D69,Teams!$B$3:$C$10,2,FALSE)=\"\",\"\",VLOOKUP(D69,Teams!$B$3:$C$10,2,FALSE)))","v":""},null,null,{"$f":"IF(G69=\"\",\"\",YEAR('Gala Name'!$C$9)-YEAR(G69))","v":""},"",null,"",{"$f":"IF(OR(J69=\"\",J69=\"DSQ\"),\"\",IF(OR(J69=J68,J69=J70,J69=J71,J69=J72,J69=J73,J69=J74,J69=J75),\"Enter Placings\",\"\"))","v":""},"","",null,{"$f":"IF(L69<>\"\",L69,IF(OR(J69=\"DNF\",J69=\"DSQ\"),0,IF(N69=\"\",\"\",RANK(N69,N68:N75,1))))","v":""},{"$f":"IF(P69=\"\",0,IF(P69=0,0,VLOOKUP(P:P,Points!B:C,2,FALSE)))","v":0},2,null,{"$f":"IF(P76>1.9,2,\"\")","v":""},{"$f":"IFERROR(IF(T69=\"\",\"\",VLOOKUP(T69,P68:R75,3,FALSE)),\"\")","v":""},null,2,null,{"$f":"IF(D69=\"\",\"\",IFERROR(VLOOKUP(B69,Events!B:L,11,FALSE),Y68))","v":""}," "," ",{"$f":"IFERROR(VLOOKUP(AA:AA,'Masters Convertion'!F:G,2,FALSE),\"\")","v":""},"",{"$f":"IF('Gala Name'!C$4=\"No\",\"\",IFERROR(RANK(N69,N69:N76,1),\"\"))","v":""}]
[{"$f":"IF(J70=\"\",\"\",B68)","v":""},null,null,3,{"$f":"IF(D70=\"\",\"\",IF(VLOOKUP(D70,Teams!$B$3:$C$10,2,FALSE)=\"\",\"\",VLOOKUP(D70,Teams!$B$3:$C$10,2,FALSE)))","v":""},null,null,{"$f":"IF(G70=\"\",\"\",YEAR('Gala Name'!$C$9)-YEAR(G70))","v":""},{"$f":"IF(IF(J70=\"DSQ\",PROPER(K70),PROPER(F70))=\"\",\"\",IF(J70=\"DSQ\",PROPER(K70),PROPER(F70)))","v":""},null,"",{"$f":"IF(OR(J70=\"\",J70=\"DSQ\"),\"\",IF(OR(J70=J68,J70=J69,J70=J71,J70=J72,J70=J73,J70=J74,J70=J75),\"Enter Placings\",\"\"))","v":""},{"$f":"IF(J70=\"\",\"\",UPPER(TEXT(J70,\"0 00.00\")))","v":""},{"$f":"IF(J70=\"DSQ\",999999,IF(J70=\"DNF\",999999,IF(J70=\"\",\"\",IF(LEFT(M70,1)=\"0\",RIGHT(M70,5)*1,LEFT(J70,1)*60+RIGHT(M70,5)*1))))","v":""},null,{"$f":"IF(L70<>\"\",L70,IF(OR(J70=\"DNF\",J70=\"DSQ\"),0,IF(N70=\"\",\"\",RANK(N70,N68:N75,1))))","v":""},{"$f":"IF(P70=\"\",0,IF(P70=0,0,VLOOKUP(P:P,Points!B:C,2,FALSE)))","v":0},3,null,{"$f":"IF(P76>2.9,3,\"\")","v":""},{"$f":"IFERROR(IF(T70=\"\",\"\",VLOOKUP(T70,P68:R75,3,FALSE)),\"\")","v":""},null,3,null,{"$f":"IF(D70=\"\",\"\",IFERROR(VLOOKUP(B70,Events!B:L,11,FALSE),Y69))","v":""}," ",{"$f":"Z70&Y70&H70","v":" "},{"$f":"IFERROR(VLOOKUP(AA:AA,'Masters Convertion'!F:G,2,FALSE),\"\")","v":""},"",{"$f":"IF('Gala Name'!C$4=\"No\",\"\",IFERROR(RANK(N70,N70:N77,1),\"\"))","v":""}]
[{"$f":"IF(J71=\"\",\"\",B68)","v":""},null,null,4,{"$f":"IF(D71=\"\",\"\",IF(VLOOKUP(D71,Teams!$B$3:$C$10,2,FALSE)=\"\",\"\",VLOOKUP(D71,Teams!$B$3:$C$10,2,FALSE)))","v":""},null,null,{"$f":"IF(G71=\"\",\"\",YEAR('Gala Name'!$C$9)-YEAR(G71))","v":""},"",null,"",{"$f":"IF(OR(J71=\"\",J71=\"DSQ\"),\"\",IF(OR(J71=J68,J71=J69,J71=J70,J71=J72,J71=J73,J71=J74,J71=J75),\"Enter Placings\",\"\"))","v":""},"","",null,{"$f":"IF(L71<>\"\",L71,IF(OR(J71=\"DNF\",J71=\"DSQ\"),0,IF(N71=\"\",\"\",RANK(N71,N68:N75,1))))","v":""},{"$f":"IF(P71=\"\",0,IF(P71=0,0,VLOOKUP(P:P,Points!B:C,2,FALSE)))","v":0},4,null,{"$f":"IF(P76>3.9,4,\"\")","v":""},{"$f":"IFERROR(IF(T71=\"\",\"\",VLOOKUP(T71,P68:R75,3,FALSE)),\"\")","v":""},null,4,null,{"$f":"IF(D71=\"\",\"\",IFERROR(VLOOKUP(B71,Events!B:L,11,FALSE),Y70))","v":""}," "," ",{"$f":"IFERROR(VLOOKUP(AA:AA,'Masters Convertion'!F:G,2,FALSE),\"\")","v":""},"",{"$f":"IF('Gala Name'!C$4=\"No\",\"\",IFERROR(RANK(N71,N71:N78,1),\"\"))","v":""}]
[{"$f":"IF(J72=\"\",\"\",B68)","v":""},null,null,5,{"$f":"IF(D72=\"\",\"\",IF(VLOOKUP(D72,Teams!$B$3:$C$10,2,FALSE)=\"\",\"\",VLOOKUP(D72,Teams!$B$3:$C$10,2,FALSE)))","v":""},null,null,{"$f":"IF(G72=\"\",\"\",YEAR('Gala Name'!$C$9)-YEAR(G72))","v":""},"",null,"",{"$f":"IF(OR(J72=\"\",J72=\"DSQ\"),\"\",IF(OR(J72=J69,J72=J70,J72=J71,J72=J73,J72=J74,J72=J75,J72=J68),\"Enter Placings\",\"\"))","v":""},"","",null,{"$f":"IF(L72<>\"\",L72,IF(OR(J72=\"DNF\",J72=\"DSQ\"),0,IF(N72=\"\",\"\",RANK(N72,N68:N75,1))))","v":""},{"$f":"IF(P72=\"\",0,IF(P72=0,0,VLOOKUP(P:P,Points!B:C,2,FALSE)))","v":0},5,null,{"$f":"IF(P76>4.9,5,\"\")","v":""},{"$f":"IFERROR(IF(T72=\"\",\"\",VLOOKUP(T72,P68:R75,3,FALSE)),\"\")","v":""},null,5,null,{"$f":"IF(D72=\"\",\"\",IFERROR(VLOOKUP(B72,Events!B:L,11,FALSE),Y71))","v":""}," "," ",{"$f":"IFERROR(VLOOKUP(AA:AA,'Masters Convertion'!F:G,2,FALSE),\"\")","v":""},{"$f":"IF(AB72=\"\",\"\",ROUNDDOWN(AB72*N72,2))","v":""},{"$f":"IF('Gala Name'!C$4=\"No\",\"\",IFERROR(RANK(N72,N72:N79,1),\"\"))","v":""}]
[{"$f":"IF(J73=\"\",\"\",B68)","v":""},null,null,6,{"$f":"IF(D73=\"\",\"\",IF(VLOOKUP(D73,Teams!$B$3:$C$10,2,FALSE)=\"\",\"\",VLOOKUP(D73,Teams!$B$3:$C$10,2,FALSE)))","v":""},null,null,{"$f":"IF(G73=\"\",\"\",YEAR('Gala Name'!$C$9)-YEAR(G73))","v":""},"",null,"",{"$f":"IF(OR(J73=\"\",J73=\"DSQ\"),\"\",IF(OR(J73=J70,J73=J71,J73=J72,J73=J74,J73=J75,J73=J69,J73=J68),\"Enter Placings\",\"\"))","v":""},"","",null,{"$f":"IF(L73<>\"\",L73,IF(OR(J73=\"DNF\",J73=\"DSQ\"),0,IF(N73=\"\",\"\",RANK(N73,N68:N75,1))))","v":""},{"$f":"IF(P73=\"\",0,IF(P73=0,0,VLOOKUP(P:P,Points!B:C,2,FALSE)))","v":0},6,null,{"$f":"IF(P76>5.9,6,\"\")","v":""},{"$f":"IFERROR(IF(T73=\"\",\"\",VLOOKUP(T73,P68:R75,3,FALSE)),\"\")","v":""},null,6,null,{"$f":"IF(D73=\"\",\"\",IFERROR(VLOOKUP(B73,Events!B:L,11,FALSE),Y72))","v":""}," "," ",{"$f":"IFERROR(VLOOKUP(AA:AA,'Masters Convertion'!F:G,2,FALSE),\"\")","v":""},"",{"$f":"IF('Gala Name'!C$4=\"No\",\"\",IFERROR(RANK(N73,N73:N80,1),\"\"))","v":""}]
[{"$f":"IF(J74=\"\",\"\",B68)","v":""},null,null,7,{"$f":"IF(D74=\"\",\"\",IF(VLOOKUP(D74,Teams!$B$3:$C$10,2,FALSE)=\"\",\"\",VLOOKUP(D74,Teams!$B$3:$C$10,2,FALSE)))","v":""},null,null,{"$f":"IF(G74=\"\",\"\",YEAR('Gala Name'!$C$9)-YEAR(G74))","v":""},"",null,"",{"$f":"IF(OR(J74=\"\",J74=\"DSQ\"),\"\",IF(OR(J74=J71,J74=J72,J74=J73,J74=J75,J74=J68,J74=J69,J74=J70),\"Enter Placings\",\"\"))","v":""},"","",null,{"$f":"IF(L74<>\"\",L74,IF(OR(J74=\"DNF\",J74=\"DSQ\"),0,IF(N74=\"\",\"\",RANK(N74,N68:N75,1))))","v":""},{"$f":"IF(P74=\"\",0,IF(P74=0,0,VLOOKUP(P:P,Points!B:C,2,FALSE)))","v":0},7,null,{"$f":"IF(P76>6.9,7,\"\")","v":""},{"$f":"IFERROR(IF(T74=\"\",\"\",VLOOKUP(T74,P68:R75,3,FALSE)),\"\")","v":""},null,7,null,{"$f":"IF(D74=\"\",\"\",IFERROR(VLOOKUP(B74,Events!B:L,11,FALSE),Y73))","v":""}," "," ",{"$f":"IFERROR(VLOOKUP(AA:AA,'Masters Convertion'!F:G,2,FALSE),\"\")","v":""},"",{"$f":"IF('Gala Name'!C$4=\"No\",\"\",IFERROR(RANK(N74,N74:N81,1),\"\"))","v":""}]
[{"$f":"IF(J75=\"\",\"\",B68)","v":""},null,null,8,{"$f":"IF(D75=\"\",\"\",IF(VLOOKUP(D75,Teams!$B$3:$C$10,2,FALSE)=\"\",\"\",VLOOKUP(D75,Teams!$B$3:$C$10,2,FALSE)))","v":""},null,null,{"$f":"IF(G75=\"\",\"\",YEAR('Gala Name'!$C$9)-YEAR(G75))","v":""},"",null,"",{"$f":"IF(OR(J75=\"\",J75=\"DSQ\"),\"\",IF(OR(J75=J72,J75=J73,J75=J74,J75=J68,J75=J69,J75=J70,J75=J71),\"Enter Placings\",\"\"))","v":""},"","",null,{"$f":"IF(L75<>\"\",L75,IF(OR(J75=\"DNF\",J75=\"DSQ\"),0,IF(N75=\"\",\"\",RANK(N75,N68:N75,1))))","v":""},{"$f":"IF(P75=\"\",0,IF(P75=0,0,VLOOKUP(P:P,Points!B:C,2,FALSE)))","v":0},8,null,{"$f":"IF(P76>7.9,8,\"\")","v":""},{"$f":"IFERROR(IF(T75=\"\",\"\",VLOOKUP(T75,P68:R75,3,FALSE)),\"\")","v":""},null,8,null,{"$f":"IF(D75=\"\",\"\",IFERROR(VLOOKUP(B75,Events!B:L,11,FALSE),Y74))","v":""}," "," ",{"$f":"IFERROR(VLOOKUP(AA:AA,'Masters Convertion'!F:G,2,FALSE),\"\")","v":""},"",{"$f":"IF('Gala Name'!C$4=\"No\",\"\",IFERROR(RANK(N75,N75:N82,1),\"\"))","v":""}]
[null,null,null,null,null,null,null,null,null,null,null,null,"","",null,{"$f":"MAX(P68:P75)","v":0},null,null,null,null,null,null,"*"]
[{"$f":"IF(J77=\"\",\"\",B77)","v":""},{"$f":"B68+1","v":9},{"$f":"IF(D77=1,VLOOKUP(B77,Events!B:H,6,FALSE)&VLOOKUP(B77,Events!B:H,7,FALSE),\"\")","v":"   "},1,{"$f":"IF(D77=\"\",\"\",IF(VLOOKUP(D77,Teams!$B$3:$C$10,2,FALSE)=\"\",\"\",VLOOKUP(D77,Teams!$B$3:$C$10,2,FALSE)))","v":""},null,null,{"$f":"IF(G77=\"\",\"\",YEAR('Gala Name'!$C$9)-YEAR(G77))","v":""},"",null,"",{"$f":"IF(OR(J77=\"\",J77=\"DSQ\"),\"\",IF(OR(J77=J78,J77=J79,J77=J80,J77=J81,J77=J82,J77=J83,J77=J84),\"Enter Placings\",\"\"))","v":""},"","",null,{"$f":"IF(L77<>\"\",L77,IF(OR(J77=\"DNF\",J77=\"DSQ\"),0,IF(N77=\"\",\"\",RANK(N77,N77:N84,1))))","v":""},{"$f":"IF(P77=\"\",0,IF(P77=0,0,VLOOKUP(P:P,Points!B:C,2,FALSE)))","v":0},{"$f":"D77","v":1},null,{"$f":"IF(P85>0.9,1,\"\")","v":""},{"$f":"IFERROR(IF(T77=\"\",\"\",VLOOKUP(T77,P77:R84,3,FALSE)),\"\")","v":""},null,1,null,{"$f":"IF(D77=\"\",\"\",IFERROR(VLOOKUP(B77,Events!B:L,11,FALSE),Y76))","v":""}," "," ",{"$f":"IFERROR(VLOOKUP(AA:AA,'Masters Convertion'!F:G,2,FALSE),\"\")","v":""},"",{"$f":"IF('Gala Name'!C$4=\"No\",\"\",IFERROR(RANK(N77,N77:N84,1),\"\"))","v":""}]
[{"$f":"IF(J78=\"\",\"\",B77)","v":""},null,null,2,{"$f":"IF(D78=\"\",\"\",IF(VLOOKUP(D78,Teams!$B$3:$C$10,2,FALSE)=\"\",\"\",VLOOKUP(D78,Teams!$B$3:$C$10,2,FALSE)))","v":""},null,null,{"$f":"IF(G78=\"\",\"\",YEAR('Gala Name'!$C$9)-YEAR(G78))","v":""},"",null,"",{"$f":"IF(OR(J78=\"\",J78=\"DSQ\"),\"\",IF(OR(J78=J77,J78=J79,J78=J80,J78=J81,J78=J82,J78=J83,J78=J84),\"Enter Placings\",\"\"))","v":""},"","",null,{"$f":"IF(L78<>\"\",L78,IF(OR(J78=\"DNF\",J78=\"DSQ\"),0,IF(N78=\"\",\"\",RANK(N78,N77:N84,1))))","v":""},{"$f":"IF(P78=\"\",0,IF(P78=0,0,VLOOKUP(P:P,Points!B:C,2,FALSE)))","v":0},2,null,{"$f":"IF(P85>1.9,2,\"\")","v":""},{"$f":"IFERROR(IF(T78=\"\",\"\",VLOOKUP(T78,P77:R84,3,FALSE)),\"\")","v":""},null,2,null,{"$f":"IF(D78=\"\",\"\",IFERROR(VLOOKUP(B78,Events!B:L,11,FALSE),Y77))","v":""}," "," ",{"$f":"IFERROR(VLOOKUP(AA:AA,'Masters Convertion'!F:G,2,FALSE),\"\")","v":""},"",{"$f":"IF('Gala Name'!C$4=\"No\",\"\",IFERROR(RANK(N78,N78:N85,1),\"\"))","v":""}]
[{"$f":"IF(J79=\"\",\"\",B77)","v":""},null,null,3,{"$f":"IF(D79=\"\",\"\",IF(VLOOKUP(D79,Teams!$B$3:$C$10,2,FALSE)=\"\",\"\",VLOOKUP(D79,Teams!$B$3:$C$10,2,FALSE)))","v":""},null,null,{"$f":"IF(G79=\"\",\"\",YEAR('Gala Name'!$C$9)-YEAR(G79))","v":""},"",null,"",{"$f":"IF(OR(J79=\"\",J79=\"DSQ\"),\"\",IF(OR(J79=J77,J79=J78,J79=J80,J79=J81,J79=J82,J79=J83,J79=J84),\"Enter Placings\",\"\"))","v":""},"","",null,{"$f":"IF(L79<>\"\",L79,IF(OR(J79=\"DNF\",J79=\"DSQ\"),0,IF(N79=\"\",\"\",RANK(N79,N77:N84,1))))","v":""},{"$f":"IF(P79=\"\",0,IF(P79=0,0,VLOOKUP(P:P,Points!B:C,2,FALSE)))","v":0},3,null,{"$f":"IF(P85>2.9,3,\"\")","v":""},{"$f":"IFERROR(IF(T79=\"\",\"\",VLOOKUP(T79,P77:R84,3,FALSE)),\"\")","v":""},null,3,null,{"$f":"IF(D79=\"\",\"\",IFERROR(VLOOKUP(B79,Events!B:L,11,FALSE),Y78))","v":""}," "," ",{"$f":"IFERROR(VLOOKUP(AA:AA,'Masters Convertion'!F:G,2,FALSE),\"\")","v":""},"",{"$f":"IF('Gala Name'!C$4=\"No\",\"\",IFERROR(RANK(N79,N79:N86,1),\"\"))","v":""}]
[{"$f":"IF(J80=\"\",\"\",B77)","v":""},null,null,4,{"$f":"IF(D80=\"\",\"\",IF(VLOOKUP(D80,Teams!$B$3:$C$10,2,FALSE)=\"\",\"\",VLOOKUP(D80,Teams!$B$3:$C$10,2,FALSE)))","v":""},null,null,{"$f":"IF(G80=\"\",\"\",YEAR('Gala Name'!$C$9)-YEAR(G80))","v":""},"",null,"",{"$f":"IF(OR(J80=\"\",J80=\"DSQ\"),\"\",IF(OR(J80=J77,J80=J78,J80=J79,J80=J81,J80=J82,J80=J83,J80=J84),\"Enter Placings\",\"\"))","v":""},"","",null,{"$f":"IF(L80<>\"\",L80,IF(OR(J80=\"DNF\",J80=\"DSQ\"),0,IF(N80=\"\",\"\",RANK(N80,N77:N84,1))))","v":""},{"$f":"IF(P80=\"\",0,IF(P80=0,0,VLOOKUP(P:P,Points!B:C,2,FALSE)))","v":0},4,null,{"$f":"IF(P85>3.9,4,\"\")","v":""},{"$f":"IFERROR(IF(T80=\"\",\"\",VLOOKUP(T80,P77:R84,3,FALSE)),\"\")","v":""},null,4,null,{"$f":"IF(D80=\"\",\"\",IFERROR(VLOOKUP(B80,Events!B:L,11,FALSE),Y79))","v":""}," "," ",{"$f":"IFERROR(VLOOKUP(AA:AA,'Masters Convertion'!F:G,2,FALSE),\"\")","v":""},"",{"$f":"IF('Gala Name'!C$4=\"No\",\"\",IFERROR(RANK(N80,N80:N87,1),\"\"))","v":""}]
[{"$f":"IF(J81=\"\",\"\",B77)","v":""},null,null,5,{"$f":"IF(D81=\"\",\"\",IF(VLOOKUP(D81,Teams!$B$3:$C$10,2,FALSE)=\"\",\"\",VLOOKUP(D81,Teams!$B$3:$C$10,2,FALSE)))","v":""},null,null,{"$f":"IF(G81=\"\",\"\",YEAR('Gala Name'!$C$9)-YEAR(G81))","v":""},"",null,"",{"$f":"IF(OR(J81=\"\",J81=\"DSQ\"),\"\",IF(OR(J81=J78,J81=J79,J81=J80,J81=J82,J81=J83,J81=J84,J81=J77),\"Enter Placings\",\"\"))","v":""},"","",null,{"$f":"IF(L81<>\"\",L81,IF(OR(J81=\"DNF\",J81=\"DSQ\"),0,IF(N81=\"\",\"\",RANK(N81,N77:N84,1))))","v":""},{"$f":"IF(P81=\"\",0,IF(P81=0,0,VLOOKUP(P:P,Points!B:C,2,FALSE)))","v":0},5,null,{"$f":"IF(P85>4.9,5,\"\")","v":""},{"$f":"IFERROR(IF(T81=\"\",\"\",VLOOKUP(T81,P77:R84,3,FALSE)),\"\")","v":""},null,5,null,{"$f":"IF(D81=\"\",\"\",IFERROR(VLOOKUP(B81,Events!B:L,11,FALSE),Y80))","v":""},{"$f":"IF(LEFT(C81,1)=\"\",Z80,LEFT(C81,1))","v":" "}," ",{"$f":"IFERROR(VLOOKUP(AA:AA,'Masters Convertion'!F:G,2,FALSE),\"\")","v":""},"",{"$f":"IF('Gala Name'!C$4=\"No\",\"\",IFERROR(RANK(N81,N81:N88,1),\"\"))","v":""}]
[{"$f":"IF(J82=\"\",\"\",B77)","v":""},null,null,6,{"$f":"IF(D82=\"\",\"\",IF(VLOOKUP(D82,Teams!$B$3:$C$10,2,FALSE)=\"\",\"\",VLOOKUP(D82,Teams!$B$3:$C$10,2,FALSE)))","v":""},null,null,{"$f":"IF(G82=\"\",\"\",YEAR('Gala Name'!$C$9)-YEAR(G82))","v":""},"",null,"",{"$f":"IF(OR(J82=\"\",J82=\"DSQ\"),\"\",IF(OR(J82=J79,J82=J80,J82=J81,J82=J83,J82=J84,J82=J78,J82=J77),\"Enter Placings\",\"\"))","v":""},"","",null,{"$f":"IF(L82<>\"\",L82,IF(OR(J82=\"DNF\",J82=\"DSQ\"),0,IF(N82=\"\",\"\",RANK(N82,N77:N84,1))))","v":""},{"$f":"IF(P82=\"\",0,IF(P82=0,0,VLOOKUP(P:P,Points!B:C,2,FALSE)))","v":0},6,null,{"$f":"IF(P85>5.9,6,\"\")","v":""},{"$f":"IFERROR(IF(T82=\"\",\"\",VLOOKUP(T82,P77:R84,3,FALSE)),\"\")","v":""},null,6,null,{"$f":"IF(D82=\"\",\"\",IFERROR(VLOOKUP(B82,Events!B:L,11,FALSE),Y81))","v":""}," "," ",{"$f":"IFERROR(VLOOKUP(AA:AA,'Masters Convertion'!F:G,2,FALSE),\"\")","v":""},"",{"$f":"IF('Gala Name'!C$4=\"No\",\"\",IFERROR(RANK(N82,N82:N89,1),\"\"))","v":""}]
[{"$f":"IF(J83=\"\",\"\",B77)","v":""},null,null,7,{"$f":"IF(D83=\"\",\"\",IF(VLOOKUP(D83,Teams!$B$3:$C$10,2,FALSE)=\"\",\"\",VLOOKUP(D83,Teams!$B$3:$C$10,2,FALSE)))","v":""},null,null,{"$f":"IF(G83=\"\",\"\",YEAR('Gala Name'!$C$9)-YEAR(G83))","v":""},"",null,"",{"$f":"IF(OR(J83=\"\",J83=\"DSQ\"),\"\",IF(OR(J83=J80,J83=J81,J83=J82,J83=J84,J83=J77,J83=J78,J83=J79),\"Enter Placings\",\"\"))","v":""},"","",null,{"$f":"IF(L83<>\"\",L83,IF(OR(J83=\"DNF\",J83=\"DSQ\"),0,IF(N83=\"\",\"\",RANK(N83,N77:N84,1))))","v":""},{"$f":"IF(P83=\"\",0,IF(P83=0,0,VLOOKUP(P:P,Points!B:C,2,FALSE)))","v":0},7,null,{"$f":"IF(P85>6.9,7,\"\")","v":""},{"$f":"IFERROR(IF(T83=\"\",\"\",VLOOKUP(T83,P77:R84,3,FALSE)),\"\")","v":""},null,7,null,{"$f":"IF(D83=\"\",\"\",IFERROR(VLOOKUP(B83,Events!B:L,11,FALSE),Y82))","v":""}," "," ",{"$f":"IFERROR(VLOOKUP(AA:AA,'Masters Convertion'!F:G,2,FALSE),\"\")","v":""},"",{"$f":"IF('Gala Name'!C$4=\"No\",\"\",IFERROR(RANK(N83,N83:N90,1),\"\"))","v":""}]
[{"$f":"IF(J84=\"\",\"\",B77)","v":""},null,null,8,{"$f":"IF(D84=\"\",\"\",IF(VLOOKUP(D84,Teams!$B$3:$C$10,2,FALSE)=\"\",\"\",VLOOKUP(D84,Teams!$B$3:$C$10,2,FALSE)))","v":""},null,null,{"$f":"IF(G84=\"\",\"\",YEAR('Gala Name'!$C$9)-YEAR(G84))","v":""},"",null,"",{"$f":"IF(OR(J84=\"\",J84=\"DSQ\"),\"\",IF(OR(J84=J81,J84=J82,J84=J83,J84=J77,J84=J78,J84=J79,J84=J80),\"Enter Placings\",\"\"))","v":""},"","",null,{"$f":"IF(L84<>\"\",L84,IF(OR(J84=\"DNF\",J84=\"DSQ\"),0,IF(N84=\"\",\"\",RANK(N84,N77:N84,1))))","v":""},{"$f":"IF(P84=\"\",0,IF(P84=0,0,VLOOKUP(P:P,Points!B:C,2,FALSE)))","v":0},8,null,{"$f":"IF(P85>7.9,8,\"\")","v":""},{"$f":"IFERROR(IF(T84=\"\",\"\",VLOOKUP(T84,P77:R84,3,FALSE)),\"\")","v":""},null,8,null,{"$f":"IF(D84=\"\",\"\",IFERROR(VLOOKUP(B84,Events!B:L,11,FALSE),Y83))","v":""}," "," ",{"$f":"IFERROR(VLOOKUP(AA:AA,'Masters Convertion'!F:G,2,FALSE),\"\")","v":""},"",{"$f":"IF('Gala Name'!C$4=\"No\",\"\",IFERROR(RANK(N84,N84:N91,1),\"\"))","v":""}]
[null,null,null,null,null,null,null,null,null,null,null,null,"","",null,{"$f":"MAX(P77:P84)","v":0},null,null,null,null,null,null,0]
[{"$f":"IF(J86=\"\",\"\",B86)","v":""},{"$f":"B77+1","v":10},{"$f":"IF(D86=1,VLOOKUP(B86,Events!B:H,6,FALSE)&VLOOKUP(B86,Events!B:H,7,FALSE),\"\")","v":"   "},1,{"$f":"IF(D86=\"\",\"\",IF(VLOOKUP(D86,Teams!$B$3:$C$10,2,FALSE)=\"\",\"\",VLOOKUP(D86,Teams!$B$3:$C$10,2,FALSE)))","v":""},null,null,{"$f":"IF(G86=\"\",\"\",YEAR('Gala Name'!$C$9)-YEAR(G86))","v":""},"",null,{"$f":"IF(J86=\"DSQ\",\"Enter Reason\",\"\")","v":""},{"$f":"IF(OR(J86=\"\",J86=\"DSQ\"),\"\",IF(OR(J86=J87,J86=J88,J86=J89,J86=J90,J86=J91,J86=J92,J86=J93),\"Enter Placings\",\"\"))","v":""},"","",null,{"$f":"IF(L86<>\"\",L86,IF(OR(J86=\"DNF\",J86=\"DSQ\"),0,IF(N86=\"\",\"\",RANK(N86,N86:N93,1))))","v":""},{"$f":"IF(P86=\"\",0,IF(P86=0,0,VLOOKUP(P:P,Points!B:C,2,FALSE)))","v":0},{"$f":"D86","v":1},null,{"$f":"IF(P94>0.9,1,\"\")","v":""},{"$f":"IFERROR(IF(T86=\"\",\"\",VLOOKUP(T86,P86:R93,3,FALSE)),\"\")","v":""},null,1,null,{"$f":"IF(D86=\"\",\"\",IFERROR(VLOOKUP(B86,Events!B:L,11,FALSE),Y85))","v":""}," "," ",{"$f":"IFERROR(VLOOKUP(AA:AA,'Masters Convertion'!F:G,2,FALSE),\"\")","v":""},"",{"$f":"IF('Gala Name'!C$4=\"No\",\"\",IFERROR(RANK(N86,N86:N93,1),\"\"))","v":""}]
[{"$f":"IF(J87=\"\",\"\",B86)","v":""},null,null,2,{"$f":"IF(D87=\"\",\"\",IF(VLOOKUP(D87,Teams!$B$3:$C$10,2,FALSE)=\"\",\"\",VLOOKUP(D87,Teams!$B$3:$C$10,2,FALSE)))","v":""},null,null,{"$f":"IF(G87=\"\",\"\",YEAR('Gala Name'!$C$9)-YEAR(G87))","v":""},"",null,"",{"$f":"IF(OR(J87=\"\",J87=\"DSQ\"),\"\",IF(OR(J87=J86,J87=J88,J87=J89,J87=J90,J87=J91,J87=J92,J87=J93),\"Enter Placings\",\"\"))","v":""},"","",null,{"$f":"IF(L87<>\"\",L87,IF(OR(J87=\"DNF\",J87=\"DSQ\"),0,IF(N87=\"\",\"\",RANK(N87,N86:N93,1))))","v":""},{"$f":"IF(P87=\"\",0,IF(P87=0,0,VLOOKUP(P:P,Points!B:C,2,FALSE)))","v":0},2,null,{"$f":"IF(P94>1.9,2,\"\")","v":""},{"$f":"IFERROR(IF(T87=\"\",\"\",VLOOKUP(T87,P86:R93,3,FALSE)),\"\")","v":""},null,2,null,{"$f":"IF(D87=\"\",\"\",IFERROR(VLOOKUP(B87,Events!B:L,11,FALSE),Y86))","v":""}," "," ",{"$f":"IFERROR(VLOOKUP(AA:AA,'Masters Convertion'!F:G,2,FALSE),\"\")","v":""},"",{"$f":"IF('Gala Name'!C$4=\"No\",\"\",IFERROR(RANK(N87,N87:N94,1),\"\"))","v":""}]
[{"$f":"IF(J88=\"\",\"\",B86)","v":""},null,null,3,{"$f":"IF(D88=\"\",\"\",IF(VLOOKUP(D88,Teams!$B$3:$C$10,2,FALSE)=\"\",\"\",VLOOKUP(D88,Teams!$B$3:$C$10,2,FALSE)))","v":""},null,null,{"$f":"IF(G88=\"\",\"\",YEAR('Gala Name'!$C$9)-YEAR(G88))","v":""},"",null,"","","","",null,{"$f":"IF(L88<>\"\",L88,IF(OR(J88=\"DNF\",J88=\"DSQ\"),0,IF(N88=\"\",\"\",RANK(N88,N86:N93,1))))","v":""},{"$f":"IF(P88=\"\",0,IF(P88=0,0,VLOOKUP(P:P,Points!B:C,2,FALSE)))","v":0},3,null,{"$f":"IF(P94>2.9,3,\"\")","v":""},{"$f":"IFERROR(IF(T88=\"\",\"\",VLOOKUP(T88,P86:R93,3,FALSE)),\"\")","v":""},null,3,null,{"$f":"IF(D88=\"\",\"\",IFERROR(VLOOKUP(B88,Events!B:L,11,FALSE),Y87))","v":""}," "," ",{"$f":"IFERROR(VLOOKUP(AA:AA,'Masters Convertion'!F:G,2,FALSE),\"\")","v":""},"",{"$f":"IF('Gala Name'!C$4=\"No\",\"\",IFERROR(RANK(N88,N88:N95,1),\"\"))","v":""}]
[{"$f":"IF(J89=\"\",\"\",B86)","v":""},null,null,4,{"$f":"IF(D89=\"\",\"\",IF(VLOOKUP(D89,Teams!$B$3:$C$10,2,FALSE)=\"\",\"\",VLOOKUP(D89,Teams!$B$3:$C$10,2,FALSE)))","v":""},null,null,{"$f":"IF(G89=\"\",\"\",YEAR('Gala Name'!$C$9)-YEAR(G89))","v":""},"",null,"","","","",null,{"$f":"IF(L89<>\"\",L89,IF(OR(J89=\"DNF\",J89=\"DSQ\"),0,IF(N89=\"\",\"\",RANK(N89,N86:N93,1))))","v":""},{"$f":"IF(P89=\"\",0,IF(P89=0,0,VLOOKUP(P:P,Points!B:C,2,FALSE)))","v":0},4,null,{"$f":"IF(P94>3.9,4,\"\")","v":""},{"$f":"IFERROR(IF(T89=\"\",\"\",VLOOKUP(T89,P86:R93,3,FALSE)),\"\")","v":""},null,4,null,{"$f":"IF(D89=\"\",\"\",IFERROR(VLOOKUP(B89,Events!B:L,11,FALSE),Y88))","v":""}," "," ",{"$f":"IFERROR(VLOOKUP(AA:AA,'Masters Convertion'!F:G,2,FALSE),\"\")","v":""},"",{"$f":"IF('Gala Name'!C$4=\"No\",\"\",IFERROR(RANK(N89,N89:N96,1),\"\"))","v":""}]
[{"$f":"IF(J90=\"\",\"\",B86)","v":""},null,null,5,{"$f":"IF(D90=\"\",\"\",IF(VLOOKUP(D90,Teams!$B$3:$C$10,2,FALSE)=\"\",\"\",VLOOKUP(D90,Teams!$B$3:$C$10,2,FALSE)))","v":""},null,null,{"$f":"IF(G90=\"\",\"\",YEAR('Gala Name'!$C$9)-YEAR(G90))","v":""},"",null,"","","","",null,{"$f":"IF(L90<>\"\",L90,IF(OR(J90=\"DNF\",J90=\"DSQ\"),0,IF(N90=\"\",\"\",RANK(N90,N86:N93,1))))","v":""},{"$f":"IF(P90=\"\",0,IF(P90=0,0,VLOOKUP(P:P,Points!B:C,2,FALSE)))","v":0},5,null,{"$f":"IF(P94>4.9,5,\"\")","v":""},{"$f":"IFERROR(IF(T90=\"\",\"\",VLOOKUP(T90,P86:R93,3,FALSE)),\"\")","v":""},null,5,null,{"$f":"IF(D90=\"\",\"\",IFERROR(VLOOKUP(B90,Events!B:L,11,FALSE),Y89))","v":""}," "," ",{"$f":"IFERROR(VLOOKUP(AA:AA,'Masters Convertion'!F:G,2,FALSE),\"\")","v":""},"",{"$f":"IF('Gala Name'!C$4=\"No\",\"\",IFERROR(RANK(N90,N90:N97,1),\"\"))","v":""}]
[{"$f":"IF(J91=\"\",\"\",B86)","v":""},null,null,6,{"$f":"IF(D91=\"\",\"\",IF(VLOOKUP(D91,Teams!$B$3:$C$10,2,FALSE)=\"\",\"\",VLOOKUP(D91,Teams!$B$3:$C$10,2,FALSE)))","v":""},null,null,{"$f":"IF(G91=\"\",\"\",YEAR('Gala Name'!$C$9)-YEAR(G91))","v":""},"",null,"","","","",null,{"$f":"IF(L91<>\"\",L91,IF(OR(J91=\"DNF\",J91=\"DSQ\"),0,IF(N91=\"\",\"\",RANK(N91,N86:N93,1))))","v":""},{"$f":"IF(P91=\"\",0,IF(P91=0,0,VLOOKUP(P:P,Points!B:C,2,FALSE)))","v":0},6,null,{"$f":"IF(P94>5.9,6,\"\")","v":""},{"$f":"IFERROR(IF(T91=\"\",\"\",VLOOKUP(T91,P86:R93,3,FALSE)),\"\")","v":""},null,6,null,{"$f":"IF(D91=\"\",\"\",IFERROR(VLOOKUP(B91,Events!B:L,11,FALSE),Y90))","v":""}," "," ",{"$f":"IFERROR(VLOOKUP(AA:AA,'Masters Convertion'!F:G,2,FALSE),\"\")","v":""},"",{"$f":"IF('Gala Name'!C$4=\"No\",\"\",IFERROR(RANK(N91,N91:N98,1),\"\"))","v":""}]
[{"$f":"IF(J92=\"\",\"\",B86)","v":""},null,null,7,{"$f":"IF(D92=\"\",\"\",IF(VLOOKUP(D92,Teams!$B$3:$C$10,2,FALSE)=\"\",\"\",VLOOKUP(D92,Teams!$B$3:$C$10,2,FALSE)))","v":""},null,null,{"$f":"IF(G92=\"\",\"\",YEAR('Gala Name'!$C$9)-YEAR(G92))","v":""},"",null,"","","","",null,{"$f":"IF(L92<>\"\",L92,IF(OR(J92=\"DNF\",J92=\"DSQ\"),0,IF(N92=\"\",\"\",RANK(N92,N86:N93,1))))","v":""},{"$f":"IF(P92=\"\",0,IF(P92=0,0,VLOOKUP(P:P,Points!B:C,2,FALSE)))","v":0},7,null,{"$f":"IF(P94>6.9,7,\"\")","v":""},{"$f":"IFERROR(IF(T92=\"\",\"\",VLOOKUP(T92,P86:R93,3,FALSE)),\"\")","v":""},null,7,null,{"$f":"IF(D92=\"\",\"\",IFERROR(VLOOKUP(B92,Events!B:L,11,FALSE),Y91))","v":""}," "," ",{"$f":"IFERROR(VLOOKUP(AA:AA,'Masters Convertion'!F:G,2,FALSE),\"\")","v":""},"",{"$f":"IF('Gala Name'!C$4=\"No\",\"\",IFERROR(RANK(N92,N92:N99,1),\"\"))","v":""}]
[{"$f":"IF(J93=\"\",\"\",B86)","v":""},null,null,8,{"$f":"IF(D93=\"\",\"\",IF(VLOOKUP(D93,Teams!$B$3:$C$10,2,FALSE)=\"\",\"\",VLOOKUP(D93,Teams!$B$3:$C$10,2,FALSE)))","v":""},null,null,{"$f":"IF(G93=\"\",\"\",YEAR('Gala Name'!$C$9)-YEAR(G93))","v":""},"",null,"","","","",null,{"$f":"IF(L93<>\"\",L93,IF(OR(J93=\"DNF\",J93=\"DSQ\"),0,IF(N93=\"\",\"\",RANK(N93,N86:N93,1))))","v":""},{"$f":"IF(P93=\"\",0,IF(P93=0,0,VLOOKUP(P:P,Points!B:C,2,FALSE)))","v":0},8,null,{"$f":"IF(P94>7.9,8,\"\")","v":""},{"$f":"IFERROR(IF(T93=\"\",\"\",VLOOKUP(T93,P86:R93,3,FALSE)),\"\")","v":""},null,8,null,{"$f":"IF(D93=\"\",\"\",IFERROR(VLOOKUP(B93,Events!B:L,11,FALSE),Y92))","v":""}," "," ",{"$f":"IFERROR(VLOOKUP(AA:AA,'Masters Convertion'!F:G,2,FALSE),\"\")","v":""},"",{"$f":"IF('Gala Name'!C$4=\"No\",\"\",IFERROR(RANK(N93,N93:N100,1),\"\"))","v":""}]
[null,null,null,null,null,null,null,null,null,null,null,null,"","",null,{"$f":"MAX(P86:P93)","v":0},null,null,null,null,null,null,"*"]
[{"$f":"IF(J95=\"\",\"\",B95)","v":""},{"$f":"B86+1","v":11},{"$f":"IF(D95=1,VLOOKUP(B95,Events!B:H,6,FALSE)&VLOOKUP(B95,Events!B:H,7,FALSE),\"\")","v":"   "},1,{"$f":"IF(D95=\"\",\"\",IF(VLOOKUP(D95,Teams!$B$3:$C$10,2,FALSE)=\"\",\"\",VLOOKUP(D95,Teams!$B$3:$C$10,2,FALSE)))","v":""},null,null,{"$f":"IF(G95=\"\",\"\",YEAR('Gala Name'!$C$9)-YEAR(G95))","v":""},"",null,{"$f":"IF(J95=\"DSQ\",\"Enter Reason\",\"\")","v":""},{"$f":"IF(OR(J95=\"\",J95=\"DSQ\"),\"\",IF(OR(J95=J96,J95=J97,J95=J98,J95=J99,J95=J100,J95=J101,J95=J102),\"Enter Placings\",\"\"))","v":""},"","",null,{"$f":"IF(L95<>\"\",L95,IF(OR(J95=\"DNF\",J95=\"DSQ\"),0,IF(N95=\"\",\"\",RANK(N95,N95:N102,1))))","v":""},{"$f":"IF(P95=\"\",0,IF(P95=0,0,VLOOKUP(P:P,Points!B:C,2,FALSE)))","v":0},{"$f":"D95","v":1},null,{"$f":"IF(P103>0.9,1,\"\")","v":""},{"$f":"IFERROR(IF(T95=\"\",\"\",VLOOKUP(T95,P95:R102,3,FALSE)),\"\")","v":""},null,1,null,{"$f":"IF(D95=\"\",\"\",IFERROR(VLOOKUP(B95,Events!B:L,11,FALSE),Y94))","v":""}," "," ",{"$f":"IFERROR(VLOOKUP(AA:AA,'Masters Convertion'!F:G,2,FALSE),\"\")","v":""},"",{"$f":"IF('Gala Name'!C$4=\"No\",\"\",IFERROR(RANK(N95,N95:N102,1),\"\"))","v":""}]
[{"$f":"IF(J96=\"\",\"\",B95)","v":""},null,null,2,{"$f":"IF(D96=\"\",\"\",IF(VLOOKUP(D96,Teams!$B$3:$C$10,2,FALSE)=\"\",\"\",VLOOKUP(D96,Teams!$B$3:$C$10,2,FALSE)))","v":""},null,null,{"$f":"IF(G96=\"\",\"\",YEAR('Gala Name'!$C$9)-YEAR(G96))","v":""},"",null,"",{"$f":"IF(OR(J96=\"\",J96=\"DSQ\"),\"\",IF(OR(J96=J95,J96=J97,J96=J98,J96=J99,J96=J100,J96=J101,J96=J102),\"Enter Placings\",\"\"))","v":""},"","",null,{"$f":"IF(L96<>\"\",L96,IF(OR(J96=\"DNF\",J96=\"DSQ\"),0,IF(N96=\"\",\"\",RANK(N96,N95:N102,1))))","v":""},{"$f":"IF(P96=\"\",0,IF(P96=0,0,VLOOKUP(P:P,Points!B:C,2,FALSE)))","v":0},2,null,{"$f":"IF(P103>1.9,2,\"\")","v":""},{"$f":"IFERROR(IF(T96=\"\",\"\",VLOOKUP(T96,P95:R102,3,FALSE)),\"\")","v":""},null,2,null,{"$f":"IF(D96=\"\",\"\",IFERROR(VLOOKUP(B96,Events!B:L,11,FALSE),Y95))","v":""}," "," ",{"$f":"IFERROR(VLOOKUP(AA:AA,'Masters Convertion'!F:G,2,FALSE),\"\")","v":""},"",{"$f":"IF('Gala Name'!C$4=\"No\",\"\",IFERROR(RANK(N96,N96:N103,1),\"\"))","v":""}]
[{"$f":"IF(J97=\"\",\"\",B95)","v":""},null,null,3,{"$f":"IF(D97=\"\",\"\",IF(VLOOKUP(D97,Teams!$B$3:$C$10,2,FALSE)=\"\",\"\",VLOOKUP(D97,Teams!$B$3:$C$10,2,FALSE)))","v":""},null,null,{"$f":"IF(G97=\"\",\"\",YEAR('Gala Name'!$C$9)-YEAR(G97))","v":""},"",null,"",{"$f":"IF(OR(J97=\"\",J97=\"DSQ\"),\"\",IF(OR(J97=J95,J97=J96,J97=J98,J97=J99,J97=J100,J97=J101,J97=J102),\"Enter Placings\",\"\"))","v":""},"","",null,{"$f":"IF(L97<>\"\",L97,IF(OR(J97=\"DNF\",J97=\"DSQ\"),0,IF(N97=\"\",\"\",RANK(N97,N95:N102,1))))","v":""},{"$f":"IF(P97=\"\",0,IF(P97=0,0,VLOOKUP(P:P,Points!B:C,2,FALSE)))","v":0},3,null,{"$f":"IF(P103>2.9,3,\"\")","v":""},{"$f":"IFERROR(IF(T97=\"\",\"\",VLOOKUP(T97,P95:R102,3,FALSE)),\"\")","v":""},null,3,null,{"$f":"IF(D97=\"\",\"\",IFERROR(VLOOKUP(B97,Events!B:L,11,FALSE),Y96))","v":""}," "," ",{"$f":"IFERROR(VLOOKUP(AA:AA,'Masters Convertion'!F:G,2,FALSE),\"\")","v":""},"",{"$f":"IF('Gala Name'!C$4=\"No\",\"\",IFERROR(RANK(N97,N97:N104,1),\"\"))","v":""}]
[{"$f":"IF(J98=\"\",\"\",B95)","v":""},null,null,4,{"$f":"IF(D98=\"\",\"\",IF(VLOOKUP(D98,Teams!$B$3:$C$10,2,FALSE)=\"\",\"\",VLOOKUP(D98,Teams!$B$3:$C$10,2,FALSE)))","v":""},null,null,{"$f":"IF(G98=\"\",\"\",YEAR('Gala Name'!$C$9)-YEAR(G98))","v":""},"",null,"",{"$f":"IF(OR(J98=\"\",J98=\"DSQ\"),\"\",IF(OR(J98=J95,J98=J96,J98=J97,J98=J99,J98=J100,J98=J101,J98=J102),\"Enter Placings\",\"\"))","v":""},"","",null,{"$f":"IF(L98<>\"\",L98,IF(OR(J98=\"DNF\",J98=\"DSQ\"),0,IF(N98=\"\",\"\",RANK(N98,N95:N102,1))))","v":""},{"$f":"IF(P98=\"\",0,IF(P98=0,0,VLOOKUP(P:P,Points!B:C,2,FALSE)))","v":0},4,null,{"$f":"IF(P103>3.9,4,\"\")","v":""},{"$f":"IFERROR(IF(T98=\"\",\"\",VLOOKUP(T98,P95:R102,3,FALSE)),\"\")","v":""},null,4,null,{"$f":"IF(D98=\"\",\"\",IFERROR(VLOOKUP(B98,Events!B:L,11,FALSE),Y97))","v":""}," "," ",{"$f":"IFERROR(VLOOKUP(AA:AA,'Masters Convertion'!F:G,2,FALSE),\"\")","v":""},"",{"$f":"IF('Gala Name'!C$4=\"No\",\"\",IFERROR(RANK(N98,N98:N105,1),\"\"))","v":""}]
[{"$f":"IF(J99=\"\",\"\",B95)","v":""},null,null,5,{"$f":"IF(D99=\"\",\"\",IF(VLOOKUP(D99,Teams!$B$3:$C$10,2,FALSE)=\"\",\"\",VLOOKUP(D99,Teams!$B$3:$C$10,2,FALSE)))","v":""},null,null,{"$f":"IF(G99=\"\",\"\",YEAR('Gala Name'!$C$9)-YEAR(G99))","v":""},"",null,"",{"$f":"IF(OR(J99=\"\",J99=\"DSQ\"),\"\",IF(OR(J99=J96,J99=J97,J99=J98,J99=J100,J99=J101,J99=J102,J99=J95),\"Enter Placings\",\"\"))","v":""},"","",null,{"$f":"IF(L99<>\"\",L99,IF(OR(J99=\"DNF\",J99=\"DSQ\"),0,IF(N99=\"\",\"\",RANK(N99,N95:N102,1))))","v":""},{"$f":"IF(P99=\"\",0,IF(P99=0,0,VLOOKUP(P:P,Points!B:C,2,FALSE)))","v":0},5,null,{"$f":"IF(P103>4.9,5,\"\")","v":""},{"$f":"IFERROR(IF(T99=\"\",\"\",VLOOKUP(T99,P95:R102,3,FALSE)),\"\")","v":""},null,5,null,{"$f":"IF(D99=\"\",\"\",IFERROR(VLOOKUP(B99,Events!B:L,11,FALSE),Y98))","v":""}," "," ",{"$f":"IFERROR(VLOOKUP(AA:AA,'Masters Convertion'!F:G,2,FALSE),\"\")","v":""},"",{"$f":"IF('Gala Name'!C$4=\"No\",\"\",IFERROR(RANK(N99,N99:N106,1),\"\"))","v":""}]
[{"$f":"IF(J100=\"\",\"\",B95)","v":""},null,null,6,{"$f":"IF(D100=\"\",\"\",IF(VLOOKUP(D100,Teams!$B$3:$C$10,2,FALSE)=\"\",\"\",VLOOKUP(D100,Teams!$B$3:$C$10,2,FALSE)))","v":""},null,null,{"$f":"IF(G100=\"\",\"\",YEAR('Gala Name'!$C$9)-YEAR(G100))","v":""},"",null,"",{"$f":"IF(OR(J100=\"\",J100=\"DSQ\"),\"\",IF(OR(J100=J97,J100=J98,J100=J99,J100=J101,J100=J102,J100=J96,J100=J95),\"Enter Placings\",\"\"))","v":""},"","",null,{"$f":"IF(L100<>\"\",L100,IF(OR(J100=\"DNF\",J100=\"DSQ\"),0,IF(N100=\"\",\"\",RANK(N100,N95:N102,1))))","v":""},{"$f":"IF(P100=\"\",0,IF(P100=0,0,VLOOKUP(P:P,Points!B:C,2,FALSE)))","v":0},6,null,{"$f":"IF(P103>5.9,6,\"\")","v":""},{"$f":"IFERROR(IF(T100=\"\",\"\",VLOOKUP(T100,P95:R102,3,FALSE)),\"\")","v":""},null,6,null,{"$f":"IF(D100=\"\",\"\",IFERROR(VLOOKUP(B100,Events!B:L,11,FALSE),Y99))","v":""}," "," ",{"$f":"IFERROR(VLOOKUP(AA:AA,'Masters Convertion'!F:G,2,FALSE),\"\")","v":""},"",{"$f":"IF('Gala Name'!C$4=\"No\",\"\",IFERROR(RANK(N100,N100:N107,1),\"\"))","v":""}]
[{"$f":"IF(J101=\"\",\"\",B95)","v":""},null,null,7,{"$f":"IF(D101=\"\",\"\",IF(VLOOKUP(D101,Teams!$B$3:$C$10,2,FALSE)=\"\",\"\",VLOOKUP(D101,Teams!$B$3:$C$10,2,FALSE)))","v":""},null,null,{"$f":"IF(G101=\"\",\"\",YEAR('Gala Name'!$C$9)-YEAR(G101))","v":""},"",null,"",{"$f":"IF(OR(J101=\"\",J101=\"DSQ\"),\"\",IF(OR(J101=J98,J101=J99,J101=J100,J101=J102,J101=J95,J101=J96,J101=J97),\"Enter Placings\",\"\"))","v":""},"","",null,{"$f":"IF(L101<>\"\",L101,IF(OR(J101=\"DNF\",J101=\"DSQ\"),0,IF(N101=\"\",\"\",RANK(N101,N95:N102,1))))","v":""},{"$f":"IF(P101=\"\",0,IF(P101=0,0,VLOOKUP(P:P,Points!B:C,2,FALSE)))","v":0},7,null,{"$f":"IF(P103>6.9,7,\"\")","v":""},{"$f":"IFERROR(IF(T101=\"\",\"\",VLOOKUP(T101,P95:R102,3,FALSE)),\"\")","v":""},null,7,null,{"$f":"IF(D101=\"\",\"\",IFERROR(VLOOKUP(B101,Events!B:L,11,FALSE),Y100))","v":""}," "," ",{"$f":"IFERROR(VLOOKUP(AA:AA,'Masters Convertion'!F:G,2,FALSE),\"\")","v":""},"",{"$f":"IF('Gala Name'!C$4=\"No\",\"\",IFERROR(RANK(N101,N101:N108,1),\"\"))","v":""}]
[{"$f":"IF(J102=\"\",\"\",B95)","v":""},null,null,8,{"$f":"IF(D102=\"\",\"\",IF(VLOOKUP(D102,Teams!$B$3:$C$10,2,FALSE)=\"\",\"\",VLOOKUP(D102,Teams!$B$3:$C$10,2,FALSE)))","v":""},null,null,{"$f":"IF(G102=\"\",\"\",YEAR('Gala Name'!$C$9)-YEAR(G102))","v":""},"",null,"",{"$f":"IF(OR(J102=\"\",J102=\"DSQ\"),\"\",IF(OR(J102=J99,J102=J100,J102=J101,J102=J95,J102=J96,J102=J97,J102=J98),\"Enter Placings\",\"\"))","v":""},"","",null,{"$f":"IF(L102<>\"\",L102,IF(OR(J102=\"DNF\",J102=\"DSQ\"),0,IF(N102=\"\",\"\",RANK(N102,N95:N102,1))))","v":""},{"$f":"IF(P102=\"\",0,IF(P102=0,0,VLOOKUP(P:P,Points!B:C,2,FALSE)))","v":0},8,null,{"$f":"IF(P103>7.9,8,\"\")","v":""},{"$f":"IFERROR(IF(T102=\"\",\"\",VLOOKUP(T102,P95:R102,3,FALSE)),\"\")","v":""},null,8,null,{"$f":"IF(D102=\"\",\"\",IFERROR(VLOOKUP(B102,Events!B:L,11,FALSE),Y101))","v":""}," "," ",{"$f":"IFERROR(VLOOKUP(AA:AA,'Masters Convertion'!F:G,2,FALSE),\"\")","v":""},"",{"$f":"IF('Gala Name'!C$4=\"No\",\"\",IFERROR(RANK(N102,N102:N109,1),\"\"))","v":""}]
[null,null,null,null,null,null,null,null,null,null,null,null,"","",null,{"$f":"MAX(P95:P102)","v":0},null,null,null,null,null,null,"*"]
[{"$f":"IF(J104=\"\",\"\",B104)","v":""},{"$f":"B95+1","v":12},{"$f":"IF(D104=1,VLOOKUP(B104,Events!B:H,6,FALSE)&VLOOKUP(B104,Events!B:H,7,FALSE),\"\")","v":"   "},1,{"$f":"IF(D104=\"\",\"\",IF(VLOOKUP(D104,Teams!$B$3:$C$10,2,FALSE)=\"\",\"\",VLOOKUP(D104,Teams!$B$3:$C$10,2,FALSE)))","v":""},null,null,{"$f":"IF(G104=\"\",\"\",YEAR('Gala Name'!$C$9)-YEAR(G104))","v":""},"",null,"",{"$f":"IF(OR(J104=\"\",J104=\"DSQ\"),\"\",IF(OR(J104=J105,J104=J106,J104=J107,J104=J108,J104=J109,J104=J110,J104=J111),\"Enter Placings\",\"\"))","v":""},"","",null,{"$f":"IF(L104<>\"\",L104,IF(OR(J104=\"DNF\",J104=\"DSQ\"),0,IF(N104=\"\",\"\",RANK(N104,N104:N111,1))))","v":""},{"$f":"IF(P104=\"\",0,IF(P104=0,0,VLOOKUP(P:P,Points!B:C,2,FALSE)))","v":0},{"$f":"D104","v":1},null,{"$f":"IF(P112>0.9,1,\"\")","v":""},{"$f":"IFERROR(IF(T104=\"\",\"\",VLOOKUP(T104,P104:R111,3,FALSE)),\"\")","v":""},null,1,null,{"$f":"IF(D104=\"\",\"\",IFERROR(VLOOKUP(B104,Events!B:L,11,FALSE),Y103))","v":""}," "," ",{"$f":"IFERROR(VLOOKUP(AA:AA,'Masters Convertion'!F:G,2,FALSE),\"\")","v":""},"",{"$f":"IF('Gala Name'!C$4=\"No\",\"\",IFERROR(RANK(N104,N104:N111,1),\"\"))","v":""}]
[{"$f":"IF(J105=\"\",\"\",B104)","v":""},null,null,2,{"$f":"IF(D105=\"\",\"\",IF(VLOOKUP(D105,Teams!$B$3:$C$10,2,FALSE)=\"\",\"\",VLOOKUP(D105,Teams!$B$3:$C$10,2,FALSE)))","v":""},null,null,{"$f":"IF(G105=\"\",\"\",YEAR('Gala Name'!$C$9)-YEAR(G105))","v":""},"",null,"",{"$f":"IF(OR(J105=\"\",J105=\"DSQ\"),\"\",IF(OR(J105=J104,J105=J106,J105=J107,J105=J108,J105=J109,J105=J110,J105=J111),\"Enter Placings\",\"\"))","v":""},"","",null,{"$f":"IF(L105<>\"\",L105,IF(OR(J105=\"DNF\",J105=\"DSQ\"),0,IF(N105=\"\",\"\",RANK(N105,N104:N111,1))))","v":""},{"$f":"IF(P105=\"\",0,IF(P105=0,0,VLOOKUP(P:P,Points!B:C,2,FALSE)))","v":0},2,null,{"$f":"IF(P112>1.9,2,\"\")","v":""},{"$f":"IFERROR(IF(T105=\"\",\"\",VLOOKUP(T105,P104:R111,3,FALSE)),\"\")","v":""},null,2,null,{"$f":"IF(D105=\"\",\"\",IFERROR(VLOOKUP(B105,Events!B:L,11,FALSE),Y104))","v":""}," "," ",{"$f":"IFERROR(VLOOKUP(AA:AA,'Masters Convertion'!F:G,2,FALSE),\"\")","v":""},"",{"$f":"IF('Gala Name'!C$4=\"No\",\"\",IFERROR(RANK(N105,N105:N112,1),\"\"))","v":""}]
[{"$f":"IF(J106=\"\",\"\",B104)","v":""},null,null,3,{"$f":"IF(D106=\"\",\"\",IF(VLOOKUP(D106,Teams!$B$3:$C$10,2,FALSE)=\"\",\"\",VLOOKUP(D106,Teams!$B$3:$C$10,2,FALSE)))","v":""},null,null,{"$f":"IF(G106=\"\",\"\",YEAR('Gala Name'!$C$9)-YEAR(G106))","v":""},"",null,"",{"$f":"IF(OR(J106=\"\",J106=\"DSQ\"),\"\",IF(OR(J106=J104,J106=J105,J106=J107,J106=J108,J106=J109,J106=J110,J106=J111),\"Enter Placings\",\"\"))","v":""},"","",null,{"$f":"IF(L106<>\"\",L106,IF(OR(J106=\"DNF\",J106=\"DSQ\"),0,IF(N106=\"\",\"\",RANK(N106,N104:N111,1))))","v":""},{"$f":"IF(P106=\"\",0,IF(P106=0,0,VLOOKUP(P:P,Points!B:C,2,FALSE)))","v":0},3,null,{"$f":"IF(P112>2.9,3,\"\")","v":""},{"$f":"IFERROR(IF(T106=\"\",\"\",VLOOKUP(T106,P104:R111,3,FALSE)),\"\")","v":""},null,3,null,{"$f":"IF(D106=\"\",\"\",IFERROR(VLOOKUP(B106,Events!B:L,11,FALSE),Y105))","v":""}," "," ",{"$f":"IFERROR(VLOOKUP(AA:AA,'Masters Convertion'!F:G,2,FALSE),\"\")","v":""},"",{"$f":"IF('Gala Name'!C$4=\"No\",\"\",IFERROR(RANK(N106,N106:N113,1),\"\"))","v":""}]
[{"$f":"IF(J107=\"\",\"\",B104)","v":""},null,null,4,{"$f":"IF(D107=\"\",\"\",IF(VLOOKUP(D107,Teams!$B$3:$C$10,2,FALSE)=\"\",\"\",VLOOKUP(D107,Teams!$B$3:$C$10,2,FALSE)))","v":""},null,null,{"$f":"IF(G107=\"\",\"\",YEAR('Gala Name'!$C$9)-YEAR(G107))","v":""},"",null,"",{"$f":"IF(OR(J107=\"\",J107=\"DSQ\"),\"\",IF(OR(J107=J104,J107=J105,J107=J106,J107=J108,J107=J109,J107=J110,J107=J111),\"Enter Placings\",\"\"))","v":""},"","",null,{"$f":"IF(L107<>\"\",L107,IF(OR(J107=\"DNF\",J107=\"DSQ\"),0,IF(N107=\"\",\"\",RANK(N107,N104:N111,1))))","v":""},{"$f":"IF(P107=\"\",0,IF(P107=0,0,VLOOKUP(P:P,Points!B:C,2,FALSE)))","v":0},4,null,{"$f":"IF(P112>3.9,4,\"\")","v":""},{"$f":"IFERROR(IF(T107=\"\",\"\",VLOOKUP(T107,P104:R111,3,FALSE)),\"\")","v":""},null,4,null,{"$f":"IF(D107=\"\",\"\",IFERROR(VLOOKUP(B107,Events!B:L,11,FALSE),Y106))","v":""}," "," ",{"$f":"IFERROR(VLOOKUP(AA:AA,'Masters Convertion'!F:G,2,FALSE),\"\")","v":""},"",{"$f":"IF('Gala Name'!C$4=\"No\",\"\",IFERROR(RANK(N107,N107:N114,1),\"\"))","v":""}]
[{"$f":"IF(J108=\"\",\"\",B104)","v":""},null,null,5,{"$f":"IF(D108=\"\",\"\",IF(VLOOKUP(D108,Teams!$B$3:$C$10,2,FALSE)=\"\",\"\",VLOOKUP(D108,Teams!$B$3:$C$10,2,FALSE)))","v":""},null,null,{"$f":"IF(G108=\"\",\"\",YEAR('Gala Name'!$C$9)-YEAR(G108))","v":""},"",null,"",{"$f":"IF(OR(J108=\"\",J108=\"DSQ\"),\"\",IF(OR(J108=J105,J108=J106,J108=J107,J108=J109,J108=J110,J108=J111,J108=J104),\"Enter Placings\",\"\"))","v":""},"","",null,{"$f":"IF(L108<>\"\",L108,IF(OR(J108=\"DNF\",J108=\"DSQ\"),0,IF(N108=\"\",\"\",RANK(N108,N104:N111,1))))","v":""},{"$f":"IF(P108=\"\",0,IF(P108=0,0,VLOOKUP(P:P,Points!B:C,2,FALSE)))","v":0},5,null,{"$f":"IF(P112>4.9,5,\"\")","v":""},{"$f":"IFERROR(IF(T108=\"\",\"\",VLOOKUP(T108,P104:R111,3,FALSE)),\"\")","v":""},null,5,null,{"$f":"IF(D108=\"\",\"\",IFERROR(VLOOKUP(B108,Events!B:L,11,FALSE),Y107))","v":""}," "," ",{"$f":"IFERROR(VLOOKUP(AA:AA,'Masters Convertion'!F:G,2,FALSE),\"\")","v":""},"",{"$f":"IF('Gala Name'!C$4=\"No\",\"\",IFERROR(RANK(N108,N108:N115,1),\"\"))","v":""}]
[{"$f":"IF(J109=\"\",\"\",B104)","v":""},null,null,6,{"$f":"IF(D109=\"\",\"\",IF(VLOOKUP(D109,Teams!$B$3:$C$10,2,FALSE)=\"\",\"\",VLOOKUP(D109,Teams!$B$3:$C$10,2,FALSE)))","v":""},null,null,{"$f":"IF(G109=\"\",\"\",YEAR('Gala Name'!$C$9)-YEAR(G109))","v":""},"",null,"",{"$f":"IF(OR(J109=\"\",J109=\"DSQ\"),\"\",IF(OR(J109=J106,J109=J107,J109=J108,J109=J110,J109=J111,J109=J105,J109=J104),\"Enter Placings\",\"\"))","v":""},"","",null,{"$f":"IF(L109<>\"\",L109,IF(OR(J109=\"DNF\",J109=\"DSQ\"),0,IF(N109=\"\",\"\",RANK(N109,N104:N111,1))))","v":""},{"$f":"IF(P109=\"\",0,IF(P109=0,0,VLOOKUP(P:P,Points!B:C,2,FALSE)))","v":0},6,null,{"$f":"IF(P112>5.9,6,\"\")","v":""},{"$f":"IFERROR(IF(T109=\"\",\"\",VLOOKUP(T109,P104:R111,3,FALSE)),\"\")","v":""},null,6,null,{"$f":"IF(D109=\"\",\"\",IFERROR(VLOOKUP(B109,Events!B:L,11,FALSE),Y108))","v":""}," "," ",{"$f":"IFERROR(VLOOKUP(AA:AA,'Masters Convertion'!F:G,2,FALSE),\"\")","v":""},"",{"$f":"IF('Gala Name'!C$4=\"No\",\"\",IFERROR(RANK(N109,N109:N116,1),\"\"))","v":""}]
[{"$f":"IF(J110=\"\",\"\",B104)","v":""},null,null,7,{"$f":"IF(D110=\"\",\"\",IF(VLOOKUP(D110,Teams!$B$3:$C$10,2,FALSE)=\"\",\"\",VLOOKUP(D110,Teams!$B$3:$C$10,2,FALSE)))","v":""},null,null,{"$f":"IF(G110=\"\",\"\",YEAR('Gala Name'!$C$9)-YEAR(G110))","v":""},"",null,"",{"$f":"IF(OR(J110=\"\",J110=\"DSQ\"),\"\",IF(OR(J110=J107,J110=J108,J110=J109,J110=J111,J110=J104,J110=J105,J110=J106),\"Enter Placings\",\"\"))","v":""},"","",null,{"$f":"IF(L110<>\"\",L110,IF(OR(J110=\"DNF\",J110=\"DSQ\"),0,IF(N110=\"\",\"\",RANK(N110,N104:N111,1))))","v":""},{"$f":"IF(P110=\"\",0,IF(P110=0,0,VLOOKUP(P:P,Points!B:C,2,FALSE)))","v":0},7,null,{"$f":"IF(P112>6.9,7,\"\")","v":""},{"$f":"IFERROR(IF(T110=\"\",\"\",VLOOKUP(T110,P104:R111,3,FALSE)),\"\")","v":""},null,7,null,{"$f":"IF(D110=\"\",\"\",IFERROR(VLOOKUP(B110,Events!B:L,11,FALSE),Y109))","v":""}," "," ",{"$f":"IFERROR(VLOOKUP(AA:AA,'Masters Convertion'!F:G,2,FALSE),\"\")","v":""},"",{"$f":"IF('Gala Name'!C$4=\"No\",\"\",IFERROR(RANK(N110,N110:N117,1),\"\"))","v":""}]
[{"$f":"IF(J111=\"\",\"\",B104)","v":""},null,null,8,{"$f":"IF(D111=\"\",\"\",IF(VLOOKUP(D111,Teams!$B$3:$C$10,2,FALSE)=\"\",\"\",VLOOKUP(D111,Teams!$B$3:$C$10,2,FALSE)))","v":""},null,null,{"$f":"IF(G111=\"\",\"\",YEAR('Gala Name'!$C$9)-YEAR(G111))","v":""},"",null,"",{"$f":"IF(OR(J111=\"\",J111=\"DSQ\"),\"\",IF(OR(J111=J108,J111=J109,J111=J110,J111=J104,J111=J105,J111=J106,J111=J107),\"Enter Placings\",\"\"))","v":""},"","",null,{"$f":"IF(L111<>\"\",L111,IF(OR(J111=\"DNF\",J111=\"DSQ\"),0,IF(N111=\"\",\"\",RANK(N111,N104:N111,1))))","v":""},{"$f":"IF(P111=\"\",0,IF(P111=0,0,VLOOKUP(P:P,Points!B:C,2,FALSE)))","v":0},8,null,{"$f":"IF(P112>7.9,8,\"\")","v":""},{"$f":"IFERROR(IF(T111=\"\",\"\",VLOOKUP(T111,P104:R111,3,FALSE)),\"\")","v":""},null,8,null,{"$f":"IF(D111=\"\",\"\",IFERROR(VLOOKUP(B111,Events!B:L,11,FALSE),Y110))","v":""}," "," ",{"$f":"IFERROR(VLOOKUP(AA:AA,'Masters Convertion'!F:G,2,FALSE),\"\")","v":""},"",{"$f":"IF('Gala Name'!C$4=\"No\",\"\",IFERROR(RANK(N111,N111:N118,1),\"\"))","v":""}]
[null,null,null,null,null,null,null,null,null,null,null,null,"","",null,{"$f":"MAX(P104:P111)","v":0},null,null,null,null,null,null,"*"]
[{"$f":"IF(J113=\"\",\"\",B113)","v":""},{"$f":"B104+1","v":13},{"$f":"IF(D113=1,VLOOKUP(B113,Events!B:H,6,FALSE)&VLOOKUP(B113,Events!B:H,7,FALSE),\"\")","v":"   "},1,{"$f":"IF(D113=\"\",\"\",IF(VLOOKUP(D113,Teams!$B$3:$C$10,2,FALSE)=\"\",\"\",VLOOKUP(D113,Teams!$B$3:$C$10,2,FALSE)))","v":""},null,null,{"$f":"IF(G113=\"\",\"\",YEAR('Gala Name'!$C$9)-YEAR(G113))","v":""},"",null,"",{"$f":"IF(OR(J113=\"\",J113=\"DSQ\"),\"\",IF(OR(J113=J114,J113=J115,J113=J116,J113=J117,J113=J118,J113=J119,J113=J120),\"Enter Placings\",\"\"))","v":""},"","",null,{"$f":"IF(L113<>\"\",L113,IF(OR(J113=\"DNF\",J113=\"DSQ\"),0,IF(N113=\"\",\"\",RANK(N113,N113:N120,1))))","v":""},{"$f":"IF(P113=\"\",0,IF(P113=0,0,VLOOKUP(P:P,Points!B:C,2,FALSE)))","v":0},{"$f":"D113","v":1},null,{"$f":"IF(P121>0.9,1,\"\")","v":""},{"$f":"IFERROR(IF(T113=\"\",\"\",VLOOKUP(T113,P113:R120,3,FALSE)),\"\")","v":""},null,1,null,{"$f":"IF(D113=\"\",\"\",IFERROR(VLOOKUP(B113,Events!B:L,11,FALSE),Y112))","v":""}," "," ",{"$f":"IFERROR(VLOOKUP(AA:AA,'Masters Convertion'!F:G,2,FALSE),\"\")","v":""},"",{"$f":"IF('Gala Name'!C$4=\"No\",\"\",IFERROR(RANK(N113,N113:N120,1),\"\"))","v":""}]
[{"$f":"IF(J114=\"\",\"\",B113)","v":""},null,null,2,{"$f":"IF(D114=\"\",\"\",IF(VLOOKUP(D114,Teams!$B$3:$C$10,2,FALSE)=\"\",\"\",VLOOKUP(D114,Teams!$B$3:$C$10,2,FALSE)))","v":""},null,null,{"$f":"IF(G114=\"\",\"\",YEAR('Gala Name'!$C$9)-YEAR(G114))","v":""},"",null,"",{"$f":"IF(OR(J114=\"\",J114=\"DSQ\"),\"\",IF(OR(J114=J113,J114=J115,J114=J116,J114=J117,J114=J118,J114=J119,J114=J120),\"Enter Placings\",\"\"))","v":""},"","",null,{"$f":"IF(L114<>\"\",L114,IF(OR(J114=\"DNF\",J114=\"DSQ\"),0,IF(N114=\"\",\"\",RANK(N114,N113:N120,1))))","v":""},{"$f":"IF(P114=\"\",0,IF(P114=0,0,VLOOKUP(P:P,Points!B:C,2,FALSE)))","v":0},2,null,{"$f":"IF(P121>1.9,2,\"\")","v":""},{"$f":"IFERROR(IF(T114=\"\",\"\",VLOOKUP(T114,P113:R120,3,FALSE)),\"\")","v":""},null,2,null,{"$f":"IF(D114=\"\",\"\",IFERROR(VLOOKUP(B114,Events!B:L,11,FALSE),Y113))","v":""}," "," ",{"$f":"IFERROR(VLOOKUP(AA:AA,'Masters Convertion'!F:G,2,FALSE),\"\")","v":""},"",{"$f":"IF('Gala Name'!C$4=\"No\",\"\",IFERROR(RANK(N114,N114:N121,1),\"\"))","v":""}]
[{"$f":"IF(J115=\"\",\"\",B113)","v":""},null,null,3,{"$f":"IF(D115=\"\",\"\",IF(VLOOKUP(D115,Teams!$B$3:$C$10,2,FALSE)=\"\",\"\",VLOOKUP(D115,Teams!$B$3:$C$10,2,FALSE)))","v":""},null,null,{"$f":"IF(G115=\"\",\"\",YEAR('Gala Name'!$C$9)-YEAR(G115))","v":""},"",null,"",{"$f":"IF(OR(J115=\"\",J115=\"DSQ\"),\"\",IF(OR(J115=J113,J115=J114,J115=J116,J115=J117,J115=J118,J115=J119,J115=J120),\"Enter Placings\",\"\"))","v":""},"","",null,{"$f":"IF(L115<>\"\",L115,IF(OR(J115=\"DNF\",J115=\"DSQ\"),0,IF(N115=\"\",\"\",RANK(N115,N113:N120,1))))","v":""},{"$f":"IF(P115=\"\",0,IF(P115=0,0,VLOOKUP(P:P,Points!B:C,2,FALSE)))","v":0},3,null,{"$f":"IF(P121>2.9,3,\"\")","v":""},{"$f":"IFERROR(IF(T115=\"\",\"\",VLOOKUP(T115,P113:R120,3,FALSE)),\"\")","v":""},null,3,null,{"$f":"IF(D115=\"\",\"\",IFERROR(VLOOKUP(B115,Events!B:L,11,FALSE),Y114))","v":""}," "," ",{"$f":"IFERROR(VLOOKUP(AA:AA,'Masters Convertion'!F:G,2,FALSE),\"\")","v":""},"",{"$f":"IF('Gala Name'!C$4=\"No\",\"\",IFERROR(RANK(N115,N115:N122,1),\"\"))","v":""}]
[{"$f":"IF(J116=\"\",\"\",B113)","v":""},null,null,4,{"$f":"IF(D116=\"\",\"\",IF(VLOOKUP(D116,Teams!$B$3:$C$10,2,FALSE)=\"\",\"\",VLOOKUP(D116,Teams!$B$3:$C$10,2,FALSE)))","v":""},null,null,{"$f":"IF(G116=\"\",\"\",YEAR('Gala Name'!$C$9)-YEAR(G116))","v":""},"",null,"",{"$f":"IF(OR(J116=\"\",J116=\"DSQ\"),\"\",IF(OR(J116=J113,J116=J114,J116=J115,J116=J117,J116=J118,J116=J119,J116=J120),\"Enter Placings\",\"\"))","v":""},"","",null,{"$f":"IF(L116<>\"\",L116,IF(OR(J116=\"DNF\",J116=\"DSQ\"),0,IF(N116=\"\",\"\",RANK(N116,N113:N120,1))))","v":""},{"$f":"IF(P116=\"\",0,IF(P116=0,0,VLOOKUP(P:P,Points!B:C,2,FALSE)))","v":0},4,null,{"$f":"IF(P121>3.9,4,\"\")","v":""},{"$f":"IFERROR(IF(T116=\"\",\"\",VLOOKUP(T116,P113:R120,3,FALSE)),\"\")","v":""},null,4,null,{"$f":"IF(D116=\"\",\"\",IFERROR(VLOOKUP(B116,Events!B:L,11,FALSE),Y115))","v":""}," "," ",{"$f":"IFERROR(VLOOKUP(AA:AA,'Masters Convertion'!F:G,2,FALSE),\"\")","v":""},"",{"$f":"IF('Gala Name'!C$4=\"No\",\"\",IFERROR(RANK(N116,N116:N123,1),\"\"))","v":""}]
[{"$f":"IF(J117=\"\",\"\",B113)","v":""},null,null,5,{"$f":"IF(D117=\"\",\"\",IF(VLOOKUP(D117,Teams!$B$3:$C$10,2,FALSE)=\"\",\"\",VLOOKUP(D117,Teams!$B$3:$C$10,2,FALSE)))","v":""},null,null,{"$f":"IF(G117=\"\",\"\",YEAR('Gala Name'!$C$9)-YEAR(G117))","v":""},"",null,"",{"$f":"IF(OR(J117=\"\",J117=\"DSQ\"),\"\",IF(OR(J117=J114,J117=J115,J117=J116,J117=J118,J117=J119,J117=J120,J117=J113),\"Enter Placings\",\"\"))","v":""},"","",null,{"$f":"IF(L117<>\"\",L117,IF(OR(J117=\"DNF\",J117=\"DSQ\"),0,IF(N117=\"\",\"\",RANK(N117,N113:N120,1))))","v":""},{"$f":"IF(P117=\"\",0,IF(P117=0,0,VLOOKUP(P:P,Points!B:C,2,FALSE)))","v":0},5,null,{"$f":"IF(P121>4.9,5,\"\")","v":""},{"$f":"IFERROR(IF(T117=\"\",\"\",VLOOKUP(T117,P113:R120,3,FALSE)),\"\")","v":""},null,5,null,{"$f":"IF(D117=\"\",\"\",IFERROR(VLOOKUP(B117,Events!B:L,11,FALSE),Y116))","v":""}," "," ",{"$f":"IFERROR(VLOOKUP(AA:AA,'Masters Convertion'!F:G,2,FALSE),\"\")","v":""},"",{"$f":"IF('Gala Name'!C$4=\"No\",\"\",IFERROR(RANK(N117,N117:N124,1),\"\"))","v":""}]
[{"$f":"IF(J118=\"\",\"\",B113)","v":""},null,null,6,{"$f":"IF(D118=\"\",\"\",IF(VLOOKUP(D118,Teams!$B$3:$C$10,2,FALSE)=\"\",\"\",VLOOKUP(D118,Teams!$B$3:$C$10,2,FALSE)))","v":""},null,null,{"$f":"IF(G118=\"\",\"\",YEAR('Gala Name'!$C$9)-YEAR(G118))","v":""},"",null,"",{"$f":"IF(OR(J118=\"\",J118=\"DSQ\"),\"\",IF(OR(J118=J115,J118=J116,J118=J117,J118=J119,J118=J120,J118=J114,J118=J113),\"Enter Placings\",\"\"))","v":""},"","",null,{"$f":"IF(L118<>\"\",L118,IF(OR(J118=\"DNF\",J118=\"DSQ\"),0,IF(N118=\"\",\"\",RANK(N118,N113:N120,1))))","v":""},{"$f":"IF(P118=\"\",0,IF(P118=0,0,VLOOKUP(P:P,Points!B:C,2,FALSE)))","v":0},6,null,{"$f":"IF(P121>5.9,6,\"\")","v":""},{"$f":"IFERROR(IF(T118=\"\",\"\",VLOOKUP(T118,P113:R120,3,FALSE)),\"\")","v":""},null,6,null,{"$f":"IF(D118=\"\",\"\",IFERROR(VLOOKUP(B118,Events!B:L,11,FALSE),Y117))","v":""}," "," ",{"$f":"IFERROR(VLOOKUP(AA:AA,'Masters Convertion'!F:G,2,FALSE),\"\")","v":""},"",{"$f":"IF('Gala Name'!C$4=\"No\",\"\",IFERROR(RANK(N118,N118:N125,1),\"\"))","v":""}]
[{"$f":"IF(J119=\"\",\"\",B113)","v":""},null,null,7,{"$f":"IF(D119=\"\",\"\",IF(VLOOKUP(D119,Teams!$B$3:$C$10,2,FALSE)=\"\",\"\",VLOOKUP(D119,Teams!$B$3:$C$10,2,FALSE)))","v":""},null,null,{"$f":"IF(G119=\"\",\"\",YEAR('Gala Name'!$C$9)-YEAR(G119))","v":""},"",null,"",{"$f":"IF(OR(J119=\"\",J119=\"DSQ\"),\"\",IF(OR(J119=J116,J119=J117,J119=J118,J119=J120,J119=J113,J119=J114,J119=J115),\"Enter Placings\",\"\"))","v":""},"","",null,{"$f":"IF(L119<>\"\",L119,IF(OR(J119=\"DNF\",J119=\"DSQ\"),0,IF(N119=\"\",\"\",RANK(N119,N113:N120,1))))","v":""},{"$f":"IF(P119=\"\",0,IF(P119=0,0,VLOOKUP(P:P,Points!B:C,2,FALSE)))","v":0},7,null,{"$f":"IF(P121>6.9,7,\"\")","v":""},{"$f":"IFERROR(IF(T119=\"\",\"\",VLOOKUP(T119,P113:R120,3,FALSE)),\"\")","v":""},null,7,null,{"$f":"IF(D119=\"\",\"\",IFERROR(VLOOKUP(B119,Events!B:L,11,FALSE),Y118))","v":""}," "," ",{"$f":"IFERROR(VLOOKUP(AA:AA,'Masters Convertion'!F:G,2,FALSE),\"\")","v":""},"",{"$f":"IF('Gala Name'!C$4=\"No\",\"\",IFERROR(RANK(N119,N119:N126,1),\"\"))","v":""}]
[{"$f":"IF(J120=\"\",\"\",B113)","v":""},null,null,8,{"$f":"IF(D120=\"\",\"\",IF(VLOOKUP(D120,Teams!$B$3:$C$10,2,FALSE)=\"\",\"\",VLOOKUP(D120,Teams!$B$3:$C$10,2,FALSE)))","v":""},null,null,{"$f":"IF(G120=\"\",\"\",YEAR('Gala Name'!$C$9)-YEAR(G120))","v":""},"",null,"",{"$f":"IF(OR(J120=\"\",J120=\"DSQ\"),\"\",IF(OR(J120=J117,J120=J118,J120=J119,J120=J113,J120=J114,J120=J115,J120=J116),\"Enter Placings\",\"\"))","v":""},"","",null,{"$f":"IF(L120<>\"\",L120,IF(OR(J120=\"DNF\",J120=\"DSQ\"),0,IF(N120=\"\",\"\",RANK(N120,N113:N120,1))))","v":""},{"$f":"IF(P120=\"\",0,IF(P120=0,0,VLOOKUP(P:P,Points!B:C,2,FALSE)))","v":0},8,null,{"$f":"IF(P121>7.9,8,\"\")","v":""},{"$f":"IFERROR(IF(T120=\"\",\"\",VLOOKUP(T120,P113:R120,3,FALSE)),\"\")","v":""},null,8,null,{"$f":"IF(D120=\"\",\"\",IFERROR(VLOOKUP(B120,Events!B:L,11,FALSE),Y119))","v":""}," "," ",{"$f":"IFERROR(VLOOKUP(AA:AA,'Masters Convertion'!F:G,2,FALSE),\"\")","v":""},"",{"$f":"IF('Gala Name'!C$4=\"No\",\"\",IFERROR(RANK(N120,N120:N127,1),\"\"))","v":""}]
[null,null,null,null,null,null,null,null,null,null,null,null,"","",null,{"$f":"MAX(P113:P120)","v":0},null,null,null,null,null,null,"*"]
[{"$f":"IF(J122=\"\",\"\",B122)","v":""},{"$f":"B113+1","v":14},{"$f":"IF(D122=1,VLOOKUP(B122,Events!B:H,6,FALSE)&VLOOKUP(B122,Events!B:H,7,FALSE),\"\")","v":"   "},1,{"$f":"IF(D122=\"\",\"\",IF(VLOOKUP(D122,Teams!$B$3:$C$10,2,FALSE)=\"\",\"\",VLOOKUP(D122,Teams!$B$3:$C$10,2,FALSE)))","v":""},null,null,{"$f":"IF(G122=\"\",\"\",YEAR('Gala Name'!$C$9)-YEAR(G122))","v":""},"",null,"",{"$f":"IF(OR(J122=\"\",J122=\"DSQ\"),\"\",IF(OR(J122=J123,J122=J124,J122=J125,J122=J126,J122=J127,J122=J128,J122=J129),\"Enter Placings\",\"\"))","v":""},"","",null,{"$f":"IF(L122<>\"\",L122,IF(OR(J122=\"DNF\",J122=\"DSQ\"),0,IF(N122=\"\",\"\",RANK(N122,N122:N129,1))))","v":""},{"$f":"IF(P122=\"\",0,IF(P122=0,0,VLOOKUP(P:P,Points!B:C,2,FALSE)))","v":0},{"$f":"D122","v":1},null,{"$f":"IF(P130>0.9,1,\"\")","v":""},{"$f":"IFERROR(IF(T122=\"\",\"\",VLOOKUP(T122,P122:R129,3,FALSE)),\"\")","v":""},null,1,null,{"$f":"IF(D122=\"\",\"\",IFERROR(VLOOKUP(B122,Events!B:L,11,FALSE),Y121))","v":""}," "," ",{"$f":"IFERROR(VLOOKUP(AA:AA,'Masters Convertion'!F:G,2,FALSE),\"\")","v":""},"",{"$f":"IF('Gala Name'!C$4=\"No\",\"\",IFERROR(RANK(N122,N122:N129,1),\"\"))","v":""}]
[{"$f":"IF(J123=\"\",\"\",B122)","v":""},null,null,2,{"$f":"IF(D123=\"\",\"\",IF(VLOOKUP(D123,Teams!$B$3:$C$10,2,FALSE)=\"\",\"\",VLOOKUP(D123,Teams!$B$3:$C$10,2,FALSE)))","v":""},null,null,{"$f":"IF(G123=\"\",\"\",YEAR('Gala Name'!$C$9)-YEAR(G123))","v":""},"",null,"",{"$f":"IF(OR(J123=\"\",J123=\"DSQ\"),\"\",IF(OR(J123=J122,J123=J124,J123=J125,J123=J126,J123=J127,J123=J128,J123=J129),\"Enter Placings\",\"\"))","v":""},"","",null,{"$f":"IF(L123<>\"\",L123,IF(OR(J123=\"DNF\",J123=\"DSQ\"),0,IF(N123=\"\",\"\",RANK(N123,N122:N129,1))))","v":""},{"$f":"IF(P123=\"\",0,IF(P123=0,0,VLOOKUP(P:P,Points!B:C,2,FALSE)))","v":0},2,null,{"$f":"IF(P130>1.9,2,\"\")","v":""},{"$f":"IFERROR(IF(T123=\"\",\"\",VLOOKUP(T123,P122:R129,3,FALSE)),\"\")","v":""},null,2,null,{"$f":"IF(D123=\"\",\"\",IFERROR(VLOOKUP(B123,Events!B:L,11,FALSE),Y122))","v":""}," "," ",{"$f":"IFERROR(VLOOKUP(AA:AA,'Masters Convertion'!F:G,2,FALSE),\"\")","v":""},"",{"$f":"IF('Gala Name'!C$4=\"No\",\"\",IFERROR(RANK(N123,N123:N130,1),\"\"))","v":""}]
[{"$f":"IF(J124=\"\",\"\",B122)","v":""},null,null,3,{"$f":"IF(D124=\"\",\"\",IF(VLOOKUP(D124,Teams!$B$3:$C$10,2,FALSE)=\"\",\"\",VLOOKUP(D124,Teams!$B$3:$C$10,2,FALSE)))","v":""},null,null,{"$f":"IF(G124=\"\",\"\",YEAR('Gala Name'!$C$9)-YEAR(G124))","v":""},"",null,"",{"$f":"IF(OR(J124=\"\",J124=\"DSQ\"),\"\",IF(OR(J124=J122,J124=J123,J124=J125,J124=J126,J124=J127,J124=J128,J124=J129),\"Enter Placings\",\"\"))","v":""},"","",null,{"$f":"IF(L124<>\"\",L124,IF(OR(J124=\"DNF\",J124=\"DSQ\"),0,IF(N124=\"\",\"\",RANK(N124,N122:N129,1))))","v":""},{"$f":"IF(P124=\"\",0,IF(P124=0,0,VLOOKUP(P:P,Points!B:C,2,FALSE)))","v":0},3,null,{"$f":"IF(P130>2.9,3,\"\")","v":""},{"$f":"IFERROR(IF(T124=\"\",\"\",VLOOKUP(T124,P122:R129,3,FALSE)),\"\")","v":""},null,3,null,{"$f":"IF(D124=\"\",\"\",IFERROR(VLOOKUP(B124,Events!B:L,11,FALSE),Y123))","v":""}," "," ",{"$f":"IFERROR(VLOOKUP(AA:AA,'Masters Convertion'!F:G,2,FALSE),\"\")","v":""},"",{"$f":"IF('Gala Name'!C$4=\"No\",\"\",IFERROR(RANK(N124,N124:N131,1),\"\"))","v":""}]
[{"$f":"IF(J125=\"\",\"\",B122)","v":""},null,null,4,{"$f":"IF(D125=\"\",\"\",IF(VLOOKUP(D125,Teams!$B$3:$C$10,2,FALSE)=\"\",\"\",VLOOKUP(D125,Teams!$B$3:$C$10,2,FALSE)))","v":""},null,null,{"$f":"IF(G125=\"\",\"\",YEAR('Gala Name'!$C$9)-YEAR(G125))","v":""},"",null,"",{"$f":"IF(OR(J125=\"\",J125=\"DSQ\"),\"\",IF(OR(J125=J122,J125=J123,J125=J124,J125=J126,J125=J127,J125=J128,J125=J129),\"Enter Placings\",\"\"))","v":""},"","",null,{"$f":"IF(L125<>\"\",L125,IF(OR(J125=\"DNF\",J125=\"DSQ\"),0,IF(N125=\"\",\"\",RANK(N125,N122:N129,1))))","v":""},{"$f":"IF(P125=\"\",0,IF(P125=0,0,VLOOKUP(P:P,Points!B:C,2,FALSE)))","v":0},4,null,{"$f":"IF(P130>3.9,4,\"\")","v":""},{"$f":"IFERROR(IF(T125=\"\",\"\",VLOOKUP(T125,P122:R129,3,FALSE)),\"\")","v":""},null,4,null,{"$f":"IF(D125=\"\",\"\",IFERROR(VLOOKUP(B125,Events!B:L,11,FALSE),Y124))","v":""}," "," ",{"$f":"IFERROR(VLOOKUP(AA:AA,'Masters Convertion'!F:G,2,FALSE),\"\")","v":""},"",{"$f":"IF('Gala Name'!C$4=\"No\",\"\",IFERROR(RANK(N125,N125:N132,1),\"\"))","v":""}]
[{"$f":"IF(J126=\"\",\"\",B122)","v":""},null,null,5,{"$f":"IF(D126=\"\",\"\",IF(VLOOKUP(D126,Teams!$B$3:$C$10,2,FALSE)=\"\",\"\",VLOOKUP(D126,Teams!$B$3:$C$10,2,FALSE)))","v":""},null,null,{"$f":"IF(G126=\"\",\"\",YEAR('Gala Name'!$C$9)-YEAR(G126))","v":""},"",null,"",{"$f":"IF(OR(J126=\"\",J126=\"DSQ\"),\"\",IF(OR(J126=J123,J126=J124,J126=J125,J126=J127,J126=J128,J126=J129,J126=J122),\"Enter Placings\",\"\"))","v":""},"","",null,{"$f":"IF(L126<>\"\",L126,IF(OR(J126=\"DNF\",J126=\"DSQ\"),0,IF(N126=\"\",\"\",RANK(N126,N122:N129,1))))","v":""},{"$f":"IF(P126=\"\",0,IF(P126=0,0,VLOOKUP(P:P,Points!B:C,2,FALSE)))","v":0},5,null,{"$f":"IF(P130>4.9,5,\"\")","v":""},{"$f":"IFERROR(IF(T126=\"\",\"\",VLOOKUP(T126,P122:R129,3,FALSE)),\"\")","v":""},null,5,null,{"$f":"IF(D126=\"\",\"\",IFERROR(VLOOKUP(B126,Events!B:L,11,FALSE),Y125))","v":""}," "," ",{"$f":"IFERROR(VLOOKUP(AA:AA,'Masters Convertion'!F:G,2,FALSE),\"\")","v":""},"",{"$f":"IF('Gala Name'!C$4=\"No\",\"\",IFERROR(RANK(N126,N126:N133,1),\"\"))","v":""}]
[{"$f":"IF(J127=\"\",\"\",B122)","v":""},null,null,6,{"$f":"IF(D127=\"\",\"\",IF(VLOOKUP(D127,Teams!$B$3:$C$10,2,FALSE)=\"\",\"\",VLOOKUP(D127,Teams!$B$3:$C$10,2,FALSE)))","v":""},null,null,{"$f":"IF(G127=\"\",\"\",YEAR('Gala Name'!$C$9)-YEAR(G127))","v":""},"",null,"",{"$f":"IF(OR(J127=\"\",J127=\"DSQ\"),\"\",IF(OR(J127=J124,J127=J125,J127=J126,J127=J128,J127=J129,J127=J123,J127=J122),\"Enter Placings\",\"\"))","v":""},"","",null,{"$f":"IF(L127<>\"\",L127,IF(OR(J127=\"DNF\",J127=\"DSQ\"),0,IF(N127=\"\",\"\",RANK(N127,N122:N129,1))))","v":""},{"$f":"IF(P127=\"\",0,IF(P127=0,0,VLOOKUP(P:P,Points!B:C,2,FALSE)))","v":0},6,null,{"$f":"IF(P130>5.9,6,\"\")","v":""},{"$f":"IFERROR(IF(T127=\"\",\"\",VLOOKUP(T127,P122:R129,3,FALSE)),\"\")","v":""},null,6,null,{"$f":"IF(D127=\"\",\"\",IFERROR(VLOOKUP(B127,Events!B:L,11,FALSE),Y126))","v":""}," "," ",{"$f":"IFERROR(VLOOKUP(AA:AA,'Masters Convertion'!F:G,2,FALSE),\"\")","v":""},"",{"$f":"IF('Gala Name'!C$4=\"No\",\"\",IFERROR(RANK(N127,N127:N134,1),\"\"))","v":""}]
[{"$f":"IF(J128=\"\",\"\",B122)","v":""},null,null,7,{"$f":"IF(D128=\"\",\"\",IF(VLOOKUP(D128,Teams!$B$3:$C$10,2,FALSE)=\"\",\"\",VLOOKUP(D128,Teams!$B$3:$C$10,2,FALSE)))","v":""},null,null,{"$f":"IF(G128=\"\",\"\",YEAR('Gala Name'!$C$9)-YEAR(G128))","v":""},"",null,"",{"$f":"IF(OR(J128=\"\",J128=\"DSQ\"),\"\",IF(OR(J128=J125,J128=J126,J128=J127,J128=J129,J128=J122,J128=J123,J128=J124),\"Enter Placings\",\"\"))","v":""},"","",null,{"$f":"IF(L128<>\"\",L128,IF(OR(J128=\"DNF\",J128=\"DSQ\"),0,IF(N128=\"\",\"\",RANK(N128,N122:N129,1))))","v":""},{"$f":"IF(P128=\"\",0,IF(P128=0,0,VLOOKUP(P:P,Points!B:C,2,FALSE)))","v":0},7,null,{"$f":"IF(P130>6.9,7,\"\")","v":""},{"$f":"IFERROR(IF(T128=\"\",\"\",VLOOKUP(T128,P122:R129,3,FALSE)),\"\")","v":""},null,7,null,{"$f":"IF(D128=\"\",\"\",IFERROR(VLOOKUP(B128,Events!B:L,11,FALSE),Y127))","v":""}," "," ",{"$f":"IFERROR(VLOOKUP(AA:AA,'Masters Convertion'!F:G,2,FALSE),\"\")","v":""},"",{"$f":"IF('Gala Name'!C$4=\"No\",\"\",IFERROR(RANK(N128,N128:N135,1),\"\"))","v":""}]
[{"$f":"IF(J129=\"\",\"\",B122)","v":""},null,null,8,{"$f":"IF(D129=\"\",\"\",IF(VLOOKUP(D129,Teams!$B$3:$C$10,2,FALSE)=\"\",\"\",VLOOKUP(D129,Teams!$B$3:$C$10,2,FALSE)))","v":""},null,null,{"$f":"IF(G129=\"\",\"\",YEAR('Gala Name'!$C$9)-YEAR(G129))","v":""},"",null,"",{"$f":"IF(OR(J129=\"\",J129=\"DSQ\"),\"\",IF(OR(J129=J126,J129=J127,J129=J128,J129=J122,J129=J123,J129=J124,J129=J125),\"Enter Placings\",\"\"))","v":""},"","",null,{"$f":"IF(L129<>\"\",L129,IF(OR(J129=\"DNF\",J129=\"DSQ\"),0,IF(N129=\"\",\"\",RANK(N129,N122:N129,1))))","v":""},{"$f":"IF(P129=\"\",0,IF(P129=0,0,VLOOKUP(P:P,Points!B:C,2,FALSE)))","v":0},8,null,{"$f":"IF(P130>7.9,8,\"\")","v":""},{"$f":"IFERROR(IF(T129=\"\",\"\",VLOOKUP(T129,P122:R129,3,FALSE)),\"\")","v":""},null,8,null,{"$f":"IF(D129=\"\",\"\",IFERROR(VLOOKUP(B129,Events!B:L,11,FALSE),Y128))","v":""}," "," ",{"$f":"IFERROR(VLOOKUP(AA:AA,'Masters Convertion'!F:G,2,FALSE),\"\")","v":""},"",{"$f":"IF('Gala Name'!C$4=\"No\",\"\",IFERROR(RANK(N129,N129:N136,1),\"\"))","v":""}]
[null,null,null,null,null,null,null,null,null,null,null,null,"","",null,{"$f":"MAX(P122:P129)","v":0},null,null,null,null,null,null,"*"]
[{"$f":"IF(J131=\"\",\"\",B131)","v":""},{"$f":"B122+1","v":15},{"$f":"IF(D131=1,VLOOKUP(B131,Events!B:H,6,FALSE)&VLOOKUP(B131,Events!B:H,7,FALSE),\"\")","v":"   "},1,{"$f":"IF(D131=\"\",\"\",IF(VLOOKUP(D131,Teams!$B$3:$C$10,2,FALSE)=\"\",\"\",VLOOKUP(D131,Teams!$B$3:$C$10,2,FALSE)))","v":""},null,null,{"$f":"IF(G131=\"\",\"\",YEAR('Gala Name'!$C$9)-YEAR(G131))","v":""},"",null,"",{"$f":"IF(OR(J131=\"\",J131=\"DSQ\"),\"\",IF(OR(J131=J132,J131=J133,J131=J134,J131=J135,J131=J136,J131=J137,J131=J138),\"Enter Placings\",\"\"))","v":""},"","",null,{"$f":"IF(L131<>\"\",L131,IF(OR(J131=\"DNF\",J131=\"DSQ\"),0,IF(N131=\"\",\"\",RANK(N131,N131:N138,1))))","v":""},{"$f":"IF(P131=\"\",0,IF(P131=0,0,VLOOKUP(P:P,Points!B:C,2,FALSE)))","v":0},{"$f":"D131","v":1},null,{"$f":"IF(P139>0.9,1,\"\")","v":""},{"$f":"IFERROR(IF(T131=\"\",\"\",VLOOKUP(T131,P131:R138,3,FALSE)),\"\")","v":""},null,1,null,{"$f":"IF(D131=\"\",\"\",IFERROR(VLOOKUP(B131,Events!B:L,11,FALSE),Y130))","v":""}," "," ",{"$f":"IFERROR(VLOOKUP(AA:AA,'Masters Convertion'!F:G,2,FALSE),\"\")","v":""},"",{"$f":"IF('Gala Name'!C$4=\"No\",\"\",IFERROR(RANK(N131,N131:N138,1),\"\"))","v":""}]
[{"$f":"IF(J132=\"\",\"\",B131)","v":""},null,null,2,{"$f":"IF(D132=\"\",\"\",IF(VLOOKUP(D132,Teams!$B$3:$C$10,2,FALSE)=\"\",\"\",VLOOKUP(D132,Teams!$B$3:$C$10,2,FALSE)))","v":""},null,null,{"$f":"IF(G132=\"\",\"\",YEAR('Gala Name'!$C$9)-YEAR(G132))","v":""},"",null,"",{"$f":"IF(OR(J132=\"\",J132=\"DSQ\"),\"\",IF(OR(J132=J131,J132=J133,J132=J134,J132=J135,J132=J136,J132=J137,J132=J138),\"Enter Placings\",\"\"))","v":""},"","",null,{"$f":"IF(L132<>\"\",L132,IF(OR(J132=\"DNF\",J132=\"DSQ\"),0,IF(N132=\"\",\"\",RANK(N132,N131:N138,1))))","v":""},{"$f":"IF(P132=\"\",0,IF(P132=0,0,VLOOKUP(P:P,Points!B:C,2,FALSE)))","v":0},2,null,{"$f":"IF(P139>1.9,2,\"\")","v":""},{"$f":"IFERROR(IF(T132=\"\",\"\",VLOOKUP(T132,P131:R138,3,FALSE)),\"\")","v":""},null,2,null,{"$f":"IF(D132=\"\",\"\",IFERROR(VLOOKUP(B132,Events!B:L,11,FALSE),Y131))","v":""}," "," ",{"$f":"IFERROR(VLOOKUP(AA:AA,'Masters Convertion'!F:G,2,FALSE),\"\")","v":""},"",{"$f":"IF('Gala Name'!C$4=\"No\",\"\",IFERROR(RANK(N132,N132:N139,1),\"\"))","v":""}]
[{"$f":"IF(J133=\"\",\"\",B131)","v":""},null,null,3,{"$f":"IF(D133=\"\",\"\",IF(VLOOKUP(D133,Teams!$B$3:$C$10,2,FALSE)=\"\",\"\",VLOOKUP(D133,Teams!$B$3:$C$10,2,FALSE)))","v":""},null,null,{"$f":"IF(G133=\"\",\"\",YEAR('Gala Name'!$C$9)-YEAR(G133))","v":""},"",null,"",{"$f":"IF(OR(J133=\"\",J133=\"DSQ\"),\"\",IF(OR(J133=J131,J133=J132,J133=J134,J133=J135,J133=J136,J133=J137,J133=J138),\"Enter Placings\",\"\"))","v":""},"","",null,{"$f":"IF(L133<>\"\",L133,IF(OR(J133=\"DNF\",J133=\"DSQ\"),0,IF(N133=\"\",\"\",RANK(N133,N131:N138,1))))","v":""},{"$f":"IF(P133=\"\",0,IF(P133=0,0,VLOOKUP(P:P,Points!B:C,2,FALSE)))","v":0},3,null,{"$f":"IF(P139>2.9,3,\"\")","v":""},{"$f":"IFERROR(IF(T133=\"\",\"\",VLOOKUP(T133,P131:R138,3,FALSE)),\"\")","v":""},null,3,null,{"$f":"IF(D133=\"\",\"\",IFERROR(VLOOKUP(B133,Events!B:L,11,FALSE),Y132))","v":""}," "," ",{"$f":"IFERROR(VLOOKUP(AA:AA,'Masters Convertion'!F:G,2,FALSE),\"\")","v":""},"",{"$f":"IF('Gala Name'!C$4=\"No\",\"\",IFERROR(RANK(N133,N133:N140,1),\"\"))","v":""}]
[{"$f":"IF(J134=\"\",\"\",B131)","v":""},null,null,4,{"$f":"IF(D134=\"\",\"\",IF(VLOOKUP(D134,Teams!$B$3:$C$10,2,FALSE)=\"\",\"\",VLOOKUP(D134,Teams!$B$3:$C$10,2,FALSE)))","v":""},null,null,{"$f":"IF(G134=\"\",\"\",YEAR('Gala Name'!$C$9)-YEAR(G134))","v":""},{"$f":"IF(IF(J134=\"DSQ\",PROPER(K134),PROPER(F134))=\"\",\"\",IF(J134=\"DSQ\",PROPER(K134),PROPER(F134)))","v":""},null,"",{"$f":"IF(OR(J134=\"\",J134=\"DSQ\"),\"\",IF(OR(J134=J131,J134=J132,J134=J133,J134=J135,J134=J136,J134=J137,J134=J138),\"Enter Placings\",\"\"))","v":""},{"$f":"IF(J134=\"\",\"\",UPPER(TEXT(J134,\"0 00.00\")))","v":""},{"$f":"IF(J134=\"DSQ\",999999,IF(J134=\"DNF\",999999,IF(J134=\"\",\"\",IF(LEFT(M134,1)=\"0\",RIGHT(M134,5)*1,LEFT(J134,1)*60+RIGHT(M134,5)*1))))","v":""},null,{"$f":"IF(L134<>\"\",L134,IF(OR(J134=\"DNF\",J134=\"DSQ\"),0,IF(N134=\"\",\"\",RANK(N134,N131:N138,1))))","v":""},{"$f":"IF(P134=\"\",0,IF(P134=0,0,VLOOKUP(P:P,Points!B:C,2,FALSE)))","v":0},4,null,{"$f":"IF(P139>3.9,4,\"\")","v":""},{"$f":"IFERROR(IF(T134=\"\",\"\",VLOOKUP(T134,P131:R138,3,FALSE)),\"\")","v":""},null,4,null,{"$f":"IF(D134=\"\",\"\",IFERROR(VLOOKUP(B134,Events!B:L,11,FALSE),Y133))","v":""}," ",{"$f":"Z134&Y134&H134","v":" "},{"$f":"IFERROR(VLOOKUP(AA:AA,'Masters Convertion'!F:G,2,FALSE),\"\")","v":""},"",{"$f":"IF('Gala Name'!C$4=\"No\",\"\",IFERROR(RANK(N134,N134:N141,1),\"\"))","v":""}]
[{"$f":"IF(J135=\"\",\"\",B131)","v":""},null,null,5,{"$f":"IF(D135=\"\",\"\",IF(VLOOKUP(D135,Teams!$B$3:$C$10,2,FALSE)=\"\",\"\",VLOOKUP(D135,Teams!$B$3:$C$10,2,FALSE)))","v":""},null,null,{"$f":"IF(G135=\"\",\"\",YEAR('Gala Name'!$C$9)-YEAR(G135))","v":""},"",null,"",{"$f":"IF(OR(J135=\"\",J135=\"DSQ\"),\"\",IF(OR(J135=J132,J135=J133,J135=J134,J135=J136,J135=J137,J135=J138,J135=J131),\"Enter Placings\",\"\"))","v":""},"","",null,{"$f":"IF(L135<>\"\",L135,IF(OR(J135=\"DNF\",J135=\"DSQ\"),0,IF(N135=\"\",\"\",RANK(N135,N131:N138,1))))","v":""},{"$f":"IF(P135=\"\",0,IF(P135=0,0,VLOOKUP(P:P,Points!B:C,2,FALSE)))","v":0},5,null,{"$f":"IF(P139>4.9,5,\"\")","v":""},{"$f":"IFERROR(IF(T135=\"\",\"\",VLOOKUP(T135,P131:R138,3,FALSE)),\"\")","v":""},null,5,null,{"$f":"IF(D135=\"\",\"\",IFERROR(VLOOKUP(B135,Events!B:L,11,FALSE),Y134))","v":""}," "," ",{"$f":"IFERROR(VLOOKUP(AA:AA,'Masters Convertion'!F:G,2,FALSE),\"\")","v":""},"",{"$f":"IF('Gala Name'!C$4=\"No\",\"\",IFERROR(RANK(N135,N135:N142,1),\"\"))","v":""}]
[{"$f":"IF(J136=\"\",\"\",B131)","v":""},null,null,6,{"$f":"IF(D136=\"\",\"\",IF(VLOOKUP(D136,Teams!$B$3:$C$10,2,FALSE)=\"\",\"\",VLOOKUP(D136,Teams!$B$3:$C$10,2,FALSE)))","v":""},null,null,{"$f":"IF(G136=\"\",\"\",YEAR('Gala Name'!$C$9)-YEAR(G136))","v":""},"",null,"",{"$f":"IF(OR(J136=\"\",J136=\"DSQ\"),\"\",IF(OR(J136=J133,J136=J134,J136=J135,J136=J137,J136=J138,J136=J132,J136=J131),\"Enter Placings\",\"\"))","v":""},"","",null,{"$f":"IF(L136<>\"\",L136,IF(OR(J136=\"DNF\",J136=\"DSQ\"),0,IF(N136=\"\",\"\",RANK(N136,N131:N138,1))))","v":""},{"$f":"IF(P136=\"\",0,IF(P136=0,0,VLOOKUP(P:P,Points!B:C,2,FALSE)))","v":0},6,null,{"$f":"IF(P139>5.9,6,\"\")","v":""},{"$f":"IFERROR(IF(T136=\"\",\"\",VLOOKUP(T136,P131:R138,3,FALSE)),\"\")","v":""},null,6,null,{"$f":"IF(D136=\"\",\"\",IFERROR(VLOOKUP(B136,Events!B:L,11,FALSE),Y135))","v":""}," "," ",{"$f":"IFERROR(VLOOKUP(AA:AA,'Masters Convertion'!F:G,2,FALSE),\"\")","v":""},{"$f":"IF(AB136=\"\",\"\",ROUNDDOWN(AB136*N136,2))","v":""},{"$f":"IF('Gala Name'!C$4=\"No\",\"\",IFERROR(RANK(N136,N136:N143,1),\"\"))","v":""}]
[{"$f":"IF(J137=\"\",\"\",B131)","v":""},null,null,7,{"$f":"IF(D137=\"\",\"\",IF(VLOOKUP(D137,Teams!$B$3:$C$10,2,FALSE)=\"\",\"\",VLOOKUP(D137,Teams!$B$3:$C$10,2,FALSE)))","v":""},null,null,{"$f":"IF(G137=\"\",\"\",YEAR('Gala Name'!$C$9)-YEAR(G137))","v":""},"",null,"",{"$f":"IF(OR(J137=\"\",J137=\"DSQ\"),\"\",IF(OR(J137=J134,J137=J135,J137=J136,J137=J138,J137=J131,J137=J132,J137=J133),\"Enter Placings\",\"\"))","v":""},"","",null,{"$f":"IF(L137<>\"\",L137,IF(OR(J137=\"DNF\",J137=\"DSQ\"),0,IF(N137=\"\",\"\",RANK(N137,N131:N138,1))))","v":""},{"$f":"IF(P137=\"\",0,IF(P137=0,0,VLOOKUP(P:P,Points!B:C,2,FALSE)))","v":0},7,null,{"$f":"IF(P139>6.9,7,\"\")","v":""},{"$f":"IFERROR(IF(T137=\"\",\"\",VLOOKUP(T137,P131:R138,3,FALSE)),\"\")","v":""},null,7,null,{"$f":"IF(D137=\"\",\"\",IFERROR(VLOOKUP(B137,Events!B:L,11,FALSE),Y136))","v":""}," "," ",{"$f":"IFERROR(VLOOKUP(AA:AA,'Masters Convertion'!F:G,2,FALSE),\"\")","v":""},"",{"$f":"IF('Gala Name'!C$4=\"No\",\"\",IFERROR(RANK(N137,N137:N144,1),\"\"))","v":""}]
[{"$f":"IF(J138=\"\",\"\",B131)","v":""},null,null,8,{"$f":"IF(D138=\"\",\"\",IF(VLOOKUP(D138,Teams!$B$3:$C$10,2,FALSE)=\"\",\"\",VLOOKUP(D138,Teams!$B$3:$C$10,2,FALSE)))","v":""},null,null,{"$f":"IF(G138=\"\",\"\",YEAR('Gala Name'!$C$9)-YEAR(G138))","v":""},"",null,"",{"$f":"IF(OR(J138=\"\",J138=\"DSQ\"),\"\",IF(OR(J138=J135,J138=J136,J138=J137,J138=J131,J138=J132,J138=J133,J138=J134),\"Enter Placings\",\"\"))","v":""},"","",null,{"$f":"IF(L138<>\"\",L138,IF(OR(J138=\"DNF\",J138=\"DSQ\"),0,IF(N138=\"\",\"\",RANK(N138,N131:N138,1))))","v":""},{"$f":"IF(P138=\"\",0,IF(P138=0,0,VLOOKUP(P:P,Points!B:C,2,FALSE)))","v":0},8,null,{"$f":"IF(P139>7.9,8,\"\")","v":""},{"$f":"IFERROR(IF(T138=\"\",\"\",VLOOKUP(T138,P131:R138,3,FALSE)),\"\")","v":""},null,8,null,{"$f":"IF(D138=\"\",\"\",IFERROR(VLOOKUP(B138,Events!B:L,11,FALSE),Y137))","v":""}," "," ",{"$f":"IFERROR(VLOOKUP(AA:AA,'Masters Convertion'!F:G,2,FALSE),\"\")","v":""},"",{"$f":"IF('Gala Name'!C$4=\"No\",\"\",IFERROR(RANK(N138,N138:N145,1),\"\"))","v":""}]
[null,null,null,null,null,null,null,null,null,null,null,null,"","",null,{"$f":"MAX(P131:P138)","v":0},null,null,null,null,null,null,"*"]
[{"$f":"IF(J140=\"\",\"\",B140)","v":""},{"$f":"B131+1","v":16},{"$f":"IF(D140=1,VLOOKUP(B140,Events!B:H,6,FALSE)&VLOOKUP(B140,Events!B:H,7,FALSE),\"\")","v":"   "},1,{"$f":"IF(D140=\"\",\"\",IF(VLOOKUP(D140,Teams!$B$3:$C$10,2,FALSE)=\"\",\"\",VLOOKUP(D140,Teams!$B$3:$C$10,2,FALSE)))","v":""},null,null,{"$f":"IF(G140=\"\",\"\",YEAR('Gala Name'!$C$9)-YEAR(G140))","v":""},"",null,"",{"$f":"IF(OR(J140=\"\",J140=\"DSQ\"),\"\",IF(OR(J140=J141,J140=J142,J140=J143,J140=J144,J140=J145,J140=J146,J140=J147),\"Enter Placings\",\"\"))","v":""},"","",null,{"$f":"IF(L140<>\"\",L140,IF(OR(J140=\"DNF\",J140=\"DSQ\"),0,IF(N140=\"\",\"\",RANK(N140,N140:N147,1))))","v":""},{"$f":"IF(P140=\"\",0,IF(P140=0,0,VLOOKUP(P:P,Points!B:C,2,FALSE)))","v":0},{"$f":"D140","v":1},null,{"$f":"IF(P148>0.9,1,\"\")","v":""},{"$f":"IFERROR(IF(T140=\"\",\"\",VLOOKUP(T140,P140:R147,3,FALSE)),\"\")","v":""},null,1,null,{"$f":"IF(D140=\"\",\"\",IFERROR(VLOOKUP(B140,Events!B:L,11,FALSE),Y139))","v":""}," "," ",{"$f":"IFERROR(VLOOKUP(AA:AA,'Masters Convertion'!F:G,2,FALSE),\"\")","v":""},"",{"$f":"IF('Gala Name'!C$4=\"No\",\"\",IFERROR(RANK(N140,N140:N147,1),\"\"))","v":""}]
[{"$f":"IF(J141=\"\",\"\",B140)","v":""},null,null,2,{"$f":"IF(D141=\"\",\"\",IF(VLOOKUP(D141,Teams!$B$3:$C$10,2,FALSE)=\"\",\"\",VLOOKUP(D141,Teams!$B$3:$C$10,2,FALSE)))","v":""},null,null,{"$f":"IF(G141=\"\",\"\",YEAR('Gala Name'!$C$9)-YEAR(G141))","v":""},"",null,"",{"$f":"IF(OR(J141=\"\",J141=\"DSQ\"),\"\",IF(OR(J141=J140,J141=J142,J141=J143,J141=J144,J141=J145,J141=J146,J141=J147),\"Enter Placings\",\"\"))","v":""},"","",null,{"$f":"IF(L141<>\"\",L141,IF(OR(J141=\"DNF\",J141=\"DSQ\"),0,IF(N141=\"\",\"\",RANK(N141,N140:N147,1))))","v":""},{"$f":"IF(P141=\"\",0,IF(P141=0,0,VLOOKUP(P:P,Points!B:C,2,FALSE)))","v":0},2,null,{"$f":"IF(P148>1.9,2,\"\")","v":""},{"$f":"IFERROR(IF(T141=\"\",\"\",VLOOKUP(T141,P140:R147,3,FALSE)),\"\")","v":""},null,2,null,{"$f":"IF(D141=\"\",\"\",IFERROR(VLOOKUP(B141,Events!B:L,11,FALSE),Y140))","v":""}," "," ",{"$f":"IFERROR(VLOOKUP(AA:AA,'Masters Convertion'!F:G,2,FALSE),\"\")","v":""},"",{"$f":"IF('Gala Name'!C$4=\"No\",\"\",IFERROR(RANK(N141,N141:N148,1),\"\"))","v":""}]
[{"$f":"IF(J142=\"\",\"\",B140)","v":""},null,null,3,{"$f":"IF(D142=\"\",\"\",IF(VLOOKUP(D142,Teams!$B$3:$C$10,2,FALSE)=\"\",\"\",VLOOKUP(D142,Teams!$B$3:$C$10,2,FALSE)))","v":""},null,null,{"$f":"IF(G142=\"\",\"\",YEAR('Gala Name'!$C$9)-YEAR(G142))","v":""},"",null,"",{"$f":"IF(OR(J142=\"\",J142=\"DSQ\"),\"\",IF(OR(J142=J140,J142=J141,J142=J143,J142=J144,J142=J145,J142=J146,J142=J147),\"Enter Placings\",\"\"))","v":""},"","",null,{"$f":"IF(L142<>\"\",L142,IF(OR(J142=\"DNF\",J142=\"DSQ\"),0,IF(N142=\"\",\"\",RANK(N142,N140:N147,1))))","v":""},{"$f":"IF(P142=\"\",0,IF(P142=0,0,VLOOKUP(P:P,Points!B:C,2,FALSE)))","v":0},3,null,{"$f":"IF(P148>2.9,3,\"\")","v":""},{"$f":"IFERROR(IF(T142=\"\",\"\",VLOOKUP(T142,P140:R147,3,FALSE)),\"\")","v":""},null,3,null,{"$f":"IF(D142=\"\",\"\",IFERROR(VLOOKUP(B142,Events!B:L,11,FALSE),Y141))","v":""}," "," ",{"$f":"IFERROR(VLOOKUP(AA:AA,'Masters Convertion'!F:G,2,FALSE),\"\")","v":""},"",{"$f":"IF('Gala Name'!C$4=\"No\",\"\",IFERROR(RANK(N142,N142:N149,1),\"\"))","v":""}]
[{"$f":"IF(J143=\"\",\"\",B140)","v":""},null,null,4,{"$f":"IF(D143=\"\",\"\",IF(VLOOKUP(D143,Teams!$B$3:$C$10,2,FALSE)=\"\",\"\",VLOOKUP(D143,Teams!$B$3:$C$10,2,FALSE)))","v":""},null,null,{"$f":"IF(G143=\"\",\"\",YEAR('Gala Name'!$C$9)-YEAR(G143))","v":""},"",null,"",{"$f":"IF(OR(J143=\"\",J143=\"DSQ\"),\"\",IF(OR(J143=J140,J143=J141,J143=J142,J143=J144,J143=J145,J143=J146,J143=J147),\"Enter Placings\",\"\"))","v":""},"","",null,{"$f":"IF(L143<>\"\",L143,IF(OR(J143=\"DNF\",J143=\"DSQ\"),0,IF(N143=\"\",\"\",RANK(N143,N140:N147,1))))","v":""},{"$f":"IF(P143=\"\",0,IF(P143=0,0,VLOOKUP(P:P,Points!B:C,2,FALSE)))","v":0},4,null,{"$f":"IF(P148>3.9,4,\"\")","v":""},{"$f":"IFERROR(IF(T143=\"\",\"\",VLOOKUP(T143,P140:R147,3,FALSE)),\"\")","v":""},null,4,null,{"$f":"IF(D143=\"\",\"\",IFERROR(VLOOKUP(B143,Events!B:L,11,FALSE),Y142))","v":""}," "," ",{"$f":"IFERROR(VLOOKUP(AA:AA,'Masters Convertion'!F:G,2,FALSE),\"\")","v":""},"",{"$f":"IF('Gala Name'!C$4=\"No\",\"\",IFERROR(RANK(N143,N143:N150,1),\"\"))","v":""}]
[{"$f":"IF(J144=\"\",\"\",B140)","v":""},null,null,5,{"$f":"IF(D144=\"\",\"\",IF(VLOOKUP(D144,Teams!$B$3:$C$10,2,FALSE)=\"\",\"\",VLOOKUP(D144,Teams!$B$3:$C$10,2,FALSE)))","v":""},null,null,{"$f":"IF(G144=\"\",\"\",YEAR('Gala Name'!$C$9)-YEAR(G144))","v":""},"",null,"",{"$f":"IF(OR(J144=\"\",J144=\"DSQ\"),\"\",IF(OR(J144=J141,J144=J142,J144=J143,J144=J145,J144=J146,J144=J147,J144=J140),\"Enter Placings\",\"\"))","v":""},"","",null,{"$f":"IF(L144<>\"\",L144,IF(OR(J144=\"DNF\",J144=\"DSQ\"),0,IF(N144=\"\",\"\",RANK(N144,N140:N147,1))))","v":""},{"$f":"IF(P144=\"\",0,IF(P144=0,0,VLOOKUP(P:P,Points!B:C,2,FALSE)))","v":0},5,null,{"$f":"IF(P148>4.9,5,\"\")","v":""},{"$f":"IFERROR(IF(T144=\"\",\"\",VLOOKUP(T144,P140:R147,3,FALSE)),\"\")","v":""},null,5,null,{"$f":"IF(D144=\"\",\"\",IFERROR(VLOOKUP(B144,Events!B:L,11,FALSE),Y143))","v":""}," "," ",{"$f":"IFERROR(VLOOKUP(AA:AA,'Masters Convertion'!F:G,2,FALSE),\"\")","v":""},"",{"$f":"IF('Gala Name'!C$4=\"No\",\"\",IFERROR(RANK(N144,N144:N151,1),\"\"))","v":""}]
[{"$f":"IF(J145=\"\",\"\",B140)","v":""},null,null,6,{"$f":"IF(D145=\"\",\"\",IF(VLOOKUP(D145,Teams!$B$3:$C$10,2,FALSE)=\"\",\"\",VLOOKUP(D145,Teams!$B$3:$C$10,2,FALSE)))","v":""},null,null,{"$f":"IF(G145=\"\",\"\",YEAR('Gala Name'!$C$9)-YEAR(G145))","v":""},"",null,"",{"$f":"IF(OR(J145=\"\",J145=\"DSQ\"),\"\",IF(OR(J145=J142,J145=J143,J145=J144,J145=J146,J145=J147,J145=J141,J145=J140),\"Enter Placings\",\"\"))","v":""},"","",null,{"$f":"IF(L145<>\"\",L145,IF(OR(J145=\"DNF\",J145=\"DSQ\"),0,IF(N145=\"\",\"\",RANK(N145,N140:N147,1))))","v":""},{"$f":"IF(P145=\"\",0,IF(P145=0,0,VLOOKUP(P:P,Points!B:C,2,FALSE)))","v":0},6,null,{"$f":"IF(P148>5.9,6,\"\")","v":""},{"$f":"IFERROR(IF(T145=\"\",\"\",VLOOKUP(T145,P140:R147,3,FALSE)),\"\")","v":""},null,6,null,{"$f":"IF(D145=\"\",\"\",IFERROR(VLOOKUP(B145,Events!B:L,11,FALSE),Y144))","v":""},{"$f":"IF(LEFT(C145,1)=\"\",Z144,LEFT(C145,1))","v":" "}," ",{"$f":"IFERROR(VLOOKUP(AA:AA,'Masters Convertion'!F:G,2,FALSE),\"\")","v":""},"",{"$f":"IF('Gala Name'!C$4=\"No\",\"\",IFERROR(RANK(N145,N145:N152,1),\"\"))","v":""}]
[{"$f":"IF(J146=\"\",\"\",B140)","v":""},null,null,7,{"$f":"IF(D146=\"\",\"\",IF(VLOOKUP(D146,Teams!$B$3:$C$10,2,FALSE)=\"\",\"\",VLOOKUP(D146,Teams!$B$3:$C$10,2,FALSE)))","v":""},null,null,{"$f":"IF(G146=\"\",\"\",YEAR('Gala Name'!$C$9)-YEAR(G146))","v":""},"",null,"",{"$f":"IF(OR(J146=\"\",J146=\"DSQ\"),\"\",IF(OR(J146=J143,J146=J144,J146=J145,J146=J147,J146=J140,J146=J141,J146=J142),\"Enter Placings\",\"\"))","v":""},"","",null,{"$f":"IF(L146<>\"\",L146,IF(OR(J146=\"DNF\",J146=\"DSQ\"),0,IF(N146=\"\",\"\",RANK(N146,N140:N147,1))))","v":""},{"$f":"IF(P146=\"\",0,IF(P146=0,0,VLOOKUP(P:P,Points!B:C,2,FALSE)))","v":0},7,null,{"$f":"IF(P148>6.9,7,\"\")","v":""},{"$f":"IFERROR(IF(T146=\"\",\"\",VLOOKUP(T146,P140:R147,3,FALSE)),\"\")","v":""},null,7,null,{"$f":"IF(D146=\"\",\"\",IFERROR(VLOOKUP(B146,Events!B:L,11,FALSE),Y145))","v":""}," "," ",{"$f":"IFERROR(VLOOKUP(AA:AA,'Masters Convertion'!F:G,2,FALSE),\"\")","v":""},"",{"$f":"IF('Gala Name'!C$4=\"No\",\"\",IFERROR(RANK(N146,N146:N153,1),\"\"))","v":""}]
[{"$f":"IF(J147=\"\",\"\",B140)","v":""},null,null,8,{"$f":"IF(D147=\"\",\"\",IF(VLOOKUP(D147,Teams!$B$3:$C$10,2,FALSE)=\"\",\"\",VLOOKUP(D147,Teams!$B$3:$C$10,2,FALSE)))","v":""},null,null,{"$f":"IF(G147=\"\",\"\",YEAR('Gala Name'!$C$9)-YEAR(G147))","v":""},"",null,"",{"$f":"IF(OR(J147=\"\",J147=\"DSQ\"),\"\",IF(OR(J147=J144,J147=J145,J147=J146,J147=J140,J147=J141,J147=J142,J147=J143),\"Enter Placings\",\"\"))","v":""},"","",null,{"$f":"IF(L147<>\"\",L147,IF(OR(J147=\"DNF\",J147=\"DSQ\"),0,IF(N147=\"\",\"\",RANK(N147,N140:N147,1))))","v":""},{"$f":"IF(P147=\"\",0,IF(P147=0,0,VLOOKUP(P:P,Points!B:C,2,FALSE)))","v":0},8,null,{"$f":"IF(P148>7.9,8,\"\")","v":""},{"$f":"IFERROR(IF(T147=\"\",\"\",VLOOKUP(T147,P140:R147,3,FALSE)),\"\")","v":""},null,8,null,{"$f":"IF(D147=\"\",\"\",IFERROR(VLOOKUP(B147,Events!B:L,11,FALSE),Y146))","v":""}," "," ",{"$f":"IFERROR(VLOOKUP(AA:AA,'Masters Convertion'!F:G,2,FALSE),\"\")","v":""},"",{"$f":"IF('Gala Name'!C$4=\"No\",\"\",IFERROR(RANK(N147,N147:N154,1),\"\"))","v":""}]
[null,null,null,null,null,null,null,null,null,null,null,null,"","",null,{"$f":"MAX(P140:P147)","v":0},null,null,null,null,null,null,"*"]
[{"$f":"IF(J149=\"\",\"\",B149)","v":""},{"$f":"B140+1","v":17},{"$f":"IF(D149=1,VLOOKUP(B149,Events!B:H,6,FALSE)&VLOOKUP(B149,Events!B:H,7,FALSE),\"\")","v":"   "},1,{"$f":"IF(D149=\"\",\"\",IF(VLOOKUP(D149,Teams!$B$3:$C$10,2,FALSE)=\"\",\"\",VLOOKUP(D149,Teams!$B$3:$C$10,2,FALSE)))","v":""},null,null,{"$f":"IF(G149=\"\",\"\",YEAR('Gala Name'!$C$9)-YEAR(G149))","v":""},"",null,"",{"$f":"IF(OR(J149=\"\",J149=\"DSQ\"),\"\",IF(OR(J149=J150,J149=J151,J149=J152,J149=J153,J149=J154,J149=J155,J149=J156),\"Enter Placings\",\"\"))","v":""},"","",null,{"$f":"IF(L149<>\"\",L149,IF(OR(J149=\"DNF\",J149=\"DSQ\"),0,IF(N149=\"\",\"\",RANK(N149,N149:N156,1))))","v":""},{"$f":"IF(P149=\"\",0,IF(P149=0,0,VLOOKUP(P:P,Points!B:C,2,FALSE)))","v":0},{"$f":"D149","v":1},null,{"$f":"IF(P157>0.9,1,\"\")","v":""},{"$f":"IFERROR(IF(T149=\"\",\"\",VLOOKUP(T149,P149:R156,3,FALSE)),\"\")","v":""},null,1,null,{"$f":"IF(D149=\"\",\"\",IFERROR(VLOOKUP(B149,Events!B:L,11,FALSE),Y148))","v":""}," "," ",{"$f":"IFERROR(VLOOKUP(AA:AA,'Masters Convertion'!F:G,2,FALSE),\"\")","v":""},"",{"$f":"IF('Gala Name'!C$4=\"No\",\"\",IFERROR(RANK(N149,N149:N156,1),\"\"))","v":""}]
[{"$f":"IF(J150=\"\",\"\",B149)","v":""},null,null,2,{"$f":"IF(D150=\"\",\"\",IF(VLOOKUP(D150,Teams!$B$3:$C$10,2,FALSE)=\"\",\"\",VLOOKUP(D150,Teams!$B$3:$C$10,2,FALSE)))","v":""},null,null,{"$f":"IF(G150=\"\",\"\",YEAR('Gala Name'!$C$9)-YEAR(G150))","v":""},"",null,"",{"$f":"IF(OR(J150=\"\",J150=\"DSQ\"),\"\",IF(OR(J150=J149,J150=J151,J150=J152,J150=J153,J150=J154,J150=J155,J150=J156),\"Enter Placings\",\"\"))","v":""},"","",null,{"$f":"IF(L150<>\"\",L150,IF(OR(J150=\"DNF\",J150=\"DSQ\"),0,IF(N150=\"\",\"\",RANK(N150,N149:N156,1))))","v":""},{"$f":"IF(P150=\"\",0,IF(P150=0,0,VLOOKUP(P:P,Points!B:C,2,FALSE)))","v":0},2,null,{"$f":"IF(P157>1.9,2,\"\")","v":""},{"$f":"IFERROR(IF(T150=\"\",\"\",VLOOKUP(T150,P149:R156,3,FALSE)),\"\")","v":""},null,2,null,{"$f":"IF(D150=\"\",\"\",IFERROR(VLOOKUP(B150,Events!B:L,11,FALSE),Y149))","v":""}," "," ",{"$f":"IFERROR(VLOOKUP(AA:AA,'Masters Convertion'!F:G,2,FALSE),\"\")","v":""},"",{"$f":"IF('Gala Name'!C$4=\"No\",\"\",IFERROR(RANK(N150,N150:N157,1),\"\"))","v":""}]
[{"$f":"IF(J151=\"\",\"\",B149)","v":""},null,null,3,{"$f":"IF(D151=\"\",\"\",IF(VLOOKUP(D151,Teams!$B$3:$C$10,2,FALSE)=\"\",\"\",VLOOKUP(D151,Teams!$B$3:$C$10,2,FALSE)))","v":""},null,null,{"$f":"IF(G151=\"\",\"\",YEAR('Gala Name'!$C$9)-YEAR(G151))","v":""},"",null,"",{"$f":"IF(OR(J151=\"\",J151=\"DSQ\"),\"\",IF(OR(J151=J149,J151=J150,J151=J152,J151=J153,J151=J154,J151=J155,J151=J156),\"Enter Placings\",\"\"))","v":""},"","",null,{"$f":"IF(L151<>\"\",L151,IF(OR(J151=\"DNF\",J151=\"DSQ\"),0,IF(N151=\"\",\"\",RANK(N151,N149:N156,1))))","v":""},{"$f":"IF(P151=\"\",0,IF(P151=0,0,VLOOKUP(P:P,Points!B:C,2,FALSE)))","v":0},3,null,{"$f":"IF(P157>2.9,3,\"\")","v":""},{"$f":"IFERROR(IF(T151=\"\",\"\",VLOOKUP(T151,P149:R156,3,FALSE)),\"\")","v":""},null,3,null,{"$f":"IF(D151=\"\",\"\",IFERROR(VLOOKUP(B151,Events!B:L,11,FALSE),Y150))","v":""}," "," ",{"$f":"IFERROR(VLOOKUP(AA:AA,'Masters Convertion'!F:G,2,FALSE),\"\")","v":""},"",{"$f":"IF('Gala Name'!C$4=\"No\",\"\",IFERROR(RANK(N151,N151:N158,1),\"\"))","v":""}]
[{"$f":"IF(J152=\"\",\"\",B149)","v":""},null,null,4,{"$f":"IF(D152=\"\",\"\",IF(VLOOKUP(D152,Teams!$B$3:$C$10,2,FALSE)=\"\",\"\",VLOOKUP(D152,Teams!$B$3:$C$10,2,FALSE)))","v":""},null,null,{"$f":"IF(G152=\"\",\"\",YEAR('Gala Name'!$C$9)-YEAR(G152))","v":""},"",null,"",{"$f":"IF(OR(J152=\"\",J152=\"DSQ\"),\"\",IF(OR(J152=J149,J152=J150,J152=J151,J152=J153,J152=J154,J152=J155,J152=J156),\"Enter Placings\",\"\"))","v":""},"","",null,{"$f":"IF(L152<>\"\",L152,IF(OR(J152=\"DNF\",J152=\"DSQ\"),0,IF(N152=\"\",\"\",RANK(N152,N149:N156,1))))","v":""},{"$f":"IF(P152=\"\",0,IF(P152=0,0,VLOOKUP(P:P,Points!B:C,2,FALSE)))","v":0},4,null,{"$f":"IF(P157>3.9,4,\"\")","v":""},{"$f":"IFERROR(IF(T152=\"\",\"\",VLOOKUP(T152,P149:R156,3,FALSE)),\"\")","v":""},null,4,null,{"$f":"IF(D152=\"\",\"\",IFERROR(VLOOKUP(B152,Events!B:L,11,FALSE),Y151))","v":""}," "," ",{"$f":"IFERROR(VLOOKUP(AA:AA,'Masters Convertion'!F:G,2,FALSE),\"\")","v":""},"",{"$f":"IF('Gala Name'!C$4=\"No\",\"\",IFERROR(RANK(N152,N152:N159,1),\"\"))","v":""}]
[{"$f":"IF(J153=\"\",\"\",B149)","v":""},null,null,5,{"$f":"IF(D153=\"\",\"\",IF(VLOOKUP(D153,Teams!$B$3:$C$10,2,FALSE)=\"\",\"\",VLOOKUP(D153,Teams!$B$3:$C$10,2,FALSE)))","v":""},null,null,{"$f":"IF(G153=\"\",\"\",YEAR('Gala Name'!$C$9)-YEAR(G153))","v":""},"",null,"",{"$f":"IF(OR(J153=\"\",J153=\"DSQ\"),\"\",IF(OR(J153=J150,J153=J151,J153=J152,J153=J154,J153=J155,J153=J156,J153=J149),\"Enter Placings\",\"\"))","v":""},"","",null,{"$f":"IF(L153<>\"\",L153,IF(OR(J153=\"DNF\",J153=\"DSQ\"),0,IF(N153=\"\",\"\",RANK(N153,N149:N156,1))))","v":""},{"$f":"IF(P153=\"\",0,IF(P153=0,0,VLOOKUP(P:P,Points!B:C,2,FALSE)))","v":0},5,null,{"$f":"IF(P157>4.9,5,\"\")","v":""},{"$f":"IFERROR(IF(T153=\"\",\"\",VLOOKUP(T153,P149:R156,3,FALSE)),\"\")","v":""},null,5,null,{"$f":"IF(D153=\"\",\"\",IFERROR(VLOOKUP(B153,Events!B:L,11,FALSE),Y152))","v":""}," "," ",{"$f":"IFERROR(VLOOKUP(AA:AA,'Masters Convertion'!F:G,2,FALSE),\"\")","v":""},"",{"$f":"IF('Gala Name'!C$4=\"No\",\"\",IFERROR(RANK(N153,N153:N160,1),\"\"))","v":""}]
[{"$f":"IF(J154=\"\",\"\",B149)","v":""},null,null,6,{"$f":"IF(D154=\"\",\"\",IF(VLOOKUP(D154,Teams!$B$3:$C$10,2,FALSE)=\"\",\"\",VLOOKUP(D154,Teams!$B$3:$C$10,2,FALSE)))","v":""},null,null,{"$f":"IF(G154=\"\",\"\",YEAR('Gala Name'!$C$9)-YEAR(G154))","v":""},"",null,{"$f":"IF(J154=\"DSQ\",\"Enter Reason\",\"\")","v":""},{"$f":"IF(OR(J154=\"\",J154=\"DSQ\"),\"\",IF(OR(J154=J151,J154=J152,J154=J153,J154=J155,J154=J156,J154=J150,J154=J149),\"Enter Placings\",\"\"))","v":""},"","",null,{"$f":"IF(L154<>\"\",L154,IF(OR(J154=\"DNF\",J154=\"DSQ\"),0,IF(N154=\"\",\"\",RANK(N154,N149:N156,1))))","v":""},{"$f":"IF(P154=\"\",0,IF(P154=0,0,VLOOKUP(P:P,Points!B:C,2,FALSE)))","v":0},6,null,{"$f":"IF(P157>5.9,6,\"\")","v":""},{"$f":"IFERROR(IF(T154=\"\",\"\",VLOOKUP(T154,P149:R156,3,FALSE)),\"\")","v":""},null,6,null,{"$f":"IF(D154=\"\",\"\",IFERROR(VLOOKUP(B154,Events!B:L,11,FALSE),Y153))","v":""}," "," ",{"$f":"IFERROR(VLOOKUP(AA:AA,'Masters Convertion'!F:G,2,FALSE),\"\")","v":""},"",{"$f":"IF('Gala Name'!C$4=\"No\",\"\",IFERROR(RANK(N154,N154:N161,1),\"\"))","v":""}]
[{"$f":"IF(J155=\"\",\"\",B149)","v":""},null,null,7,{"$f":"IF(D155=\"\",\"\",IF(VLOOKUP(D155,Teams!$B$3:$C$10,2,FALSE)=\"\",\"\",VLOOKUP(D155,Teams!$B$3:$C$10,2,FALSE)))","v":""},null,null,{"$f":"IF(G155=\"\",\"\",YEAR('Gala Name'!$C$9)-YEAR(G155))","v":""},"",null,"",{"$f":"IF(OR(J155=\"\",J155=\"DSQ\"),\"\",IF(OR(J155=J152,J155=J153,J155=J154,J155=J156,J155=J149,J155=J150,J155=J151),\"Enter Placings\",\"\"))","v":""},"","",null,{"$f":"IF(L155<>\"\",L155,IF(OR(J155=\"DNF\",J155=\"DSQ\"),0,IF(N155=\"\",\"\",RANK(N155,N149:N156,1))))","v":""},{"$f":"IF(P155=\"\",0,IF(P155=0,0,VLOOKUP(P:P,Points!B:C,2,FALSE)))","v":0},7,null,{"$f":"IF(P157>6.9,7,\"\")","v":""},{"$f":"IFERROR(IF(T155=\"\",\"\",VLOOKUP(T155,P149:R156,3,FALSE)),\"\")","v":""},null,7,null,{"$f":"IF(D155=\"\",\"\",IFERROR(VLOOKUP(B155,Events!B:L,11,FALSE),Y154))","v":""}," "," ",{"$f":"IFERROR(VLOOKUP(AA:AA,'Masters Convertion'!F:G,2,FALSE),\"\")","v":""},"",{"$f":"IF('Gala Name'!C$4=\"No\",\"\",IFERROR(RANK(N155,N155:N162,1),\"\"))","v":""}]
[{"$f":"IF(J156=\"\",\"\",B149)","v":""},null,null,8,{"$f":"IF(D156=\"\",\"\",IF(VLOOKUP(D156,Teams!$B$3:$C$10,2,FALSE)=\"\",\"\",VLOOKUP(D156,Teams!$B$3:$C$10,2,FALSE)))","v":""},null,null,{"$f":"IF(G156=\"\",\"\",YEAR('Gala Name'!$C$9)-YEAR(G156))","v":""},"",null,"",{"$f":"IF(OR(J156=\"\",J156=\"DSQ\"),\"\",IF(OR(J156=J153,J156=J154,J156=J155,J156=J149,J156=J150,J156=J151,J156=J152),\"Enter Placings\",\"\"))","v":""},"","",null,{"$f":"IF(L156<>\"\",L156,IF(OR(J156=\"DNF\",J156=\"DSQ\"),0,IF(N156=\"\",\"\",RANK(N156,N149:N156,1))))","v":""},{"$f":"IF(P156=\"\",0,IF(P156=0,0,VLOOKUP(P:P,Points!B:C,2,FALSE)))","v":0},8,null,{"$f":"IF(P157>7.9,8,\"\")","v":""},{"$f":"IFERROR(IF(T156=\"\",\"\",VLOOKUP(T156,P149:R156,3,FALSE)),\"\")","v":""},null,8,null,{"$f":"IF(D156=\"\",\"\",IFERROR(VLOOKUP(B156,Events!B:L,11,FALSE),Y155))","v":""}," "," ",{"$f":"IFERROR(VLOOKUP(AA:AA,'Masters Convertion'!F:G,2,FALSE),\"\")","v":""},"",{"$f":"IF('Gala Name'!C$4=\"No\",\"\",IFERROR(RANK(N156,N156:N163,1),\"\"))","v":""}]
[null,null,null,null,null,null,null,null,null,null,null,null,"","",null,{"$f":"MAX(P149:P156)","v":0},null,null,null,null,null,null,"*"]
[{"$f":"IF(J158=\"\",\"\",B158)","v":""},{"$f":"B149+1","v":18},{"$f":"IF(D158=1,VLOOKUP(B158,Events!B:H,6,FALSE)&VLOOKUP(B158,Events!B:H,7,FALSE),\"\")","v":"   "},1,{"$f":"IF(D158=\"\",\"\",IF(VLOOKUP(D158,Teams!$B$3:$C$10,2,FALSE)=\"\",\"\",VLOOKUP(D158,Teams!$B$3:$C$10,2,FALSE)))","v":""},null,null,{"$f":"IF(G158=\"\",\"\",YEAR('Gala Name'!$C$9)-YEAR(G158))","v":""},"",null,"",{"$f":"IF(OR(J158=\"\",J158=\"DSQ\"),\"\",IF(OR(J158=J159,J158=J160,J158=J161,J158=J162,J158=J163,J158=J164,J158=J165),\"Enter Placings\",\"\"))","v":""},"","",null,{"$f":"IF(L158<>\"\",L158,IF(OR(J158=\"DNF\",J158=\"DSQ\"),0,IF(N158=\"\",\"\",RANK(N158,N158:N165,1))))","v":""},{"$f":"IF(P158=\"\",0,IF(P158=0,0,VLOOKUP(P:P,Points!B:C,2,FALSE)))","v":0},{"$f":"D158","v":1},null,{"$f":"IF(P166>0.9,1,\"\")","v":""},{"$f":"IFERROR(IF(T158=\"\",\"\",VLOOKUP(T158,P158:R165,3,FALSE)),\"\")","v":""},null,1,null,{"$f":"IF(D158=\"\",\"\",IFERROR(VLOOKUP(B158,Events!B:L,11,FALSE),Y157))","v":""}," "," ",{"$f":"IFERROR(VLOOKUP(AA:AA,'Masters Convertion'!F:G,2,FALSE),\"\")","v":""},"",{"$f":"IF('Gala Name'!C$4=\"No\",\"\",IFERROR(RANK(N158,N158:N165,1),\"\"))","v":""}]
[{"$f":"IF(J159=\"\",\"\",B158)","v":""},null,null,2,{"$f":"IF(D159=\"\",\"\",IF(VLOOKUP(D159,Teams!$B$3:$C$10,2,FALSE)=\"\",\"\",VLOOKUP(D159,Teams!$B$3:$C$10,2,FALSE)))","v":""},null,null,{"$f":"IF(G159=\"\",\"\",YEAR('Gala Name'!$C$9)-YEAR(G159))","v":""},"",null,"",{"$f":"IF(OR(J159=\"\",J159=\"DSQ\"),\"\",IF(OR(J159=J158,J159=J160,J159=J161,J159=J162,J159=J163,J159=J164,J159=J165),\"Enter Placings\",\"\"))","v":""},"","",null,{"$f":"IF(L159<>\"\",L159,IF(OR(J159=\"DNF\",J159=\"DSQ\"),0,IF(N159=\"\",\"\",RANK(N159,N158:N165,1))))","v":""},{"$f":"IF(P159=\"\",0,IF(P159=0,0,VLOOKUP(P:P,Points!B:C,2,FALSE)))","v":0},2,null,{"$f":"IF(P166>1.9,2,\"\")","v":""},{"$f":"IFERROR(IF(T159=\"\",\"\",VLOOKUP(T159,P158:R165,3,FALSE)),\"\")","v":""},null,2,null,{"$f":"IF(D159=\"\",\"\",IFERROR(VLOOKUP(B159,Events!B:L,11,FALSE),Y158))","v":""}," "," ",{"$f":"IFERROR(VLOOKUP(AA:AA,'Masters Convertion'!F:G,2,FALSE),\"\")","v":""},"",{"$f":"IF('Gala Name'!C$4=\"No\",\"\",IFERROR(RANK(N159,N159:N166,1),\"\"))","v":""}]
[{"$f":"IF(J160=\"\",\"\",B158)","v":""},null,null,3,{"$f":"IF(D160=\"\",\"\",IF(VLOOKUP(D160,Teams!$B$3:$C$10,2,FALSE)=\"\",\"\",VLOOKUP(D160,Teams!$B$3:$C$10,2,FALSE)))","v":""},null,null,{"$f":"IF(G160=\"\",\"\",YEAR('Gala Name'!$C$9)-YEAR(G160))","v":""},"",null,"",{"$f":"IF(OR(J160=\"\",J160=\"DSQ\"),\"\",IF(OR(J160=J158,J160=J159,J160=J161,J160=J162,J160=J163,J160=J164,J160=J165),\"Enter Placings\",\"\"))","v":""},"","",null,{"$f":"IF(L160<>\"\",L160,IF(OR(J160=\"DNF\",J160=\"DSQ\"),0,IF(N160=\"\",\"\",RANK(N160,N158:N165,1))))","v":""},{"$f":"IF(P160=\"\",0,IF(P160=0,0,VLOOKUP(P:P,Points!B:C,2,FALSE)))","v":0},3,null,{"$f":"IF(P166>2.9,3,\"\")","v":""},{"$f":"IFERROR(IF(T160=\"\",\"\",VLOOKUP(T160,P158:R165,3,FALSE)),\"\")","v":""},null,3,null,{"$f":"IF(D160=\"\",\"\",IFERROR(VLOOKUP(B160,Events!B:L,11,FALSE),Y159))","v":""}," "," ",{"$f":"IFERROR(VLOOKUP(AA:AA,'Masters Convertion'!F:G,2,FALSE),\"\")","v":""},"",{"$f":"IF('Gala Name'!C$4=\"No\",\"\",IFERROR(RANK(N160,N160:N167,1),\"\"))","v":""}]
[{"$f":"IF(J161=\"\",\"\",B158)","v":""},null,null,4,{"$f":"IF(D161=\"\",\"\",IF(VLOOKUP(D161,Teams!$B$3:$C$10,2,FALSE)=\"\",\"\",VLOOKUP(D161,Teams!$B$3:$C$10,2,FALSE)))","v":""},null,null,{"$f":"IF(G161=\"\",\"\",YEAR('Gala Name'!$C$9)-YEAR(G161))","v":""},"",null,"",{"$f":"IF(OR(J161=\"\",J161=\"DSQ\"),\"\",IF(OR(J161=J158,J161=J159,J161=J160,J161=J162,J161=J163,J161=J164,J161=J165),\"Enter Placings\",\"\"))","v":""},"","",null,{"$f":"IF(L161<>\"\",L161,IF(OR(J161=\"DNF\",J161=\"DSQ\"),0,IF(N161=\"\",\"\",RANK(N161,N158:N165,1))))","v":""},{"$f":"IF(P161=\"\",0,IF(P161=0,0,VLOOKUP(P:P,Points!B:C,2,FALSE)))","v":0},4,null,{"$f":"IF(P166>3.9,4,\"\")","v":""},{"$f":"IFERROR(IF(T161=\"\",\"\",VLOOKUP(T161,P158:R165,3,FALSE)),\"\")","v":""},null,4,null,{"$f":"IF(D161=\"\",\"\",IFERROR(VLOOKUP(B161,Events!B:L,11,FALSE),Y160))","v":""}," "," ",{"$f":"IFERROR(VLOOKUP(AA:AA,'Masters Convertion'!F:G,2,FALSE),\"\")","v":""},"",{"$f":"IF('Gala Name'!C$4=\"No\",\"\",IFERROR(RANK(N161,N161:N168,1),\"\"))","v":""}]
[{"$f":"IF(J162=\"\",\"\",B158)","v":""},null,null,5,{"$f":"IF(D162=\"\",\"\",IF(VLOOKUP(D162,Teams!$B$3:$C$10,2,FALSE)=\"\",\"\",VLOOKUP(D162,Teams!$B$3:$C$10,2,FALSE)))","v":""},null,null,{"$f":"IF(G162=\"\",\"\",YEAR('Gala Name'!$C$9)-YEAR(G162))","v":""},"",null,"",{"$f":"IF(OR(J162=\"\",J162=\"DSQ\"),\"\",IF(OR(J162=J159,J162=J160,J162=J161,J162=J163,J162=J164,J162=J165,J162=J158),\"Enter Placings\",\"\"))","v":""},"","",null,{"$f":"IF(L162<>\"\",L162,IF(OR(J162=\"DNF\",J162=\"DSQ\"),0,IF(N162=\"\",\"\",RANK(N162,N158:N165,1))))","v":""},{"$f":"IF(P162=\"\",0,IF(P162=0,0,VLOOKUP(P:P,Points!B:C,2,FALSE)))","v":0},5,null,{"$f":"IF(P166>4.9,5,\"\")","v":""},{"$f":"IFERROR(IF(T162=\"\",\"\",VLOOKUP(T162,P158:R165,3,FALSE)),\"\")","v":""},null,5,null,{"$f":"IF(D162=\"\",\"\",IFERROR(VLOOKUP(B162,Events!B:L,11,FALSE),Y161))","v":""}," "," ",{"$f":"IFERROR(VLOOKUP(AA:AA,'Masters Convertion'!F:G,2,FALSE),\"\")","v":""},"",{"$f":"IF('Gala Name'!C$4=\"No\",\"\",IFERROR(RANK(N162,N162:N169,1),\"\"))","v":""}]
[{"$f":"IF(J163=\"\",\"\",B158)","v":""},null,null,6,{"$f":"IF(D163=\"\",\"\",IF(VLOOKUP(D163,Teams!$B$3:$C$10,2,FALSE)=\"\",\"\",VLOOKUP(D163,Teams!$B$3:$C$10,2,FALSE)))","v":""},null,null,{"$f":"IF(G163=\"\",\"\",YEAR('Gala Name'!$C$9)-YEAR(G163))","v":""},"",null,"",{"$f":"IF(OR(J163=\"\",J163=\"DSQ\"),\"\",IF(OR(J163=J160,J163=J161,J163=J162,J163=J164,J163=J165,J163=J159,J163=J158),\"Enter Placings\",\"\"))","v":""},"","",null,{"$f":"IF(L163<>\"\",L163,IF(OR(J163=\"DNF\",J163=\"DSQ\"),0,IF(N163=\"\",\"\",RANK(N163,N158:N165,1))))","v":""},{"$f":"IF(P163=\"\",0,IF(P163=0,0,VLOOKUP(P:P,Points!B:C,2,FALSE)))","v":0},6,null,{"$f":"IF(P166>5.9,6,\"\")","v":""},{"$f":"IFERROR(IF(T163=\"\",\"\",VLOOKUP(T163,P158:R165,3,FALSE)),\"\")","v":""},null,6,null,{"$f":"IF(D163=\"\",\"\",IFERROR(VLOOKUP(B163,Events!B:L,11,FALSE),Y162))","v":""}," "," ",{"$f":"IFERROR(VLOOKUP(AA:AA,'Masters Convertion'!F:G,2,FALSE),\"\")","v":""},"",{"$f":"IF('Gala Name'!C$4=\"No\",\"\",IFERROR(RANK(N163,N163:N170,1),\"\"))","v":""}]
[{"$f":"IF(J164=\"\",\"\",B158)","v":""},null,null,7,{"$f":"IF(D164=\"\",\"\",IF(VLOOKUP(D164,Teams!$B$3:$C$10,2,FALSE)=\"\",\"\",VLOOKUP(D164,Teams!$B$3:$C$10,2,FALSE)))","v":""},null,null,{"$f":"IF(G164=\"\",\"\",YEAR('Gala Name'!$C$9)-YEAR(G164))","v":""},"",null,"",{"$f":"IF(OR(J164=\"\",J164=\"DSQ\"),\"\",IF(OR(J164=J161,J164=J162,J164=J163,J164=J165,J164=J158,J164=J159,J164=J160),\"Enter Placings\",\"\"))","v":""},"","",null,{"$f":"IF(L164<>\"\",L164,IF(OR(J164=\"DNF\",J164=\"DSQ\"),0,IF(N164=\"\",\"\",RANK(N164,N158:N165,1))))","v":""},{"$f":"IF(P164=\"\",0,IF(P164=0,0,VLOOKUP(P:P,Points!B:C,2,FALSE)))","v":0},7,null,{"$f":"IF(P166>6.9,7,\"\")","v":""},{"$f":"IFERROR(IF(T164=\"\",\"\",VLOOKUP(T164,P158:R165,3,FALSE)),\"\")","v":""},null,7,null,{"$f":"IF(D164=\"\",\"\",IFERROR(VLOOKUP(B164,Events!B:L,11,FALSE),Y163))","v":""}," "," ",{"$f":"IFERROR(VLOOKUP(AA:AA,'Masters Convertion'!F:G,2,FALSE),\"\")","v":""},"",{"$f":"IF('Gala Name'!C$4=\"No\",\"\",IFERROR(RANK(N164,N164:N171,1),\"\"))","v":""}]
[{"$f":"IF(J165=\"\",\"\",B158)","v":""},null,null,8,{"$f":"IF(D165=\"\",\"\",IF(VLOOKUP(D165,Teams!$B$3:$C$10,2,FALSE)=\"\",\"\",VLOOKUP(D165,Teams!$B$3:$C$10,2,FALSE)))","v":""},null,null,{"$f":"IF(G165=\"\",\"\",YEAR('Gala Name'!$C$9)-YEAR(G165))","v":""},"",null,"",{"$f":"IF(OR(J165=\"\",J165=\"DSQ\"),\"\",IF(OR(J165=J162,J165=J163,J165=J164,J165=J158,J165=J159,J165=J160,J165=J161),\"Enter Placings\",\"\"))","v":""},"","",null,{"$f":"IF(L165<>\"\",L165,IF(OR(J165=\"DNF\",J165=\"DSQ\"),0,IF(N165=\"\",\"\",RANK(N165,N158:N165,1))))","v":""},{"$f":"IF(P165=\"\",0,IF(P165=0,0,VLOOKUP(P:P,Points!B:C,2,FALSE)))","v":0},8,null,{"$f":"IF(P166>7.9,8,\"\")","v":""},{"$f":"IFERROR(IF(T165=\"\",\"\",VLOOKUP(T165,P158:R165,3,FALSE)),\"\")","v":""},null,8,null,{"$f":"IF(D165=\"\",\"\",IFERROR(VLOOKUP(B165,Events!B:L,11,FALSE),Y164))","v":""}," "," ",{"$f":"IFERROR(VLOOKUP(AA:AA,'Masters Convertion'!F:G,2,FALSE),\"\")","v":""},"",{"$f":"IF('Gala Name'!C$4=\"No\",\"\",IFERROR(RANK(N165,N165:N172,1),\"\"))","v":""}]
[null,null,null,null,null,null,null,null,null,null,null,null,"","",null,{"$f":"MAX(P158:P165)","v":0},null,null,null,null,null,null,"*"]
[{"$f":"IF(J167=\"\",\"\",B167)","v":""},{"$f":"B158+1","v":19},{"$f":"IF(D167=1,VLOOKUP(B167,Events!B:H,6,FALSE)&VLOOKUP(B167,Events!B:H,7,FALSE),\"\")","v":"   "},1,{"$f":"IF(D167=\"\",\"\",IF(VLOOKUP(D167,Teams!$B$3:$C$10,2,FALSE)=\"\",\"\",VLOOKUP(D167,Teams!$B$3:$C$10,2,FALSE)))","v":""},null,null,{"$f":"IF(G167=\"\",\"\",YEAR('Gala Name'!$C$9)-YEAR(G167))","v":""},"",null,"",{"$f":"IF(OR(J167=\"\",J167=\"DSQ\"),\"\",IF(OR(J167=J168,J167=J169,J167=J170,J167=J171,J167=J172,J167=J173,J167=J174),\"Enter Placings\",\"\"))","v":""},"","",null,{"$f":"IF(L167<>\"\",L167,IF(OR(J167=\"DNF\",J167=\"DSQ\"),0,IF(N167=\"\",\"\",RANK(N167,N167:N174,1))))","v":""},{"$f":"IF(P167=\"\",0,IF(P167=0,0,VLOOKUP(P:P,Points!B:C,2,FALSE)))","v":0},{"$f":"D167","v":1},null,{"$f":"IF(P175>0.9,1,\"\")","v":""},{"$f":"IFERROR(IF(T167=\"\",\"\",VLOOKUP(T167,P167:R174,3,FALSE)),\"\")","v":""},null,1,null,{"$f":"IF(D167=\"\",\"\",IFERROR(VLOOKUP(B167,Events!B:L,11,FALSE),Y166))","v":""}," "," ",{"$f":"IFERROR(VLOOKUP(AA:AA,'Masters Convertion'!F:G,2,FALSE),\"\")","v":""},"",{"$f":"IF('Gala Name'!C$4=\"No\",\"\",IFERROR(RANK(N167,N167:N174,1),\"\"))","v":""}]
[{"$f":"IF(J168=\"\",\"\",B167)","v":""},null,null,2,{"$f":"IF(D168=\"\",\"\",IF(VLOOKUP(D168,Teams!$B$3:$C$10,2,FALSE)=\"\",\"\",VLOOKUP(D168,Teams!$B$3:$C$10,2,FALSE)))","v":""},null,null,{"$f":"IF(G168=\"\",\"\",YEAR('Gala Name'!$C$9)-YEAR(G168))","v":""},"",null,"",{"$f":"IF(OR(J168=\"\",J168=\"DSQ\"),\"\",IF(OR(J168=J167,J168=J169,J168=J170,J168=J171,J168=J172,J168=J173,J168=J174),\"Enter Placings\",\"\"))","v":""},"","",null,{"$f":"IF(L168<>\"\",L168,IF(OR(J168=\"DNF\",J168=\"DSQ\"),0,IF(N168=\"\",\"\",RANK(N168,N167:N174,1))))","v":""},{"$f":"IF(P168=\"\",0,IF(P168=0,0,VLOOKUP(P:P,Points!B:C,2,FALSE)))","v":0},2,null,{"$f":"IF(P175>1.9,2,\"\")","v":""},{"$f":"IFERROR(IF(T168=\"\",\"\",VLOOKUP(T168,P167:R174,3,FALSE)),\"\")","v":""},null,2,null,{"$f":"IF(D168=\"\",\"\",IFERROR(VLOOKUP(B168,Events!B:L,11,FALSE),Y167))","v":""}," "," ",{"$f":"IFERROR(VLOOKUP(AA:AA,'Masters Convertion'!F:G,2,FALSE),\"\")","v":""},"",{"$f":"IF('Gala Name'!C$4=\"No\",\"\",IFERROR(RANK(N168,N168:N175,1),\"\"))","v":""}]
[{"$f":"IF(J169=\"\",\"\",B167)","v":""},null,null,3,{"$f":"IF(D169=\"\",\"\",IF(VLOOKUP(D169,Teams!$B$3:$C$10,2,FALSE)=\"\",\"\",VLOOKUP(D169,Teams!$B$3:$C$10,2,FALSE)))","v":""},null,null,{"$f":"IF(G169=\"\",\"\",YEAR('Gala Name'!$C$9)-YEAR(G169))","v":""},"",null,"",{"$f":"IF(OR(J169=\"\",J169=\"DSQ\"),\"\",IF(OR(J169=J167,J169=J168,J169=J170,J169=J171,J169=J172,J169=J173,J169=J174),\"Enter Placings\",\"\"))","v":""},"","",null,{"$f":"IF(L169<>\"\",L169,IF(OR(J169=\"DNF\",J169=\"DSQ\"),0,IF(N169=\"\",\"\",RANK(N169,N167:N174,1))))","v":""},{"$f":"IF(P169=\"\",0,IF(P169=0,0,VLOOKUP(P:P,Points!B:C,2,FALSE)))","v":0},3,null,{"$f":"IF(P175>2.9,3,\"\")","v":""},{"$f":"IFERROR(IF(T169=\"\",\"\",VLOOKUP(T169,P167:R174,3,FALSE)),\"\")","v":""},null,3,null,{"$f":"IF(D169=\"\",\"\",IFERROR(VLOOKUP(B169,Events!B:L,11,FALSE),Y168))","v":""}," "," ",{"$f":"IFERROR(VLOOKUP(AA:AA,'Masters Convertion'!F:G,2,FALSE),\"\")","v":""},"",{"$f":"IF('Gala Name'!C$4=\"No\",\"\",IFERROR(RANK(N169,N169:N176,1),\"\"))","v":""}]
[{"$f":"IF(J170=\"\",\"\",B167)","v":""},null,null,4,{"$f":"IF(D170=\"\",\"\",IF(VLOOKUP(D170,Teams!$B$3:$C$10,2,FALSE)=\"\",\"\",VLOOKUP(D170,Teams!$B$3:$C$10,2,FALSE)))","v":""},null,null,{"$f":"IF(G170=\"\",\"\",YEAR('Gala Name'!$C$9)-YEAR(G170))","v":""},"",null,"",{"$f":"IF(OR(J170=\"\",J170=\"DSQ\"),\"\",IF(OR(J170=J167,J170=J168,J170=J169,J170=J171,J170=J172,J170=J173,J170=J174),\"Enter Placings\",\"\"))","v":""},"","",null,{"$f":"IF(L170<>\"\",L170,IF(OR(J170=\"DNF\",J170=\"DSQ\"),0,IF(N170=\"\",\"\",RANK(N170,N167:N174,1))))","v":""},{"$f":"IF(P170=\"\",0,IF(P170=0,0,VLOOKUP(P:P,Points!B:C,2,FALSE)))","v":0},4,null,{"$f":"IF(P175>3.9,4,\"\")","v":""},{"$f":"IFERROR(IF(T170=\"\",\"\",VLOOKUP(T170,P167:R174,3,FALSE)),\"\")","v":""},null,4,null,{"$f":"IF(D170=\"\",\"\",IFERROR(VLOOKUP(B170,Events!B:L,11,FALSE),Y169))","v":""}," "," ",{"$f":"IFERROR(VLOOKUP(AA:AA,'Masters Convertion'!F:G,2,FALSE),\"\")","v":""},"",{"$f":"IF('Gala Name'!C$4=\"No\",\"\",IFERROR(RANK(N170,N170:N177,1),\"\"))","v":""}]
[{"$f":"IF(J171=\"\",\"\",B167)","v":""},null,null,5,{"$f":"IF(D171=\"\",\"\",IF(VLOOKUP(D171,Teams!$B$3:$C$10,2,FALSE)=\"\",\"\",VLOOKUP(D171,Teams!$B$3:$C$10,2,FALSE)))","v":""},null,null,{"$f":"IF(G171=\"\",\"\",YEAR('Gala Name'!$C$9)-YEAR(G171))","v":""},"",null,"",{"$f":"IF(OR(J171=\"\",J171=\"DSQ\"),\"\",IF(OR(J171=J168,J171=J169,J171=J170,J171=J172,J171=J173,J171=J174,J171=J167),\"Enter Placings\",\"\"))","v":""},"","",null,{"$f":"IF(L171<>\"\",L171,IF(OR(J171=\"DNF\",J171=\"DSQ\"),0,IF(N171=\"\",\"\",RANK(N171,N167:N174,1))))","v":""},{"$f":"IF(P171=\"\",0,IF(P171=0,0,VLOOKUP(P:P,Points!B:C,2,FALSE)))","v":0},5,null,{"$f":"IF(P175>4.9,5,\"\")","v":""},{"$f":"IFERROR(IF(T171=\"\",\"\",VLOOKUP(T171,P167:R174,3,FALSE)),\"\")","v":""},null,5,null,{"$f":"IF(D171=\"\",\"\",IFERROR(VLOOKUP(B171,Events!B:L,11,FALSE),Y170))","v":""}," "," ",{"$f":"IFERROR(VLOOKUP(AA:AA,'Masters Convertion'!F:G,2,FALSE),\"\")","v":""},"",{"$f":"IF('Gala Name'!C$4=\"No\",\"\",IFERROR(RANK(N171,N171:N178,1),\"\"))","v":""}]
[{"$f":"IF(J172=\"\",\"\",B167)","v":""},null,null,6,{"$f":"IF(D172=\"\",\"\",IF(VLOOKUP(D172,Teams!$B$3:$C$10,2,FALSE)=\"\",\"\",VLOOKUP(D172,Teams!$B$3:$C$10,2,FALSE)))","v":""},null,null,{"$f":"IF(G172=\"\",\"\",YEAR('Gala Name'!$C$9)-YEAR(G172))","v":""},"",null,"",{"$f":"IF(OR(J172=\"\",J172=\"DSQ\"),\"\",IF(OR(J172=J169,J172=J170,J172=J171,J172=J173,J172=J174,J172=J168,J172=J167),\"Enter Placings\",\"\"))","v":""},"","",null,{"$f":"IF(L172<>\"\",L172,IF(OR(J172=\"DNF\",J172=\"DSQ\"),0,IF(N172=\"\",\"\",RANK(N172,N167:N174,1))))","v":""},{"$f":"IF(P172=\"\",0,IF(P172=0,0,VLOOKUP(P:P,Points!B:C,2,FALSE)))","v":0},6,null,{"$f":"IF(P175>5.9,6,\"\")","v":""},{"$f":"IFERROR(IF(T172=\"\",\"\",VLOOKUP(T172,P167:R174,3,FALSE)),\"\")","v":""},null,6,null,{"$f":"IF(D172=\"\",\"\",IFERROR(VLOOKUP(B172,Events!B:L,11,FALSE),Y171))","v":""}," "," ",{"$f":"IFERROR(VLOOKUP(AA:AA,'Masters Convertion'!F:G,2,FALSE),\"\")","v":""},"",{"$f":"IF('Gala Name'!C$4=\"No\",\"\",IFERROR(RANK(N172,N172:N179,1),\"\"))","v":""}]
[{"$f":"IF(J173=\"\",\"\",B167)","v":""},null,null,7,{"$f":"IF(D173=\"\",\"\",IF(VLOOKUP(D173,Teams!$B$3:$C$10,2,FALSE)=\"\",\"\",VLOOKUP(D173,Teams!$B$3:$C$10,2,FALSE)))","v":""},null,null,{"$f":"IF(G173=\"\",\"\",YEAR('Gala Name'!$C$9)-YEAR(G173))","v":""},"",null,"",{"$f":"IF(OR(J173=\"\",J173=\"DSQ\"),\"\",IF(OR(J173=J170,J173=J171,J173=J172,J173=J174,J173=J167,J173=J168,J173=J169),\"Enter Placings\",\"\"))","v":""},"","",null,{"$f":"IF(L173<>\"\",L173,IF(OR(J173=\"DNF\",J173=\"DSQ\"),0,IF(N173=\"\",\"\",RANK(N173,N167:N174,1))))","v":""},{"$f":"IF(P173=\"\",0,IF(P173=0,0,VLOOKUP(P:P,Points!B:C,2,FALSE)))","v":0},7,null,{"$f":"IF(P175>6.9,7,\"\")","v":""},{"$f":"IFERROR(IF(T173=\"\",\"\",VLOOKUP(T173,P167:R174,3,FALSE)),\"\")","v":""},null,7,null,{"$f":"IF(D173=\"\",\"\",IFERROR(VLOOKUP(B173,Events!B:L,11,FALSE),Y172))","v":""}," "," ",{"$f":"IFERROR(VLOOKUP(AA:AA,'Masters Convertion'!F:G,2,FALSE),\"\")","v":""},"",{"$f":"IF('Gala Name'!C$4=\"No\",\"\",IFERROR(RANK(N173,N173:N180,1),\"\"))","v":""}]
[{"$f":"IF(J174=\"\",\"\",B167)","v":""},null,null,8,{"$f":"IF(D174=\"\",\"\",IF(VLOOKUP(D174,Teams!$B$3:$C$10,2,FALSE)=\"\",\"\",VLOOKUP(D174,Teams!$B$3:$C$10,2,FALSE)))","v":""},null,null,{"$f":"IF(G174=\"\",\"\",YEAR('Gala Name'!$C$9)-YEAR(G174))","v":""},"",null,"",{"$f":"IF(OR(J174=\"\",J174=\"DSQ\"),\"\",IF(OR(J174=J171,J174=J172,J174=J173,J174=J167,J174=J168,J174=J169,J174=J170),\"Enter Placings\",\"\"))","v":""},"","",null,{"$f":"IF(L174<>\"\",L174,IF(OR(J174=\"DNF\",J174=\"DSQ\"),0,IF(N174=\"\",\"\",RANK(N174,N167:N174,1))))","v":""},{"$f":"IF(P174=\"\",0,IF(P174=0,0,VLOOKUP(P:P,Points!B:C,2,FALSE)))","v":0},8,null,{"$f":"IF(P175>7.9,8,\"\")","v":""},{"$f":"IFERROR(IF(T174=\"\",\"\",VLOOKUP(T174,P167:R174,3,FALSE)),\"\")","v":""},null,8,null,{"$f":"IF(D174=\"\",\"\",IFERROR(VLOOKUP(B174,Events!B:L,11,FALSE),Y173))","v":""}," "," ",{"$f":"IFERROR(VLOOKUP(AA:AA,'Masters Convertion'!F:G,2,FALSE),\"\")","v":""},"",{"$f":"IF('Gala Name'!C$4=\"No\",\"\",IFERROR(RANK(N174,N174:N181,1),\"\"))","v":""}]
[null,null,null,null,null,null,null,null,null,null,null,null,"","",null,{"$f":"MAX(P167:P174)","v":0},null,null,null,null,null,null,"*"]
[{"$f":"IF(J176=\"\",\"\",B176)","v":""},{"$f":"B167+1","v":20},{"$f":"IF(D176=1,VLOOKUP(B176,Events!B:H,6,FALSE)&VLOOKUP(B176,Events!B:H,7,FALSE),\"\")","v":"   "},1,{"$f":"IF(D176=\"\",\"\",IF(VLOOKUP(D176,Teams!$B$3:$C$10,2,FALSE)=\"\",\"\",VLOOKUP(D176,Teams!$B$3:$C$10,2,FALSE)))","v":""},null,null,{"$f":"IF(G176=\"\",\"\",YEAR('Gala Name'!$C$9)-YEAR(G176))","v":""},"",null,"",{"$f":"IF(OR(J176=\"\",J176=\"DSQ\"),\"\",IF(OR(J176=J177,J176=J178,J176=J179,J176=J180,J176=J181,J176=J182,J176=J183),\"Enter Placings\",\"\"))","v":""},"","",null,{"$f":"IF(L176<>\"\",L176,IF(OR(J176=\"DNF\",J176=\"DSQ\"),0,IF(N176=\"\",\"\",RANK(N176,N176:N183,1))))","v":""},{"$f":"IF(P176=\"\",0,IF(P176=0,0,VLOOKUP(P:P,Points!B:C,2,FALSE)))","v":0},{"$f":"D176","v":1},null,{"$f":"IF(P184>0.9,1,\"\")","v":""},{"$f":"IFERROR(IF(T176=\"\",\"\",VLOOKUP(T176,P176:R183,3,FALSE)),\"\")","v":""},null,1,null,{"$f":"IF(D176=\"\",\"\",IFERROR(VLOOKUP(B176,Events!B:L,11,FALSE),Y175))","v":""}," "," ",{"$f":"IFERROR(VLOOKUP(AA:AA,'Masters Convertion'!F:G,2,FALSE),\"\")","v":""},"",{"$f":"IF('Gala Name'!C$4=\"No\",\"\",IFERROR(RANK(N176,N176:N183,1),\"\"))","v":""}]
[{"$f":"IF(J177=\"\",\"\",B176)","v":""},null,null,2,{"$f":"IF(D177=\"\",\"\",IF(VLOOKUP(D177,Teams!$B$3:$C$10,2,FALSE)=\"\",\"\",VLOOKUP(D177,Teams!$B$3:$C$10,2,FALSE)))","v":""},null,null,{"$f":"IF(G177=\"\",\"\",YEAR('Gala Name'!$C$9)-YEAR(G177))","v":""},"",null,"",{"$f":"IF(OR(J177=\"\",J177=\"DSQ\"),\"\",IF(OR(J177=J176,J177=J178,J177=J179,J177=J180,J177=J181,J177=J182,J177=J183),\"Enter Placings\",\"\"))","v":""},"","",null,{"$f":"IF(L177<>\"\",L177,IF(OR(J177=\"DNF\",J177=\"DSQ\"),0,IF(N177=\"\",\"\",RANK(N177,N176:N183,1))))","v":""},{"$f":"IF(P177=\"\",0,IF(P177=0,0,VLOOKUP(P:P,Points!B:C,2,FALSE)))","v":0},2,null,{"$f":"IF(P184>1.9,2,\"\")","v":""},{"$f":"IFERROR(IF(T177=\"\",\"\",VLOOKUP(T177,P176:R183,3,FALSE)),\"\")","v":""},null,2,null,{"$f":"IF(D177=\"\",\"\",IFERROR(VLOOKUP(B177,Events!B:L,11,FALSE),Y176))","v":""}," "," ",{"$f":"IFERROR(VLOOKUP(AA:AA,'Masters Convertion'!F:G,2,FALSE),\"\")","v":""},"",{"$f":"IF('Gala Name'!C$4=\"No\",\"\",IFERROR(RANK(N177,N177:N184,1),\"\"))","v":""}]
[{"$f":"IF(J178=\"\",\"\",B176)","v":""},null,null,3,{"$f":"IF(D178=\"\",\"\",IF(VLOOKUP(D178,Teams!$B$3:$C$10,2,FALSE)=\"\",\"\",VLOOKUP(D178,Teams!$B$3:$C$10,2,FALSE)))","v":""},null,null,{"$f":"IF(G178=\"\",\"\",YEAR('Gala Name'!$C$9)-YEAR(G178))","v":""},"",null,"",{"$f":"IF(OR(J178=\"\",J178=\"DSQ\"),\"\",IF(OR(J178=J176,J178=J177,J178=J179,J178=J180,J178=J181,J178=J182,J178=J183),\"Enter Placings\",\"\"))","v":""},"","",null,{"$f":"IF(L178<>\"\",L178,IF(OR(J178=\"DNF\",J178=\"DSQ\"),0,IF(N178=\"\",\"\",RANK(N178,N176:N183,1))))","v":""},{"$f":"IF(P178=\"\",0,IF(P178=0,0,VLOOKUP(P:P,Points!B:C,2,FALSE)))","v":0},3,null,{"$f":"IF(P184>2.9,3,\"\")","v":""},{"$f":"IFERROR(IF(T178=\"\",\"\",VLOOKUP(T178,P176:R183,3,FALSE)),\"\")","v":""},null,3,null,{"$f":"IF(D178=\"\",\"\",IFERROR(VLOOKUP(B178,Events!B:L,11,FALSE),Y177))","v":""}," "," ",{"$f":"IFERROR(VLOOKUP(AA:AA,'Masters Convertion'!F:G,2,FALSE),\"\")","v":""},"",{"$f":"IF('Gala Name'!C$4=\"No\",\"\",IFERROR(RANK(N178,N178:N185,1),\"\"))","v":""}]
[{"$f":"IF(J179=\"\",\"\",B176)","v":""},null,null,4,{"$f":"IF(D179=\"\",\"\",IF(VLOOKUP(D179,Teams!$B$3:$C$10,2,FALSE)=\"\",\"\",VLOOKUP(D179,Teams!$B$3:$C$10,2,FALSE)))","v":""},null,null,{"$f":"IF(G179=\"\",\"\",YEAR('Gala Name'!$C$9)-YEAR(G179))","v":""},"",null,"",{"$f":"IF(OR(J179=\"\",J179=\"DSQ\"),\"\",IF(OR(J179=J176,J179=J177,J179=J178,J179=J180,J179=J181,J179=J182,J179=J183),\"Enter Placings\",\"\"))","v":""},"","",null,{"$f":"IF(L179<>\"\",L179,IF(OR(J179=\"DNF\",J179=\"DSQ\"),0,IF(N179=\"\",\"\",RANK(N179,N176:N183,1))))","v":""},{"$f":"IF(P179=\"\",0,IF(P179=0,0,VLOOKUP(P:P,Points!B:C,2,FALSE)))","v":0},4,null,{"$f":"IF(P184>3.9,4,\"\")","v":""},{"$f":"IFERROR(IF(T179=\"\",\"\",VLOOKUP(T179,P176:R183,3,FALSE)),\"\")","v":""},null,4,null,{"$f":"IF(D179=\"\",\"\",IFERROR(VLOOKUP(B179,Events!B:L,11,FALSE),Y178))","v":""}," "," ",{"$f":"IFERROR(VLOOKUP(AA:AA,'Masters Convertion'!F:G,2,FALSE),\"\")","v":""},"",{"$f":"IF('Gala Name'!C$4=\"No\",\"\",IFERROR(RANK(N179,N179:N186,1),\"\"))","v":""}]
[{"$f":"IF(J180=\"\",\"\",B176)","v":""},null,null,5,{"$f":"IF(D180=\"\",\"\",IF(VLOOKUP(D180,Teams!$B$3:$C$10,2,FALSE)=\"\",\"\",VLOOKUP(D180,Teams!$B$3:$C$10,2,FALSE)))","v":""},null,null,{"$f":"IF(G180=\"\",\"\",YEAR('Gala Name'!$C$9)-YEAR(G180))","v":""},"",null,"",{"$f":"IF(OR(J180=\"\",J180=\"DSQ\"),\"\",IF(OR(J180=J177,J180=J178,J180=J179,J180=J181,J180=J182,J180=J183,J180=J176),\"Enter Placings\",\"\"))","v":""},"","",null,{"$f":"IF(L180<>\"\",L180,IF(OR(J180=\"DNF\",J180=\"DSQ\"),0,IF(N180=\"\",\"\",RANK(N180,N176:N183,1))))","v":""},{"$f":"IF(P180=\"\",0,IF(P180=0,0,VLOOKUP(P:P,Points!B:C,2,FALSE)))","v":0},5,null,{"$f":"IF(P184>4.9,5,\"\")","v":""},{"$f":"IFERROR(IF(T180=\"\",\"\",VLOOKUP(T180,P176:R183,3,FALSE)),\"\")","v":""},null,5,null,{"$f":"IF(D180=\"\",\"\",IFERROR(VLOOKUP(B180,Events!B:L,11,FALSE),Y179))","v":""}," "," ",{"$f":"IFERROR(VLOOKUP(AA:AA,'Masters Convertion'!F:G,2,FALSE),\"\")","v":""},"",{"$f":"IF('Gala Name'!C$4=\"No\",\"\",IFERROR(RANK(N180,N180:N187,1),\"\"))","v":""}]
[{"$f":"IF(J181=\"\",\"\",B176)","v":""},null,null,6,{"$f":"IF(D181=\"\",\"\",IF(VLOOKUP(D181,Teams!$B$3:$C$10,2,FALSE)=\"\",\"\",VLOOKUP(D181,Teams!$B$3:$C$10,2,FALSE)))","v":""},null,null,{"$f":"IF(G181=\"\",\"\",YEAR('Gala Name'!$C$9)-YEAR(G181))","v":""},"",null,"",{"$f":"IF(OR(J181=\"\",J181=\"DSQ\"),\"\",IF(OR(J181=J178,J181=J179,J181=J180,J181=J182,J181=J183,J181=J177,J181=J176),\"Enter Placings\",\"\"))","v":""},"","",null,{"$f":"IF(L181<>\"\",L181,IF(OR(J181=\"DNF\",J181=\"DSQ\"),0,IF(N181=\"\",\"\",RANK(N181,N176:N183,1))))","v":""},{"$f":"IF(P181=\"\",0,IF(P181=0,0,VLOOKUP(P:P,Points!B:C,2,FALSE)))","v":0},6,null,{"$f":"IF(P184>5.9,6,\"\")","v":""},{"$f":"IFERROR(IF(T181=\"\",\"\",VLOOKUP(T181,P176:R183,3,FALSE)),\"\")","v":""},null,6,null,{"$f":"IF(D181=\"\",\"\",IFERROR(VLOOKUP(B181,Events!B:L,11,FALSE),Y180))","v":""}," "," ",{"$f":"IFERROR(VLOOKUP(AA:AA,'Masters Convertion'!F:G,2,FALSE),\"\")","v":""},"",{"$f":"IF('Gala Name'!C$4=\"No\",\"\",IFERROR(RANK(N181,N181:N188,1),\"\"))","v":""}]
[{"$f":"IF(J182=\"\",\"\",B176)","v":""},null,null,7,{"$f":"IF(D182=\"\",\"\",IF(VLOOKUP(D182,Teams!$B$3:$C$10,2,FALSE)=\"\",\"\",VLOOKUP(D182,Teams!$B$3:$C$10,2,FALSE)))","v":""},null,null,{"$f":"IF(G182=\"\",\"\",YEAR('Gala Name'!$C$9)-YEAR(G182))","v":""},"",null,"",{"$f":"IF(OR(J182=\"\",J182=\"DSQ\"),\"\",IF(OR(J182=J179,J182=J180,J182=J181,J182=J183,J182=J176,J182=J177,J182=J178),\"Enter Placings\",\"\"))","v":""},"","",null,{"$f":"IF(L182<>\"\",L182,IF(OR(J182=\"DNF\",J182=\"DSQ\"),0,IF(N182=\"\",\"\",RANK(N182,N176:N183,1))))","v":""},{"$f":"IF(P182=\"\",0,IF(P182=0,0,VLOOKUP(P:P,Points!B:C,2,FALSE)))","v":0},7,null,{"$f":"IF(P184>6.9,7,\"\")","v":""},{"$f":"IFERROR(IF(T182=\"\",\"\",VLOOKUP(T182,P176:R183,3,FALSE)),\"\")","v":""},null,7,null,{"$f":"IF(D182=\"\",\"\",IFERROR(VLOOKUP(B182,Events!B:L,11,FALSE),Y181))","v":""}," "," ",{"$f":"IFERROR(VLOOKUP(AA:AA,'Masters Convertion'!F:G,2,FALSE),\"\")","v":""},"",{"$f":"IF('Gala Name'!C$4=\"No\",\"\",IFERROR(RANK(N182,N182:N189,1),\"\"))","v":""}]
[{"$f":"IF(J183=\"\",\"\",B176)","v":""},null,null,8,{"$f":"IF(D183=\"\",\"\",IF(VLOOKUP(D183,Teams!$B$3:$C$10,2,FALSE)=\"\",\"\",VLOOKUP(D183,Teams!$B$3:$C$10,2,FALSE)))","v":""},null,null,{"$f":"IF(G183=\"\",\"\",YEAR('Gala Name'!$C$9)-YEAR(G183))","v":""},"",null,"",{"$f":"IF(OR(J183=\"\",J183=\"DSQ\"),\"\",IF(OR(J183=J180,J183=J181,J183=J182,J183=J176,J183=J177,J183=J178,J183=J179),\"Enter Placings\",\"\"))","v":""},"","",null,{"$f":"IF(L183<>\"\",L183,IF(OR(J183=\"DNF\",J183=\"DSQ\"),0,IF(N183=\"\",\"\",RANK(N183,N176:N183,1))))","v":""},{"$f":"IF(P183=\"\",0,IF(P183=0,0,VLOOKUP(P:P,Points!B:C,2,FALSE)))","v":0},8,null,{"$f":"IF(P184>7.9,8,\"\")","v":""},{"$f":"IFERROR(IF(T183=\"\",\"\",VLOOKUP(T183,P176:R183,3,FALSE)),\"\")","v":""},null,8,null,{"$f":"IF(D183=\"\",\"\",IFERROR(VLOOKUP(B183,Events!B:L,11,FALSE),Y182))","v":""}," "," ",{"$f":"IFERROR(VLOOKUP(AA:AA,'Masters Convertion'!F:G,2,FALSE),\"\")","v":""},"",{"$f":"IF('Gala Name'!C$4=\"No\",\"\",IFERROR(RANK(N183,N183:N190,1),\"\"))","v":""}]
[null,null,null,null,null,null,null,null,null,null,null,null,"","",null,{"$f":"MAX(P176:P183)","v":0},null,null,null,null,null,null,"*"]
[{"$f":"IF(J185=\"\",\"\",B185)","v":""},{"$f":"B176+1","v":21},{"$f":"IF(D185=1,VLOOKUP(B185,Events!B:H,6,FALSE)&VLOOKUP(B185,Events!B:H,7,FALSE),\"\")","v":"   "},1,{"$f":"IF(D185=\"\",\"\",IF(VLOOKUP(D185,Teams!$B$3:$C$10,2,FALSE)=\"\",\"\",VLOOKUP(D185,Teams!$B$3:$C$10,2,FALSE)))","v":""},null,null,{"$f":"IF(G185=\"\",\"\",YEAR('Gala Name'!$C$9)-YEAR(G185))","v":""},"",null,"",{"$f":"IF(OR(J185=\"\",J185=\"DSQ\"),\"\",IF(OR(J185=J186,J185=J187,J185=J188,J185=J189,J185=J190,J185=J191,J185=J192),\"Enter Placings\",\"\"))","v":""},"","",null,{"$f":"IF(L185<>\"\",L185,IF(OR(J185=\"DNF\",J185=\"DSQ\"),0,IF(N185=\"\",\"\",RANK(N185,N185:N192,1))))","v":""},{"$f":"IF(P185=\"\",0,IF(P185=0,0,VLOOKUP(P:P,Points!B:C,2,FALSE)))","v":0},{"$f":"D185","v":1},null,{"$f":"IF(P193>0.9,1,\"\")","v":""},{"$f":"IFERROR(IF(T185=\"\",\"\",VLOOKUP(T185,P185:R192,3,FALSE)),\"\")","v":""},null,1,null,{"$f":"IF(D185=\"\",\"\",IFERROR(VLOOKUP(B185,Events!B:L,11,FALSE),Y184))","v":""}," "," ",{"$f":"IFERROR(VLOOKUP(AA:AA,'Masters Convertion'!F:G,2,FALSE),\"\")","v":""},"",{"$f":"IF('Gala Name'!C$4=\"No\",\"\",IFERROR(RANK(N185,N185:N192,1),\"\"))","v":""}]
[{"$f":"IF(J186=\"\",\"\",B185)","v":""},null,null,2,{"$f":"IF(D186=\"\",\"\",IF(VLOOKUP(D186,Teams!$B$3:$C$10,2,FALSE)=\"\",\"\",VLOOKUP(D186,Teams!$B$3:$C$10,2,FALSE)))","v":""},null,null,{"$f":"IF(G186=\"\",\"\",YEAR('Gala Name'!$C$9)-YEAR(G186))","v":""},"",null,"",{"$f":"IF(OR(J186=\"\",J186=\"DSQ\"),\"\",IF(OR(J186=J185,J186=J187,J186=J188,J186=J189,J186=J190,J186=J191,J186=J192),\"Enter Placings\",\"\"))","v":""},"","",null,{"$f":"IF(L186<>\"\",L186,IF(OR(J186=\"DNF\",J186=\"DSQ\"),0,IF(N186=\"\",\"\",RANK(N186,N185:N192,1))))","v":""},{"$f":"IF(P186=\"\",0,IF(P186=0,0,VLOOKUP(P:P,Points!B:C,2,FALSE)))","v":0},2,null,{"$f":"IF(P193>1.9,2,\"\")","v":""},{"$f":"IFERROR(IF(T186=\"\",\"\",VLOOKUP(T186,P185:R192,3,FALSE)),\"\")","v":""},null,2,null,{"$f":"IF(D186=\"\",\"\",IFERROR(VLOOKUP(B186,Events!B:L,11,FALSE),Y185))","v":""}," "," ",{"$f":"IFERROR(VLOOKUP(AA:AA,'Masters Convertion'!F:G,2,FALSE),\"\")","v":""},"",{"$f":"IF('Gala Name'!C$4=\"No\",\"\",IFERROR(RANK(N186,N186:N193,1),\"\"))","v":""}]
[{"$f":"IF(J187=\"\",\"\",B185)","v":""},null,null,3,{"$f":"IF(D187=\"\",\"\",IF(VLOOKUP(D187,Teams!$B$3:$C$10,2,FALSE)=\"\",\"\",VLOOKUP(D187,Teams!$B$3:$C$10,2,FALSE)))","v":""},null,null,{"$f":"IF(G187=\"\",\"\",YEAR('Gala Name'!$C$9)-YEAR(G187))","v":""},"",null,"",{"$f":"IF(OR(J187=\"\",J187=\"DSQ\"),\"\",IF(OR(J187=J185,J187=J186,J187=J188,J187=J189,J187=J190,J187=J191,J187=J192),\"Enter Placings\",\"\"))","v":""},"","",null,{"$f":"IF(L187<>\"\",L187,IF(OR(J187=\"DNF\",J187=\"DSQ\"),0,IF(N187=\"\",\"\",RANK(N187,N185:N192,1))))","v":""},{"$f":"IF(P187=\"\",0,IF(P187=0,0,VLOOKUP(P:P,Points!B:C,2,FALSE)))","v":0},3,null,{"$f":"IF(P193>2.9,3,\"\")","v":""},{"$f":"IFERROR(IF(T187=\"\",\"\",VLOOKUP(T187,P185:R192,3,FALSE)),\"\")","v":""},null,3,null,{"$f":"IF(D187=\"\",\"\",IFERROR(VLOOKUP(B187,Events!B:L,11,FALSE),Y186))","v":""}," "," ",{"$f":"IFERROR(VLOOKUP(AA:AA,'Masters Convertion'!F:G,2,FALSE),\"\")","v":""},"",{"$f":"IF('Gala Name'!C$4=\"No\",\"\",IFERROR(RANK(N187,N187:N194,1),\"\"))","v":""}]
[{"$f":"IF(J188=\"\",\"\",B185)","v":""},null,null,4,{"$f":"IF(D188=\"\",\"\",IF(VLOOKUP(D188,Teams!$B$3:$C$10,2,FALSE)=\"\",\"\",VLOOKUP(D188,Teams!$B$3:$C$10,2,FALSE)))","v":""},null,null,{"$f":"IF(G188=\"\",\"\",YEAR('Gala Name'!$C$9)-YEAR(G188))","v":""},"",null,"",{"$f":"IF(OR(J188=\"\",J188=\"DSQ\"),\"\",IF(OR(J188=J185,J188=J186,J188=J187,J188=J189,J188=J190,J188=J191,J188=J192),\"Enter Placings\",\"\"))","v":""},"","",null,{"$f":"IF(L188<>\"\",L188,IF(OR(J188=\"DNF\",J188=\"DSQ\"),0,IF(N188=\"\",\"\",RANK(N188,N185:N192,1))))","v":""},{"$f":"IF(P188=\"\",0,IF(P188=0,0,VLOOKUP(P:P,Points!B:C,2,FALSE)))","v":0},4,null,{"$f":"IF(P193>3.9,4,\"\")","v":""},{"$f":"IFERROR(IF(T188=\"\",\"\",VLOOKUP(T188,P185:R192,3,FALSE)),\"\")","v":""},null,4,null,{"$f":"IF(D188=\"\",\"\",IFERROR(VLOOKUP(B188,Events!B:L,11,FALSE),Y187))","v":""}," "," ",{"$f":"IFERROR(VLOOKUP(AA:AA,'Masters Convertion'!F:G,2,FALSE),\"\")","v":""},"",{"$f":"IF('Gala Name'!C$4=\"No\",\"\",IFERROR(RANK(N188,N188:N195,1),\"\"))","v":""}]
[{"$f":"IF(J189=\"\",\"\",B185)","v":""},null,null,5,{"$f":"IF(D189=\"\",\"\",IF(VLOOKUP(D189,Teams!$B$3:$C$10,2,FALSE)=\"\",\"\",VLOOKUP(D189,Teams!$B$3:$C$10,2,FALSE)))","v":""},null,null,{"$f":"IF(G189=\"\",\"\",YEAR('Gala Name'!$C$9)-YEAR(G189))","v":""},"",null,"",{"$f":"IF(OR(J189=\"\",J189=\"DSQ\"),\"\",IF(OR(J189=J186,J189=J187,J189=J188,J189=J190,J189=J191,J189=J192,J189=J185),\"Enter Placings\",\"\"))","v":""},"","",null,{"$f":"IF(L189<>\"\",L189,IF(OR(J189=\"DNF\",J189=\"DSQ\"),0,IF(N189=\"\",\"\",RANK(N189,N185:N192,1))))","v":""},{"$f":"IF(P189=\"\",0,IF(P189=0,0,VLOOKUP(P:P,Points!B:C,2,FALSE)))","v":0},5,null,{"$f":"IF(P193>4.9,5,\"\")","v":""},{"$f":"IFERROR(IF(T189=\"\",\"\",VLOOKUP(T189,P185:R192,3,FALSE)),\"\")","v":""},null,5,null,{"$f":"IF(D189=\"\",\"\",IFERROR(VLOOKUP(B189,Events!B:L,11,FALSE),Y188))","v":""}," "," ",{"$f":"IFERROR(VLOOKUP(AA:AA,'Masters Convertion'!F:G,2,FALSE),\"\")","v":""},"",{"$f":"IF('Gala Name'!C$4=\"No\",\"\",IFERROR(RANK(N189,N189:N196,1),\"\"))","v":""}]
[{"$f":"IF(J190=\"\",\"\",B185)","v":""},null,null,6,{"$f":"IF(D190=\"\",\"\",IF(VLOOKUP(D190,Teams!$B$3:$C$10,2,FALSE)=\"\",\"\",VLOOKUP(D190,Teams!$B$3:$C$10,2,FALSE)))","v":""},null,null,{"$f":"IF(G190=\"\",\"\",YEAR('Gala Name'!$C$9)-YEAR(G190))","v":""},"",null,"",{"$f":"IF(OR(J190=\"\",J190=\"DSQ\"),\"\",IF(OR(J190=J187,J190=J188,J190=J189,J190=J191,J190=J192,J190=J186,J190=J185),\"Enter Placings\",\"\"))","v":""},"","",null,{"$f":"IF(L190<>\"\",L190,IF(OR(J190=\"DNF\",J190=\"DSQ\"),0,IF(N190=\"\",\"\",RANK(N190,N185:N192,1))))","v":""},{"$f":"IF(P190=\"\",0,IF(P190=0,0,VLOOKUP(P:P,Points!B:C,2,FALSE)))","v":0},6,null,{"$f":"IF(P193>5.9,6,\"\")","v":""},{"$f":"IFERROR(IF(T190=\"\",\"\",VLOOKUP(T190,P185:R192,3,FALSE)),\"\")","v":""},null,6,null,{"$f":"IF(D190=\"\",\"\",IFERROR(VLOOKUP(B190,Events!B:L,11,FALSE),Y189))","v":""}," "," ",{"$f":"IFERROR(VLOOKUP(AA:AA,'Masters Convertion'!F:G,2,FALSE),\"\")","v":""},"",{"$f":"IF('Gala Name'!C$4=\"No\",\"\",IFERROR(RANK(N190,N190:N197,1),\"\"))","v":""}]
[{"$f":"IF(J191=\"\",\"\",B185)","v":""},null,null,7,{"$f":"IF(D191=\"\",\"\",IF(VLOOKUP(D191,Teams!$B$3:$C$10,2,FALSE)=\"\",\"\",VLOOKUP(D191,Teams!$B$3:$C$10,2,FALSE)))","v":""},null,null,{"$f":"IF(G191=\"\",\"\",YEAR('Gala Name'!$C$9)-YEAR(G191))","v":""},"",null,"",{"$f":"IF(OR(J191=\"\",J191=\"DSQ\"),\"\",IF(OR(J191=J188,J191=J189,J191=J190,J191=J192,J191=J185,J191=J186,J191=J187),\"Enter Placings\",\"\"))","v":""},"","",null,{"$f":"IF(L191<>\"\",L191,IF(OR(J191=\"DNF\",J191=\"DSQ\"),0,IF(N191=\"\",\"\",RANK(N191,N185:N192,1))))","v":""},{"$f":"IF(P191=\"\",0,IF(P191=0,0,VLOOKUP(P:P,Points!B:C,2,FALSE)))","v":0},7,null,{"$f":"IF(P193>6.9,7,\"\")","v":""},{"$f":"IFERROR(IF(T191=\"\",\"\",VLOOKUP(T191,P185:R192,3,FALSE)),\"\")","v":""},null,7,null,{"$f":"IF(D191=\"\",\"\",IFERROR(VLOOKUP(B191,Events!B:L,11,FALSE),Y190))","v":""}," "," ",{"$f":"IFERROR(VLOOKUP(AA:AA,'Masters Convertion'!F:G,2,FALSE),\"\")","v":""},"",{"$f":"IF('Gala Name'!C$4=\"No\",\"\",IFERROR(RANK(N191,N191:N198,1),\"\"))","v":""}]
[{"$f":"IF(J192=\"\",\"\",B185)","v":""},null,null,8,{"$f":"IF(D192=\"\",\"\",IF(VLOOKUP(D192,Teams!$B$3:$C$10,2,FALSE)=\"\",\"\",VLOOKUP(D192,Teams!$B$3:$C$10,2,FALSE)))","v":""},null,null,{"$f":"IF(G192=\"\",\"\",YEAR('Gala Name'!$C$9)-YEAR(G192))","v":""},"",null,"",{"$f":"IF(OR(J192=\"\",J192=\"DSQ\"),\"\",IF(OR(J192=J189,J192=J190,J192=J191,J192=J185,J192=J186,J192=J187,J192=J188),\"Enter Placings\",\"\"))","v":""},"","",null,{"$f":"IF(L192<>\"\",L192,IF(OR(J192=\"DNF\",J192=\"DSQ\"),0,IF(N192=\"\",\"\",RANK(N192,N185:N192,1))))","v":""},{"$f":"IF(P192=\"\",0,IF(P192=0,0,VLOOKUP(P:P,Points!B:C,2,FALSE)))","v":0},8,null,{"$f":"IF(P193>7.9,8,\"\")","v":""},{"$f":"IFERROR(IF(T192=\"\",\"\",VLOOKUP(T192,P185:R192,3,FALSE)),\"\")","v":""},null,8,null,{"$f":"IF(D192=\"\",\"\",IFERROR(VLOOKUP(B192,Events!B:L,11,FALSE),Y191))","v":""}," "," ",{"$f":"IFERROR(VLOOKUP(AA:AA,'Masters Convertion'!F:G,2,FALSE),\"\")","v":""},"",{"$f":"IF('Gala Name'!C$4=\"No\",\"\",IFERROR(RANK(N192,N192:N199,1),\"\"))","v":""}]
[null,null,null,null,null,null,null,null,null,null,null,null,"","",null,{"$f":"MAX(P185:P192)","v":0},null,null,null,null,null,null,"*"]
[{"$f":"IF(J194=\"\",\"\",B194)","v":""},{"$f":"B185+1","v":22},{"$f":"IF(D194=1,VLOOKUP(B194,Events!B:H,6,FALSE)&VLOOKUP(B194,Events!B:H,7,FALSE),\"\")","v":"   "},1,{"$f":"IF(D194=\"\",\"\",IF(VLOOKUP(D194,Teams!$B$3:$C$10,2,FALSE)=\"\",\"\",VLOOKUP(D194,Teams!$B$3:$C$10,2,FALSE)))","v":""},null,null,{"$f":"IF(G194=\"\",\"\",YEAR('Gala Name'!$C$9)-YEAR(G194))","v":""},"",null,"",{"$f":"IF(OR(J194=\"\",J194=\"DSQ\"),\"\",IF(OR(J194=J195,J194=J196,J194=J197,J194=J198,J194=J199,J194=J200,J194=J201),\"Enter Placings\",\"\"))","v":""},"","",null,{"$f":"IF(L194<>\"\",L194,IF(OR(J194=\"DNF\",J194=\"DSQ\"),0,IF(N194=\"\",\"\",RANK(N194,N194:N201,1))))","v":""},{"$f":"IF(P194=\"\",0,IF(P194=0,0,VLOOKUP(P:P,Points!B:C,2,FALSE)))","v":0},{"$f":"D194","v":1},null,{"$f":"IF(P202>0.9,1,\"\")","v":""},{"$f":"IFERROR(IF(T194=\"\",\"\",VLOOKUP(T194,P194:R201,3,FALSE)),\"\")","v":""},null,1,null,{"$f":"IF(D194=\"\",\"\",IFERROR(VLOOKUP(B194,Events!B:L,11,FALSE),Y193))","v":""}," "," ",{"$f":"IFERROR(VLOOKUP(AA:AA,'Masters Convertion'!F:G,2,FALSE),\"\")","v":""},"",{"$f":"IF('Gala Name'!C$4=\"No\",\"\",IFERROR(RANK(N194,N194:N201,1),\"\"))","v":""}]
[{"$f":"IF(J195=\"\",\"\",B194)","v":""},null,null,2,{"$f":"IF(D195=\"\",\"\",IF(VLOOKUP(D195,Teams!$B$3:$C$10,2,FALSE)=\"\",\"\",VLOOKUP(D195,Teams!$B$3:$C$10,2,FALSE)))","v":""},null,null,{"$f":"IF(G195=\"\",\"\",YEAR('Gala Name'!$C$9)-YEAR(G195))","v":""},"",null,"",{"$f":"IF(OR(J195=\"\",J195=\"DSQ\"),\"\",IF(OR(J195=J194,J195=J196,J195=J197,J195=J198,J195=J199,J195=J200,J195=J201),\"Enter Placings\",\"\"))","v":""},"","",null,{"$f":"IF(L195<>\"\",L195,IF(OR(J195=\"DNF\",J195=\"DSQ\"),0,IF(N195=\"\",\"\",RANK(N195,N194:N201,1))))","v":""},{"$f":"IF(P195=\"\",0,IF(P195=0,0,VLOOKUP(P:P,Points!B:C,2,FALSE)))","v":0},2,null,{"$f":"IF(P202>1.9,2,\"\")","v":""},{"$f":"IFERROR(IF(T195=\"\",\"\",VLOOKUP(T195,P194:R201,3,FALSE)),\"\")","v":""},null,2,null,{"$f":"IF(D195=\"\",\"\",IFERROR(VLOOKUP(B195,Events!B:L,11,FALSE),Y194))","v":""}," "," ",{"$f":"IFERROR(VLOOKUP(AA:AA,'Masters Convertion'!F:G,2,FALSE),\"\")","v":""},"",{"$f":"IF('Gala Name'!C$4=\"No\",\"\",IFERROR(RANK(N195,N195:N202,1),\"\"))","v":""}]
[{"$f":"IF(J196=\"\",\"\",B194)","v":""},null,null,3,{"$f":"IF(D196=\"\",\"\",IF(VLOOKUP(D196,Teams!$B$3:$C$10,2,FALSE)=\"\",\"\",VLOOKUP(D196,Teams!$B$3:$C$10,2,FALSE)))","v":""},null,null,{"$f":"IF(G196=\"\",\"\",YEAR('Gala Name'!$C$9)-YEAR(G196))","v":""},"",null,"",{"$f":"IF(OR(J196=\"\",J196=\"DSQ\"),\"\",IF(OR(J196=J194,J196=J195,J196=J197,J196=J198,J196=J199,J196=J200,J196=J201),\"Enter Placings\",\"\"))","v":""},"","",null,{"$f":"IF(L196<>\"\",L196,IF(OR(J196=\"DNF\",J196=\"DSQ\"),0,IF(N196=\"\",\"\",RANK(N196,N194:N201,1))))","v":""},{"$f":"IF(P196=\"\",0,IF(P196=0,0,VLOOKUP(P:P,Points!B:C,2,FALSE)))","v":0},3,null,{"$f":"IF(P202>2.9,3,\"\")","v":""},{"$f":"IFERROR(IF(T196=\"\",\"\",VLOOKUP(T196,P194:R201,3,FALSE)),\"\")","v":""},null,3,null,{"$f":"IF(D196=\"\",\"\",IFERROR(VLOOKUP(B196,Events!B:L,11,FALSE),Y195))","v":""}," "," ",{"$f":"IFERROR(VLOOKUP(AA:AA,'Masters Convertion'!F:G,2,FALSE),\"\")","v":""},"",{"$f":"IF('Gala Name'!C$4=\"No\",\"\",IFERROR(RANK(N196,N196:N203,1),\"\"))","v":""}]
[{"$f":"IF(J197=\"\",\"\",B194)","v":""},null,null,4,{"$f":"IF(D197=\"\",\"\",IF(VLOOKUP(D197,Teams!$B$3:$C$10,2,FALSE)=\"\",\"\",VLOOKUP(D197,Teams!$B$3:$C$10,2,FALSE)))","v":""},null,null,{"$f":"IF(G197=\"\",\"\",YEAR('Gala Name'!$C$9)-YEAR(G197))","v":""},"",null,"",{"$f":"IF(OR(J197=\"\",J197=\"DSQ\"),\"\",IF(OR(J197=J194,J197=J195,J197=J196,J197=J198,J197=J199,J197=J200,J197=J201),\"Enter Placings\",\"\"))","v":""},"","",null,{"$f":"IF(L197<>\"\",L197,IF(OR(J197=\"DNF\",J197=\"DSQ\"),0,IF(N197=\"\",\"\",RANK(N197,N194:N201,1))))","v":""},{"$f":"IF(P197=\"\",0,IF(P197=0,0,VLOOKUP(P:P,Points!B:C,2,FALSE)))","v":0},4,null,{"$f":"IF(P202>3.9,4,\"\")","v":""},{"$f":"IFERROR(IF(T197=\"\",\"\",VLOOKUP(T197,P194:R201,3,FALSE)),\"\")","v":""},null,4,null,{"$f":"IF(D197=\"\",\"\",IFERROR(VLOOKUP(B197,Events!B:L,11,FALSE),Y196))","v":""}," "," ",{"$f":"IFERROR(VLOOKUP(AA:AA,'Masters Convertion'!F:G,2,FALSE),\"\")","v":""},"",{"$f":"IF('Gala Name'!C$4=\"No\",\"\",IFERROR(RANK(N197,N197:N204,1),\"\"))","v":""}]
[{"$f":"IF(J198=\"\",\"\",B194)","v":""},null,null,5,{"$f":"IF(D198=\"\",\"\",IF(VLOOKUP(D198,Teams!$B$3:$C$10,2,FALSE)=\"\",\"\",VLOOKUP(D198,Teams!$B$3:$C$10,2,FALSE)))","v":""},null,null,{"$f":"IF(G198=\"\",\"\",YEAR('Gala Name'!$C$9)-YEAR(G198))","v":""},{"$f":"IF(IF(J198=\"DSQ\",PROPER(K198),PROPER(F198))=\"\",\"\",IF(J198=\"DSQ\",PROPER(K198),PROPER(F198)))","v":""},null,"",{"$f":"IF(OR(J198=\"\",J198=\"DSQ\"),\"\",IF(OR(J198=J195,J198=J196,J198=J197,J198=J199,J198=J200,J198=J201,J198=J194),\"Enter Placings\",\"\"))","v":""},{"$f":"IF(J198=\"\",\"\",UPPER(TEXT(J198,\"0 00.00\")))","v":""},{"$f":"IF(J198=\"DSQ\",999999,IF(J198=\"DNF\",999999,IF(J198=\"\",\"\",IF(LEFT(M198,1)=\"0\",RIGHT(M198,5)*1,LEFT(J198,1)*60+RIGHT(M198,5)*1))))","v":""},null,{"$f":"IF(L198<>\"\",L198,IF(OR(J198=\"DNF\",J198=\"DSQ\"),0,IF(N198=\"\",\"\",RANK(N198,N194:N201,1))))","v":""},{"$f":"IF(P198=\"\",0,IF(P198=0,0,VLOOKUP(P:P,Points!B:C,2,FALSE)))","v":0},5,null,{"$f":"IF(P202>4.9,5,\"\")","v":""},{"$f":"IFERROR(IF(T198=\"\",\"\",VLOOKUP(T198,P194:R201,3,FALSE)),\"\")","v":""},null,5,null,{"$f":"IF(D198=\"\",\"\",IFERROR(VLOOKUP(B198,Events!B:L,11,FALSE),Y197))","v":""}," ",{"$f":"Z198&Y198&H198","v":" "},{"$f":"IFERROR(VLOOKUP(AA:AA,'Masters Convertion'!F:G,2,FALSE),\"\")","v":""},"",{"$f":"IF('Gala Name'!C$4=\"No\",\"\",IFERROR(RANK(N198,N198:N205,1),\"\"))","v":""}]
[{"$f":"IF(J199=\"\",\"\",B194)","v":""},null,null,6,{"$f":"IF(D199=\"\",\"\",IF(VLOOKUP(D199,Teams!$B$3:$C$10,2,FALSE)=\"\",\"\",VLOOKUP(D199,Teams!$B$3:$C$10,2,FALSE)))","v":""},null,null,{"$f":"IF(G199=\"\",\"\",YEAR('Gala Name'!$C$9)-YEAR(G199))","v":""},"",null,"",{"$f":"IF(OR(J199=\"\",J199=\"DSQ\"),\"\",IF(OR(J199=J196,J199=J197,J199=J198,J199=J200,J199=J201,J199=J195,J199=J194),\"Enter Placings\",\"\"))","v":""},"","",null,{"$f":"IF(L199<>\"\",L199,IF(OR(J199=\"DNF\",J199=\"DSQ\"),0,IF(N199=\"\",\"\",RANK(N199,N194:N201,1))))","v":""},{"$f":"IF(P199=\"\",0,IF(P199=0,0,VLOOKUP(P:P,Points!B:C,2,FALSE)))","v":0},6,null,{"$f":"IF(P202>5.9,6,\"\")","v":""},{"$f":"IFERROR(IF(T199=\"\",\"\",VLOOKUP(T199,P194:R201,3,FALSE)),\"\")","v":""},null,6,null,{"$f":"IF(D199=\"\",\"\",IFERROR(VLOOKUP(B199,Events!B:L,11,FALSE),Y198))","v":""}," "," ",{"$f":"IFERROR(VLOOKUP(AA:AA,'Masters Convertion'!F:G,2,FALSE),\"\")","v":""},"",{"$f":"IF('Gala Name'!C$4=\"No\",\"\",IFERROR(RANK(N199,N199:N206,1),\"\"))","v":""}]
[{"$f":"IF(J200=\"\",\"\",B194)","v":""},null,null,7,{"$f":"IF(D200=\"\",\"\",IF(VLOOKUP(D200,Teams!$B$3:$C$10,2,FALSE)=\"\",\"\",VLOOKUP(D200,Teams!$B$3:$C$10,2,FALSE)))","v":""},null,null,{"$f":"IF(G200=\"\",\"\",YEAR('Gala Name'!$C$9)-YEAR(G200))","v":""},"",null,"",{"$f":"IF(OR(J200=\"\",J200=\"DSQ\"),\"\",IF(OR(J200=J197,J200=J198,J200=J199,J200=J201,J200=J194,J200=J195,J200=J196),\"Enter Placings\",\"\"))","v":""},"","",null,{"$f":"IF(L200<>\"\",L200,IF(OR(J200=\"DNF\",J200=\"DSQ\"),0,IF(N200=\"\",\"\",RANK(N200,N194:N201,1))))","v":""},{"$f":"IF(P200=\"\",0,IF(P200=0,0,VLOOKUP(P:P,Points!B:C,2,FALSE)))","v":0},7,null,{"$f":"IF(P202>6.9,7,\"\")","v":""},{"$f":"IFERROR(IF(T200=\"\",\"\",VLOOKUP(T200,P194:R201,3,FALSE)),\"\")","v":""},null,7,null,{"$f":"IF(D200=\"\",\"\",IFERROR(VLOOKUP(B200,Events!B:L,11,FALSE),Y199))","v":""}," "," ",{"$f":"IFERROR(VLOOKUP(AA:AA,'Masters Convertion'!F:G,2,FALSE),\"\")","v":""},{"$f":"IF(AB200=\"\",\"\",ROUNDDOWN(AB200*N200,2))","v":""},{"$f":"IF('Gala Name'!C$4=\"No\",\"\",IFERROR(RANK(N200,N200:N207,1),\"\"))","v":""}]
[{"$f":"IF(J201=\"\",\"\",B194)","v":""},null,null,8,{"$f":"IF(D201=\"\",\"\",IF(VLOOKUP(D201,Teams!$B$3:$C$10,2,FALSE)=\"\",\"\",VLOOKUP(D201,Teams!$B$3:$C$10,2,FALSE)))","v":""},null,null,{"$f":"IF(G201=\"\",\"\",YEAR('Gala Name'!$C$9)-YEAR(G201))","v":""},"",null,"",{"$f":"IF(OR(J201=\"\",J201=\"DSQ\"),\"\",IF(OR(J201=J198,J201=J199,J201=J200,J201=J194,J201=J195,J201=J196,J201=J197),\"Enter Placings\",\"\"))","v":""},"","",null,{"$f":"IF(L201<>\"\",L201,IF(OR(J201=\"DNF\",J201=\"DSQ\"),0,IF(N201=\"\",\"\",RANK(N201,N194:N201,1))))","v":""},{"$f":"IF(P201=\"\",0,IF(P201=0,0,VLOOKUP(P:P,Points!B:C,2,FALSE)))","v":0},8,null,{"$f":"IF(P202>7.9,8,\"\")","v":""},{"$f":"IFERROR(IF(T201=\"\",\"\",VLOOKUP(T201,P194:R201,3,FALSE)),\"\")","v":""},null,8,null,{"$f":"IF(D201=\"\",\"\",IFERROR(VLOOKUP(B201,Events!B:L,11,FALSE),Y200))","v":""}," "," ",{"$f":"IFERROR(VLOOKUP(AA:AA,'Masters Convertion'!F:G,2,FALSE),\"\")","v":""},"",{"$f":"IF('Gala Name'!C$4=\"No\",\"\",IFERROR(RANK(N201,N201:N208,1),\"\"))","v":""}]
[null,null,null,null,null,null,null,null,null,null,null,null,"","",null,{"$f":"MAX(P194:P201)","v":0},null,null,null,null,null,null,"*"]
[{"$f":"IF(J203=\"\",\"\",B203)","v":""},{"$f":"B194+1","v":23},{"$f":"IF(D203=1,VLOOKUP(B203,Events!B:H,6,FALSE)&VLOOKUP(B203,Events!B:H,7,FALSE),\"\")","v":"   "},1,{"$f":"IF(D203=\"\",\"\",IF(VLOOKUP(D203,Teams!$B$3:$C$10,2,FALSE)=\"\",\"\",VLOOKUP(D203,Teams!$B$3:$C$10,2,FALSE)))","v":""},null,null,{"$f":"IF(G203=\"\",\"\",YEAR('Gala Name'!$C$9)-YEAR(G203))","v":""},"",null,"",{"$f":"IF(OR(J203=\"\",J203=\"DSQ\"),\"\",IF(OR(J203=J204,J203=J205,J203=J206,J203=J207,J203=J208,J203=J209,J203=J210),\"Enter Placings\",\"\"))","v":""},"","",null,{"$f":"IF(L203<>\"\",L203,IF(OR(J203=\"DNF\",J203=\"DSQ\"),0,IF(N203=\"\",\"\",RANK(N203,N203:N210,1))))","v":""},{"$f":"IF(P203=\"\",0,IF(P203=0,0,VLOOKUP(P:P,Points!B:C,2,FALSE)))","v":0},{"$f":"D203","v":1},null,{"$f":"IF(P211>0.9,1,\"\")","v":""},{"$f":"IFERROR(IF(T203=\"\",\"\",VLOOKUP(T203,P203:R210,3,FALSE)),\"\")","v":""},null,1,null,{"$f":"IF(D203=\"\",\"\",IFERROR(VLOOKUP(B203,Events!B:L,11,FALSE),Y202))","v":""}," "," ",{"$f":"IFERROR(VLOOKUP(AA:AA,'Masters Convertion'!F:G,2,FALSE),\"\")","v":""},"",{"$f":"IF('Gala Name'!C$4=\"No\",\"\",IFERROR(RANK(N203,N203:N210,1),\"\"))","v":""}]
[{"$f":"IF(J204=\"\",\"\",B203)","v":""},null,null,2,{"$f":"IF(D204=\"\",\"\",IF(VLOOKUP(D204,Teams!$B$3:$C$10,2,FALSE)=\"\",\"\",VLOOKUP(D204,Teams!$B$3:$C$10,2,FALSE)))","v":""},null,null,{"$f":"IF(G204=\"\",\"\",YEAR('Gala Name'!$C$9)-YEAR(G204))","v":""},"",null,"",{"$f":"IF(OR(J204=\"\",J204=\"DSQ\"),\"\",IF(OR(J204=J203,J204=J205,J204=J206,J204=J207,J204=J208,J204=J209,J204=J210),\"Enter Placings\",\"\"))","v":""},"","",null,{"$f":"IF(L204<>\"\",L204,IF(OR(J204=\"DNF\",J204=\"DSQ\"),0,IF(N204=\"\",\"\",RANK(N204,N203:N210,1))))","v":""},{"$f":"IF(P204=\"\",0,IF(P204=0,0,VLOOKUP(P:P,Points!B:C,2,FALSE)))","v":0},2,null,{"$f":"IF(P211>1.9,2,\"\")","v":""},{"$f":"IFERROR(IF(T204=\"\",\"\",VLOOKUP(T204,P203:R210,3,FALSE)),\"\")","v":""},null,2,null,{"$f":"IF(D204=\"\",\"\",IFERROR(VLOOKUP(B204,Events!B:L,11,FALSE),Y203))","v":""}," "," ",{"$f":"IFERROR(VLOOKUP(AA:AA,'Masters Convertion'!F:G,2,FALSE),\"\")","v":""},"",{"$f":"IF('Gala Name'!C$4=\"No\",\"\",IFERROR(RANK(N204,N204:N211,1),\"\"))","v":""}]
[{"$f":"IF(J205=\"\",\"\",B203)","v":""},null,null,3,{"$f":"IF(D205=\"\",\"\",IF(VLOOKUP(D205,Teams!$B$3:$C$10,2,FALSE)=\"\",\"\",VLOOKUP(D205,Teams!$B$3:$C$10,2,FALSE)))","v":""},null,null,{"$f":"IF(G205=\"\",\"\",YEAR('Gala Name'!$C$9)-YEAR(G205))","v":""},"",null,"",{"$f":"IF(OR(J205=\"\",J205=\"DSQ\"),\"\",IF(OR(J205=J203,J205=J204,J205=J206,J205=J207,J205=J208,J205=J209,J205=J210),\"Enter Placings\",\"\"))","v":""},"","",null,{"$f":"IF(L205<>\"\",L205,IF(OR(J205=\"DNF\",J205=\"DSQ\"),0,IF(N205=\"\",\"\",RANK(N205,N203:N210,1))))","v":""},{"$f":"IF(P205=\"\",0,IF(P205=0,0,VLOOKUP(P:P,Points!B:C,2,FALSE)))","v":0},3,null,{"$f":"IF(P211>2.9,3,\"\")","v":""},{"$f":"IFERROR(IF(T205=\"\",\"\",VLOOKUP(T205,P203:R210,3,FALSE)),\"\")","v":""},null,3,null,{"$f":"IF(D205=\"\",\"\",IFERROR(VLOOKUP(B205,Events!B:L,11,FALSE),Y204))","v":""}," "," ",{"$f":"IFERROR(VLOOKUP(AA:AA,'Masters Convertion'!F:G,2,FALSE),\"\")","v":""},"",{"$f":"IF('Gala Name'!C$4=\"No\",\"\",IFERROR(RANK(N205,N205:N212,1),\"\"))","v":""}]
[{"$f":"IF(J206=\"\",\"\",B203)","v":""},null,null,4,{"$f":"IF(D206=\"\",\"\",IF(VLOOKUP(D206,Teams!$B$3:$C$10,2,FALSE)=\"\",\"\",VLOOKUP(D206,Teams!$B$3:$C$10,2,FALSE)))","v":""},null,null,{"$f":"IF(G206=\"\",\"\",YEAR('Gala Name'!$C$9)-YEAR(G206))","v":""},"",null,"",{"$f":"IF(OR(J206=\"\",J206=\"DSQ\"),\"\",IF(OR(J206=J203,J206=J204,J206=J205,J206=J207,J206=J208,J206=J209,J206=J210),\"Enter Placings\",\"\"))","v":""},"","",null,{"$f":"IF(L206<>\"\",L206,IF(OR(J206=\"DNF\",J206=\"DSQ\"),0,IF(N206=\"\",\"\",RANK(N206,N203:N210,1))))","v":""},{"$f":"IF(P206=\"\",0,IF(P206=0,0,VLOOKUP(P:P,Points!B:C,2,FALSE)))","v":0},4,null,{"$f":"IF(P211>3.9,4,\"\")","v":""},{"$f":"IFERROR(IF(T206=\"\",\"\",VLOOKUP(T206,P203:R210,3,FALSE)),\"\")","v":""},null,4,null,{"$f":"IF(D206=\"\",\"\",IFERROR(VLOOKUP(B206,Events!B:L,11,FALSE),Y205))","v":""}," "," ",{"$f":"IFERROR(VLOOKUP(AA:AA,'Masters Convertion'!F:G,2,FALSE),\"\")","v":""},"",{"$f":"IF('Gala Name'!C$4=\"No\",\"\",IFERROR(RANK(N206,N206:N213,1),\"\"))","v":""}]
[{"$f":"IF(J207=\"\",\"\",B203)","v":""},null,null,5,{"$f":"IF(D207=\"\",\"\",IF(VLOOKUP(D207,Teams!$B$3:$C$10,2,FALSE)=\"\",\"\",VLOOKUP(D207,Teams!$B$3:$C$10,2,FALSE)))","v":""},null,null,{"$f":"IF(G207=\"\",\"\",YEAR('Gala Name'!$C$9)-YEAR(G207))","v":""},"",null,"",{"$f":"IF(OR(J207=\"\",J207=\"DSQ\"),\"\",IF(OR(J207=J204,J207=J205,J207=J206,J207=J208,J207=J209,J207=J210,J207=J203),\"Enter Placings\",\"\"))","v":""},"","",null,{"$f":"IF(L207<>\"\",L207,IF(OR(J207=\"DNF\",J207=\"DSQ\"),0,IF(N207=\"\",\"\",RANK(N207,N203:N210,1))))","v":""},{"$f":"IF(P207=\"\",0,IF(P207=0,0,VLOOKUP(P:P,Points!B:C,2,FALSE)))","v":0},5,null,{"$f":"IF(P211>4.9,5,\"\")","v":""},{"$f":"IFERROR(IF(T207=\"\",\"\",VLOOKUP(T207,P203:R210,3,FALSE)),\"\")","v":""},null,5,null,{"$f":"IF(D207=\"\",\"\",IFERROR(VLOOKUP(B207,Events!B:L,11,FALSE),Y206))","v":""}," "," ",{"$f":"IFERROR(VLOOKUP(AA:AA,'Masters Convertion'!F:G,2,FALSE),\"\")","v":""},"",{"$f":"IF('Gala Name'!C$4=\"No\",\"\",IFERROR(RANK(N207,N207:N214,1),\"\"))","v":""}]
[{"$f":"IF(J208=\"\",\"\",B203)","v":""},null,null,6,{"$f":"IF(D208=\"\",\"\",IF(VLOOKUP(D208,Teams!$B$3:$C$10,2,FALSE)=\"\",\"\",VLOOKUP(D208,Teams!$B$3:$C$10,2,FALSE)))","v":""},null,null,{"$f":"IF(G208=\"\",\"\",YEAR('Gala Name'!$C$9)-YEAR(G208))","v":""},"",null,"",{"$f":"IF(OR(J208=\"\",J208=\"DSQ\"),\"\",IF(OR(J208=J205,J208=J206,J208=J207,J208=J209,J208=J210,J208=J204,J208=J203),\"Enter Placings\",\"\"))","v":""},"","",null,{"$f":"IF(L208<>\"\",L208,IF(OR(J208=\"DNF\",J208=\"DSQ\"),0,IF(N208=\"\",\"\",RANK(N208,N203:N210,1))))","v":""},{"$f":"IF(P208=\"\",0,IF(P208=0,0,VLOOKUP(P:P,Points!B:C,2,FALSE)))","v":0},6,null,{"$f":"IF(P211>5.9,6,\"\")","v":""},{"$f":"IFERROR(IF(T208=\"\",\"\",VLOOKUP(T208,P203:R210,3,FALSE)),\"\")","v":""},null,6,null,{"$f":"IF(D208=\"\",\"\",IFERROR(VLOOKUP(B208,Events!B:L,11,FALSE),Y207))","v":""}," "," ",{"$f":"IFERROR(VLOOKUP(AA:AA,'Masters Convertion'!F:G,2,FALSE),\"\")","v":""},"",{"$f":"IF('Gala Name'!C$4=\"No\",\"\",IFERROR(RANK(N208,N208:N215,1),\"\"))","v":""}]
[{"$f":"IF(J209=\"\",\"\",B203)","v":""},null,null,7,{"$f":"IF(D209=\"\",\"\",IF(VLOOKUP(D209,Teams!$B$3:$C$10,2,FALSE)=\"\",\"\",VLOOKUP(D209,Teams!$B$3:$C$10,2,FALSE)))","v":""},null,null,{"$f":"IF(G209=\"\",\"\",YEAR('Gala Name'!$C$9)-YEAR(G209))","v":""},"",null,"",{"$f":"IF(OR(J209=\"\",J209=\"DSQ\"),\"\",IF(OR(J209=J206,J209=J207,J209=J208,J209=J210,J209=J203,J209=J204,J209=J205),\"Enter Placings\",\"\"))","v":""},"","",null,{"$f":"IF(L209<>\"\",L209,IF(OR(J209=\"DNF\",J209=\"DSQ\"),0,IF(N209=\"\",\"\",RANK(N209,N203:N210,1))))","v":""},{"$f":"IF(P209=\"\",0,IF(P209=0,0,VLOOKUP(P:P,Points!B:C,2,FALSE)))","v":0},7,null,{"$f":"IF(P211>6.9,7,\"\")","v":""},{"$f":"IFERROR(IF(T209=\"\",\"\",VLOOKUP(T209,P203:R210,3,FALSE)),\"\")","v":""},null,7,null,{"$f":"IF(D209=\"\",\"\",IFERROR(VLOOKUP(B209,Events!B:L,11,FALSE),Y208))","v":""},{"$f":"IF(LEFT(C209,1)=\"\",Z208,LEFT(C209,1))","v":" "}," ",{"$f":"IFERROR(VLOOKUP(AA:AA,'Masters Convertion'!F:G,2,FALSE),\"\")","v":""},"",{"$f":"IF('Gala Name'!C$4=\"No\",\"\",IFERROR(RANK(N209,N209:N216,1),\"\"))","v":""}]
[{"$f":"IF(J210=\"\",\"\",B203)","v":""},null,null,8,{"$f":"IF(D210=\"\",\"\",IF(VLOOKUP(D210,Teams!$B$3:$C$10,2,FALSE)=\"\",\"\",VLOOKUP(D210,Teams!$B$3:$C$10,2,FALSE)))","v":""},null,null,{"$f":"IF(G210=\"\",\"\",YEAR('Gala Name'!$C$9)-YEAR(G210))","v":""},"",null,"",{"$f":"IF(OR(J210=\"\",J210=\"DSQ\"),\"\",IF(OR(J210=J207,J210=J208,J210=J209,J210=J203,J210=J204,J210=J205,J210=J206),\"Enter Placings\",\"\"))","v":""},"","",null,{"$f":"IF(L210<>\"\",L210,IF(OR(J210=\"DNF\",J210=\"DSQ\"),0,IF(N210=\"\",\"\",RANK(N210,N203:N210,1))))","v":""},{"$f":"IF(P210=\"\",0,IF(P210=0,0,VLOOKUP(P:P,Points!B:C,2,FALSE)))","v":0},8,null,{"$f":"IF(P211>7.9,8,\"\")","v":""},{"$f":"IFERROR(IF(T210=\"\",\"\",VLOOKUP(T210,P203:R210,3,FALSE)),\"\")","v":""},null,8,null,{"$f":"IF(D210=\"\",\"\",IFERROR(VLOOKUP(B210,Events!B:L,11,FALSE),Y209))","v":""}," "," ",{"$f":"IFERROR(VLOOKUP(AA:AA,'Masters Convertion'!F:G,2,FALSE),\"\")","v":""},"",{"$f":"IF('Gala Name'!C$4=\"No\",\"\",IFERROR(RANK(N210,N210:N217,1),\"\"))","v":""}]
[null,null,null,null,null,null,null,null,null,null,null,null,"","",null,{"$f":"MAX(P203:P210)","v":0},null,null,null,null,null,null,"*"]
[{"$f":"IF(J212=\"\",\"\",B212)","v":""},{"$f":"B203+1","v":24},{"$f":"IF(D212=1,VLOOKUP(B212,Events!B:H,6,FALSE)&VLOOKUP(B212,Events!B:H,7,FALSE),\"\")","v":"   "},1,{"$f":"IF(D212=\"\",\"\",IF(VLOOKUP(D212,Teams!$B$3:$C$10,2,FALSE)=\"\",\"\",VLOOKUP(D212,Teams!$B$3:$C$10,2,FALSE)))","v":""},null,null,{"$f":"IF(G212=\"\",\"\",YEAR('Gala Name'!$C$9)-YEAR(G212))","v":""},"",null,"",{"$f":"IF(OR(J212=\"\",J212=\"DSQ\"),\"\",IF(OR(J212=J213,J212=J214,J212=J215,J212=J216,J212=J217,J212=J218,J212=J219),\"Enter Placings\",\"\"))","v":""},"","",null,{"$f":"IF(L212<>\"\",L212,IF(OR(J212=\"DNF\",J212=\"DSQ\"),0,IF(N212=\"\",\"\",RANK(N212,N212:N219,1))))","v":""},{"$f":"IF(P212=\"\",0,IF(P212=0,0,VLOOKUP(P:P,Points!B:C,2,FALSE)))","v":0},{"$f":"D212","v":1},null,{"$f":"IF(P220>0.9,1,\"\")","v":""},{"$f":"IFERROR(IF(T212=\"\",\"\",VLOOKUP(T212,P212:R219,3,FALSE)),\"\")","v":""},null,1,null,{"$f":"IF(D212=\"\",\"\",IFERROR(VLOOKUP(B212,Events!B:L,11,FALSE),Y211))","v":""}," "," ",{"$f":"IFERROR(VLOOKUP(AA:AA,'Masters Convertion'!F:G,2,FALSE),\"\")","v":""},"",{"$f":"IF('Gala Name'!C$4=\"No\",\"\",IFERROR(RANK(N212,N212:N219,1),\"\"))","v":""}]
[{"$f":"IF(J213=\"\",\"\",B212)","v":""},null,null,2,{"$f":"IF(D213=\"\",\"\",IF(VLOOKUP(D213,Teams!$B$3:$C$10,2,FALSE)=\"\",\"\",VLOOKUP(D213,Teams!$B$3:$C$10,2,FALSE)))","v":""},null,null,{"$f":"IF(G213=\"\",\"\",YEAR('Gala Name'!$C$9)-YEAR(G213))","v":""},"",null,"",{"$f":"IF(OR(J213=\"\",J213=\"DSQ\"),\"\",IF(OR(J213=J212,J213=J214,J213=J215,J213=J216,J213=J217,J213=J218,J213=J219),\"Enter Placings\",\"\"))","v":""},"","",null,{"$f":"IF(L213<>\"\",L213,IF(OR(J213=\"DNF\",J213=\"DSQ\"),0,IF(N213=\"\",\"\",RANK(N213,N212:N219,1))))","v":""},{"$f":"IF(P213=\"\",0,IF(P213=0,0,VLOOKUP(P:P,Points!B:C,2,FALSE)))","v":0},2,null,{"$f":"IF(P220>1.9,2,\"\")","v":""},{"$f":"IFERROR(IF(T213=\"\",\"\",VLOOKUP(T213,P212:R219,3,FALSE)),\"\")","v":""},null,2,null,{"$f":"IF(D213=\"\",\"\",IFERROR(VLOOKUP(B213,Events!B:L,11,FALSE),Y212))","v":""}," "," ",{"$f":"IFERROR(VLOOKUP(AA:AA,'Masters Convertion'!F:G,2,FALSE),\"\")","v":""},"",{"$f":"IF('Gala Name'!C$4=\"No\",\"\",IFERROR(RANK(N213,N213:N220,1),\"\"))","v":""}]
[{"$f":"IF(J214=\"\",\"\",B212)","v":""},null,null,3,{"$f":"IF(D214=\"\",\"\",IF(VLOOKUP(D214,Teams!$B$3:$C$10,2,FALSE)=\"\",\"\",VLOOKUP(D214,Teams!$B$3:$C$10,2,FALSE)))","v":""},null,null,{"$f":"IF(G214=\"\",\"\",YEAR('Gala Name'!$C$9)-YEAR(G214))","v":""},"",null,"",{"$f":"IF(OR(J214=\"\",J214=\"DSQ\"),\"\",IF(OR(J214=J212,J214=J213,J214=J215,J214=J216,J214=J217,J214=J218,J214=J219),\"Enter Placings\",\"\"))","v":""},"","",null,{"$f":"IF(L214<>\"\",L214,IF(OR(J214=\"DNF\",J214=\"DSQ\"),0,IF(N214=\"\",\"\",RANK(N214,N212:N219,1))))","v":""},{"$f":"IF(P214=\"\",0,IF(P214=0,0,VLOOKUP(P:P,Points!B:C,2,FALSE)))","v":0},3,null,{"$f":"IF(P220>2.9,3,\"\")","v":""},{"$f":"IFERROR(IF(T214=\"\",\"\",VLOOKUP(T214,P212:R219,3,FALSE)),\"\")","v":""},null,3,null,{"$f":"IF(D214=\"\",\"\",IFERROR(VLOOKUP(B214,Events!B:L,11,FALSE),Y213))","v":""}," "," ",{"$f":"IFERROR(VLOOKUP(AA:AA,'Masters Convertion'!F:G,2,FALSE),\"\")","v":""},"",{"$f":"IF('Gala Name'!C$4=\"No\",\"\",IFERROR(RANK(N214,N214:N221,1),\"\"))","v":""}]
[{"$f":"IF(J215=\"\",\"\",B212)","v":""},null,null,4,{"$f":"IF(D215=\"\",\"\",IF(VLOOKUP(D215,Teams!$B$3:$C$10,2,FALSE)=\"\",\"\",VLOOKUP(D215,Teams!$B$3:$C$10,2,FALSE)))","v":""},null,null,{"$f":"IF(G215=\"\",\"\",YEAR('Gala Name'!$C$9)-YEAR(G215))","v":""},"",null,"",{"$f":"IF(OR(J215=\"\",J215=\"DSQ\"),\"\",IF(OR(J215=J212,J215=J213,J215=J214,J215=J216,J215=J217,J215=J218,J215=J219),\"Enter Placings\",\"\"))","v":""},"","",null,{"$f":"IF(L215<>\"\",L215,IF(OR(J215=\"DNF\",J215=\"DSQ\"),0,IF(N215=\"\",\"\",RANK(N215,N212:N219,1))))","v":""},{"$f":"IF(P215=\"\",0,IF(P215=0,0,VLOOKUP(P:P,Points!B:C,2,FALSE)))","v":0},4,null,{"$f":"IF(P220>3.9,4,\"\")","v":""},{"$f":"IFERROR(IF(T215=\"\",\"\",VLOOKUP(T215,P212:R219,3,FALSE)),\"\")","v":""},null,4,null,{"$f":"IF(D215=\"\",\"\",IFERROR(VLOOKUP(B215,Events!B:L,11,FALSE),Y214))","v":""}," "," ",{"$f":"IFERROR(VLOOKUP(AA:AA,'Masters Convertion'!F:G,2,FALSE),\"\")","v":""},"",{"$f":"IF('Gala Name'!C$4=\"No\",\"\",IFERROR(RANK(N215,N215:N222,1),\"\"))","v":""}]
[{"$f":"IF(J216=\"\",\"\",B212)","v":""},null,null,5,{"$f":"IF(D216=\"\",\"\",IF(VLOOKUP(D216,Teams!$B$3:$C$10,2,FALSE)=\"\",\"\",VLOOKUP(D216,Teams!$B$3:$C$10,2,FALSE)))","v":""},null,null,{"$f":"IF(G216=\"\",\"\",YEAR('Gala Name'!$C$9)-YEAR(G216))","v":""},"",null,"",{"$f":"IF(OR(J216=\"\",J216=\"DSQ\"),\"\",IF(OR(J216=J213,J216=J214,J216=J215,J216=J217,J216=J218,J216=J219,J216=J212),\"Enter Placings\",\"\"))","v":""},"","",null,{"$f":"IF(L216<>\"\",L216,IF(OR(J216=\"DNF\",J216=\"DSQ\"),0,IF(N216=\"\",\"\",RANK(N216,N212:N219,1))))","v":""},{"$f":"IF(P216=\"\",0,IF(P216=0,0,VLOOKUP(P:P,Points!B:C,2,FALSE)))","v":0},5,null,{"$f":"IF(P220>4.9,5,\"\")","v":""},{"$f":"IFERROR(IF(T216=\"\",\"\",VLOOKUP(T216,P212:R219,3,FALSE)),\"\")","v":""},null,5,null,{"$f":"IF(D216=\"\",\"\",IFERROR(VLOOKUP(B216,Events!B:L,11,FALSE),Y215))","v":""}," "," ",{"$f":"IFERROR(VLOOKUP(AA:AA,'Masters Convertion'!F:G,2,FALSE),\"\")","v":""},"",{"$f":"IF('Gala Name'!C$4=\"No\",\"\",IFERROR(RANK(N216,N216:N223,1),\"\"))","v":""}]
[{"$f":"IF(J217=\"\",\"\",B212)","v":""},null,null,6,{"$f":"IF(D217=\"\",\"\",IF(VLOOKUP(D217,Teams!$B$3:$C$10,2,FALSE)=\"\",\"\",VLOOKUP(D217,Teams!$B$3:$C$10,2,FALSE)))","v":""},null,null,{"$f":"IF(G217=\"\",\"\",YEAR('Gala Name'!$C$9)-YEAR(G217))","v":""},"",null,"",{"$f":"IF(OR(J217=\"\",J217=\"DSQ\"),\"\",IF(OR(J217=J214,J217=J215,J217=J216,J217=J218,J217=J219,J217=J213,J217=J212),\"Enter Placings\",\"\"))","v":""},"","",null,{"$f":"IF(L217<>\"\",L217,IF(OR(J217=\"DNF\",J217=\"DSQ\"),0,IF(N217=\"\",\"\",RANK(N217,N212:N219,1))))","v":""},{"$f":"IF(P217=\"\",0,IF(P217=0,0,VLOOKUP(P:P,Points!B:C,2,FALSE)))","v":0},6,null,{"$f":"IF(P220>5.9,6,\"\")","v":""},{"$f":"IFERROR(IF(T217=\"\",\"\",VLOOKUP(T217,P212:R219,3,FALSE)),\"\")","v":""},null,6,null,{"$f":"IF(D217=\"\",\"\",IFERROR(VLOOKUP(B217,Events!B:L,11,FALSE),Y216))","v":""}," "," ",{"$f":"IFERROR(VLOOKUP(AA:AA,'Masters Convertion'!F:G,2,FALSE),\"\")","v":""},"",{"$f":"IF('Gala Name'!C$4=\"No\",\"\",IFERROR(RANK(N217,N217:N224,1),\"\"))","v":""}]
[{"$f":"IF(J218=\"\",\"\",B212)","v":""},null,null,7,{"$f":"IF(D218=\"\",\"\",IF(VLOOKUP(D218,Teams!$B$3:$C$10,2,FALSE)=\"\",\"\",VLOOKUP(D218,Teams!$B$3:$C$10,2,FALSE)))","v":""},null,null,{"$f":"IF(G218=\"\",\"\",YEAR('Gala Name'!$C$9)-YEAR(G218))","v":""},"",null,{"$f":"IF(J218=\"DSQ\",\"Enter Reason\",\"\")","v":""},{"$f":"IF(OR(J218=\"\",J218=\"DSQ\"),\"\",IF(OR(J218=J215,J218=J216,J218=J217,J218=J219,J218=J212,J218=J213,J218=J214),\"Enter Placings\",\"\"))","v":""},"","",null,{"$f":"IF(L218<>\"\",L218,IF(OR(J218=\"DNF\",J218=\"DSQ\"),0,IF(N218=\"\",\"\",RANK(N218,N212:N219,1))))","v":""},{"$f":"IF(P218=\"\",0,IF(P218=0,0,VLOOKUP(P:P,Points!B:C,2,FALSE)))","v":0},7,null,{"$f":"IF(P220>6.9,7,\"\")","v":""},{"$f":"IFERROR(IF(T218=\"\",\"\",VLOOKUP(T218,P212:R219,3,FALSE)),\"\")","v":""},null,7,null,{"$f":"IF(D218=\"\",\"\",IFERROR(VLOOKUP(B218,Events!B:L,11,FALSE),Y217))","v":""}," "," ",{"$f":"IFERROR(VLOOKUP(AA:AA,'Masters Convertion'!F:G,2,FALSE),\"\")","v":""},"",{"$f":"IF('Gala Name'!C$4=\"No\",\"\",IFERROR(RANK(N218,N218:N225,1),\"\"))","v":""}]
[{"$f":"IF(J219=\"\",\"\",B212)","v":""},null,null,8,{"$f":"IF(D219=\"\",\"\",IF(VLOOKUP(D219,Teams!$B$3:$C$10,2,FALSE)=\"\",\"\",VLOOKUP(D219,Teams!$B$3:$C$10,2,FALSE)))","v":""},null,null,{"$f":"IF(G219=\"\",\"\",YEAR('Gala Name'!$C$9)-YEAR(G219))","v":""},"",null,"",{"$f":"IF(OR(J219=\"\",J219=\"DSQ\"),\"\",IF(OR(J219=J216,J219=J217,J219=J218,J219=J212,J219=J213,J219=J214,J219=J215),\"Enter Placings\",\"\"))","v":""},"","",null,{"$f":"IF(L219<>\"\",L219,IF(OR(J219=\"DNF\",J219=\"DSQ\"),0,IF(N219=\"\",\"\",RANK(N219,N212:N219,1))))","v":""},{"$f":"IF(P219=\"\",0,IF(P219=0,0,VLOOKUP(P:P,Points!B:C,2,FALSE)))","v":0},8,null,{"$f":"IF(P220>7.9,8,\"\")","v":""},{"$f":"IFERROR(IF(T219=\"\",\"\",VLOOKUP(T219,P212:R219,3,FALSE)),\"\")","v":""},null,8,null,{"$f":"IF(D219=\"\",\"\",IFERROR(VLOOKUP(B219,Events!B:L,11,FALSE),Y218))","v":""}," "," ",{"$f":"IFERROR(VLOOKUP(AA:AA,'Masters Convertion'!F:G,2,FALSE),\"\")","v":""},"",{"$f":"IF('Gala Name'!C$4=\"No\",\"\",IFERROR(RANK(N219,N219:N226,1),\"\"))","v":""}]
[null,null,null,null,null,null,null,null,null,null,null,null,"","",null,{"$f":"MAX(P212:P219)","v":0},null,null,null,null,null,null,"*"]
[{"$f":"IF(J221=\"\",\"\",B221)","v":""},{"$f":"B212+1","v":25},{"$f":"IF(D221=1,VLOOKUP(B221,Events!B:H,6,FALSE)&VLOOKUP(B221,Events!B:H,7,FALSE),\"\")","v":"   "},1,{"$f":"IF(D221=\"\",\"\",IF(VLOOKUP(D221,Teams!$B$3:$C$10,2,FALSE)=\"\",\"\",VLOOKUP(D221,Teams!$B$3:$C$10,2,FALSE)))","v":""},null,null,{"$f":"IF(G221=\"\",\"\",YEAR('Gala Name'!$C$9)-YEAR(G221))","v":""},"",null,"",{"$f":"IF(OR(J221=\"\",J221=\"DSQ\"),\"\",IF(OR(J221=J222,J221=J223,J221=J224,J221=J225,J221=J226,J221=J227,J221=J228),\"Enter Placings\",\"\"))","v":""},"","",null,{"$f":"IF(L221<>\"\",L221,IF(OR(J221=\"DNF\",J221=\"DSQ\"),0,IF(N221=\"\",\"\",RANK(N221,N221:N228,1))))","v":""},{"$f":"IF(P221=\"\",0,IF(P221=0,0,VLOOKUP(P:P,Points!B:C,2,FALSE)))","v":0},{"$f":"D221","v":1},null,{"$f":"IF(P229>0.9,1,\"\")","v":""},{"$f":"IFERROR(IF(T221=\"\",\"\",VLOOKUP(T221,P221:R228,3,FALSE)),\"\")","v":""},null,1,null,{"$f":"IF(D221=\"\",\"\",IFERROR(VLOOKUP(B221,Events!B:L,11,FALSE),Y220))","v":""}," "," ",{"$f":"IFERROR(VLOOKUP(AA:AA,'Masters Convertion'!F:G,2,FALSE),\"\")","v":""},"",{"$f":"IF('Gala Name'!C$4=\"No\",\"\",IFERROR(RANK(N221,N221:N228,1),\"\"))","v":""}]
[{"$f":"IF(J222=\"\",\"\",B221)","v":""},null,null,2,{"$f":"IF(D222=\"\",\"\",IF(VLOOKUP(D222,Teams!$B$3:$C$10,2,FALSE)=\"\",\"\",VLOOKUP(D222,Teams!$B$3:$C$10,2,FALSE)))","v":""},null,null,{"$f":"IF(G222=\"\",\"\",YEAR('Gala Name'!$C$9)-YEAR(G222))","v":""},"",null,"",{"$f":"IF(OR(J222=\"\",J222=\"DSQ\"),\"\",IF(OR(J222=J221,J222=J223,J222=J224,J222=J225,J222=J226,J222=J227,J222=J228),\"Enter Placings\",\"\"))","v":""},"","",null,{"$f":"IF(L222<>\"\",L222,IF(OR(J222=\"DNF\",J222=\"DSQ\"),0,IF(N222=\"\",\"\",RANK(N222,N221:N228,1))))","v":""},{"$f":"IF(P222=\"\",0,IF(P222=0,0,VLOOKUP(P:P,Points!B:C,2,FALSE)))","v":0},2,null,{"$f":"IF(P229>1.9,2,\"\")","v":""},{"$f":"IFERROR(IF(T222=\"\",\"\",VLOOKUP(T222,P221:R228,3,FALSE)),\"\")","v":""},null,2,null,{"$f":"IF(D222=\"\",\"\",IFERROR(VLOOKUP(B222,Events!B:L,11,FALSE),Y221))","v":""}," "," ",{"$f":"IFERROR(VLOOKUP(AA:AA,'Masters Convertion'!F:G,2,FALSE),\"\")","v":""},"",{"$f":"IF('Gala Name'!C$4=\"No\",\"\",IFERROR(RANK(N222,N222:N229,1),\"\"))","v":""}]
[{"$f":"IF(J223=\"\",\"\",B221)","v":""},null,null,3,{"$f":"IF(D223=\"\",\"\",IF(VLOOKUP(D223,Teams!$B$3:$C$10,2,FALSE)=\"\",\"\",VLOOKUP(D223,Teams!$B$3:$C$10,2,FALSE)))","v":""},null,null,{"$f":"IF(G223=\"\",\"\",YEAR('Gala Name'!$C$9)-YEAR(G223))","v":""},"",null,"",{"$f":"IF(OR(J223=\"\",J223=\"DSQ\"),\"\",IF(OR(J223=J221,J223=J222,J223=J224,J223=J225,J223=J226,J223=J227,J223=J228),\"Enter Placings\",\"\"))","v":""},"","",null,{"$f":"IF(L223<>\"\",L223,IF(OR(J223=\"DNF\",J223=\"DSQ\"),0,IF(N223=\"\",\"\",RANK(N223,N221:N228,1))))","v":""},{"$f":"IF(P223=\"\",0,IF(P223=0,0,VLOOKUP(P:P,Points!B:C,2,FALSE)))","v":0},3,null,{"$f":"IF(P229>2.9,3,\"\")","v":""},{"$f":"IFERROR(IF(T223=\"\",\"\",VLOOKUP(T223,P221:R228,3,FALSE)),\"\")","v":""},null,3,null,{"$f":"IF(D223=\"\",\"\",IFERROR(VLOOKUP(B223,Events!B:L,11,FALSE),Y222))","v":""}," "," ",{"$f":"IFERROR(VLOOKUP(AA:AA,'Masters Convertion'!F:G,2,FALSE),\"\")","v":""},"",{"$f":"IF('Gala Name'!C$4=\"No\",\"\",IFERROR(RANK(N223,N223:N230,1),\"\"))","v":""}]
[{"$f":"IF(J224=\"\",\"\",B221)","v":""},null,null,4,{"$f":"IF(D224=\"\",\"\",IF(VLOOKUP(D224,Teams!$B$3:$C$10,2,FALSE)=\"\",\"\",VLOOKUP(D224,Teams!$B$3:$C$10,2,FALSE)))","v":""},null,null,{"$f":"IF(G224=\"\",\"\",YEAR('Gala Name'!$C$9)-YEAR(G224))","v":""},"",null,"",{"$f":"IF(OR(J224=\"\",J224=\"DSQ\"),\"\",IF(OR(J224=J221,J224=J222,J224=J223,J224=J225,J224=J226,J224=J227,J224=J228),\"Enter Placings\",\"\"))","v":""},"","",null,{"$f":"IF(L224<>\"\",L224,IF(OR(J224=\"DNF\",J224=\"DSQ\"),0,IF(N224=\"\",\"\",RANK(N224,N221:N228,1))))","v":""},{"$f":"IF(P224=\"\",0,IF(P224=0,0,VLOOKUP(P:P,Points!B:C,2,FALSE)))","v":0},4,null,{"$f":"IF(P229>3.9,4,\"\")","v":""},{"$f":"IFERROR(IF(T224=\"\",\"\",VLOOKUP(T224,P221:R228,3,FALSE)),\"\")","v":""},null,4,null,{"$f":"IF(D224=\"\",\"\",IFERROR(VLOOKUP(B224,Events!B:L,11,FALSE),Y223))","v":""}," "," ",{"$f":"IFERROR(VLOOKUP(AA:AA,'Masters Convertion'!F:G,2,FALSE),\"\")","v":""},"",{"$f":"IF('Gala Name'!C$4=\"No\",\"\",IFERROR(RANK(N224,N224:N231,1),\"\"))","v":""}]
[{"$f":"IF(J225=\"\",\"\",B221)","v":""},null,null,5,{"$f":"IF(D225=\"\",\"\",IF(VLOOKUP(D225,Teams!$B$3:$C$10,2,FALSE)=\"\",\"\",VLOOKUP(D225,Teams!$B$3:$C$10,2,FALSE)))","v":""},null,null,{"$f":"IF(G225=\"\",\"\",YEAR('Gala Name'!$C$9)-YEAR(G225))","v":""},"",null,"",{"$f":"IF(OR(J225=\"\",J225=\"DSQ\"),\"\",IF(OR(J225=J222,J225=J223,J225=J224,J225=J226,J225=J227,J225=J228,J225=J221),\"Enter Placings\",\"\"))","v":""},"","",null,{"$f":"IF(L225<>\"\",L225,IF(OR(J225=\"DNF\",J225=\"DSQ\"),0,IF(N225=\"\",\"\",RANK(N225,N221:N228,1))))","v":""},{"$f":"IF(P225=\"\",0,IF(P225=0,0,VLOOKUP(P:P,Points!B:C,2,FALSE)))","v":0},5,null,{"$f":"IF(P229>4.9,5,\"\")","v":""},{"$f":"IFERROR(IF(T225=\"\",\"\",VLOOKUP(T225,P221:R228,3,FALSE)),\"\")","v":""},null,5,null,{"$f":"IF(D225=\"\",\"\",IFERROR(VLOOKUP(B225,Events!B:L,11,FALSE),Y224))","v":""}," "," ",{"$f":"IFERROR(VLOOKUP(AA:AA,'Masters Convertion'!F:G,2,FALSE),\"\")","v":""},"",{"$f":"IF('Gala Name'!C$4=\"No\",\"\",IFERROR(RANK(N225,N225:N232,1),\"\"))","v":""}]
[{"$f":"IF(J226=\"\",\"\",B221)","v":""},null,null,6,{"$f":"IF(D226=\"\",\"\",IF(VLOOKUP(D226,Teams!$B$3:$C$10,2,FALSE)=\"\",\"\",VLOOKUP(D226,Teams!$B$3:$C$10,2,FALSE)))","v":""},null,null,{"$f":"IF(G226=\"\",\"\",YEAR('Gala Name'!$C$9)-YEAR(G226))","v":""},"",null,"",{"$f":"IF(OR(J226=\"\",J226=\"DSQ\"),\"\",IF(OR(J226=J223,J226=J224,J226=J225,J226=J227,J226=J228,J226=J222,J226=J221),\"Enter Placings\",\"\"))","v":""},"","",null,{"$f":"IF(L226<>\"\",L226,IF(OR(J226=\"DNF\",J226=\"DSQ\"),0,IF(N226=\"\",\"\",RANK(N226,N221:N228,1))))","v":""},{"$f":"IF(P226=\"\",0,IF(P226=0,0,VLOOKUP(P:P,Points!B:C,2,FALSE)))","v":0},6,null,{"$f":"IF(P229>5.9,6,\"\")","v":""},{"$f":"IFERROR(IF(T226=\"\",\"\",VLOOKUP(T226,P221:R228,3,FALSE)),\"\")","v":""},null,6,null,{"$f":"IF(D226=\"\",\"\",IFERROR(VLOOKUP(B226,Events!B:L,11,FALSE),Y225))","v":""}," "," ",{"$f":"IFERROR(VLOOKUP(AA:AA,'Masters Convertion'!F:G,2,FALSE),\"\")","v":""},"",{"$f":"IF('Gala Name'!C$4=\"No\",\"\",IFERROR(RANK(N226,N226:N233,1),\"\"))","v":""}]
[{"$f":"IF(J227=\"\",\"\",B221)","v":""},null,null,7,{"$f":"IF(D227=\"\",\"\",IF(VLOOKUP(D227,Teams!$B$3:$C$10,2,FALSE)=\"\",\"\",VLOOKUP(D227,Teams!$B$3:$C$10,2,FALSE)))","v":""},null,null,{"$f":"IF(G227=\"\",\"\",YEAR('Gala Name'!$C$9)-YEAR(G227))","v":""},"",null,"",{"$f":"IF(OR(J227=\"\",J227=\"DSQ\"),\"\",IF(OR(J227=J224,J227=J225,J227=J226,J227=J228,J227=J221,J227=J222,J227=J223),\"Enter Placings\",\"\"))","v":""},"","",null,{"$f":"IF(L227<>\"\",L227,IF(OR(J227=\"DNF\",J227=\"DSQ\"),0,IF(N227=\"\",\"\",RANK(N227,N221:N228,1))))","v":""},{"$f":"IF(P227=\"\",0,IF(P227=0,0,VLOOKUP(P:P,Points!B:C,2,FALSE)))","v":0},7,null,{"$f":"IF(P229>6.9,7,\"\")","v":""},{"$f":"IFERROR(IF(T227=\"\",\"\",VLOOKUP(T227,P221:R228,3,FALSE)),\"\")","v":""},null,7,null,{"$f":"IF(D227=\"\",\"\",IFERROR(VLOOKUP(B227,Events!B:L,11,FALSE),Y226))","v":""}," "," ",{"$f":"IFERROR(VLOOKUP(AA:AA,'Masters Convertion'!F:G,2,FALSE),\"\")","v":""},"",{"$f":"IF('Gala Name'!C$4=\"No\",\"\",IFERROR(RANK(N227,N227:N234,1),\"\"))","v":""}]
[{"$f":"IF(J228=\"\",\"\",B221)","v":""},null,null,8,{"$f":"IF(D228=\"\",\"\",IF(VLOOKUP(D228,Teams!$B$3:$C$10,2,FALSE)=\"\",\"\",VLOOKUP(D228,Teams!$B$3:$C$10,2,FALSE)))","v":""},null,null,{"$f":"IF(G228=\"\",\"\",YEAR('Gala Name'!$C$9)-YEAR(G228))","v":""},"",null,"",{"$f":"IF(OR(J228=\"\",J228=\"DSQ\"),\"\",IF(OR(J228=J225,J228=J226,J228=J227,J228=J221,J228=J222,J228=J223,J228=J224),\"Enter Placings\",\"\"))","v":""},"","",null,{"$f":"IF(L228<>\"\",L228,IF(OR(J228=\"DNF\",J228=\"DSQ\"),0,IF(N228=\"\",\"\",RANK(N228,N221:N228,1))))","v":""},{"$f":"IF(P228=\"\",0,IF(P228=0,0,VLOOKUP(P:P,Points!B:C,2,FALSE)))","v":0},8,null,{"$f":"IF(P229>7.9,8,\"\")","v":""},{"$f":"IFERROR(IF(T228=\"\",\"\",VLOOKUP(T228,P221:R228,3,FALSE)),\"\")","v":""},null,8,null,{"$f":"IF(D228=\"\",\"\",IFERROR(VLOOKUP(B228,Events!B:L,11,FALSE),Y227))","v":""}," "," ",{"$f":"IFERROR(VLOOKUP(AA:AA,'Masters Convertion'!F:G,2,FALSE),\"\")","v":""},"",{"$f":"IF('Gala Name'!C$4=\"No\",\"\",IFERROR(RANK(N228,N228:N235,1),\"\"))","v":""}]
[null,null,null,null,null,null,null,null,null,null,null,null,"","",null,{"$f":"MAX(P221:P228)","v":0},null,null,null,null,null,null,"*"]
[{"$f":"IF(J230=\"\",\"\",B230)","v":""},{"$f":"B221+1","v":26},{"$f":"IF(D230=1,VLOOKUP(B230,Events!B:H,6,FALSE)&VLOOKUP(B230,Events!B:H,7,FALSE),\"\")","v":"   "},1,{"$f":"IF(D230=\"\",\"\",IF(VLOOKUP(D230,Teams!$B$3:$C$10,2,FALSE)=\"\",\"\",VLOOKUP(D230,Teams!$B$3:$C$10,2,FALSE)))","v":""},null,null,{"$f":"IF(G230=\"\",\"\",YEAR('Gala Name'!$C$9)-YEAR(G230))","v":""},"",null,"",{"$f":"IF(OR(J230=\"\",J230=\"DSQ\"),\"\",IF(OR(J230=J231,J230=J232,J230=J233,J230=J234,J230=J235,J230=J236,J230=J237),\"Enter Placings\",\"\"))","v":""},"","",null,{"$f":"IF(L230<>\"\",L230,IF(OR(J230=\"DNF\",J230=\"DSQ\"),0,IF(N230=\"\",\"\",RANK(N230,N230:N237,1))))","v":""},{"$f":"IF(P230=\"\",0,IF(P230=0,0,VLOOKUP(P:P,Points!B:C,2,FALSE)))","v":0},{"$f":"D230","v":1},null,{"$f":"IF(P238>0.9,1,\"\")","v":""},{"$f":"IFERROR(IF(T230=\"\",\"\",VLOOKUP(T230,P230:R237,3,FALSE)),\"\")","v":""},null,1,null,{"$f":"IF(D230=\"\",\"\",IFERROR(VLOOKUP(B230,Events!B:L,11,FALSE),Y229))","v":""}," "," ",{"$f":"IFERROR(VLOOKUP(AA:AA,'Masters Convertion'!F:G,2,FALSE),\"\")","v":""},"",{"$f":"IF('Gala Name'!C$4=\"No\",\"\",IFERROR(RANK(N230,N230:N237,1),\"\"))","v":""}]
[{"$f":"IF(J231=\"\",\"\",B230)","v":""},null,null,2,{"$f":"IF(D231=\"\",\"\",IF(VLOOKUP(D231,Teams!$B$3:$C$10,2,FALSE)=\"\",\"\",VLOOKUP(D231,Teams!$B$3:$C$10,2,FALSE)))","v":""},null,null,{"$f":"IF(G231=\"\",\"\",YEAR('Gala Name'!$C$9)-YEAR(G231))","v":""},"",null,"",{"$f":"IF(OR(J231=\"\",J231=\"DSQ\"),\"\",IF(OR(J231=J230,J231=J232,J231=J233,J231=J234,J231=J235,J231=J236,J231=J237),\"Enter Placings\",\"\"))","v":""},"","",null,{"$f":"IF(L231<>\"\",L231,IF(OR(J231=\"DNF\",J231=\"DSQ\"),0,IF(N231=\"\",\"\",RANK(N231,N230:N237,1))))","v":""},{"$f":"IF(P231=\"\",0,IF(P231=0,0,VLOOKUP(P:P,Points!B:C,2,FALSE)))","v":0},2,null,{"$f":"IF(P238>1.9,2,\"\")","v":""},{"$f":"IFERROR(IF(T231=\"\",\"\",VLOOKUP(T231,P230:R237,3,FALSE)),\"\")","v":""},null,2,null,{"$f":"IF(D231=\"\",\"\",IFERROR(VLOOKUP(B231,Events!B:L,11,FALSE),Y230))","v":""}," "," ",{"$f":"IFERROR(VLOOKUP(AA:AA,'Masters Convertion'!F:G,2,FALSE),\"\")","v":""},"",{"$f":"IF('Gala Name'!C$4=\"No\",\"\",IFERROR(RANK(N231,N231:N238,1),\"\"))","v":""}]
[{"$f":"IF(J232=\"\",\"\",B230)","v":""},null,null,3,{"$f":"IF(D232=\"\",\"\",IF(VLOOKUP(D232,Teams!$B$3:$C$10,2,FALSE)=\"\",\"\",VLOOKUP(D232,Teams!$B$3:$C$10,2,FALSE)))","v":""},null,null,{"$f":"IF(G232=\"\",\"\",YEAR('Gala Name'!$C$9)-YEAR(G232))","v":""},"",null,"",{"$f":"IF(OR(J232=\"\",J232=\"DSQ\"),\"\",IF(OR(J232=J230,J232=J231,J232=J233,J232=J234,J232=J235,J232=J236,J232=J237),\"Enter Placings\",\"\"))","v":""},"","",null,{"$f":"IF(L232<>\"\",L232,IF(OR(J232=\"DNF\",J232=\"DSQ\"),0,IF(N232=\"\",\"\",RANK(N232,N230:N237,1))))","v":""},{"$f":"IF(P232=\"\",0,IF(P232=0,0,VLOOKUP(P:P,Points!B:C,2,FALSE)))","v":0},3,null,{"$f":"IF(P238>2.9,3,\"\")","v":""},{"$f":"IFERROR(IF(T232=\"\",\"\",VLOOKUP(T232,P230:R237,3,FALSE)),\"\")","v":""},null,3,null,{"$f":"IF(D232=\"\",\"\",IFERROR(VLOOKUP(B232,Events!B:L,11,FALSE),Y231))","v":""}," "," ",{"$f":"IFERROR(VLOOKUP(AA:AA,'Masters Convertion'!F:G,2,FALSE),\"\")","v":""},"",{"$f":"IF('Gala Name'!C$4=\"No\",\"\",IFERROR(RANK(N232,N232:N239,1),\"\"))","v":""}]
[{"$f":"IF(J233=\"\",\"\",B230)","v":""},null,null,4,{"$f":"IF(D233=\"\",\"\",IF(VLOOKUP(D233,Teams!$B$3:$C$10,2,FALSE)=\"\",\"\",VLOOKUP(D233,Teams!$B$3:$C$10,2,FALSE)))","v":""},null,null,{"$f":"IF(G233=\"\",\"\",YEAR('Gala Name'!$C$9)-YEAR(G233))","v":""},"",null,"",{"$f":"IF(OR(J233=\"\",J233=\"DSQ\"),\"\",IF(OR(J233=J230,J233=J231,J233=J232,J233=J234,J233=J235,J233=J236,J233=J237),\"Enter Placings\",\"\"))","v":""},"","",null,{"$f":"IF(L233<>\"\",L233,IF(OR(J233=\"DNF\",J233=\"DSQ\"),0,IF(N233=\"\",\"\",RANK(N233,N230:N237,1))))","v":""},{"$f":"IF(P233=\"\",0,IF(P233=0,0,VLOOKUP(P:P,Points!B:C,2,FALSE)))","v":0},4,null,{"$f":"IF(P238>3.9,4,\"\")","v":""},{"$f":"IFERROR(IF(T233=\"\",\"\",VLOOKUP(T233,P230:R237,3,FALSE)),\"\")","v":""},null,4,null,{"$f":"IF(D233=\"\",\"\",IFERROR(VLOOKUP(B233,Events!B:L,11,FALSE),Y232))","v":""}," "," ",{"$f":"IFERROR(VLOOKUP(AA:AA,'Masters Convertion'!F:G,2,FALSE),\"\")","v":""},"",{"$f":"IF('Gala Name'!C$4=\"No\",\"\",IFERROR(RANK(N233,N233:N240,1),\"\"))","v":""}]
[{"$f":"IF(J234=\"\",\"\",B230)","v":""},null,null,5,{"$f":"IF(D234=\"\",\"\",IF(VLOOKUP(D234,Teams!$B$3:$C$10,2,FALSE)=\"\",\"\",VLOOKUP(D234,Teams!$B$3:$C$10,2,FALSE)))","v":""},null,null,{"$f":"IF(G234=\"\",\"\",YEAR('Gala Name'!$C$9)-YEAR(G234))","v":""},"",null,"",{"$f":"IF(OR(J234=\"\",J234=\"DSQ\"),\"\",IF(OR(J234=J231,J234=J232,J234=J233,J234=J235,J234=J236,J234=J237,J234=J230),\"Enter Placings\",\"\"))","v":""},"","",null,{"$f":"IF(L234<>\"\",L234,IF(OR(J234=\"DNF\",J234=\"DSQ\"),0,IF(N234=\"\",\"\",RANK(N234,N230:N237,1))))","v":""},{"$f":"IF(P234=\"\",0,IF(P234=0,0,VLOOKUP(P:P,Points!B:C,2,FALSE)))","v":0},5,null,{"$f":"IF(P238>4.9,5,\"\")","v":""},{"$f":"IFERROR(IF(T234=\"\",\"\",VLOOKUP(T234,P230:R237,3,FALSE)),\"\")","v":""},null,5,null,{"$f":"IF(D234=\"\",\"\",IFERROR(VLOOKUP(B234,Events!B:L,11,FALSE),Y233))","v":""}," "," ",{"$f":"IFERROR(VLOOKUP(AA:AA,'Masters Convertion'!F:G,2,FALSE),\"\")","v":""},"",{"$f":"IF('Gala Name'!C$4=\"No\",\"\",IFERROR(RANK(N234,N234:N241,1),\"\"))","v":""}]
[{"$f":"IF(J235=\"\",\"\",B230)","v":""},null,null,6,{"$f":"IF(D235=\"\",\"\",IF(VLOOKUP(D235,Teams!$B$3:$C$10,2,FALSE)=\"\",\"\",VLOOKUP(D235,Teams!$B$3:$C$10,2,FALSE)))","v":""},null,null,{"$f":"IF(G235=\"\",\"\",YEAR('Gala Name'!$C$9)-YEAR(G235))","v":""},"",null,"",{"$f":"IF(OR(J235=\"\",J235=\"DSQ\"),\"\",IF(OR(J235=J232,J235=J233,J235=J234,J235=J236,J235=J237,J235=J231,J235=J230),\"Enter Placings\",\"\"))","v":""},"","",null,{"$f":"IF(L235<>\"\",L235,IF(OR(J235=\"DNF\",J235=\"DSQ\"),0,IF(N235=\"\",\"\",RANK(N235,N230:N237,1))))","v":""},{"$f":"IF(P235=\"\",0,IF(P235=0,0,VLOOKUP(P:P,Points!B:C,2,FALSE)))","v":0},6,null,{"$f":"IF(P238>5.9,6,\"\")","v":""},{"$f":"IFERROR(IF(T235=\"\",\"\",VLOOKUP(T235,P230:R237,3,FALSE)),\"\")","v":""},null,6,null,{"$f":"IF(D235=\"\",\"\",IFERROR(VLOOKUP(B235,Events!B:L,11,FALSE),Y234))","v":""}," "," ",{"$f":"IFERROR(VLOOKUP(AA:AA,'Masters Convertion'!F:G,2,FALSE),\"\")","v":""},"",{"$f":"IF('Gala Name'!C$4=\"No\",\"\",IFERROR(RANK(N235,N235:N242,1),\"\"))","v":""}]
[{"$f":"IF(J236=\"\",\"\",B230)","v":""},null,null,7,{"$f":"IF(D236=\"\",\"\",IF(VLOOKUP(D236,Teams!$B$3:$C$10,2,FALSE)=\"\",\"\",VLOOKUP(D236,Teams!$B$3:$C$10,2,FALSE)))","v":""},null,null,{"$f":"IF(G236=\"\",\"\",YEAR('Gala Name'!$C$9)-YEAR(G236))","v":""},"",null,"",{"$f":"IF(OR(J236=\"\",J236=\"DSQ\"),\"\",IF(OR(J236=J233,J236=J234,J236=J235,J236=J237,J236=J230,J236=J231,J236=J232),\"Enter Placings\",\"\"))","v":""},"","",null,{"$f":"IF(L236<>\"\",L236,IF(OR(J236=\"DNF\",J236=\"DSQ\"),0,IF(N236=\"\",\"\",RANK(N236,N230:N237,1))))","v":""},{"$f":"IF(P236=\"\",0,IF(P236=0,0,VLOOKUP(P:P,Points!B:C,2,FALSE)))","v":0},7,null,{"$f":"IF(P238>6.9,7,\"\")","v":""},{"$f":"IFERROR(IF(T236=\"\",\"\",VLOOKUP(T236,P230:R237,3,FALSE)),\"\")","v":""},null,7,null,{"$f":"IF(D236=\"\",\"\",IFERROR(VLOOKUP(B236,Events!B:L,11,FALSE),Y235))","v":""}," "," ",{"$f":"IFERROR(VLOOKUP(AA:AA,'Masters Convertion'!F:G,2,FALSE),\"\")","v":""},"",{"$f":"IF('Gala Name'!C$4=\"No\",\"\",IFERROR(RANK(N236,N236:N243,1),\"\"))","v":""}]
[{"$f":"IF(J237=\"\",\"\",B230)","v":""},null,null,8,{"$f":"IF(D237=\"\",\"\",IF(VLOOKUP(D237,Teams!$B$3:$C$10,2,FALSE)=\"\",\"\",VLOOKUP(D237,Teams!$B$3:$C$10,2,FALSE)))","v":""},null,null,{"$f":"IF(G237=\"\",\"\",YEAR('Gala Name'!$C$9)-YEAR(G237))","v":""},"",null,"",{"$f":"IF(OR(J237=\"\",J237=\"DSQ\"),\"\",IF(OR(J237=J234,J237=J235,J237=J236,J237=J230,J237=J231,J237=J232,J237=J233),\"Enter Placings\",\"\"))","v":""},"","",null,{"$f":"IF(L237<>\"\",L237,IF(OR(J237=\"DNF\",J237=\"DSQ\"),0,IF(N237=\"\",\"\",RANK(N237,N230:N237,1))))","v":""},{"$f":"IF(P237=\"\",0,IF(P237=0,0,VLOOKUP(P:P,Points!B:C,2,FALSE)))","v":0},8,null,{"$f":"IF(P238>7.9,8,\"\")","v":""},{"$f":"IFERROR(IF(T237=\"\",\"\",VLOOKUP(T237,P230:R237,3,FALSE)),\"\")","v":""},null,8,null,{"$f":"IF(D237=\"\",\"\",IFERROR(VLOOKUP(B237,Events!B:L,11,FALSE),Y236))","v":""}," "," ",{"$f":"IFERROR(VLOOKUP(AA:AA,'Masters Convertion'!F:G,2,FALSE),\"\")","v":""},"",{"$f":"IF('Gala Name'!C$4=\"No\",\"\",IFERROR(RANK(N237,N237:N244,1),\"\"))","v":""}]
[null,null,null,null,null,null,null,null,null,null,null,null,"","",null,{"$f":"MAX(P230:P237)","v":0},null,null,null,null,null,null,"*"]
[{"$f":"IF(J239=\"\",\"\",B239)","v":""},{"$f":"B230+1","v":27},{"$f":"IF(D239=1,VLOOKUP(B239,Events!B:H,6,FALSE)&VLOOKUP(B239,Events!B:H,7,FALSE),\"\")","v":"   "},1,{"$f":"IF(D239=\"\",\"\",IF(VLOOKUP(D239,Teams!$B$3:$C$10,2,FALSE)=\"\",\"\",VLOOKUP(D239,Teams!$B$3:$C$10,2,FALSE)))","v":""},null,null,{"$f":"IF(G239=\"\",\"\",YEAR('Gala Name'!$C$9)-YEAR(G239))","v":""},"",null,"",{"$f":"IF(OR(J239=\"\",J239=\"DSQ\"),\"\",IF(OR(J239=J240,J239=J241,J239=J242,J239=J243,J239=J244,J239=J245,J239=J246),\"Enter Placings\",\"\"))","v":""},"","",null,{"$f":"IF(L239<>\"\",L239,IF(OR(J239=\"DNF\",J239=\"DSQ\"),0,IF(N239=\"\",\"\",RANK(N239,N239:N246,1))))","v":""},{"$f":"IF(P239=\"\",0,IF(P239=0,0,VLOOKUP(P:P,Points!B:C,2,FALSE)))","v":0},{"$f":"D239","v":1},null,{"$f":"IF(P247>0.9,1,\"\")","v":""},{"$f":"IFERROR(IF(T239=\"\",\"\",VLOOKUP(T239,P239:R246,3,FALSE)),\"\")","v":""},null,1,null,{"$f":"IF(D239=\"\",\"\",IFERROR(VLOOKUP(B239,Events!B:L,11,FALSE),Y238))","v":""}," "," ",{"$f":"IFERROR(VLOOKUP(AA:AA,'Masters Convertion'!F:G,2,FALSE),\"\")","v":""},"",{"$f":"IF('Gala Name'!C$4=\"No\",\"\",IFERROR(RANK(N239,N239:N246,1),\"\"))","v":""}]
[{"$f":"IF(J240=\"\",\"\",B239)","v":""},null,null,2,{"$f":"IF(D240=\"\",\"\",IF(VLOOKUP(D240,Teams!$B$3:$C$10,2,FALSE)=\"\",\"\",VLOOKUP(D240,Teams!$B$3:$C$10,2,FALSE)))","v":""},null,null,{"$f":"IF(G240=\"\",\"\",YEAR('Gala Name'!$C$9)-YEAR(G240))","v":""},"",null,"",{"$f":"IF(OR(J240=\"\",J240=\"DSQ\"),\"\",IF(OR(J240=J239,J240=J241,J240=J242,J240=J243,J240=J244,J240=J245,J240=J246),\"Enter Placings\",\"\"))","v":""},"","",null,{"$f":"IF(L240<>\"\",L240,IF(OR(J240=\"DNF\",J240=\"DSQ\"),0,IF(N240=\"\",\"\",RANK(N240,N239:N246,1))))","v":""},{"$f":"IF(P240=\"\",0,IF(P240=0,0,VLOOKUP(P:P,Points!B:C,2,FALSE)))","v":0},2,null,{"$f":"IF(P247>1.9,2,\"\")","v":""},{"$f":"IFERROR(IF(T240=\"\",\"\",VLOOKUP(T240,P239:R246,3,FALSE)),\"\")","v":""},null,2,null,{"$f":"IF(D240=\"\",\"\",IFERROR(VLOOKUP(B240,Events!B:L,11,FALSE),Y239))","v":""}," "," ",{"$f":"IFERROR(VLOOKUP(AA:AA,'Masters Convertion'!F:G,2,FALSE),\"\")","v":""},"",{"$f":"IF('Gala Name'!C$4=\"No\",\"\",IFERROR(RANK(N240,N240:N247,1),\"\"))","v":""}]
[{"$f":"IF(J241=\"\",\"\",B239)","v":""},null,null,3,{"$f":"IF(D241=\"\",\"\",IF(VLOOKUP(D241,Teams!$B$3:$C$10,2,FALSE)=\"\",\"\",VLOOKUP(D241,Teams!$B$3:$C$10,2,FALSE)))","v":""},null,null,{"$f":"IF(G241=\"\",\"\",YEAR('Gala Name'!$C$9)-YEAR(G241))","v":""},"",null,"",{"$f":"IF(OR(J241=\"\",J241=\"DSQ\"),\"\",IF(OR(J241=J239,J241=J240,J241=J242,J241=J243,J241=J244,J241=J245,J241=J246),\"Enter Placings\",\"\"))","v":""},"","",null,{"$f":"IF(L241<>\"\",L241,IF(OR(J241=\"DNF\",J241=\"DSQ\"),0,IF(N241=\"\",\"\",RANK(N241,N239:N246,1))))","v":""},{"$f":"IF(P241=\"\",0,IF(P241=0,0,VLOOKUP(P:P,Points!B:C,2,FALSE)))","v":0},3,null,{"$f":"IF(P247>2.9,3,\"\")","v":""},{"$f":"IFERROR(IF(T241=\"\",\"\",VLOOKUP(T241,P239:R246,3,FALSE)),\"\")","v":""},null,3,null,{"$f":"IF(D241=\"\",\"\",IFERROR(VLOOKUP(B241,Events!B:L,11,FALSE),Y240))","v":""}," "," ",{"$f":"IFERROR(VLOOKUP(AA:AA,'Masters Convertion'!F:G,2,FALSE),\"\")","v":""},"",{"$f":"IF('Gala Name'!C$4=\"No\",\"\",IFERROR(RANK(N241,N241:N248,1),\"\"))","v":""}]
[{"$f":"IF(J242=\"\",\"\",B239)","v":""},null,null,4,{"$f":"IF(D242=\"\",\"\",IF(VLOOKUP(D242,Teams!$B$3:$C$10,2,FALSE)=\"\",\"\",VLOOKUP(D242,Teams!$B$3:$C$10,2,FALSE)))","v":""},null,null,{"$f":"IF(G242=\"\",\"\",YEAR('Gala Name'!$C$9)-YEAR(G242))","v":""},"",null,"",{"$f":"IF(OR(J242=\"\",J242=\"DSQ\"),\"\",IF(OR(J242=J239,J242=J240,J242=J241,J242=J243,J242=J244,J242=J245,J242=J246),\"Enter Placings\",\"\"))","v":""},"","",null,{"$f":"IF(L242<>\"\",L242,IF(OR(J242=\"DNF\",J242=\"DSQ\"),0,IF(N242=\"\",\"\",RANK(N242,N239:N246,1))))","v":""},{"$f":"IF(P242=\"\",0,IF(P242=0,0,VLOOKUP(P:P,Points!B:C,2,FALSE)))","v":0},4,null,{"$f":"IF(P247>3.9,4,\"\")","v":""},{"$f":"IFERROR(IF(T242=\"\",\"\",VLOOKUP(T242,P239:R246,3,FALSE)),\"\")","v":""},null,4,null,{"$f":"IF(D242=\"\",\"\",IFERROR(VLOOKUP(B242,Events!B:L,11,FALSE),Y241))","v":""}," "," ",{"$f":"IFERROR(VLOOKUP(AA:AA,'Masters Convertion'!F:G,2,FALSE),\"\")","v":""},"",{"$f":"IF('Gala Name'!C$4=\"No\",\"\",IFERROR(RANK(N242,N242:N249,1),\"\"))","v":""}]
[{"$f":"IF(J243=\"\",\"\",B239)","v":""},null,null,5,{"$f":"IF(D243=\"\",\"\",IF(VLOOKUP(D243,Teams!$B$3:$C$10,2,FALSE)=\"\",\"\",VLOOKUP(D243,Teams!$B$3:$C$10,2,FALSE)))","v":""},null,null,{"$f":"IF(G243=\"\",\"\",YEAR('Gala Name'!$C$9)-YEAR(G243))","v":""},"",null,"",{"$f":"IF(OR(J243=\"\",J243=\"DSQ\"),\"\",IF(OR(J243=J240,J243=J241,J243=J242,J243=J244,J243=J245,J243=J246,J243=J239),\"Enter Placings\",\"\"))","v":""},"","",null,{"$f":"IF(L243<>\"\",L243,IF(OR(J243=\"DNF\",J243=\"DSQ\"),0,IF(N243=\"\",\"\",RANK(N243,N239:N246,1))))","v":""},{"$f":"IF(P243=\"\",0,IF(P243=0,0,VLOOKUP(P:P,Points!B:C,2,FALSE)))","v":0},5,null,{"$f":"IF(P247>4.9,5,\"\")","v":""},{"$f":"IFERROR(IF(T243=\"\",\"\",VLOOKUP(T243,P239:R246,3,FALSE)),\"\")","v":""},null,5,null,{"$f":"IF(D243=\"\",\"\",IFERROR(VLOOKUP(B243,Events!B:L,11,FALSE),Y242))","v":""}," "," ",{"$f":"IFERROR(VLOOKUP(AA:AA,'Masters Convertion'!F:G,2,FALSE),\"\")","v":""},"",{"$f":"IF('Gala Name'!C$4=\"No\",\"\",IFERROR(RANK(N243,N243:N250,1),\"\"))","v":""}]
[{"$f":"IF(J244=\"\",\"\",B239)","v":""},null,null,6,{"$f":"IF(D244=\"\",\"\",IF(VLOOKUP(D244,Teams!$B$3:$C$10,2,FALSE)=\"\",\"\",VLOOKUP(D244,Teams!$B$3:$C$10,2,FALSE)))","v":""},null,null,{"$f":"IF(G244=\"\",\"\",YEAR('Gala Name'!$C$9)-YEAR(G244))","v":""},"",null,"",{"$f":"IF(OR(J244=\"\",J244=\"DSQ\"),\"\",IF(OR(J244=J241,J244=J242,J244=J243,J244=J245,J244=J246,J244=J240,J244=J239),\"Enter Placings\",\"\"))","v":""},"","",null,{"$f":"IF(L244<>\"\",L244,IF(OR(J244=\"DNF\",J244=\"DSQ\"),0,IF(N244=\"\",\"\",RANK(N244,N239:N246,1))))","v":""},{"$f":"IF(P244=\"\",0,IF(P244=0,0,VLOOKUP(P:P,Points!B:C,2,FALSE)))","v":0},6,null,{"$f":"IF(P247>5.9,6,\"\")","v":""},{"$f":"IFERROR(IF(T244=\"\",\"\",VLOOKUP(T244,P239:R246,3,FALSE)),\"\")","v":""},null,6,null,{"$f":"IF(D244=\"\",\"\",IFERROR(VLOOKUP(B244,Events!B:L,11,FALSE),Y243))","v":""}," "," ",{"$f":"IFERROR(VLOOKUP(AA:AA,'Masters Convertion'!F:G,2,FALSE),\"\")","v":""},"",{"$f":"IF('Gala Name'!C$4=\"No\",\"\",IFERROR(RANK(N244,N244:N251,1),\"\"))","v":""}]
[{"$f":"IF(J245=\"\",\"\",B239)","v":""},null,null,7,{"$f":"IF(D245=\"\",\"\",IF(VLOOKUP(D245,Teams!$B$3:$C$10,2,FALSE)=\"\",\"\",VLOOKUP(D245,Teams!$B$3:$C$10,2,FALSE)))","v":""},null,null,{"$f":"IF(G245=\"\",\"\",YEAR('Gala Name'!$C$9)-YEAR(G245))","v":""},"",null,"",{"$f":"IF(OR(J245=\"\",J245=\"DSQ\"),\"\",IF(OR(J245=J242,J245=J243,J245=J244,J245=J246,J245=J239,J245=J240,J245=J241),\"Enter Placings\",\"\"))","v":""},"","",null,{"$f":"IF(L245<>\"\",L245,IF(OR(J245=\"DNF\",J245=\"DSQ\"),0,IF(N245=\"\",\"\",RANK(N245,N239:N246,1))))","v":""},{"$f":"IF(P245=\"\",0,IF(P245=0,0,VLOOKUP(P:P,Points!B:C,2,FALSE)))","v":0},7,null,{"$f":"IF(P247>6.9,7,\"\")","v":""},{"$f":"IFERROR(IF(T245=\"\",\"\",VLOOKUP(T245,P239:R246,3,FALSE)),\"\")","v":""},null,7,null,{"$f":"IF(D245=\"\",\"\",IFERROR(VLOOKUP(B245,Events!B:L,11,FALSE),Y244))","v":""}," "," ",{"$f":"IFERROR(VLOOKUP(AA:AA,'Masters Convertion'!F:G,2,FALSE),\"\")","v":""},"",{"$f":"IF('Gala Name'!C$4=\"No\",\"\",IFERROR(RANK(N245,N245:N252,1),\"\"))","v":""}]
[{"$f":"IF(J246=\"\",\"\",B239)","v":""},null,null,8,{"$f":"IF(D246=\"\",\"\",IF(VLOOKUP(D246,Teams!$B$3:$C$10,2,FALSE)=\"\",\"\",VLOOKUP(D246,Teams!$B$3:$C$10,2,FALSE)))","v":""},null,null,{"$f":"IF(G246=\"\",\"\",YEAR('Gala Name'!$C$9)-YEAR(G246))","v":""},"",null,"",{"$f":"IF(OR(J246=\"\",J246=\"DSQ\"),\"\",IF(OR(J246=J243,J246=J244,J246=J245,J246=J239,J246=J240,J246=J241,J246=J242),\"Enter Placings\",\"\"))","v":""},"","",null,{"$f":"IF(L246<>\"\",L246,IF(OR(J246=\"DNF\",J246=\"DSQ\"),0,IF(N246=\"\",\"\",RANK(N246,N239:N246,1))))","v":""},{"$f":"IF(P246=\"\",0,IF(P246=0,0,VLOOKUP(P:P,Points!B:C,2,FALSE)))","v":0},8,null,{"$f":"IF(P247>7.9,8,\"\")","v":""},{"$f":"IFERROR(IF(T246=\"\",\"\",VLOOKUP(T246,P239:R246,3,FALSE)),\"\")","v":""},null,8,null,{"$f":"IF(D246=\"\",\"\",IFERROR(VLOOKUP(B246,Events!B:L,11,FALSE),Y245))","v":""}," "," ",{"$f":"IFERROR(VLOOKUP(AA:AA,'Masters Convertion'!F:G,2,FALSE),\"\")","v":""},"",{"$f":"IF('Gala Name'!C$4=\"No\",\"\",IFERROR(RANK(N246,N246:N253,1),\"\"))","v":""}]
[null,null,null,null,null,null,null,null,null,null,null,null,"","",null,{"$f":"MAX(P239:P246)","v":0},null,null,null,null,null,null,"*"]
[{"$f":"IF(J248=\"\",\"\",B248)","v":""},{"$f":"B239+1","v":28},{"$f":"IF(D248=1,VLOOKUP(B248,Events!B:H,6,FALSE)&VLOOKUP(B248,Events!B:H,7,FALSE),\"\")","v":"   "},1,{"$f":"IF(D248=\"\",\"\",IF(VLOOKUP(D248,Teams!$B$3:$C$10,2,FALSE)=\"\",\"\",VLOOKUP(D248,Teams!$B$3:$C$10,2,FALSE)))","v":""},null,null,{"$f":"IF(G248=\"\",\"\",YEAR('Gala Name'!$C$9)-YEAR(G248))","v":""},"",null,"",{"$f":"IF(OR(J248=\"\",J248=\"DSQ\"),\"\",IF(OR(J248=J249,J248=J250,J248=J251,J248=J252,J248=J253,J248=J254,J248=J255),\"Enter Placings\",\"\"))","v":""},"","",null,{"$f":"IF(L248<>\"\",L248,IF(OR(J248=\"DNF\",J248=\"DSQ\"),0,IF(N248=\"\",\"\",RANK(N248,N248:N255,1))))","v":""},{"$f":"IF(P248=\"\",0,IF(P248=0,0,VLOOKUP(P:P,Points!B:C,2,FALSE)))","v":0},{"$f":"D248","v":1},null,{"$f":"IF(P256>0.9,1,\"\")","v":""},{"$f":"IFERROR(IF(T248=\"\",\"\",VLOOKUP(T248,P248:R255,3,FALSE)),\"\")","v":""},null,1,null,{"$f":"IF(D248=\"\",\"\",IFERROR(VLOOKUP(B248,Events!B:L,11,FALSE),Y247))","v":""}," "," ",{"$f":"IFERROR(VLOOKUP(AA:AA,'Masters Convertion'!F:G,2,FALSE),\"\")","v":""},"",{"$f":"IF('Gala Name'!C$4=\"No\",\"\",IFERROR(RANK(N248,N248:N255,1),\"\"))","v":""}]
[{"$f":"IF(J249=\"\",\"\",B248)","v":""},null,null,2,{"$f":"IF(D249=\"\",\"\",IF(VLOOKUP(D249,Teams!$B$3:$C$10,2,FALSE)=\"\",\"\",VLOOKUP(D249,Teams!$B$3:$C$10,2,FALSE)))","v":""},null,null,{"$f":"IF(G249=\"\",\"\",YEAR('Gala Name'!$C$9)-YEAR(G249))","v":""},"",null,"",{"$f":"IF(OR(J249=\"\",J249=\"DSQ\"),\"\",IF(OR(J249=J248,J249=J250,J249=J251,J249=J252,J249=J253,J249=J254,J249=J255),\"Enter Placings\",\"\"))","v":""},"","",null,{"$f":"IF(L249<>\"\",L249,IF(OR(J249=\"DNF\",J249=\"DSQ\"),0,IF(N249=\"\",\"\",RANK(N249,N248:N255,1))))","v":""},{"$f":"IF(P249=\"\",0,IF(P249=0,0,VLOOKUP(P:P,Points!B:C,2,FALSE)))","v":0},2,null,{"$f":"IF(P256>1.9,2,\"\")","v":""},{"$f":"IFERROR(IF(T249=\"\",\"\",VLOOKUP(T249,P248:R255,3,FALSE)),\"\")","v":""},null,2,null,{"$f":"IF(D249=\"\",\"\",IFERROR(VLOOKUP(B249,Events!B:L,11,FALSE),Y248))","v":""}," "," ",{"$f":"IFERROR(VLOOKUP(AA:AA,'Masters Convertion'!F:G,2,FALSE),\"\")","v":""},"",{"$f":"IF('Gala Name'!C$4=\"No\",\"\",IFERROR(RANK(N249,N249:N256,1),\"\"))","v":""}]
[{"$f":"IF(J250=\"\",\"\",B248)","v":""},null,null,3,{"$f":"IF(D250=\"\",\"\",IF(VLOOKUP(D250,Teams!$B$3:$C$10,2,FALSE)=\"\",\"\",VLOOKUP(D250,Teams!$B$3:$C$10,2,FALSE)))","v":""},null,null,{"$f":"IF(G250=\"\",\"\",YEAR('Gala Name'!$C$9)-YEAR(G250))","v":""},"",null,"",{"$f":"IF(OR(J250=\"\",J250=\"DSQ\"),\"\",IF(OR(J250=J248,J250=J249,J250=J251,J250=J252,J250=J253,J250=J254,J250=J255),\"Enter Placings\",\"\"))","v":""},"","",null,{"$f":"IF(L250<>\"\",L250,IF(OR(J250=\"DNF\",J250=\"DSQ\"),0,IF(N250=\"\",\"\",RANK(N250,N248:N255,1))))","v":""},{"$f":"IF(P250=\"\",0,IF(P250=0,0,VLOOKUP(P:P,Points!B:C,2,FALSE)))","v":0},3,null,{"$f":"IF(P256>2.9,3,\"\")","v":""},{"$f":"IFERROR(IF(T250=\"\",\"\",VLOOKUP(T250,P248:R255,3,FALSE)),\"\")","v":""},null,3,null,{"$f":"IF(D250=\"\",\"\",IFERROR(VLOOKUP(B250,Events!B:L,11,FALSE),Y249))","v":""}," "," ",{"$f":"IFERROR(VLOOKUP(AA:AA,'Masters Convertion'!F:G,2,FALSE),\"\")","v":""},"",{"$f":"IF('Gala Name'!C$4=\"No\",\"\",IFERROR(RANK(N250,N250:N257,1),\"\"))","v":""}]
[{"$f":"IF(J251=\"\",\"\",B248)","v":""},null,null,4,{"$f":"IF(D251=\"\",\"\",IF(VLOOKUP(D251,Teams!$B$3:$C$10,2,FALSE)=\"\",\"\",VLOOKUP(D251,Teams!$B$3:$C$10,2,FALSE)))","v":""},null,null,{"$f":"IF(G251=\"\",\"\",YEAR('Gala Name'!$C$9)-YEAR(G251))","v":""},"",null,"",{"$f":"IF(OR(J251=\"\",J251=\"DSQ\"),\"\",IF(OR(J251=J248,J251=J249,J251=J250,J251=J252,J251=J253,J251=J254,J251=J255),\"Enter Placings\",\"\"))","v":""},"","",null,{"$f":"IF(L251<>\"\",L251,IF(OR(J251=\"DNF\",J251=\"DSQ\"),0,IF(N251=\"\",\"\",RANK(N251,N248:N255,1))))","v":""},{"$f":"IF(P251=\"\",0,IF(P251=0,0,VLOOKUP(P:P,Points!B:C,2,FALSE)))","v":0},4,null,{"$f":"IF(P256>3.9,4,\"\")","v":""},{"$f":"IFERROR(IF(T251=\"\",\"\",VLOOKUP(T251,P248:R255,3,FALSE)),\"\")","v":""},null,4,null,{"$f":"IF(D251=\"\",\"\",IFERROR(VLOOKUP(B251,Events!B:L,11,FALSE),Y250))","v":""}," "," ",{"$f":"IFERROR(VLOOKUP(AA:AA,'Masters Convertion'!F:G,2,FALSE),\"\")","v":""},"",{"$f":"IF('Gala Name'!C$4=\"No\",\"\",IFERROR(RANK(N251,N251:N258,1),\"\"))","v":""}]
[{"$f":"IF(J252=\"\",\"\",B248)","v":""},null,null,5,{"$f":"IF(D252=\"\",\"\",IF(VLOOKUP(D252,Teams!$B$3:$C$10,2,FALSE)=\"\",\"\",VLOOKUP(D252,Teams!$B$3:$C$10,2,FALSE)))","v":""},null,null,{"$f":"IF(G252=\"\",\"\",YEAR('Gala Name'!$C$9)-YEAR(G252))","v":""},"",null,"",{"$f":"IF(OR(J252=\"\",J252=\"DSQ\"),\"\",IF(OR(J252=J249,J252=J250,J252=J251,J252=J253,J252=J254,J252=J255,J252=J248),\"Enter Placings\",\"\"))","v":""},"","",null,{"$f":"IF(L252<>\"\",L252,IF(OR(J252=\"DNF\",J252=\"DSQ\"),0,IF(N252=\"\",\"\",RANK(N252,N248:N255,1))))","v":""},{"$f":"IF(P252=\"\",0,IF(P252=0,0,VLOOKUP(P:P,Points!B:C,2,FALSE)))","v":0},5,null,{"$f":"IF(P256>4.9,5,\"\")","v":""},{"$f":"IFERROR(IF(T252=\"\",\"\",VLOOKUP(T252,P248:R255,3,FALSE)),\"\")","v":""},null,5,null,{"$f":"IF(D252=\"\",\"\",IFERROR(VLOOKUP(B252,Events!B:L,11,FALSE),Y251))","v":""}," "," ",{"$f":"IFERROR(VLOOKUP(AA:AA,'Masters Convertion'!F:G,2,FALSE),\"\")","v":""},"",{"$f":"IF('Gala Name'!C$4=\"No\",\"\",IFERROR(RANK(N252,N252:N259,1),\"\"))","v":""}]
[{"$f":"IF(J253=\"\",\"\",B248)","v":""},null,null,6,{"$f":"IF(D253=\"\",\"\",IF(VLOOKUP(D253,Teams!$B$3:$C$10,2,FALSE)=\"\",\"\",VLOOKUP(D253,Teams!$B$3:$C$10,2,FALSE)))","v":""},null,null,{"$f":"IF(G253=\"\",\"\",YEAR('Gala Name'!$C$9)-YEAR(G253))","v":""},"",null,"",{"$f":"IF(OR(J253=\"\",J253=\"DSQ\"),\"\",IF(OR(J253=J250,J253=J251,J253=J252,J253=J254,J253=J255,J253=J249,J253=J248),\"Enter Placings\",\"\"))","v":""},"","",null,{"$f":"IF(L253<>\"\",L253,IF(OR(J253=\"DNF\",J253=\"DSQ\"),0,IF(N253=\"\",\"\",RANK(N253,N248:N255,1))))","v":""},{"$f":"IF(P253=\"\",0,IF(P253=0,0,VLOOKUP(P:P,Points!B:C,2,FALSE)))","v":0},6,null,{"$f":"IF(P256>5.9,6,\"\")","v":""},{"$f":"IFERROR(IF(T253=\"\",\"\",VLOOKUP(T253,P248:R255,3,FALSE)),\"\")","v":""},null,6,null,{"$f":"IF(D253=\"\",\"\",IFERROR(VLOOKUP(B253,Events!B:L,11,FALSE),Y252))","v":""}," "," ",{"$f":"IFERROR(VLOOKUP(AA:AA,'Masters Convertion'!F:G,2,FALSE),\"\")","v":""},"",{"$f":"IF('Gala Name'!C$4=\"No\",\"\",IFERROR(RANK(N253,N253:N260,1),\"\"))","v":""}]
[{"$f":"IF(J254=\"\",\"\",B248)","v":""},null,null,7,{"$f":"IF(D254=\"\",\"\",IF(VLOOKUP(D254,Teams!$B$3:$C$10,2,FALSE)=\"\",\"\",VLOOKUP(D254,Teams!$B$3:$C$10,2,FALSE)))","v":""},null,null,{"$f":"IF(G254=\"\",\"\",YEAR('Gala Name'!$C$9)-YEAR(G254))","v":""},"",null,"",{"$f":"IF(OR(J254=\"\",J254=\"DSQ\"),\"\",IF(OR(J254=J251,J254=J252,J254=J253,J254=J255,J254=J248,J254=J249,J254=J250),\"Enter Placings\",\"\"))","v":""},"","",null,{"$f":"IF(L254<>\"\",L254,IF(OR(J254=\"DNF\",J254=\"DSQ\"),0,IF(N254=\"\",\"\",RANK(N254,N248:N255,1))))","v":""},{"$f":"IF(P254=\"\",0,IF(P254=0,0,VLOOKUP(P:P,Points!B:C,2,FALSE)))","v":0},7,null,{"$f":"IF(P256>6.9,7,\"\")","v":""},{"$f":"IFERROR(IF(T254=\"\",\"\",VLOOKUP(T254,P248:R255,3,FALSE)),\"\")","v":""},null,7,null,{"$f":"IF(D254=\"\",\"\",IFERROR(VLOOKUP(B254,Events!B:L,11,FALSE),Y253))","v":""}," "," ",{"$f":"IFERROR(VLOOKUP(AA:AA,'Masters Convertion'!F:G,2,FALSE),\"\")","v":""},"",{"$f":"IF('Gala Name'!C$4=\"No\",\"\",IFERROR(RANK(N254,N254:N261,1),\"\"))","v":""}]
[{"$f":"IF(J255=\"\",\"\",B248)","v":""},null,null,8,{"$f":"IF(D255=\"\",\"\",IF(VLOOKUP(D255,Teams!$B$3:$C$10,2,FALSE)=\"\",\"\",VLOOKUP(D255,Teams!$B$3:$C$10,2,FALSE)))","v":""},null,null,{"$f":"IF(G255=\"\",\"\",YEAR('Gala Name'!$C$9)-YEAR(G255))","v":""},"",null,"",{"$f":"IF(OR(J255=\"\",J255=\"DSQ\"),\"\",IF(OR(J255=J252,J255=J253,J255=J254,J255=J248,J255=J249,J255=J250,J255=J251),\"Enter Placings\",\"\"))","v":""},"","",null,{"$f":"IF(L255<>\"\",L255,IF(OR(J255=\"DNF\",J255=\"DSQ\"),0,IF(N255=\"\",\"\",RANK(N255,N248:N255,1))))","v":""},{"$f":"IF(P255=\"\",0,IF(P255=0,0,VLOOKUP(P:P,Points!B:C,2,FALSE)))","v":0},8,null,{"$f":"IF(P256>7.9,8,\"\")","v":""},{"$f":"IFERROR(IF(T255=\"\",\"\",VLOOKUP(T255,P248:R255,3,FALSE)),\"\")","v":""},null,8,null,{"$f":"IF(D255=\"\",\"\",IFERROR(VLOOKUP(B255,Events!B:L,11,FALSE),Y254))","v":""}," "," ",{"$f":"IFERROR(VLOOKUP(AA:AA,'Masters Convertion'!F:G,2,FALSE),\"\")","v":""},"",{"$f":"IF('Gala Name'!C$4=\"No\",\"\",IFERROR(RANK(N255,N255:N262,1),\"\"))","v":""}]
[null,null,null,null,null,null,null,null,null,null,null,null,"","",null,{"$f":"MAX(P248:P255)","v":0},null,null,null,null,null,null,"*"]
[{"$f":"IF(J257=\"\",\"\",B257)","v":""},{"$f":"B248+1","v":29},{"$f":"IF(D257=1,VLOOKUP(B257,Events!B:H,6,FALSE)&VLOOKUP(B257,Events!B:H,7,FALSE),\"\")","v":"   "},1,{"$f":"IF(D257=\"\",\"\",IF(VLOOKUP(D257,Teams!$B$3:$C$10,2,FALSE)=\"\",\"\",VLOOKUP(D257,Teams!$B$3:$C$10,2,FALSE)))","v":""},null,null,{"$f":"IF(G257=\"\",\"\",YEAR('Gala Name'!$C$9)-YEAR(G257))","v":""},"",null,"",{"$f":"IF(OR(J257=\"\",J257=\"DSQ\"),\"\",IF(OR(J257=J258,J257=J259,J257=J260,J257=J261,J257=J262,J257=J263,J257=J264),\"Enter Placings\",\"\"))","v":""},"","",null,{"$f":"IF(L257<>\"\",L257,IF(OR(J257=\"DNF\",J257=\"DSQ\"),0,IF(N257=\"\",\"\",RANK(N257,N257:N264,1))))","v":""},{"$f":"IF(P257=\"\",0,IF(P257=0,0,VLOOKUP(P:P,Points!B:C,2,FALSE)))","v":0},{"$f":"D257","v":1},null,{"$f":"IF(P265>0.9,1,\"\")","v":""},{"$f":"IFERROR(IF(T257=\"\",\"\",VLOOKUP(T257,P257:R264,3,FALSE)),\"\")","v":""},null,1,null,{"$f":"IF(D257=\"\",\"\",IFERROR(VLOOKUP(B257,Events!B:L,11,FALSE),Y256))","v":""}," "," ",{"$f":"IFERROR(VLOOKUP(AA:AA,'Masters Convertion'!F:G,2,FALSE),\"\")","v":""},"",{"$f":"IF('Gala Name'!C$4=\"No\",\"\",IFERROR(RANK(N257,N257:N264,1),\"\"))","v":""}]
[{"$f":"IF(J258=\"\",\"\",B257)","v":""},null,null,2,{"$f":"IF(D258=\"\",\"\",IF(VLOOKUP(D258,Teams!$B$3:$C$10,2,FALSE)=\"\",\"\",VLOOKUP(D258,Teams!$B$3:$C$10,2,FALSE)))","v":""},null,null,{"$f":"IF(G258=\"\",\"\",YEAR('Gala Name'!$C$9)-YEAR(G258))","v":""},"",null,"",{"$f":"IF(OR(J258=\"\",J258=\"DSQ\"),\"\",IF(OR(J258=J257,J258=J259,J258=J260,J258=J261,J258=J262,J258=J263,J258=J264),\"Enter Placings\",\"\"))","v":""},"","",null,{"$f":"IF(L258<>\"\",L258,IF(OR(J258=\"DNF\",J258=\"DSQ\"),0,IF(N258=\"\",\"\",RANK(N258,N257:N264,1))))","v":""},{"$f":"IF(P258=\"\",0,IF(P258=0,0,VLOOKUP(P:P,Points!B:C,2,FALSE)))","v":0},2,null,{"$f":"IF(P265>1.9,2,\"\")","v":""},{"$f":"IFERROR(IF(T258=\"\",\"\",VLOOKUP(T258,P257:R264,3,FALSE)),\"\")","v":""},null,2,null,{"$f":"IF(D258=\"\",\"\",IFERROR(VLOOKUP(B258,Events!B:L,11,FALSE),Y257))","v":""}," "," ",{"$f":"IFERROR(VLOOKUP(AA:AA,'Masters Convertion'!F:G,2,FALSE),\"\")","v":""},"",{"$f":"IF('Gala Name'!C$4=\"No\",\"\",IFERROR(RANK(N258,N258:N265,1),\"\"))","v":""}]
[{"$f":"IF(J259=\"\",\"\",B257)","v":""},null,null,3,{"$f":"IF(D259=\"\",\"\",IF(VLOOKUP(D259,Teams!$B$3:$C$10,2,FALSE)=\"\",\"\",VLOOKUP(D259,Teams!$B$3:$C$10,2,FALSE)))","v":""},null,null,{"$f":"IF(G259=\"\",\"\",YEAR('Gala Name'!$C$9)-YEAR(G259))","v":""},"",null,"",{"$f":"IF(OR(J259=\"\",J259=\"DSQ\"),\"\",IF(OR(J259=J257,J259=J258,J259=J260,J259=J261,J259=J262,J259=J263,J259=J264),\"Enter Placings\",\"\"))","v":""},"","",null,{"$f":"IF(L259<>\"\",L259,IF(OR(J259=\"DNF\",J259=\"DSQ\"),0,IF(N259=\"\",\"\",RANK(N259,N257:N264,1))))","v":""},{"$f":"IF(P259=\"\",0,IF(P259=0,0,VLOOKUP(P:P,Points!B:C,2,FALSE)))","v":0},3,null,{"$f":"IF(P265>2.9,3,\"\")","v":""},{"$f":"IFERROR(IF(T259=\"\",\"\",VLOOKUP(T259,P257:R264,3,FALSE)),\"\")","v":""},null,3,null,{"$f":"IF(D259=\"\",\"\",IFERROR(VLOOKUP(B259,Events!B:L,11,FALSE),Y258))","v":""}," "," ",{"$f":"IFERROR(VLOOKUP(AA:AA,'Masters Convertion'!F:G,2,FALSE),\"\")","v":""},"",{"$f":"IF('Gala Name'!C$4=\"No\",\"\",IFERROR(RANK(N259,N259:N266,1),\"\"))","v":""}]
[{"$f":"IF(J260=\"\",\"\",B257)","v":""},null,null,4,{"$f":"IF(D260=\"\",\"\",IF(VLOOKUP(D260,Teams!$B$3:$C$10,2,FALSE)=\"\",\"\",VLOOKUP(D260,Teams!$B$3:$C$10,2,FALSE)))","v":""},null,null,{"$f":"IF(G260=\"\",\"\",YEAR('Gala Name'!$C$9)-YEAR(G260))","v":""},"",null,"",{"$f":"IF(OR(J260=\"\",J260=\"DSQ\"),\"\",IF(OR(J260=J257,J260=J258,J260=J259,J260=J261,J260=J262,J260=J263,J260=J264),\"Enter Placings\",\"\"))","v":""},"","",null,{"$f":"IF(L260<>\"\",L260,IF(OR(J260=\"DNF\",J260=\"DSQ\"),0,IF(N260=\"\",\"\",RANK(N260,N257:N264,1))))","v":""},{"$f":"IF(P260=\"\",0,IF(P260=0,0,VLOOKUP(P:P,Points!B:C,2,FALSE)))","v":0},4,null,{"$f":"IF(P265>3.9,4,\"\")","v":""},{"$f":"IFERROR(IF(T260=\"\",\"\",VLOOKUP(T260,P257:R264,3,FALSE)),\"\")","v":""},null,4,null,{"$f":"IF(D260=\"\",\"\",IFERROR(VLOOKUP(B260,Events!B:L,11,FALSE),Y259))","v":""}," "," ",{"$f":"IFERROR(VLOOKUP(AA:AA,'Masters Convertion'!F:G,2,FALSE),\"\")","v":""},"",{"$f":"IF('Gala Name'!C$4=\"No\",\"\",IFERROR(RANK(N260,N260:N267,1),\"\"))","v":""}]
[{"$f":"IF(J261=\"\",\"\",B257)","v":""},null,null,5,{"$f":"IF(D261=\"\",\"\",IF(VLOOKUP(D261,Teams!$B$3:$C$10,2,FALSE)=\"\",\"\",VLOOKUP(D261,Teams!$B$3:$C$10,2,FALSE)))","v":""},null,null,{"$f":"IF(G261=\"\",\"\",YEAR('Gala Name'!$C$9)-YEAR(G261))","v":""},"",null,"",{"$f":"IF(OR(J261=\"\",J261=\"DSQ\"),\"\",IF(OR(J261=J258,J261=J259,J261=J260,J261=J262,J261=J263,J261=J264,J261=J257),\"Enter Placings\",\"\"))","v":""},"","",null,{"$f":"IF(L261<>\"\",L261,IF(OR(J261=\"DNF\",J261=\"DSQ\"),0,IF(N261=\"\",\"\",RANK(N261,N257:N264,1))))","v":""},{"$f":"IF(P261=\"\",0,IF(P261=0,0,VLOOKUP(P:P,Points!B:C,2,FALSE)))","v":0},5,null,{"$f":"IF(P265>4.9,5,\"\")","v":""},{"$f":"IFERROR(IF(T261=\"\",\"\",VLOOKUP(T261,P257:R264,3,FALSE)),\"\")","v":""},null,5,null,{"$f":"IF(D261=\"\",\"\",IFERROR(VLOOKUP(B261,Events!B:L,11,FALSE),Y260))","v":""}," "," ",{"$f":"IFERROR(VLOOKUP(AA:AA,'Masters Convertion'!F:G,2,FALSE),\"\")","v":""},"",{"$f":"IF('Gala Name'!C$4=\"No\",\"\",IFERROR(RANK(N261,N261:N268,1),\"\"))","v":""}]
[{"$f":"IF(J262=\"\",\"\",B257)","v":""},null,null,6,{"$f":"IF(D262=\"\",\"\",IF(VLOOKUP(D262,Teams!$B$3:$C$10,2,FALSE)=\"\",\"\",VLOOKUP(D262,Teams!$B$3:$C$10,2,FALSE)))","v":""},null,null,{"$f":"IF(G262=\"\",\"\",YEAR('Gala Name'!$C$9)-YEAR(G262))","v":""},{"$f":"IF(IF(J262=\"DSQ\",PROPER(K262),PROPER(F262))=\"\",\"\",IF(J262=\"DSQ\",PROPER(K262),PROPER(F262)))","v":""},null,"",{"$f":"IF(OR(J262=\"\",J262=\"DSQ\"),\"\",IF(OR(J262=J259,J262=J260,J262=J261,J262=J263,J262=J264,J262=J258,J262=J257),\"Enter Placings\",\"\"))","v":""},{"$f":"IF(J262=\"\",\"\",UPPER(TEXT(J262,\"0 00.00\")))","v":""},{"$f":"IF(J262=\"DSQ\",999999,IF(J262=\"DNF\",999999,IF(J262=\"\",\"\",IF(LEFT(M262,1)=\"0\",RIGHT(M262,5)*1,LEFT(J262,1)*60+RIGHT(M262,5)*1))))","v":""},null,{"$f":"IF(L262<>\"\",L262,IF(OR(J262=\"DNF\",J262=\"DSQ\"),0,IF(N262=\"\",\"\",RANK(N262,N257:N264,1))))","v":""},{"$f":"IF(P262=\"\",0,IF(P262=0,0,VLOOKUP(P:P,Points!B:C,2,FALSE)))","v":0},6,null,{"$f":"IF(P265>5.9,6,\"\")","v":""},{"$f":"IFERROR(IF(T262=\"\",\"\",VLOOKUP(T262,P257:R264,3,FALSE)),\"\")","v":""},null,6,null,{"$f":"IF(D262=\"\",\"\",IFERROR(VLOOKUP(B262,Events!B:L,11,FALSE),Y261))","v":""}," ",{"$f":"Z262&Y262&H262","v":" "},{"$f":"IFERROR(VLOOKUP(AA:AA,'Masters Convertion'!F:G,2,FALSE),\"\")","v":""},"",{"$f":"IF('Gala Name'!C$4=\"No\",\"\",IFERROR(RANK(N262,N262:N269,1),\"\"))","v":""}]
[{"$f":"IF(J263=\"\",\"\",B257)","v":""},null,null,7,{"$f":"IF(D263=\"\",\"\",IF(VLOOKUP(D263,Teams!$B$3:$C$10,2,FALSE)=\"\",\"\",VLOOKUP(D263,Teams!$B$3:$C$10,2,FALSE)))","v":""},null,null,{"$f":"IF(G263=\"\",\"\",YEAR('Gala Name'!$C$9)-YEAR(G263))","v":""},"",null,"",{"$f":"IF(OR(J263=\"\",J263=\"DSQ\"),\"\",IF(OR(J263=J260,J263=J261,J263=J262,J263=J264,J263=J257,J263=J258,J263=J259),\"Enter Placings\",\"\"))","v":""},"","",null,{"$f":"IF(L263<>\"\",L263,IF(OR(J263=\"DNF\",J263=\"DSQ\"),0,IF(N263=\"\",\"\",RANK(N263,N257:N264,1))))","v":""},{"$f":"IF(P263=\"\",0,IF(P263=0,0,VLOOKUP(P:P,Points!B:C,2,FALSE)))","v":0},7,null,{"$f":"IF(P265>6.9,7,\"\")","v":""},{"$f":"IFERROR(IF(T263=\"\",\"\",VLOOKUP(T263,P257:R264,3,FALSE)),\"\")","v":""},null,7,null,{"$f":"IF(D263=\"\",\"\",IFERROR(VLOOKUP(B263,Events!B:L,11,FALSE),Y262))","v":""}," "," ",{"$f":"IFERROR(VLOOKUP(AA:AA,'Masters Convertion'!F:G,2,FALSE),\"\")","v":""},"",{"$f":"IF('Gala Name'!C$4=\"No\",\"\",IFERROR(RANK(N263,N263:N270,1),\"\"))","v":""}]
[{"$f":"IF(J264=\"\",\"\",B257)","v":""},null,null,8,{"$f":"IF(D264=\"\",\"\",IF(VLOOKUP(D264,Teams!$B$3:$C$10,2,FALSE)=\"\",\"\",VLOOKUP(D264,Teams!$B$3:$C$10,2,FALSE)))","v":""},null,null,{"$f":"IF(G264=\"\",\"\",YEAR('Gala Name'!$C$9)-YEAR(G264))","v":""},"",null,"",{"$f":"IF(OR(J264=\"\",J264=\"DSQ\"),\"\",IF(OR(J264=J261,J264=J262,J264=J263,J264=J257,J264=J258,J264=J259,J264=J260),\"Enter Placings\",\"\"))","v":""},"","",null,{"$f":"IF(L264<>\"\",L264,IF(OR(J264=\"DNF\",J264=\"DSQ\"),0,IF(N264=\"\",\"\",RANK(N264,N257:N264,1))))","v":""},{"$f":"IF(P264=\"\",0,IF(P264=0,0,VLOOKUP(P:P,Points!B:C,2,FALSE)))","v":0},8,null,{"$f":"IF(P265>7.9,8,\"\")","v":""},{"$f":"IFERROR(IF(T264=\"\",\"\",VLOOKUP(T264,P257:R264,3,FALSE)),\"\")","v":""},null,8,null,{"$f":"IF(D264=\"\",\"\",IFERROR(VLOOKUP(B264,Events!B:L,11,FALSE),Y263))","v":""}," "," ",{"$f":"IFERROR(VLOOKUP(AA:AA,'Masters Convertion'!F:G,2,FALSE),\"\")","v":""},{"$f":"IF(AB264=\"\",\"\",ROUNDDOWN(AB264*N264,2))","v":""},{"$f":"IF('Gala Name'!C$4=\"No\",\"\",IFERROR(RANK(N264,N264:N271,1),\"\"))","v":""}]
[null,null,null,null,null,null,null,null,null,null,null,null,"","",null,{"$f":"MAX(P257:P264)","v":0},null,null,null,null,null,null,"*"]
[{"$f":"IF(J266=\"\",\"\",B266)","v":""},{"$f":"B257+1","v":30},{"$f":"IF(D266=1,VLOOKUP(B266,Events!B:H,6,FALSE)&VLOOKUP(B266,Events!B:H,7,FALSE),\"\")","v":"   "},1,{"$f":"IF(D266=\"\",\"\",IF(VLOOKUP(D266,Teams!$B$3:$C$10,2,FALSE)=\"\",\"\",VLOOKUP(D266,Teams!$B$3:$C$10,2,FALSE)))","v":""},null,null,{"$f":"IF(G266=\"\",\"\",YEAR('Gala Name'!$C$9)-YEAR(G266))","v":""},"",null,"",{"$f":"IF(OR(J266=\"\",J266=\"DSQ\"),\"\",IF(OR(J266=J267,J266=J268,J266=J269,J266=J270,J266=J271,J266=J272,J266=J273),\"Enter Placings\",\"\"))","v":""},"","",null,{"$f":"IF(L266<>\"\",L266,IF(OR(J266=\"DNF\",J266=\"DSQ\"),0,IF(N266=\"\",\"\",RANK(N266,N266:N273,1))))","v":""},{"$f":"IF(P266=\"\",0,IF(P266=0,0,VLOOKUP(P:P,Points!B:C,2,FALSE)))","v":0},{"$f":"D266","v":1},null,{"$f":"IF(P274>0.9,1,\"\")","v":""},{"$f":"IFERROR(IF(T266=\"\",\"\",VLOOKUP(T266,P266:R273,3,FALSE)),\"\")","v":""},null,1,null,{"$f":"IF(D266=\"\",\"\",IFERROR(VLOOKUP(B266,Events!B:L,11,FALSE),Y265))","v":""}," "," ",{"$f":"IFERROR(VLOOKUP(AA:AA,'Masters Convertion'!F:G,2,FALSE),\"\")","v":""},"",{"$f":"IF('Gala Name'!C$4=\"No\",\"\",IFERROR(RANK(N266,N266:N273,1),\"\"))","v":""}]
[{"$f":"IF(J267=\"\",\"\",B266)","v":""},null,null,2,{"$f":"IF(D267=\"\",\"\",IF(VLOOKUP(D267,Teams!$B$3:$C$10,2,FALSE)=\"\",\"\",VLOOKUP(D267,Teams!$B$3:$C$10,2,FALSE)))","v":""},null,null,{"$f":"IF(G267=\"\",\"\",YEAR('Gala Name'!$C$9)-YEAR(G267))","v":""},"",null,"",{"$f":"IF(OR(J267=\"\",J267=\"DSQ\"),\"\",IF(OR(J267=J266,J267=J268,J267=J269,J267=J270,J267=J271,J267=J272,J267=J273),\"Enter Placings\",\"\"))","v":""},"","",null,{"$f":"IF(L267<>\"\",L267,IF(OR(J267=\"DNF\",J267=\"DSQ\"),0,IF(N267=\"\",\"\",RANK(N267,N266:N273,1))))","v":""},{"$f":"IF(P267=\"\",0,IF(P267=0,0,VLOOKUP(P:P,Points!B:C,2,FALSE)))","v":0},2,null,{"$f":"IF(P274>1.9,2,\"\")","v":""},{"$f":"IFERROR(IF(T267=\"\",\"\",VLOOKUP(T267,P266:R273,3,FALSE)),\"\")","v":""},null,2,null,{"$f":"IF(D267=\"\",\"\",IFERROR(VLOOKUP(B267,Events!B:L,11,FALSE),Y266))","v":""}," "," ",{"$f":"IFERROR(VLOOKUP(AA:AA,'Masters Convertion'!F:G,2,FALSE),\"\")","v":""},"",{"$f":"IF('Gala Name'!C$4=\"No\",\"\",IFERROR(RANK(N267,N267:N274,1),\"\"))","v":""}]
[{"$f":"IF(J268=\"\",\"\",B266)","v":""},null,null,3,{"$f":"IF(D268=\"\",\"\",IF(VLOOKUP(D268,Teams!$B$3:$C$10,2,FALSE)=\"\",\"\",VLOOKUP(D268,Teams!$B$3:$C$10,2,FALSE)))","v":""},null,null,{"$f":"IF(G268=\"\",\"\",YEAR('Gala Name'!$C$9)-YEAR(G268))","v":""},"",null,"",{"$f":"IF(OR(J268=\"\",J268=\"DSQ\"),\"\",IF(OR(J268=J266,J268=J267,J268=J269,J268=J270,J268=J271,J268=J272,J268=J273),\"Enter Placings\",\"\"))","v":""},"","",null,{"$f":"IF(L268<>\"\",L268,IF(OR(J268=\"DNF\",J268=\"DSQ\"),0,IF(N268=\"\",\"\",RANK(N268,N266:N273,1))))","v":""},{"$f":"IF(P268=\"\",0,IF(P268=0,0,VLOOKUP(P:P,Points!B:C,2,FALSE)))","v":0},3,null,{"$f":"IF(P274>2.9,3,\"\")","v":""},{"$f":"IFERROR(IF(T268=\"\",\"\",VLOOKUP(T268,P266:R273,3,FALSE)),\"\")","v":""},null,3,null,{"$f":"IF(D268=\"\",\"\",IFERROR(VLOOKUP(B268,Events!B:L,11,FALSE),Y267))","v":""}," "," ",{"$f":"IFERROR(VLOOKUP(AA:AA,'Masters Convertion'!F:G,2,FALSE),\"\")","v":""},"",{"$f":"IF('Gala Name'!C$4=\"No\",\"\",IFERROR(RANK(N268,N268:N275,1),\"\"))","v":""}]
[{"$f":"IF(J269=\"\",\"\",B266)","v":""},null,null,4,{"$f":"IF(D269=\"\",\"\",IF(VLOOKUP(D269,Teams!$B$3:$C$10,2,FALSE)=\"\",\"\",VLOOKUP(D269,Teams!$B$3:$C$10,2,FALSE)))","v":""},null,null,{"$f":"IF(G269=\"\",\"\",YEAR('Gala Name'!$C$9)-YEAR(G269))","v":""},"",null,"",{"$f":"IF(OR(J269=\"\",J269=\"DSQ\"),\"\",IF(OR(J269=J266,J269=J267,J269=J268,J269=J270,J269=J271,J269=J272,J269=J273),\"Enter Placings\",\"\"))","v":""},"","",null,{"$f":"IF(L269<>\"\",L269,IF(OR(J269=\"DNF\",J269=\"DSQ\"),0,IF(N269=\"\",\"\",RANK(N269,N266:N273,1))))","v":""},{"$f":"IF(P269=\"\",0,IF(P269=0,0,VLOOKUP(P:P,Points!B:C,2,FALSE)))","v":0},4,null,{"$f":"IF(P274>3.9,4,\"\")","v":""},{"$f":"IFERROR(IF(T269=\"\",\"\",VLOOKUP(T269,P266:R273,3,FALSE)),\"\")","v":""},null,4,null,{"$f":"IF(D269=\"\",\"\",IFERROR(VLOOKUP(B269,Events!B:L,11,FALSE),Y268))","v":""}," "," ",{"$f":"IFERROR(VLOOKUP(AA:AA,'Masters Convertion'!F:G,2,FALSE),\"\")","v":""},"",{"$f":"IF('Gala Name'!C$4=\"No\",\"\",IFERROR(RANK(N269,N269:N276,1),\"\"))","v":""}]
[{"$f":"IF(J270=\"\",\"\",B266)","v":""},null,null,5,{"$f":"IF(D270=\"\",\"\",IF(VLOOKUP(D270,Teams!$B$3:$C$10,2,FALSE)=\"\",\"\",VLOOKUP(D270,Teams!$B$3:$C$10,2,FALSE)))","v":""},null,null,{"$f":"IF(G270=\"\",\"\",YEAR('Gala Name'!$C$9)-YEAR(G270))","v":""},"",null,"",{"$f":"IF(OR(J270=\"\",J270=\"DSQ\"),\"\",IF(OR(J270=J267,J270=J268,J270=J269,J270=J271,J270=J272,J270=J273,J270=J266),\"Enter Placings\",\"\"))","v":""},"","",null,{"$f":"IF(L270<>\"\",L270,IF(OR(J270=\"DNF\",J270=\"DSQ\"),0,IF(N270=\"\",\"\",RANK(N270,N266:N273,1))))","v":""},{"$f":"IF(P270=\"\",0,IF(P270=0,0,VLOOKUP(P:P,Points!B:C,2,FALSE)))","v":0},5,null,{"$f":"IF(P274>4.9,5,\"\")","v":""},{"$f":"IFERROR(IF(T270=\"\",\"\",VLOOKUP(T270,P266:R273,3,FALSE)),\"\")","v":""},null,5,null,{"$f":"IF(D270=\"\",\"\",IFERROR(VLOOKUP(B270,Events!B:L,11,FALSE),Y269))","v":""}," "," ",{"$f":"IFERROR(VLOOKUP(AA:AA,'Masters Convertion'!F:G,2,FALSE),\"\")","v":""},"",{"$f":"IF('Gala Name'!C$4=\"No\",\"\",IFERROR(RANK(N270,N270:N277,1),\"\"))","v":""}]
[{"$f":"IF(J271=\"\",\"\",B266)","v":""},null,null,6,{"$f":"IF(D271=\"\",\"\",IF(VLOOKUP(D271,Teams!$B$3:$C$10,2,FALSE)=\"\",\"\",VLOOKUP(D271,Teams!$B$3:$C$10,2,FALSE)))","v":""},null,null,{"$f":"IF(G271=\"\",\"\",YEAR('Gala Name'!$C$9)-YEAR(G271))","v":""},"",null,"",{"$f":"IF(OR(J271=\"\",J271=\"DSQ\"),\"\",IF(OR(J271=J268,J271=J269,J271=J270,J271=J272,J271=J273,J271=J267,J271=J266),\"Enter Placings\",\"\"))","v":""},"","",null,{"$f":"IF(L271<>\"\",L271,IF(OR(J271=\"DNF\",J271=\"DSQ\"),0,IF(N271=\"\",\"\",RANK(N271,N266:N273,1))))","v":""},{"$f":"IF(P271=\"\",0,IF(P271=0,0,VLOOKUP(P:P,Points!B:C,2,FALSE)))","v":0},6,null,{"$f":"IF(P274>5.9,6,\"\")","v":""},{"$f":"IFERROR(IF(T271=\"\",\"\",VLOOKUP(T271,P266:R273,3,FALSE)),\"\")","v":""},null,6,null,{"$f":"IF(D271=\"\",\"\",IFERROR(VLOOKUP(B271,Events!B:L,11,FALSE),Y270))","v":""}," "," ",{"$f":"IFERROR(VLOOKUP(AA:AA,'Masters Convertion'!F:G,2,FALSE),\"\")","v":""},"",{"$f":"IF('Gala Name'!C$4=\"No\",\"\",IFERROR(RANK(N271,N271:N278,1),\"\"))","v":""}]
[{"$f":"IF(J272=\"\",\"\",B266)","v":""},null,null,7,{"$f":"IF(D272=\"\",\"\",IF(VLOOKUP(D272,Teams!$B$3:$C$10,2,FALSE)=\"\",\"\",VLOOKUP(D272,Teams!$B$3:$C$10,2,FALSE)))","v":""},null,null,{"$f":"IF(G272=\"\",\"\",YEAR('Gala Name'!$C$9)-YEAR(G272))","v":""},"",null,"",{"$f":"IF(OR(J272=\"\",J272=\"DSQ\"),\"\",IF(OR(J272=J269,J272=J270,J272=J271,J272=J273,J272=J266,J272=J267,J272=J268),\"Enter Placings\",\"\"))","v":""},"","",null,{"$f":"IF(L272<>\"\",L272,IF(OR(J272=\"DNF\",J272=\"DSQ\"),0,IF(N272=\"\",\"\",RANK(N272,N266:N273,1))))","v":""},{"$f":"IF(P272=\"\",0,IF(P272=0,0,VLOOKUP(P:P,Points!B:C,2,FALSE)))","v":0},7,null,{"$f":"IF(P274>6.9,7,\"\")","v":""},{"$f":"IFERROR(IF(T272=\"\",\"\",VLOOKUP(T272,P266:R273,3,FALSE)),\"\")","v":""},null,7,null,{"$f":"IF(D272=\"\",\"\",IFERROR(VLOOKUP(B272,Events!B:L,11,FALSE),Y271))","v":""}," "," ",{"$f":"IFERROR(VLOOKUP(AA:AA,'Masters Convertion'!F:G,2,FALSE),\"\")","v":""},"",{"$f":"IF('Gala Name'!C$4=\"No\",\"\",IFERROR(RANK(N272,N272:N279,1),\"\"))","v":""}]
[{"$f":"IF(J273=\"\",\"\",B266)","v":""},null,null,8,{"$f":"IF(D273=\"\",\"\",IF(VLOOKUP(D273,Teams!$B$3:$C$10,2,FALSE)=\"\",\"\",VLOOKUP(D273,Teams!$B$3:$C$10,2,FALSE)))","v":""},null,null,{"$f":"IF(G273=\"\",\"\",YEAR('Gala Name'!$C$9)-YEAR(G273))","v":""},"",null,"",{"$f":"IF(OR(J273=\"\",J273=\"DSQ\"),\"\",IF(OR(J273=J270,J273=J271,J273=J272,J273=J266,J273=J267,J273=J268,J273=J269),\"Enter Placings\",\"\"))","v":""},"","",null,{"$f":"IF(L273<>\"\",L273,IF(OR(J273=\"DNF\",J273=\"DSQ\"),0,IF(N273=\"\",\"\",RANK(N273,N266:N273,1))))","v":""},{"$f":"IF(P273=\"\",0,IF(P273=0,0,VLOOKUP(P:P,Points!B:C,2,FALSE)))","v":0},8,null,{"$f":"IF(P274>7.9,8,\"\")","v":""},{"$f":"IFERROR(IF(T273=\"\",\"\",VLOOKUP(T273,P266:R273,3,FALSE)),\"\")","v":""},null,8,null,{"$f":"IF(D273=\"\",\"\",IFERROR(VLOOKUP(B273,Events!B:L,11,FALSE),Y272))","v":""},{"$f":"IF(LEFT(C273,1)=\"\",Z272,LEFT(C273,1))","v":" "}," ",{"$f":"IFERROR(VLOOKUP(AA:AA,'Masters Convertion'!F:G,2,FALSE),\"\")","v":""},"",{"$f":"IF('Gala Name'!C$4=\"No\",\"\",IFERROR(RANK(N273,N273:N280,1),\"\"))","v":""}]
[null,null,null,null,null,null,null,null,null,null,null,null,"","",null,{"$f":"MAX(P266:P273)","v":0},null,null,null,null,null,null,"*"]
[{"$f":"IF(J275=\"\",\"\",B275)","v":""},{"$f":"B266+1","v":31},{"$f":"IF(D275=1,VLOOKUP(B275,Events!B:H,6,FALSE)&VLOOKUP(B275,Events!B:H,7,FALSE),\"\")","v":"   "},1,{"$f":"IF(D275=\"\",\"\",IF(VLOOKUP(D275,Teams!$B$3:$C$10,2,FALSE)=\"\",\"\",VLOOKUP(D275,Teams!$B$3:$C$10,2,FALSE)))","v":""},null,null,{"$f":"IF(G275=\"\",\"\",YEAR('Gala Name'!$C$9)-YEAR(G275))","v":""},"",null,"",{"$f":"IF(OR(J275=\"\",J275=\"DSQ\"),\"\",IF(OR(J275=J276,J275=J277,J275=J278,J275=J279,J275=J280,J275=J281,J275=J282),\"Enter Placings\",\"\"))","v":""},"","",null,{"$f":"IF(L275<>\"\",L275,IF(OR(J275=\"DNF\",J275=\"DSQ\"),0,IF(N275=\"\",\"\",RANK(N275,N275:N282,1))))","v":""},{"$f":"IF(P275=\"\",0,IF(P275=0,0,VLOOKUP(P:P,Points!B:C,2,FALSE)))","v":0},{"$f":"D275","v":1},null,{"$f":"IF(P283>0.9,1,\"\")","v":""},{"$f":"IFERROR(IF(T275=\"\",\"\",VLOOKUP(T275,P275:R282,3,FALSE)),\"\")","v":""},null,1,null,{"$f":"IF(D275=\"\",\"\",IFERROR(VLOOKUP(B275,Events!B:L,11,FALSE),Y274))","v":""}," "," ",{"$f":"IFERROR(VLOOKUP(AA:AA,'Masters Convertion'!F:G,2,FALSE),\"\")","v":""},"",{"$f":"IF('Gala Name'!C$4=\"No\",\"\",IFERROR(RANK(N275,N275:N282,1),\"\"))","v":""}]
[{"$f":"IF(J276=\"\",\"\",B275)","v":""},null,null,2,{"$f":"IF(D276=\"\",\"\",IF(VLOOKUP(D276,Teams!$B$3:$C$10,2,FALSE)=\"\",\"\",VLOOKUP(D276,Teams!$B$3:$C$10,2,FALSE)))","v":""},null,null,{"$f":"IF(G276=\"\",\"\",YEAR('Gala Name'!$C$9)-YEAR(G276))","v":""},"",null,"",{"$f":"IF(OR(J276=\"\",J276=\"DSQ\"),\"\",IF(OR(J276=J275,J276=J277,J276=J278,J276=J279,J276=J280,J276=J281,J276=J282),\"Enter Placings\",\"\"))","v":""},"","",null,{"$f":"IF(L276<>\"\",L276,IF(OR(J276=\"DNF\",J276=\"DSQ\"),0,IF(N276=\"\",\"\",RANK(N276,N275:N282,1))))","v":""},{"$f":"IF(P276=\"\",0,IF(P276=0,0,VLOOKUP(P:P,Points!B:C,2,FALSE)))","v":0},2,null,{"$f":"IF(P283>1.9,2,\"\")","v":""},{"$f":"IFERROR(IF(T276=\"\",\"\",VLOOKUP(T276,P275:R282,3,FALSE)),\"\")","v":""},null,2,null,{"$f":"IF(D276=\"\",\"\",IFERROR(VLOOKUP(B276,Events!B:L,11,FALSE),Y275))","v":""}," "," ",{"$f":"IFERROR(VLOOKUP(AA:AA,'Masters Convertion'!F:G,2,FALSE),\"\")","v":""},"",{"$f":"IF('Gala Name'!C$4=\"No\",\"\",IFERROR(RANK(N276,N276:N283,1),\"\"))","v":""}]
[{"$f":"IF(J277=\"\",\"\",B275)","v":""},null,null,3,{"$f":"IF(D277=\"\",\"\",IF(VLOOKUP(D277,Teams!$B$3:$C$10,2,FALSE)=\"\",\"\",VLOOKUP(D277,Teams!$B$3:$C$10,2,FALSE)))","v":""},null,null,{"$f":"IF(G277=\"\",\"\",YEAR('Gala Name'!$C$9)-YEAR(G277))","v":""},"",null,"",{"$f":"IF(OR(J277=\"\",J277=\"DSQ\"),\"\",IF(OR(J277=J275,J277=J276,J277=J278,J277=J279,J277=J280,J277=J281,J277=J282),\"Enter Placings\",\"\"))","v":""},"","",null,{"$f":"IF(L277<>\"\",L277,IF(OR(J277=\"DNF\",J277=\"DSQ\"),0,IF(N277=\"\",\"\",RANK(N277,N275:N282,1))))","v":""},{"$f":"IF(P277=\"\",0,IF(P277=0,0,VLOOKUP(P:P,Points!B:C,2,FALSE)))","v":0},3,null,{"$f":"IF(P283>2.9,3,\"\")","v":""},{"$f":"IFERROR(IF(T277=\"\",\"\",VLOOKUP(T277,P275:R282,3,FALSE)),\"\")","v":""},null,3,null,{"$f":"IF(D277=\"\",\"\",IFERROR(VLOOKUP(B277,Events!B:L,11,FALSE),Y276))","v":""}," "," ",{"$f":"IFERROR(VLOOKUP(AA:AA,'Masters Convertion'!F:G,2,FALSE),\"\")","v":""},"",{"$f":"IF('Gala Name'!C$4=\"No\",\"\",IFERROR(RANK(N277,N277:N284,1),\"\"))","v":""}]
[{"$f":"IF(J278=\"\",\"\",B275)","v":""},null,null,4,{"$f":"IF(D278=\"\",\"\",IF(VLOOKUP(D278,Teams!$B$3:$C$10,2,FALSE)=\"\",\"\",VLOOKUP(D278,Teams!$B$3:$C$10,2,FALSE)))","v":""},null,null,{"$f":"IF(G278=\"\",\"\",YEAR('Gala Name'!$C$9)-YEAR(G278))","v":""},"",null,"",{"$f":"IF(OR(J278=\"\",J278=\"DSQ\"),\"\",IF(OR(J278=J275,J278=J276,J278=J277,J278=J279,J278=J280,J278=J281,J278=J282),\"Enter Placings\",\"\"))","v":""},"","",null,{"$f":"IF(L278<>\"\",L278,IF(OR(J278=\"DNF\",J278=\"DSQ\"),0,IF(N278=\"\",\"\",RANK(N278,N275:N282,1))))","v":""},{"$f":"IF(P278=\"\",0,IF(P278=0,0,VLOOKUP(P:P,Points!B:C,2,FALSE)))","v":0},4,null,{"$f":"IF(P283>3.9,4,\"\")","v":""},{"$f":"IFERROR(IF(T278=\"\",\"\",VLOOKUP(T278,P275:R282,3,FALSE)),\"\")","v":""},null,4,null,{"$f":"IF(D278=\"\",\"\",IFERROR(VLOOKUP(B278,Events!B:L,11,FALSE),Y277))","v":""}," "," ",{"$f":"IFERROR(VLOOKUP(AA:AA,'Masters Convertion'!F:G,2,FALSE),\"\")","v":""},"",{"$f":"IF('Gala Name'!C$4=\"No\",\"\",IFERROR(RANK(N278,N278:N285,1),\"\"))","v":""}]
[{"$f":"IF(J279=\"\",\"\",B275)","v":""},null,null,5,{"$f":"IF(D279=\"\",\"\",IF(VLOOKUP(D279,Teams!$B$3:$C$10,2,FALSE)=\"\",\"\",VLOOKUP(D279,Teams!$B$3:$C$10,2,FALSE)))","v":""},null,null,{"$f":"IF(G279=\"\",\"\",YEAR('Gala Name'!$C$9)-YEAR(G279))","v":""},"",null,"",{"$f":"IF(OR(J279=\"\",J279=\"DSQ\"),\"\",IF(OR(J279=J276,J279=J277,J279=J278,J279=J280,J279=J281,J279=J282,J279=J275),\"Enter Placings\",\"\"))","v":""},"","",null,{"$f":"IF(L279<>\"\",L279,IF(OR(J279=\"DNF\",J279=\"DSQ\"),0,IF(N279=\"\",\"\",RANK(N279,N275:N282,1))))","v":""},{"$f":"IF(P279=\"\",0,IF(P279=0,0,VLOOKUP(P:P,Points!B:C,2,FALSE)))","v":0},5,null,{"$f":"IF(P283>4.9,5,\"\")","v":""},{"$f":"IFERROR(IF(T279=\"\",\"\",VLOOKUP(T279,P275:R282,3,FALSE)),\"\")","v":""},null,5,null,{"$f":"IF(D279=\"\",\"\",IFERROR(VLOOKUP(B279,Events!B:L,11,FALSE),Y278))","v":""}," "," ",{"$f":"IFERROR(VLOOKUP(AA:AA,'Masters Convertion'!F:G,2,FALSE),\"\")","v":""},"",{"$f":"IF('Gala Name'!C$4=\"No\",\"\",IFERROR(RANK(N279,N279:N286,1),\"\"))","v":""}]
[{"$f":"IF(J280=\"\",\"\",B275)","v":""},null,null,6,{"$f":"IF(D280=\"\",\"\",IF(VLOOKUP(D280,Teams!$B$3:$C$10,2,FALSE)=\"\",\"\",VLOOKUP(D280,Teams!$B$3:$C$10,2,FALSE)))","v":""},null,null,{"$f":"IF(G280=\"\",\"\",YEAR('Gala Name'!$C$9)-YEAR(G280))","v":""},"",null,"",{"$f":"IF(OR(J280=\"\",J280=\"DSQ\"),\"\",IF(OR(J280=J277,J280=J278,J280=J279,J280=J281,J280=J282,J280=J276,J280=J275),\"Enter Placings\",\"\"))","v":""},"","",null,{"$f":"IF(L280<>\"\",L280,IF(OR(J280=\"DNF\",J280=\"DSQ\"),0,IF(N280=\"\",\"\",RANK(N280,N275:N282,1))))","v":""},{"$f":"IF(P280=\"\",0,IF(P280=0,0,VLOOKUP(P:P,Points!B:C,2,FALSE)))","v":0},6,null,{"$f":"IF(P283>5.9,6,\"\")","v":""},{"$f":"IFERROR(IF(T280=\"\",\"\",VLOOKUP(T280,P275:R282,3,FALSE)),\"\")","v":""},null,6,null,{"$f":"IF(D280=\"\",\"\",IFERROR(VLOOKUP(B280,Events!B:L,11,FALSE),Y279))","v":""}," "," ",{"$f":"IFERROR(VLOOKUP(AA:AA,'Masters Convertion'!F:G,2,FALSE),\"\")","v":""},"",{"$f":"IF('Gala Name'!C$4=\"No\",\"\",IFERROR(RANK(N280,N280:N287,1),\"\"))","v":""}]
[{"$f":"IF(J281=\"\",\"\",B275)","v":""},null,null,7,{"$f":"IF(D281=\"\",\"\",IF(VLOOKUP(D281,Teams!$B$3:$C$10,2,FALSE)=\"\",\"\",VLOOKUP(D281,Teams!$B$3:$C$10,2,FALSE)))","v":""},null,null,{"$f":"IF(G281=\"\",\"\",YEAR('Gala Name'!$C$9)-YEAR(G281))","v":""},"",null,"",{"$f":"IF(OR(J281=\"\",J281=\"DSQ\"),\"\",IF(OR(J281=J278,J281=J279,J281=J280,J281=J282,J281=J275,J281=J276,J281=J277),\"Enter Placings\",\"\"))","v":""},"","",null,{"$f":"IF(L281<>\"\",L281,IF(OR(J281=\"DNF\",J281=\"DSQ\"),0,IF(N281=\"\",\"\",RANK(N281,N275:N282,1))))","v":""},{"$f":"IF(P281=\"\",0,IF(P281=0,0,VLOOKUP(P:P,Points!B:C,2,FALSE)))","v":0},7,null,{"$f":"IF(P283>6.9,7,\"\")","v":""},{"$f":"IFERROR(IF(T281=\"\",\"\",VLOOKUP(T281,P275:R282,3,FALSE)),\"\")","v":""},null,7,null,{"$f":"IF(D281=\"\",\"\",IFERROR(VLOOKUP(B281,Events!B:L,11,FALSE),Y280))","v":""}," "," ",{"$f":"IFERROR(VLOOKUP(AA:AA,'Masters Convertion'!F:G,2,FALSE),\"\")","v":""},"",{"$f":"IF('Gala Name'!C$4=\"No\",\"\",IFERROR(RANK(N281,N281:N288,1),\"\"))","v":""}]
[{"$f":"IF(J282=\"\",\"\",B275)","v":""},null,null,8,{"$f":"IF(D282=\"\",\"\",IF(VLOOKUP(D282,Teams!$B$3:$C$10,2,FALSE)=\"\",\"\",VLOOKUP(D282,Teams!$B$3:$C$10,2,FALSE)))","v":""},null,null,{"$f":"IF(G282=\"\",\"\",YEAR('Gala Name'!$C$9)-YEAR(G282))","v":""},"",null,{"$f":"IF(J282=\"DSQ\",\"Enter Reason\",\"\")","v":""},{"$f":"IF(OR(J282=\"\",J282=\"DSQ\"),\"\",IF(OR(J282=J279,J282=J280,J282=J281,J282=J275,J282=J276,J282=J277,J282=J278),\"Enter Placings\",\"\"))","v":""},"","",null,{"$f":"IF(L282<>\"\",L282,IF(OR(J282=\"DNF\",J282=\"DSQ\"),0,IF(N282=\"\",\"\",RANK(N282,N275:N282,1))))","v":""},{"$f":"IF(P282=\"\",0,IF(P282=0,0,VLOOKUP(P:P,Points!B:C,2,FALSE)))","v":0},8,null,{"$f":"IF(P283>7.9,8,\"\")","v":""},{"$f":"IFERROR(IF(T282=\"\",\"\",VLOOKUP(T282,P275:R282,3,FALSE)),\"\")","v":""},null,8,null,{"$f":"IF(D282=\"\",\"\",IFERROR(VLOOKUP(B282,Events!B:L,11,FALSE),Y281))","v":""}," "," ",{"$f":"IFERROR(VLOOKUP(AA:AA,'Masters Convertion'!F:G,2,FALSE),\"\")","v":""},"",{"$f":"IF('Gala Name'!C$4=\"No\",\"\",IFERROR(RANK(N282,N282:N289,1),\"\"))","v":""}]
[null,null,null,null,null,null,null,null,null,null,null,null,"","",null,{"$f":"MAX(P275:P282)","v":0},null,null,null,null,null,null,"*"]
[{"$f":"IF(J284=\"\",\"\",B284)","v":""},{"$f":"B275+1","v":32},{"$f":"IF(D284=1,VLOOKUP(B284,Events!B:H,6,FALSE)&VLOOKUP(B284,Events!B:H,7,FALSE),\"\")","v":"   "},1,{"$f":"IF(D284=\"\",\"\",IF(VLOOKUP(D284,Teams!$B$3:$C$10,2,FALSE)=\"\",\"\",VLOOKUP(D284,Teams!$B$3:$C$10,2,FALSE)))","v":""},null,null,{"$f":"IF(G284=\"\",\"\",YEAR('Gala Name'!$C$9)-YEAR(G284))","v":""},"",null,"",{"$f":"IF(OR(J284=\"\",J284=\"DSQ\"),\"\",IF(OR(J284=J285,J284=J286,J284=J287,J284=J288,J284=J289,J284=J290,J284=J291),\"Enter Placings\",\"\"))","v":""},"","",null,{"$f":"IF(L284<>\"\",L284,IF(OR(J284=\"DNF\",J284=\"DSQ\"),0,IF(N284=\"\",\"\",RANK(N284,N284:N291,1))))","v":""},{"$f":"IF(P284=\"\",0,IF(P284=0,0,VLOOKUP(P:P,Points!B:C,2,FALSE)))","v":0},{"$f":"D284","v":1},null,{"$f":"IF(P292>0.9,1,\"\")","v":""},{"$f":"IFERROR(IF(T284=\"\",\"\",VLOOKUP(T284,P284:R291,3,FALSE)),\"\")","v":""},null,1,null,{"$f":"IF(D284=\"\",\"\",IFERROR(VLOOKUP(B284,Events!B:L,11,FALSE),Y283))","v":""}," "," ",{"$f":"IFERROR(VLOOKUP(AA:AA,'Masters Convertion'!F:G,2,FALSE),\"\")","v":""},"",{"$f":"IF('Gala Name'!C$4=\"No\",\"\",IFERROR(RANK(N284,N284:N291,1),\"\"))","v":""}]
[{"$f":"IF(J285=\"\",\"\",B284)","v":""},null,null,2,{"$f":"IF(D285=\"\",\"\",IF(VLOOKUP(D285,Teams!$B$3:$C$10,2,FALSE)=\"\",\"\",VLOOKUP(D285,Teams!$B$3:$C$10,2,FALSE)))","v":""},null,null,{"$f":"IF(G285=\"\",\"\",YEAR('Gala Name'!$C$9)-YEAR(G285))","v":""},"",null,"",{"$f":"IF(OR(J285=\"\",J285=\"DSQ\"),\"\",IF(OR(J285=J284,J285=J286,J285=J287,J285=J288,J285=J289,J285=J290,J285=J291),\"Enter Placings\",\"\"))","v":""},"","",null,{"$f":"IF(L285<>\"\",L285,IF(OR(J285=\"DNF\",J285=\"DSQ\"),0,IF(N285=\"\",\"\",RANK(N285,N284:N291,1))))","v":""},{"$f":"IF(P285=\"\",0,IF(P285=0,0,VLOOKUP(P:P,Points!B:C,2,FALSE)))","v":0},2,null,{"$f":"IF(P292>1.9,2,\"\")","v":""},{"$f":"IFERROR(IF(T285=\"\",\"\",VLOOKUP(T285,P284:R291,3,FALSE)),\"\")","v":""},null,2,null,{"$f":"IF(D285=\"\",\"\",IFERROR(VLOOKUP(B285,Events!B:L,11,FALSE),Y284))","v":""}," "," ",{"$f":"IFERROR(VLOOKUP(AA:AA,'Masters Convertion'!F:G,2,FALSE),\"\")","v":""},"",{"$f":"IF('Gala Name'!C$4=\"No\",\"\",IFERROR(RANK(N285,N285:N292,1),\"\"))","v":""}]
[{"$f":"IF(J286=\"\",\"\",B284)","v":""},null,null,3,{"$f":"IF(D286=\"\",\"\",IF(VLOOKUP(D286,Teams!$B$3:$C$10,2,FALSE)=\"\",\"\",VLOOKUP(D286,Teams!$B$3:$C$10,2,FALSE)))","v":""},null,null,{"$f":"IF(G286=\"\",\"\",YEAR('Gala Name'!$C$9)-YEAR(G286))","v":""},"",null,"",{"$f":"IF(OR(J286=\"\",J286=\"DSQ\"),\"\",IF(OR(J286=J284,J286=J285,J286=J287,J286=J288,J286=J289,J286=J290,J286=J291),\"Enter Placings\",\"\"))","v":""},"","",null,{"$f":"IF(L286<>\"\",L286,IF(OR(J286=\"DNF\",J286=\"DSQ\"),0,IF(N286=\"\",\"\",RANK(N286,N284:N291,1))))","v":""},{"$f":"IF(P286=\"\",0,IF(P286=0,0,VLOOKUP(P:P,Points!B:C,2,FALSE)))","v":0},3,null,{"$f":"IF(P292>2.9,3,\"\")","v":""},{"$f":"IFERROR(IF(T286=\"\",\"\",VLOOKUP(T286,P284:R291,3,FALSE)),\"\")","v":""},null,3,null,{"$f":"IF(D286=\"\",\"\",IFERROR(VLOOKUP(B286,Events!B:L,11,FALSE),Y285))","v":""}," "," ",{"$f":"IFERROR(VLOOKUP(AA:AA,'Masters Convertion'!F:G,2,FALSE),\"\")","v":""},"",{"$f":"IF('Gala Name'!C$4=\"No\",\"\",IFERROR(RANK(N286,N286:N293,1),\"\"))","v":""}]
[{"$f":"IF(J287=\"\",\"\",B284)","v":""},null,null,4,{"$f":"IF(D287=\"\",\"\",IF(VLOOKUP(D287,Teams!$B$3:$C$10,2,FALSE)=\"\",\"\",VLOOKUP(D287,Teams!$B$3:$C$10,2,FALSE)))","v":""},null,null,{"$f":"IF(G287=\"\",\"\",YEAR('Gala Name'!$C$9)-YEAR(G287))","v":""},"",null,"",{"$f":"IF(OR(J287=\"\",J287=\"DSQ\"),\"\",IF(OR(J287=J284,J287=J285,J287=J286,J287=J288,J287=J289,J287=J290,J287=J291),\"Enter Placings\",\"\"))","v":""},"","",null,{"$f":"IF(L287<>\"\",L287,IF(OR(J287=\"DNF\",J287=\"DSQ\"),0,IF(N287=\"\",\"\",RANK(N287,N284:N291,1))))","v":""},{"$f":"IF(P287=\"\",0,IF(P287=0,0,VLOOKUP(P:P,Points!B:C,2,FALSE)))","v":0},4,null,{"$f":"IF(P292>3.9,4,\"\")","v":""},{"$f":"IFERROR(IF(T287=\"\",\"\",VLOOKUP(T287,P284:R291,3,FALSE)),\"\")","v":""},null,4,null,{"$f":"IF(D287=\"\",\"\",IFERROR(VLOOKUP(B287,Events!B:L,11,FALSE),Y286))","v":""}," "," ",{"$f":"IFERROR(VLOOKUP(AA:AA,'Masters Convertion'!F:G,2,FALSE),\"\")","v":""},"",{"$f":"IF('Gala Name'!C$4=\"No\",\"\",IFERROR(RANK(N287,N287:N294,1),\"\"))","v":""}]
[{"$f":"IF(J288=\"\",\"\",B284)","v":""},null,null,5,{"$f":"IF(D288=\"\",\"\",IF(VLOOKUP(D288,Teams!$B$3:$C$10,2,FALSE)=\"\",\"\",VLOOKUP(D288,Teams!$B$3:$C$10,2,FALSE)))","v":""},null,null,{"$f":"IF(G288=\"\",\"\",YEAR('Gala Name'!$C$9)-YEAR(G288))","v":""},"",null,"",{"$f":"IF(OR(J288=\"\",J288=\"DSQ\"),\"\",IF(OR(J288=J285,J288=J286,J288=J287,J288=J289,J288=J290,J288=J291,J288=J284),\"Enter Placings\",\"\"))","v":""},"","",null,{"$f":"IF(L288<>\"\",L288,IF(OR(J288=\"DNF\",J288=\"DSQ\"),0,IF(N288=\"\",\"\",RANK(N288,N284:N291,1))))","v":""},{"$f":"IF(P288=\"\",0,IF(P288=0,0,VLOOKUP(P:P,Points!B:C,2,FALSE)))","v":0},5,null,{"$f":"IF(P292>4.9,5,\"\")","v":""},{"$f":"IFERROR(IF(T288=\"\",\"\",VLOOKUP(T288,P284:R291,3,FALSE)),\"\")","v":""},null,5,null,{"$f":"IF(D288=\"\",\"\",IFERROR(VLOOKUP(B288,Events!B:L,11,FALSE),Y287))","v":""}," "," ",{"$f":"IFERROR(VLOOKUP(AA:AA,'Masters Convertion'!F:G,2,FALSE),\"\")","v":""},"",{"$f":"IF('Gala Name'!C$4=\"No\",\"\",IFERROR(RANK(N288,N288:N295,1),\"\"))","v":""}]
[{"$f":"IF(J289=\"\",\"\",B284)","v":""},null,null,6,{"$f":"IF(D289=\"\",\"\",IF(VLOOKUP(D289,Teams!$B$3:$C$10,2,FALSE)=\"\",\"\",VLOOKUP(D289,Teams!$B$3:$C$10,2,FALSE)))","v":""},null,null,{"$f":"IF(G289=\"\",\"\",YEAR('Gala Name'!$C$9)-YEAR(G289))","v":""},"",null,"",{"$f":"IF(OR(J289=\"\",J289=\"DSQ\"),\"\",IF(OR(J289=J286,J289=J287,J289=J288,J289=J290,J289=J291,J289=J285,J289=J284),\"Enter Placings\",\"\"))","v":""},"","",null,{"$f":"IF(L289<>\"\",L289,IF(OR(J289=\"DNF\",J289=\"DSQ\"),0,IF(N289=\"\",\"\",RANK(N289,N284:N291,1))))","v":""},{"$f":"IF(P289=\"\",0,IF(P289=0,0,VLOOKUP(P:P,Points!B:C,2,FALSE)))","v":0},6,null,{"$f":"IF(P292>5.9,6,\"\")","v":""},{"$f":"IFERROR(IF(T289=\"\",\"\",VLOOKUP(T289,P284:R291,3,FALSE)),\"\")","v":""},null,6,null,{"$f":"IF(D289=\"\",\"\",IFERROR(VLOOKUP(B289,Events!B:L,11,FALSE),Y288))","v":""}," "," ",{"$f":"IFERROR(VLOOKUP(AA:AA,'Masters Convertion'!F:G,2,FALSE),\"\")","v":""},"",{"$f":"IF('Gala Name'!C$4=\"No\",\"\",IFERROR(RANK(N289,N289:N296,1),\"\"))","v":""}]
[{"$f":"IF(J290=\"\",\"\",B284)","v":""},null,null,7,{"$f":"IF(D290=\"\",\"\",IF(VLOOKUP(D290,Teams!$B$3:$C$10,2,FALSE)=\"\",\"\",VLOOKUP(D290,Teams!$B$3:$C$10,2,FALSE)))","v":""},null,null,{"$f":"IF(G290=\"\",\"\",YEAR('Gala Name'!$C$9)-YEAR(G290))","v":""},"",null,"",{"$f":"IF(OR(J290=\"\",J290=\"DSQ\"),\"\",IF(OR(J290=J287,J290=J288,J290=J289,J290=J291,J290=J284,J290=J285,J290=J286),\"Enter Placings\",\"\"))","v":""},"","",null,{"$f":"IF(L290<>\"\",L290,IF(OR(J290=\"DNF\",J290=\"DSQ\"),0,IF(N290=\"\",\"\",RANK(N290,N284:N291,1))))","v":""},{"$f":"IF(P290=\"\",0,IF(P290=0,0,VLOOKUP(P:P,Points!B:C,2,FALSE)))","v":0},7,null,{"$f":"IF(P292>6.9,7,\"\")","v":""},{"$f":"IFERROR(IF(T290=\"\",\"\",VLOOKUP(T290,P284:R291,3,FALSE)),\"\")","v":""},null,7,null,{"$f":"IF(D290=\"\",\"\",IFERROR(VLOOKUP(B290,Events!B:L,11,FALSE),Y289))","v":""}," "," ",{"$f":"IFERROR(VLOOKUP(AA:AA,'Masters Convertion'!F:G,2,FALSE),\"\")","v":""},"",{"$f":"IF('Gala Name'!C$4=\"No\",\"\",IFERROR(RANK(N290,N290:N297,1),\"\"))","v":""}]
[{"$f":"IF(J291=\"\",\"\",B284)","v":""},null,null,8,{"$f":"IF(D291=\"\",\"\",IF(VLOOKUP(D291,Teams!$B$3:$C$10,2,FALSE)=\"\",\"\",VLOOKUP(D291,Teams!$B$3:$C$10,2,FALSE)))","v":""},null,null,{"$f":"IF(G291=\"\",\"\",YEAR('Gala Name'!$C$9)-YEAR(G291))","v":""},"",null,"",{"$f":"IF(OR(J291=\"\",J291=\"DSQ\"),\"\",IF(OR(J291=J288,J291=J289,J291=J290,J291=J284,J291=J285,J291=J286,J291=J287),\"Enter Placings\",\"\"))","v":""},"","",null,{"$f":"IF(L291<>\"\",L291,IF(OR(J291=\"DNF\",J291=\"DSQ\"),0,IF(N291=\"\",\"\",RANK(N291,N284:N291,1))))","v":""},{"$f":"IF(P291=\"\",0,IF(P291=0,0,VLOOKUP(P:P,Points!B:C,2,FALSE)))","v":0},8,null,{"$f":"IF(P292>7.9,8,\"\")","v":""},{"$f":"IFERROR(IF(T291=\"\",\"\",VLOOKUP(T291,P284:R291,3,FALSE)),\"\")","v":""},null,8,null,{"$f":"IF(D291=\"\",\"\",IFERROR(VLOOKUP(B291,Events!B:L,11,FALSE),Y290))","v":""}," "," ",{"$f":"IFERROR(VLOOKUP(AA:AA,'Masters Convertion'!F:G,2,FALSE),\"\")","v":""},"",{"$f":"IF('Gala Name'!C$4=\"No\",\"\",IFERROR(RANK(N291,N291:N298,1),\"\"))","v":""}]
[null,null,null,null,null,null,null,null,null,null,null,null,"","",null,{"$f":"MAX(P284:P291)","v":0},null,null,null,null,null,null,"*"]
[{"$f":"IF(J293=\"\",\"\",B293)","v":""},{"$f":"B284+1","v":33},{"$f":"IF(D293=1,VLOOKUP(B293,Events!B:H,6,FALSE)&VLOOKUP(B293,Events!B:H,7,FALSE),\"\")","v":"   "},1,{"$f":"IF(D293=\"\",\"\",IF(VLOOKUP(D293,Teams!$B$3:$C$10,2,FALSE)=\"\",\"\",VLOOKUP(D293,Teams!$B$3:$C$10,2,FALSE)))","v":""},null,null,{"$f":"IF(G293=\"\",\"\",YEAR('Gala Name'!$C$9)-YEAR(G293))","v":""},"",null,"",{"$f":"IF(OR(J293=\"\",J293=\"DSQ\"),\"\",IF(OR(J293=J294,J293=J295,J293=J296,J293=J297,J293=J298,J293=J299,J293=J300),\"Enter Placings\",\"\"))","v":""},"","",null,{"$f":"IF(L293<>\"\",L293,IF(OR(J293=\"DNF\",J293=\"DSQ\"),0,IF(N293=\"\",\"\",RANK(N293,N293:N300,1))))","v":""},{"$f":"IF(P293=\"\",0,IF(P293=0,0,VLOOKUP(P:P,Points!B:C,2,FALSE)))","v":0},{"$f":"D293","v":1},null,{"$f":"IF(P301>0.9,1,\"\")","v":""},{"$f":"IFERROR(IF(T293=\"\",\"\",VLOOKUP(T293,P293:R300,3,FALSE)),\"\")","v":""},null,1,null,{"$f":"IF(D293=\"\",\"\",IFERROR(VLOOKUP(B293,Events!B:L,11,FALSE),Y292))","v":""}," "," ",{"$f":"IFERROR(VLOOKUP(AA:AA,'Masters Convertion'!F:G,2,FALSE),\"\")","v":""},"",{"$f":"IF('Gala Name'!C$4=\"No\",\"\",IFERROR(RANK(N293,N293:N300,1),\"\"))","v":""}]
[{"$f":"IF(J294=\"\",\"\",B293)","v":""},null,null,2,{"$f":"IF(D294=\"\",\"\",IF(VLOOKUP(D294,Teams!$B$3:$C$10,2,FALSE)=\"\",\"\",VLOOKUP(D294,Teams!$B$3:$C$10,2,FALSE)))","v":""},null,null,{"$f":"IF(G294=\"\",\"\",YEAR('Gala Name'!$C$9)-YEAR(G294))","v":""},"",null,"",{"$f":"IF(OR(J294=\"\",J294=\"DSQ\"),\"\",IF(OR(J294=J293,J294=J295,J294=J296,J294=J297,J294=J298,J294=J299,J294=J300),\"Enter Placings\",\"\"))","v":""},"","",null,{"$f":"IF(L294<>\"\",L294,IF(OR(J294=\"DNF\",J294=\"DSQ\"),0,IF(N294=\"\",\"\",RANK(N294,N293:N300,1))))","v":""},{"$f":"IF(P294=\"\",0,IF(P294=0,0,VLOOKUP(P:P,Points!B:C,2,FALSE)))","v":0},2,null,{"$f":"IF(P301>1.9,2,\"\")","v":""},{"$f":"IFERROR(IF(T294=\"\",\"\",VLOOKUP(T294,P293:R300,3,FALSE)),\"\")","v":""},null,2,null,{"$f":"IF(D294=\"\",\"\",IFERROR(VLOOKUP(B294,Events!B:L,11,FALSE),Y293))","v":""}," "," ",{"$f":"IFERROR(VLOOKUP(AA:AA,'Masters Convertion'!F:G,2,FALSE),\"\")","v":""},"",{"$f":"IF('Gala Name'!C$4=\"No\",\"\",IFERROR(RANK(N294,N294:N301,1),\"\"))","v":""}]
[{"$f":"IF(J295=\"\",\"\",B293)","v":""},null,null,3,{"$f":"IF(D295=\"\",\"\",IF(VLOOKUP(D295,Teams!$B$3:$C$10,2,FALSE)=\"\",\"\",VLOOKUP(D295,Teams!$B$3:$C$10,2,FALSE)))","v":""},null,null,{"$f":"IF(G295=\"\",\"\",YEAR('Gala Name'!$C$9)-YEAR(G295))","v":""},"",null,"",{"$f":"IF(OR(J295=\"\",J295=\"DSQ\"),\"\",IF(OR(J295=J293,J295=J294,J295=J296,J295=J297,J295=J298,J295=J299,J295=J300),\"Enter Placings\",\"\"))","v":""},"","",null,{"$f":"IF(L295<>\"\",L295,IF(OR(J295=\"DNF\",J295=\"DSQ\"),0,IF(N295=\"\",\"\",RANK(N295,N293:N300,1))))","v":""},{"$f":"IF(P295=\"\",0,IF(P295=0,0,VLOOKUP(P:P,Points!B:C,2,FALSE)))","v":0},3,null,{"$f":"IF(P301>2.9,3,\"\")","v":""},{"$f":"IFERROR(IF(T295=\"\",\"\",VLOOKUP(T295,P293:R300,3,FALSE)),\"\")","v":""},null,3,null,{"$f":"IF(D295=\"\",\"\",IFERROR(VLOOKUP(B295,Events!B:L,11,FALSE),Y294))","v":""}," "," ",{"$f":"IFERROR(VLOOKUP(AA:AA,'Masters Convertion'!F:G,2,FALSE),\"\")","v":""},"",{"$f":"IF('Gala Name'!C$4=\"No\",\"\",IFERROR(RANK(N295,N295:N302,1),\"\"))","v":""}]
[{"$f":"IF(J296=\"\",\"\",B293)","v":""},null,null,4,{"$f":"IF(D296=\"\",\"\",IF(VLOOKUP(D296,Teams!$B$3:$C$10,2,FALSE)=\"\",\"\",VLOOKUP(D296,Teams!$B$3:$C$10,2,FALSE)))","v":""},null,null,{"$f":"IF(G296=\"\",\"\",YEAR('Gala Name'!$C$9)-YEAR(G296))","v":""},"",null,"",{"$f":"IF(OR(J296=\"\",J296=\"DSQ\"),\"\",IF(OR(J296=J293,J296=J294,J296=J295,J296=J297,J296=J298,J296=J299,J296=J300),\"Enter Placings\",\"\"))","v":""},"","",null,{"$f":"IF(L296<>\"\",L296,IF(OR(J296=\"DNF\",J296=\"DSQ\"),0,IF(N296=\"\",\"\",RANK(N296,N293:N300,1))))","v":""},{"$f":"IF(P296=\"\",0,IF(P296=0,0,VLOOKUP(P:P,Points!B:C,2,FALSE)))","v":0},4,null,{"$f":"IF(P301>3.9,4,\"\")","v":""},{"$f":"IFERROR(IF(T296=\"\",\"\",VLOOKUP(T296,P293:R300,3,FALSE)),\"\")","v":""},null,4,null,{"$f":"IF(D296=\"\",\"\",IFERROR(VLOOKUP(B296,Events!B:L,11,FALSE),Y295))","v":""}," "," ",{"$f":"IFERROR(VLOOKUP(AA:AA,'Masters Convertion'!F:G,2,FALSE),\"\")","v":""},"",{"$f":"IF('Gala Name'!C$4=\"No\",\"\",IFERROR(RANK(N296,N296:N303,1),\"\"))","v":""}]
[{"$f":"IF(J297=\"\",\"\",B293)","v":""},null,null,5,{"$f":"IF(D297=\"\",\"\",IF(VLOOKUP(D297,Teams!$B$3:$C$10,2,FALSE)=\"\",\"\",VLOOKUP(D297,Teams!$B$3:$C$10,2,FALSE)))","v":""},null,null,{"$f":"IF(G297=\"\",\"\",YEAR('Gala Name'!$C$9)-YEAR(G297))","v":""},"",null,"",{"$f":"IF(OR(J297=\"\",J297=\"DSQ\"),\"\",IF(OR(J297=J294,J297=J295,J297=J296,J297=J298,J297=J299,J297=J300,J297=J293),\"Enter Placings\",\"\"))","v":""},"","",null,{"$f":"IF(L297<>\"\",L297,IF(OR(J297=\"DNF\",J297=\"DSQ\"),0,IF(N297=\"\",\"\",RANK(N297,N293:N300,1))))","v":""},{"$f":"IF(P297=\"\",0,IF(P297=0,0,VLOOKUP(P:P,Points!B:C,2,FALSE)))","v":0},5,null,{"$f":"IF(P301>4.9,5,\"\")","v":""},{"$f":"IFERROR(IF(T297=\"\",\"\",VLOOKUP(T297,P293:R300,3,FALSE)),\"\")","v":""},null,5,null,{"$f":"IF(D297=\"\",\"\",IFERROR(VLOOKUP(B297,Events!B:L,11,FALSE),Y296))","v":""}," "," ",{"$f":"IFERROR(VLOOKUP(AA:AA,'Masters Convertion'!F:G,2,FALSE),\"\")","v":""},"",{"$f":"IF('Gala Name'!C$4=\"No\",\"\",IFERROR(RANK(N297,N297:N304,1),\"\"))","v":""}]
[{"$f":"IF(J298=\"\",\"\",B293)","v":""},null,null,6,{"$f":"IF(D298=\"\",\"\",IF(VLOOKUP(D298,Teams!$B$3:$C$10,2,FALSE)=\"\",\"\",VLOOKUP(D298,Teams!$B$3:$C$10,2,FALSE)))","v":""},null,null,{"$f":"IF(G298=\"\",\"\",YEAR('Gala Name'!$C$9)-YEAR(G298))","v":""},"",null,"",{"$f":"IF(OR(J298=\"\",J298=\"DSQ\"),\"\",IF(OR(J298=J295,J298=J296,J298=J297,J298=J299,J298=J300,J298=J294,J298=J293),\"Enter Placings\",\"\"))","v":""},"","",null,{"$f":"IF(L298<>\"\",L298,IF(OR(J298=\"DNF\",J298=\"DSQ\"),0,IF(N298=\"\",\"\",RANK(N298,N293:N300,1))))","v":""},{"$f":"IF(P298=\"\",0,IF(P298=0,0,VLOOKUP(P:P,Points!B:C,2,FALSE)))","v":0},6,null,{"$f":"IF(P301>5.9,6,\"\")","v":""},{"$f":"IFERROR(IF(T298=\"\",\"\",VLOOKUP(T298,P293:R300,3,FALSE)),\"\")","v":""},null,6,null,{"$f":"IF(D298=\"\",\"\",IFERROR(VLOOKUP(B298,Events!B:L,11,FALSE),Y297))","v":""}," "," ",{"$f":"IFERROR(VLOOKUP(AA:AA,'Masters Convertion'!F:G,2,FALSE),\"\")","v":""},"",{"$f":"IF('Gala Name'!C$4=\"No\",\"\",IFERROR(RANK(N298,N298:N305,1),\"\"))","v":""}]
[{"$f":"IF(J299=\"\",\"\",B293)","v":""},null,null,7,{"$f":"IF(D299=\"\",\"\",IF(VLOOKUP(D299,Teams!$B$3:$C$10,2,FALSE)=\"\",\"\",VLOOKUP(D299,Teams!$B$3:$C$10,2,FALSE)))","v":""},null,null,{"$f":"IF(G299=\"\",\"\",YEAR('Gala Name'!$C$9)-YEAR(G299))","v":""},"",null,"",{"$f":"IF(OR(J299=\"\",J299=\"DSQ\"),\"\",IF(OR(J299=J296,J299=J297,J299=J298,J299=J300,J299=J293,J299=J294,J299=J295),\"Enter Placings\",\"\"))","v":""},"","",null,{"$f":"IF(L299<>\"\",L299,IF(OR(J299=\"DNF\",J299=\"DSQ\"),0,IF(N299=\"\",\"\",RANK(N299,N293:N300,1))))","v":""},{"$f":"IF(P299=\"\",0,IF(P299=0,0,VLOOKUP(P:P,Points!B:C,2,FALSE)))","v":0},7,null,{"$f":"IF(P301>6.9,7,\"\")","v":""},{"$f":"IFERROR(IF(T299=\"\",\"\",VLOOKUP(T299,P293:R300,3,FALSE)),\"\")","v":""},null,7,null,{"$f":"IF(D299=\"\",\"\",IFERROR(VLOOKUP(B299,Events!B:L,11,FALSE),Y298))","v":""}," "," ",{"$f":"IFERROR(VLOOKUP(AA:AA,'Masters Convertion'!F:G,2,FALSE),\"\")","v":""},"",{"$f":"IF('Gala Name'!C$4=\"No\",\"\",IFERROR(RANK(N299,N299:N306,1),\"\"))","v":""}]
[{"$f":"IF(J300=\"\",\"\",B293)","v":""},null,null,8,{"$f":"IF(D300=\"\",\"\",IF(VLOOKUP(D300,Teams!$B$3:$C$10,2,FALSE)=\"\",\"\",VLOOKUP(D300,Teams!$B$3:$C$10,2,FALSE)))","v":""},null,null,{"$f":"IF(G300=\"\",\"\",YEAR('Gala Name'!$C$9)-YEAR(G300))","v":""},"",null,"",{"$f":"IF(OR(J300=\"\",J300=\"DSQ\"),\"\",IF(OR(J300=J297,J300=J298,J300=J299,J300=J293,J300=J294,J300=J295,J300=J296),\"Enter Placings\",\"\"))","v":""},"","",null,{"$f":"IF(L300<>\"\",L300,IF(OR(J300=\"DNF\",J300=\"DSQ\"),0,IF(N300=\"\",\"\",RANK(N300,N293:N300,1))))","v":""},{"$f":"IF(P300=\"\",0,IF(P300=0,0,VLOOKUP(P:P,Points!B:C,2,FALSE)))","v":0},8,null,{"$f":"IF(P301>7.9,8,\"\")","v":""},{"$f":"IFERROR(IF(T300=\"\",\"\",VLOOKUP(T300,P293:R300,3,FALSE)),\"\")","v":""},null,8,null,{"$f":"IF(D300=\"\",\"\",IFERROR(VLOOKUP(B300,Events!B:L,11,FALSE),Y299))","v":""}," "," ",{"$f":"IFERROR(VLOOKUP(AA:AA,'Masters Convertion'!F:G,2,FALSE),\"\")","v":""},"",{"$f":"IF('Gala Name'!C$4=\"No\",\"\",IFERROR(RANK(N300,N300:N307,1),\"\"))","v":""}]
[null,null,null,null,null,null,null,null,null,null,null,null,"","",null,{"$f":"MAX(P293:P300)","v":0},null,null,null,null,null,null,"*"]
[{"$f":"IF(J302=\"\",\"\",B302)","v":""},{"$f":"B293+1","v":34},{"$f":"IF(D302=1,VLOOKUP(B302,Events!B:H,6,FALSE)&VLOOKUP(B302,Events!B:H,7,FALSE),\"\")","v":"   "},1,{"$f":"IF(D302=\"\",\"\",IF(VLOOKUP(D302,Teams!$B$3:$C$10,2,FALSE)=\"\",\"\",VLOOKUP(D302,Teams!$B$3:$C$10,2,FALSE)))","v":""},null,null,{"$f":"IF(G302=\"\",\"\",YEAR('Gala Name'!$C$9)-YEAR(G302))","v":""},"",null,"",{"$f":"IF(OR(J302=\"\",J302=\"DSQ\"),\"\",IF(OR(J302=J303,J302=J304,J302=J305,J302=J306,J302=J307,J302=J308,J302=J309),\"Enter Placings\",\"\"))","v":""},"","",null,{"$f":"IF(L302<>\"\",L302,IF(OR(J302=\"DNF\",J302=\"DSQ\"),0,IF(N302=\"\",\"\",RANK(N302,N302:N309,1))))","v":""},{"$f":"IF(P302=\"\",0,IF(P302=0,0,VLOOKUP(P:P,Points!B:C,2,FALSE)))","v":0},{"$f":"D302","v":1},null,{"$f":"IF(P310>0.9,1,\"\")","v":""},{"$f":"IFERROR(IF(T302=\"\",\"\",VLOOKUP(T302,P302:R309,3,FALSE)),\"\")","v":""},null,1,null,{"$f":"IF(D302=\"\",\"\",IFERROR(VLOOKUP(B302,Events!B:L,11,FALSE),Y301))","v":""}," "," ",{"$f":"IFERROR(VLOOKUP(AA:AA,'Masters Convertion'!F:G,2,FALSE),\"\")","v":""},"",{"$f":"IF('Gala Name'!C$4=\"No\",\"\",IFERROR(RANK(N302,N302:N309,1),\"\"))","v":""}]
[{"$f":"IF(J303=\"\",\"\",B302)","v":""},null,null,2,{"$f":"IF(D303=\"\",\"\",IF(VLOOKUP(D303,Teams!$B$3:$C$10,2,FALSE)=\"\",\"\",VLOOKUP(D303,Teams!$B$3:$C$10,2,FALSE)))","v":""},null,null,{"$f":"IF(G303=\"\",\"\",YEAR('Gala Name'!$C$9)-YEAR(G303))","v":""},"",null,"",{"$f":"IF(OR(J303=\"\",J303=\"DSQ\"),\"\",IF(OR(J303=J302,J303=J304,J303=J305,J303=J306,J303=J307,J303=J308,J303=J309),\"Enter Placings\",\"\"))","v":""},"","",null,{"$f":"IF(L303<>\"\",L303,IF(OR(J303=\"DNF\",J303=\"DSQ\"),0,IF(N303=\"\",\"\",RANK(N303,N302:N309,1))))","v":""},{"$f":"IF(P303=\"\",0,IF(P303=0,0,VLOOKUP(P:P,Points!B:C,2,FALSE)))","v":0},2,null,{"$f":"IF(P310>1.9,2,\"\")","v":""},{"$f":"IFERROR(IF(T303=\"\",\"\",VLOOKUP(T303,P302:R309,3,FALSE)),\"\")","v":""},null,2,null,{"$f":"IF(D303=\"\",\"\",IFERROR(VLOOKUP(B303,Events!B:L,11,FALSE),Y302))","v":""}," "," ",{"$f":"IFERROR(VLOOKUP(AA:AA,'Masters Convertion'!F:G,2,FALSE),\"\")","v":""},"",{"$f":"IF('Gala Name'!C$4=\"No\",\"\",IFERROR(RANK(N303,N303:N310,1),\"\"))","v":""}]
[{"$f":"IF(J304=\"\",\"\",B302)","v":""},null,null,3,{"$f":"IF(D304=\"\",\"\",IF(VLOOKUP(D304,Teams!$B$3:$C$10,2,FALSE)=\"\",\"\",VLOOKUP(D304,Teams!$B$3:$C$10,2,FALSE)))","v":""},null,null,{"$f":"IF(G304=\"\",\"\",YEAR('Gala Name'!$C$9)-YEAR(G304))","v":""},"",null,"",{"$f":"IF(OR(J304=\"\",J304=\"DSQ\"),\"\",IF(OR(J304=J302,J304=J303,J304=J305,J304=J306,J304=J307,J304=J308,J304=J309),\"Enter Placings\",\"\"))","v":""},"","",null,{"$f":"IF(L304<>\"\",L304,IF(OR(J304=\"DNF\",J304=\"DSQ\"),0,IF(N304=\"\",\"\",RANK(N304,N302:N309,1))))","v":""},{"$f":"IF(P304=\"\",0,IF(P304=0,0,VLOOKUP(P:P,Points!B:C,2,FALSE)))","v":0},3,null,{"$f":"IF(P310>2.9,3,\"\")","v":""},{"$f":"IFERROR(IF(T304=\"\",\"\",VLOOKUP(T304,P302:R309,3,FALSE)),\"\")","v":""},null,3,null,{"$f":"IF(D304=\"\",\"\",IFERROR(VLOOKUP(B304,Events!B:L,11,FALSE),Y303))","v":""}," "," ",{"$f":"IFERROR(VLOOKUP(AA:AA,'Masters Convertion'!F:G,2,FALSE),\"\")","v":""},"",{"$f":"IF('Gala Name'!C$4=\"No\",\"\",IFERROR(RANK(N304,N304:N311,1),\"\"))","v":""}]
[{"$f":"IF(J305=\"\",\"\",B302)","v":""},null,null,4,{"$f":"IF(D305=\"\",\"\",IF(VLOOKUP(D305,Teams!$B$3:$C$10,2,FALSE)=\"\",\"\",VLOOKUP(D305,Teams!$B$3:$C$10,2,FALSE)))","v":""},null,null,{"$f":"IF(G305=\"\",\"\",YEAR('Gala Name'!$C$9)-YEAR(G305))","v":""},"",null,"",{"$f":"IF(OR(J305=\"\",J305=\"DSQ\"),\"\",IF(OR(J305=J302,J305=J303,J305=J304,J305=J306,J305=J307,J305=J308,J305=J309),\"Enter Placings\",\"\"))","v":""},"","",null,{"$f":"IF(L305<>\"\",L305,IF(OR(J305=\"DNF\",J305=\"DSQ\"),0,IF(N305=\"\",\"\",RANK(N305,N302:N309,1))))","v":""},{"$f":"IF(P305=\"\",0,IF(P305=0,0,VLOOKUP(P:P,Points!B:C,2,FALSE)))","v":0},4,null,{"$f":"IF(P310>3.9,4,\"\")","v":""},{"$f":"IFERROR(IF(T305=\"\",\"\",VLOOKUP(T305,P302:R309,3,FALSE)),\"\")","v":""},null,4,null,{"$f":"IF(D305=\"\",\"\",IFERROR(VLOOKUP(B305,Events!B:L,11,FALSE),Y304))","v":""}," "," ",{"$f":"IFERROR(VLOOKUP(AA:AA,'Masters Convertion'!F:G,2,FALSE),\"\")","v":""},"",{"$f":"IF('Gala Name'!C$4=\"No\",\"\",IFERROR(RANK(N305,N305:N312,1),\"\"))","v":""}]
[{"$f":"IF(J306=\"\",\"\",B302)","v":""},null,null,5,{"$f":"IF(D306=\"\",\"\",IF(VLOOKUP(D306,Teams!$B$3:$C$10,2,FALSE)=\"\",\"\",VLOOKUP(D306,Teams!$B$3:$C$10,2,FALSE)))","v":""},null,null,{"$f":"IF(G306=\"\",\"\",YEAR('Gala Name'!$C$9)-YEAR(G306))","v":""},"",null,"",{"$f":"IF(OR(J306=\"\",J306=\"DSQ\"),\"\",IF(OR(J306=J303,J306=J304,J306=J305,J306=J307,J306=J308,J306=J309,J306=J302),\"Enter Placings\",\"\"))","v":""},"","",null,{"$f":"IF(L306<>\"\",L306,IF(OR(J306=\"DNF\",J306=\"DSQ\"),0,IF(N306=\"\",\"\",RANK(N306,N302:N309,1))))","v":""},{"$f":"IF(P306=\"\",0,IF(P306=0,0,VLOOKUP(P:P,Points!B:C,2,FALSE)))","v":0},5,null,{"$f":"IF(P310>4.9,5,\"\")","v":""},{"$f":"IFERROR(IF(T306=\"\",\"\",VLOOKUP(T306,P302:R309,3,FALSE)),\"\")","v":""},null,5,null,{"$f":"IF(D306=\"\",\"\",IFERROR(VLOOKUP(B306,Events!B:L,11,FALSE),Y305))","v":""}," "," ",{"$f":"IFERROR(VLOOKUP(AA:AA,'Masters Convertion'!F:G,2,FALSE),\"\")","v":""},"",{"$f":"IF('Gala Name'!C$4=\"No\",\"\",IFERROR(RANK(N306,N306:N313,1),\"\"))","v":""}]
[{"$f":"IF(J307=\"\",\"\",B302)","v":""},null,null,6,{"$f":"IF(D307=\"\",\"\",IF(VLOOKUP(D307,Teams!$B$3:$C$10,2,FALSE)=\"\",\"\",VLOOKUP(D307,Teams!$B$3:$C$10,2,FALSE)))","v":""},null,null,{"$f":"IF(G307=\"\",\"\",YEAR('Gala Name'!$C$9)-YEAR(G307))","v":""},"",null,"",{"$f":"IF(OR(J307=\"\",J307=\"DSQ\"),\"\",IF(OR(J307=J304,J307=J305,J307=J306,J307=J308,J307=J309,J307=J303,J307=J302),\"Enter Placings\",\"\"))","v":""},"","",null,{"$f":"IF(L307<>\"\",L307,IF(OR(J307=\"DNF\",J307=\"DSQ\"),0,IF(N307=\"\",\"\",RANK(N307,N302:N309,1))))","v":""},{"$f":"IF(P307=\"\",0,IF(P307=0,0,VLOOKUP(P:P,Points!B:C,2,FALSE)))","v":0},6,null,{"$f":"IF(P310>5.9,6,\"\")","v":""},{"$f":"IFERROR(IF(T307=\"\",\"\",VLOOKUP(T307,P302:R309,3,FALSE)),\"\")","v":""},null,6,null,{"$f":"IF(D307=\"\",\"\",IFERROR(VLOOKUP(B307,Events!B:L,11,FALSE),Y306))","v":""}," "," ",{"$f":"IFERROR(VLOOKUP(AA:AA,'Masters Convertion'!F:G,2,FALSE),\"\")","v":""},"",{"$f":"IF('Gala Name'!C$4=\"No\",\"\",IFERROR(RANK(N307,N307:N314,1),\"\"))","v":""}]
[{"$f":"IF(J308=\"\",\"\",B302)","v":""},null,null,7,{"$f":"IF(D308=\"\",\"\",IF(VLOOKUP(D308,Teams!$B$3:$C$10,2,FALSE)=\"\",\"\",VLOOKUP(D308,Teams!$B$3:$C$10,2,FALSE)))","v":""},null,null,{"$f":"IF(G308=\"\",\"\",YEAR('Gala Name'!$C$9)-YEAR(G308))","v":""},"",null,"",{"$f":"IF(OR(J308=\"\",J308=\"DSQ\"),\"\",IF(OR(J308=J305,J308=J306,J308=J307,J308=J309,J308=J302,J308=J303,J308=J304),\"Enter Placings\",\"\"))","v":""},"","",null,{"$f":"IF(L308<>\"\",L308,IF(OR(J308=\"DNF\",J308=\"DSQ\"),0,IF(N308=\"\",\"\",RANK(N308,N302:N309,1))))","v":""},{"$f":"IF(P308=\"\",0,IF(P308=0,0,VLOOKUP(P:P,Points!B:C,2,FALSE)))","v":0},7,null,{"$f":"IF(P310>6.9,7,\"\")","v":""},{"$f":"IFERROR(IF(T308=\"\",\"\",VLOOKUP(T308,P302:R309,3,FALSE)),\"\")","v":""},null,7,null,{"$f":"IF(D308=\"\",\"\",IFERROR(VLOOKUP(B308,Events!B:L,11,FALSE),Y307))","v":""}," "," ",{"$f":"IFERROR(VLOOKUP(AA:AA,'Masters Convertion'!F:G,2,FALSE),\"\")","v":""},"",{"$f":"IF('Gala Name'!C$4=\"No\",\"\",IFERROR(RANK(N308,N308:N315,1),\"\"))","v":""}]
[{"$f":"IF(J309=\"\",\"\",B302)","v":""},null,null,8,{"$f":"IF(D309=\"\",\"\",IF(VLOOKUP(D309,Teams!$B$3:$C$10,2,FALSE)=\"\",\"\",VLOOKUP(D309,Teams!$B$3:$C$10,2,FALSE)))","v":""},null,null,{"$f":"IF(G309=\"\",\"\",YEAR('Gala Name'!$C$9)-YEAR(G309))","v":""},"",null,"",{"$f":"IF(OR(J309=\"\",J309=\"DSQ\"),\"\",IF(OR(J309=J306,J309=J307,J309=J308,J309=J302,J309=J303,J309=J304,J309=J305),\"Enter Placings\",\"\"))","v":""},"","",null,{"$f":"IF(L309<>\"\",L309,IF(OR(J309=\"DNF\",J309=\"DSQ\"),0,IF(N309=\"\",\"\",RANK(N309,N302:N309,1))))","v":""},{"$f":"IF(P309=\"\",0,IF(P309=0,0,VLOOKUP(P:P,Points!B:C,2,FALSE)))","v":0},8,null,{"$f":"IF(P310>7.9,8,\"\")","v":""},{"$f":"IFERROR(IF(T309=\"\",\"\",VLOOKUP(T309,P302:R309,3,FALSE)),\"\")","v":""},null,8,null,{"$f":"IF(D309=\"\",\"\",IFERROR(VLOOKUP(B309,Events!B:L,11,FALSE),Y308))","v":""}," "," ",{"$f":"IFERROR(VLOOKUP(AA:AA,'Masters Convertion'!F:G,2,FALSE),\"\")","v":""},"",{"$f":"IF('Gala Name'!C$4=\"No\",\"\",IFERROR(RANK(N309,N309:N316,1),\"\"))","v":""}]
[null,null,null,null,null,null,null,null,null,null,null,null,"","",null,{"$f":"MAX(P302:P309)","v":0},null,null,null,null,null,null,"*"]
[{"$f":"IF(J311=\"\",\"\",B311)","v":""},{"$f":"B302+1","v":35},{"$f":"IF(D311=1,VLOOKUP(B311,Events!B:H,6,FALSE)&VLOOKUP(B311,Events!B:H,7,FALSE),\"\")","v":"   "},1,{"$f":"IF(D311=\"\",\"\",IF(VLOOKUP(D311,Teams!$B$3:$C$10,2,FALSE)=\"\",\"\",VLOOKUP(D311,Teams!$B$3:$C$10,2,FALSE)))","v":""},null,null,{"$f":"IF(G311=\"\",\"\",YEAR('Gala Name'!$C$9)-YEAR(G311))","v":""},"",null,"",{"$f":"IF(OR(J311=\"\",J311=\"DSQ\"),\"\",IF(OR(J311=J312,J311=J313,J311=J314,J311=J315,J311=J316,J311=J317,J311=J318),\"Enter Placings\",\"\"))","v":""},"","",null,{"$f":"IF(L311<>\"\",L311,IF(OR(J311=\"DNF\",J311=\"DSQ\"),0,IF(N311=\"\",\"\",RANK(N311,N311:N318,1))))","v":""},{"$f":"IF(P311=\"\",0,IF(P311=0,0,VLOOKUP(P:P,Points!B:C,2,FALSE)))","v":0},{"$f":"D311","v":1},null,{"$f":"IF(P319>0.9,1,\"\")","v":""},{"$f":"IFERROR(IF(T311=\"\",\"\",VLOOKUP(T311,P311:R318,3,FALSE)),\"\")","v":""},null,1,null,{"$f":"IF(D311=\"\",\"\",IFERROR(VLOOKUP(B311,Events!B:L,11,FALSE),Y310))","v":""}," "," ",{"$f":"IFERROR(VLOOKUP(AA:AA,'Masters Convertion'!F:G,2,FALSE),\"\")","v":""},"",{"$f":"IF('Gala Name'!C$4=\"No\",\"\",IFERROR(RANK(N311,N311:N318,1),\"\"))","v":""}]
[{"$f":"IF(J312=\"\",\"\",B311)","v":""},null,null,2,{"$f":"IF(D312=\"\",\"\",IF(VLOOKUP(D312,Teams!$B$3:$C$10,2,FALSE)=\"\",\"\",VLOOKUP(D312,Teams!$B$3:$C$10,2,FALSE)))","v":""},null,null,{"$f":"IF(G312=\"\",\"\",YEAR('Gala Name'!$C$9)-YEAR(G312))","v":""},"",null,"",{"$f":"IF(OR(J312=\"\",J312=\"DSQ\"),\"\",IF(OR(J312=J311,J312=J313,J312=J314,J312=J315,J312=J316,J312=J317,J312=J318),\"Enter Placings\",\"\"))","v":""},"","",null,{"$f":"IF(L312<>\"\",L312,IF(OR(J312=\"DNF\",J312=\"DSQ\"),0,IF(N312=\"\",\"\",RANK(N312,N311:N318,1))))","v":""},{"$f":"IF(P312=\"\",0,IF(P312=0,0,VLOOKUP(P:P,Points!B:C,2,FALSE)))","v":0},2,null,{"$f":"IF(P319>1.9,2,\"\")","v":""},{"$f":"IFERROR(IF(T312=\"\",\"\",VLOOKUP(T312,P311:R318,3,FALSE)),\"\")","v":""},null,2,null,{"$f":"IF(D312=\"\",\"\",IFERROR(VLOOKUP(B312,Events!B:L,11,FALSE),Y311))","v":""}," "," ",{"$f":"IFERROR(VLOOKUP(AA:AA,'Masters Convertion'!F:G,2,FALSE),\"\")","v":""},"",{"$f":"IF('Gala Name'!C$4=\"No\",\"\",IFERROR(RANK(N312,N312:N319,1),\"\"))","v":""}]
[{"$f":"IF(J313=\"\",\"\",B311)","v":""},null,null,3,{"$f":"IF(D313=\"\",\"\",IF(VLOOKUP(D313,Teams!$B$3:$C$10,2,FALSE)=\"\",\"\",VLOOKUP(D313,Teams!$B$3:$C$10,2,FALSE)))","v":""},null,null,{"$f":"IF(G313=\"\",\"\",YEAR('Gala Name'!$C$9)-YEAR(G313))","v":""},"",null,"",{"$f":"IF(OR(J313=\"\",J313=\"DSQ\"),\"\",IF(OR(J313=J311,J313=J312,J313=J314,J313=J315,J313=J316,J313=J317,J313=J318),\"Enter Placings\",\"\"))","v":""},"","",null,{"$f":"IF(L313<>\"\",L313,IF(OR(J313=\"DNF\",J313=\"DSQ\"),0,IF(N313=\"\",\"\",RANK(N313,N311:N318,1))))","v":""},{"$f":"IF(P313=\"\",0,IF(P313=0,0,VLOOKUP(P:P,Points!B:C,2,FALSE)))","v":0},3,null,{"$f":"IF(P319>2.9,3,\"\")","v":""},{"$f":"IFERROR(IF(T313=\"\",\"\",VLOOKUP(T313,P311:R318,3,FALSE)),\"\")","v":""},null,3,null,{"$f":"IF(D313=\"\",\"\",IFERROR(VLOOKUP(B313,Events!B:L,11,FALSE),Y312))","v":""}," "," ",{"$f":"IFERROR(VLOOKUP(AA:AA,'Masters Convertion'!F:G,2,FALSE),\"\")","v":""},"",{"$f":"IF('Gala Name'!C$4=\"No\",\"\",IFERROR(RANK(N313,N313:N320,1),\"\"))","v":""}]
[{"$f":"IF(J314=\"\",\"\",B311)","v":""},null,null,4,{"$f":"IF(D314=\"\",\"\",IF(VLOOKUP(D314,Teams!$B$3:$C$10,2,FALSE)=\"\",\"\",VLOOKUP(D314,Teams!$B$3:$C$10,2,FALSE)))","v":""},null,null,{"$f":"IF(G314=\"\",\"\",YEAR('Gala Name'!$C$9)-YEAR(G314))","v":""},"",null,"",{"$f":"IF(OR(J314=\"\",J314=\"DSQ\"),\"\",IF(OR(J314=J311,J314=J312,J314=J313,J314=J315,J314=J316,J314=J317,J314=J318),\"Enter Placings\",\"\"))","v":""},"","",null,{"$f":"IF(L314<>\"\",L314,IF(OR(J314=\"DNF\",J314=\"DSQ\"),0,IF(N314=\"\",\"\",RANK(N314,N311:N318,1))))","v":""},{"$f":"IF(P314=\"\",0,IF(P314=0,0,VLOOKUP(P:P,Points!B:C,2,FALSE)))","v":0},4,null,{"$f":"IF(P319>3.9,4,\"\")","v":""},{"$f":"IFERROR(IF(T314=\"\",\"\",VLOOKUP(T314,P311:R318,3,FALSE)),\"\")","v":""},null,4,null,{"$f":"IF(D314=\"\",\"\",IFERROR(VLOOKUP(B314,Events!B:L,11,FALSE),Y313))","v":""}," "," ",{"$f":"IFERROR(VLOOKUP(AA:AA,'Masters Convertion'!F:G,2,FALSE),\"\")","v":""},"",{"$f":"IF('Gala Name'!C$4=\"No\",\"\",IFERROR(RANK(N314,N314:N321,1),\"\"))","v":""}]
[{"$f":"IF(J315=\"\",\"\",B311)","v":""},null,null,5,{"$f":"IF(D315=\"\",\"\",IF(VLOOKUP(D315,Teams!$B$3:$C$10,2,FALSE)=\"\",\"\",VLOOKUP(D315,Teams!$B$3:$C$10,2,FALSE)))","v":""},null,null,{"$f":"IF(G315=\"\",\"\",YEAR('Gala Name'!$C$9)-YEAR(G315))","v":""},"",null,"",{"$f":"IF(OR(J315=\"\",J315=\"DSQ\"),\"\",IF(OR(J315=J312,J315=J313,J315=J314,J315=J316,J315=J317,J315=J318,J315=J311),\"Enter Placings\",\"\"))","v":""},"","",null,{"$f":"IF(L315<>\"\",L315,IF(OR(J315=\"DNF\",J315=\"DSQ\"),0,IF(N315=\"\",\"\",RANK(N315,N311:N318,1))))","v":""},{"$f":"IF(P315=\"\",0,IF(P315=0,0,VLOOKUP(P:P,Points!B:C,2,FALSE)))","v":0},5,null,{"$f":"IF(P319>4.9,5,\"\")","v":""},{"$f":"IFERROR(IF(T315=\"\",\"\",VLOOKUP(T315,P311:R318,3,FALSE)),\"\")","v":""},null,5,null,{"$f":"IF(D315=\"\",\"\",IFERROR(VLOOKUP(B315,Events!B:L,11,FALSE),Y314))","v":""}," "," ",{"$f":"IFERROR(VLOOKUP(AA:AA,'Masters Convertion'!F:G,2,FALSE),\"\")","v":""},"",{"$f":"IF('Gala Name'!C$4=\"No\",\"\",IFERROR(RANK(N315,N315:N322,1),\"\"))","v":""}]
[{"$f":"IF(J316=\"\",\"\",B311)","v":""},null,null,6,{"$f":"IF(D316=\"\",\"\",IF(VLOOKUP(D316,Teams!$B$3:$C$10,2,FALSE)=\"\",\"\",VLOOKUP(D316,Teams!$B$3:$C$10,2,FALSE)))","v":""},null,null,{"$f":"IF(G316=\"\",\"\",YEAR('Gala Name'!$C$9)-YEAR(G316))","v":""},"",null,"",{"$f":"IF(OR(J316=\"\",J316=\"DSQ\"),\"\",IF(OR(J316=J313,J316=J314,J316=J315,J316=J317,J316=J318,J316=J312,J316=J311),\"Enter Placings\",\"\"))","v":""},"","",null,{"$f":"IF(L316<>\"\",L316,IF(OR(J316=\"DNF\",J316=\"DSQ\"),0,IF(N316=\"\",\"\",RANK(N316,N311:N318,1))))","v":""},{"$f":"IF(P316=\"\",0,IF(P316=0,0,VLOOKUP(P:P,Points!B:C,2,FALSE)))","v":0},6,null,{"$f":"IF(P319>5.9,6,\"\")","v":""},{"$f":"IFERROR(IF(T316=\"\",\"\",VLOOKUP(T316,P311:R318,3,FALSE)),\"\")","v":""},null,6,null,{"$f":"IF(D316=\"\",\"\",IFERROR(VLOOKUP(B316,Events!B:L,11,FALSE),Y315))","v":""}," "," ",{"$f":"IFERROR(VLOOKUP(AA:AA,'Masters Convertion'!F:G,2,FALSE),\"\")","v":""},"",{"$f":"IF('Gala Name'!C$4=\"No\",\"\",IFERROR(RANK(N316,N316:N323,1),\"\"))","v":""}]
[{"$f":"IF(J317=\"\",\"\",B311)","v":""},null,null,7,{"$f":"IF(D317=\"\",\"\",IF(VLOOKUP(D317,Teams!$B$3:$C$10,2,FALSE)=\"\",\"\",VLOOKUP(D317,Teams!$B$3:$C$10,2,FALSE)))","v":""},null,null,{"$f":"IF(G317=\"\",\"\",YEAR('Gala Name'!$C$9)-YEAR(G317))","v":""},"",null,"",{"$f":"IF(OR(J317=\"\",J317=\"DSQ\"),\"\",IF(OR(J317=J314,J317=J315,J317=J316,J317=J318,J317=J311,J317=J312,J317=J313),\"Enter Placings\",\"\"))","v":""},"","",null,{"$f":"IF(L317<>\"\",L317,IF(OR(J317=\"DNF\",J317=\"DSQ\"),0,IF(N317=\"\",\"\",RANK(N317,N311:N318,1))))","v":""},{"$f":"IF(P317=\"\",0,IF(P317=0,0,VLOOKUP(P:P,Points!B:C,2,FALSE)))","v":0},7,null,{"$f":"IF(P319>6.9,7,\"\")","v":""},{"$f":"IFERROR(IF(T317=\"\",\"\",VLOOKUP(T317,P311:R318,3,FALSE)),\"\")","v":""},null,7,null,{"$f":"IF(D317=\"\",\"\",IFERROR(VLOOKUP(B317,Events!B:L,11,FALSE),Y316))","v":""}," "," ",{"$f":"IFERROR(VLOOKUP(AA:AA,'Masters Convertion'!F:G,2,FALSE),\"\")","v":""},"",{"$f":"IF('Gala Name'!C$4=\"No\",\"\",IFERROR(RANK(N317,N317:N324,1),\"\"))","v":""}]
[{"$f":"IF(J318=\"\",\"\",B311)","v":""},null,null,8,{"$f":"IF(D318=\"\",\"\",IF(VLOOKUP(D318,Teams!$B$3:$C$10,2,FALSE)=\"\",\"\",VLOOKUP(D318,Teams!$B$3:$C$10,2,FALSE)))","v":""},null,null,{"$f":"IF(G318=\"\",\"\",YEAR('Gala Name'!$C$9)-YEAR(G318))","v":""},"",null,"",{"$f":"IF(OR(J318=\"\",J318=\"DSQ\"),\"\",IF(OR(J318=J315,J318=J316,J318=J317,J318=J311,J318=J312,J318=J313,J318=J314),\"Enter Placings\",\"\"))","v":""},"","",null,{"$f":"IF(L318<>\"\",L318,IF(OR(J318=\"DNF\",J318=\"DSQ\"),0,IF(N318=\"\",\"\",RANK(N318,N311:N318,1))))","v":""},{"$f":"IF(P318=\"\",0,IF(P318=0,0,VLOOKUP(P:P,Points!B:C,2,FALSE)))","v":0},8,null,{"$f":"IF(P319>7.9,8,\"\")","v":""},{"$f":"IFERROR(IF(T318=\"\",\"\",VLOOKUP(T318,P311:R318,3,FALSE)),\"\")","v":""},null,8,null,{"$f":"IF(D318=\"\",\"\",IFERROR(VLOOKUP(B318,Events!B:L,11,FALSE),Y317))","v":""}," "," ",{"$f":"IFERROR(VLOOKUP(AA:AA,'Masters Convertion'!F:G,2,FALSE),\"\")","v":""},"",{"$f":"IF('Gala Name'!C$4=\"No\",\"\",IFERROR(RANK(N318,N318:N325,1),\"\"))","v":""}]
[null,null,null,null,null,null,null,null,null,null,null,null,"","",null,{"$f":"MAX(P311:P318)","v":0},null,null,null,null,null,null,"*"]
[{"$f":"IF(J320=\"\",\"\",B320)","v":""},{"$f":"B311+1","v":36},{"$f":"IF(D320=1,VLOOKUP(B320,Events!B:H,6,FALSE)&VLOOKUP(B320,Events!B:H,7,FALSE),\"\")","v":"   "},1,{"$f":"IF(D320=\"\",\"\",IF(VLOOKUP(D320,Teams!$B$3:$C$10,2,FALSE)=\"\",\"\",VLOOKUP(D320,Teams!$B$3:$C$10,2,FALSE)))","v":""},null,null,{"$f":"IF(G320=\"\",\"\",YEAR('Gala Name'!$C$9)-YEAR(G320))","v":""},"",null,"",{"$f":"IF(OR(J320=\"\",J320=\"DSQ\"),\"\",IF(OR(J320=J321,J320=J322,J320=J323,J320=J324,J320=J325,J320=J326,J320=J327),\"Enter Placings\",\"\"))","v":""},"","",null,{"$f":"IF(L320<>\"\",L320,IF(OR(J320=\"DNF\",J320=\"DSQ\"),0,IF(N320=\"\",\"\",RANK(N320,N320:N327,1))))","v":""},{"$f":"IF(P320=\"\",0,IF(P320=0,0,VLOOKUP(P:P,Points!B:C,2,FALSE)))","v":0},{"$f":"D320","v":1},null,{"$f":"IF(P328>0.9,1,\"\")","v":""},{"$f":"IFERROR(IF(T320=\"\",\"\",VLOOKUP(T320,P320:R327,3,FALSE)),\"\")","v":""},null,1,null,{"$f":"IF(D320=\"\",\"\",IFERROR(VLOOKUP(B320,Events!B:L,11,FALSE),Y319))","v":""}," "," ",{"$f":"IFERROR(VLOOKUP(AA:AA,'Masters Convertion'!F:G,2,FALSE),\"\")","v":""},"",{"$f":"IF('Gala Name'!C$4=\"No\",\"\",IFERROR(RANK(N320,N320:N327,1),\"\"))","v":""}]
[{"$f":"IF(J321=\"\",\"\",B320)","v":""},null,null,2,{"$f":"IF(D321=\"\",\"\",IF(VLOOKUP(D321,Teams!$B$3:$C$10,2,FALSE)=\"\",\"\",VLOOKUP(D321,Teams!$B$3:$C$10,2,FALSE)))","v":""},null,null,{"$f":"IF(G321=\"\",\"\",YEAR('Gala Name'!$C$9)-YEAR(G321))","v":""},"",null,"",{"$f":"IF(OR(J321=\"\",J321=\"DSQ\"),\"\",IF(OR(J321=J320,J321=J322,J321=J323,J321=J324,J321=J325,J321=J326,J321=J327),\"Enter Placings\",\"\"))","v":""},"","",null,{"$f":"IF(L321<>\"\",L321,IF(OR(J321=\"DNF\",J321=\"DSQ\"),0,IF(N321=\"\",\"\",RANK(N321,N320:N327,1))))","v":""},{"$f":"IF(P321=\"\",0,IF(P321=0,0,VLOOKUP(P:P,Points!B:C,2,FALSE)))","v":0},2,null,{"$f":"IF(P328>1.9,2,\"\")","v":""},{"$f":"IFERROR(IF(T321=\"\",\"\",VLOOKUP(T321,P320:R327,3,FALSE)),\"\")","v":""},null,2,null,{"$f":"IF(D321=\"\",\"\",IFERROR(VLOOKUP(B321,Events!B:L,11,FALSE),Y320))","v":""}," "," ",{"$f":"IFERROR(VLOOKUP(AA:AA,'Masters Convertion'!F:G,2,FALSE),\"\")","v":""},"",{"$f":"IF('Gala Name'!C$4=\"No\",\"\",IFERROR(RANK(N321,N321:N328,1),\"\"))","v":""}]
[{"$f":"IF(J322=\"\",\"\",B320)","v":""},null,null,3,{"$f":"IF(D322=\"\",\"\",IF(VLOOKUP(D322,Teams!$B$3:$C$10,2,FALSE)=\"\",\"\",VLOOKUP(D322,Teams!$B$3:$C$10,2,FALSE)))","v":""},null,null,{"$f":"IF(G322=\"\",\"\",YEAR('Gala Name'!$C$9)-YEAR(G322))","v":""},"",null,"",{"$f":"IF(OR(J322=\"\",J322=\"DSQ\"),\"\",IF(OR(J322=J320,J322=J321,J322=J323,J322=J324,J322=J325,J322=J326,J322=J327),\"Enter Placings\",\"\"))","v":""},"","",null,{"$f":"IF(L322<>\"\",L322,IF(OR(J322=\"DNF\",J322=\"DSQ\"),0,IF(N322=\"\",\"\",RANK(N322,N320:N327,1))))","v":""},{"$f":"IF(P322=\"\",0,IF(P322=0,0,VLOOKUP(P:P,Points!B:C,2,FALSE)))","v":0},3,null,{"$f":"IF(P328>2.9,3,\"\")","v":""},{"$f":"IFERROR(IF(T322=\"\",\"\",VLOOKUP(T322,P320:R327,3,FALSE)),\"\")","v":""},null,3,null,{"$f":"IF(D322=\"\",\"\",IFERROR(VLOOKUP(B322,Events!B:L,11,FALSE),Y321))","v":""}," "," ",{"$f":"IFERROR(VLOOKUP(AA:AA,'Masters Convertion'!F:G,2,FALSE),\"\")","v":""},"",{"$f":"IF('Gala Name'!C$4=\"No\",\"\",IFERROR(RANK(N322,N322:N329,1),\"\"))","v":""}]
[{"$f":"IF(J323=\"\",\"\",B320)","v":""},null,null,4,{"$f":"IF(D323=\"\",\"\",IF(VLOOKUP(D323,Teams!$B$3:$C$10,2,FALSE)=\"\",\"\",VLOOKUP(D323,Teams!$B$3:$C$10,2,FALSE)))","v":""},null,null,{"$f":"IF(G323=\"\",\"\",YEAR('Gala Name'!$C$9)-YEAR(G323))","v":""},"",null,"",{"$f":"IF(OR(J323=\"\",J323=\"DSQ\"),\"\",IF(OR(J323=J320,J323=J321,J323=J322,J323=J324,J323=J325,J323=J326,J323=J327),\"Enter Placings\",\"\"))","v":""},"","",null,{"$f":"IF(L323<>\"\",L323,IF(OR(J323=\"DNF\",J323=\"DSQ\"),0,IF(N323=\"\",\"\",RANK(N323,N320:N327,1))))","v":""},{"$f":"IF(P323=\"\",0,IF(P323=0,0,VLOOKUP(P:P,Points!B:C,2,FALSE)))","v":0},4,null,{"$f":"IF(P328>3.9,4,\"\")","v":""},{"$f":"IFERROR(IF(T323=\"\",\"\",VLOOKUP(T323,P320:R327,3,FALSE)),\"\")","v":""},null,4,null,{"$f":"IF(D323=\"\",\"\",IFERROR(VLOOKUP(B323,Events!B:L,11,FALSE),Y322))","v":""}," "," ",{"$f":"IFERROR(VLOOKUP(AA:AA,'Masters Convertion'!F:G,2,FALSE),\"\")","v":""},"",{"$f":"IF('Gala Name'!C$4=\"No\",\"\",IFERROR(RANK(N323,N323:N330,1),\"\"))","v":""}]
[{"$f":"IF(J324=\"\",\"\",B320)","v":""},null,null,5,{"$f":"IF(D324=\"\",\"\",IF(VLOOKUP(D324,Teams!$B$3:$C$10,2,FALSE)=\"\",\"\",VLOOKUP(D324,Teams!$B$3:$C$10,2,FALSE)))","v":""},null,null,{"$f":"IF(G324=\"\",\"\",YEAR('Gala Name'!$C$9)-YEAR(G324))","v":""},"",null,"",{"$f":"IF(OR(J324=\"\",J324=\"DSQ\"),\"\",IF(OR(J324=J321,J324=J322,J324=J323,J324=J325,J324=J326,J324=J327,J324=J320),\"Enter Placings\",\"\"))","v":""},"","",null,{"$f":"IF(L324<>\"\",L324,IF(OR(J324=\"DNF\",J324=\"DSQ\"),0,IF(N324=\"\",\"\",RANK(N324,N320:N327,1))))","v":""},{"$f":"IF(P324=\"\",0,IF(P324=0,0,VLOOKUP(P:P,Points!B:C,2,FALSE)))","v":0},5,null,{"$f":"IF(P328>4.9,5,\"\")","v":""},{"$f":"IFERROR(IF(T324=\"\",\"\",VLOOKUP(T324,P320:R327,3,FALSE)),\"\")","v":""},null,5,null,{"$f":"IF(D324=\"\",\"\",IFERROR(VLOOKUP(B324,Events!B:L,11,FALSE),Y323))","v":""}," "," ",{"$f":"IFERROR(VLOOKUP(AA:AA,'Masters Convertion'!F:G,2,FALSE),\"\")","v":""},"",{"$f":"IF('Gala Name'!C$4=\"No\",\"\",IFERROR(RANK(N324,N324:N331,1),\"\"))","v":""}]
[{"$f":"IF(J325=\"\",\"\",B320)","v":""},null,null,6,{"$f":"IF(D325=\"\",\"\",IF(VLOOKUP(D325,Teams!$B$3:$C$10,2,FALSE)=\"\",\"\",VLOOKUP(D325,Teams!$B$3:$C$10,2,FALSE)))","v":""},null,null,{"$f":"IF(G325=\"\",\"\",YEAR('Gala Name'!$C$9)-YEAR(G325))","v":""},"",null,"",{"$f":"IF(OR(J325=\"\",J325=\"DSQ\"),\"\",IF(OR(J325=J322,J325=J323,J325=J324,J325=J326,J325=J327,J325=J321,J325=J320),\"Enter Placings\",\"\"))","v":""},"","",null,{"$f":"IF(L325<>\"\",L325,IF(OR(J325=\"DNF\",J325=\"DSQ\"),0,IF(N325=\"\",\"\",RANK(N325,N320:N327,1))))","v":""},{"$f":"IF(P325=\"\",0,IF(P325=0,0,VLOOKUP(P:P,Points!B:C,2,FALSE)))","v":0},6,null,{"$f":"IF(P328>5.9,6,\"\")","v":""},{"$f":"IFERROR(IF(T325=\"\",\"\",VLOOKUP(T325,P320:R327,3,FALSE)),\"\")","v":""},null,6,null,{"$f":"IF(D325=\"\",\"\",IFERROR(VLOOKUP(B325,Events!B:L,11,FALSE),Y324))","v":""}," "," ",{"$f":"IFERROR(VLOOKUP(AA:AA,'Masters Convertion'!F:G,2,FALSE),\"\")","v":""},"",{"$f":"IF('Gala Name'!C$4=\"No\",\"\",IFERROR(RANK(N325,N325:N332,1),\"\"))","v":""}]
[{"$f":"IF(J326=\"\",\"\",B320)","v":""},null,null,7,{"$f":"IF(D326=\"\",\"\",IF(VLOOKUP(D326,Teams!$B$3:$C$10,2,FALSE)=\"\",\"\",VLOOKUP(D326,Teams!$B$3:$C$10,2,FALSE)))","v":""},null,null,{"$f":"IF(G326=\"\",\"\",YEAR('Gala Name'!$C$9)-YEAR(G326))","v":""},{"$f":"IF(IF(J326=\"DSQ\",PROPER(K326),PROPER(F326))=\"\",\"\",IF(J326=\"DSQ\",PROPER(K326),PROPER(F326)))","v":""},null,"",{"$f":"IF(OR(J326=\"\",J326=\"DSQ\"),\"\",IF(OR(J326=J323,J326=J324,J326=J325,J326=J327,J326=J320,J326=J321,J326=J322),\"Enter Placings\",\"\"))","v":""},{"$f":"IF(J326=\"\",\"\",UPPER(TEXT(J326,\"0 00.00\")))","v":""},{"$f":"IF(J326=\"DSQ\",999999,IF(J326=\"DNF\",999999,IF(J326=\"\",\"\",IF(LEFT(M326,1)=\"0\",RIGHT(M326,5)*1,LEFT(J326,1)*60+RIGHT(M326,5)*1))))","v":""},null,{"$f":"IF(L326<>\"\",L326,IF(OR(J326=\"DNF\",J326=\"DSQ\"),0,IF(N326=\"\",\"\",RANK(N326,N320:N327,1))))","v":""},{"$f":"IF(P326=\"\",0,IF(P326=0,0,VLOOKUP(P:P,Points!B:C,2,FALSE)))","v":0},7,null,{"$f":"IF(P328>6.9,7,\"\")","v":""},{"$f":"IFERROR(IF(T326=\"\",\"\",VLOOKUP(T326,P320:R327,3,FALSE)),\"\")","v":""},null,7,null,{"$f":"IF(D326=\"\",\"\",IFERROR(VLOOKUP(B326,Events!B:L,11,FALSE),Y325))","v":""}," ",{"$f":"Z326&Y326&H326","v":" "},{"$f":"IFERROR(VLOOKUP(AA:AA,'Masters Convertion'!F:G,2,FALSE),\"\")","v":""},"",{"$f":"IF('Gala Name'!C$4=\"No\",\"\",IFERROR(RANK(N326,N326:N333,1),\"\"))","v":""}]
[{"$f":"IF(J327=\"\",\"\",B320)","v":""},null,null,8,{"$f":"IF(D327=\"\",\"\",IF(VLOOKUP(D327,Teams!$B$3:$C$10,2,FALSE)=\"\",\"\",VLOOKUP(D327,Teams!$B$3:$C$10,2,FALSE)))","v":""},null,null,{"$f":"IF(G327=\"\",\"\",YEAR('Gala Name'!$C$9)-YEAR(G327))","v":""},"",null,"",{"$f":"IF(OR(J327=\"\",J327=\"DSQ\"),\"\",IF(OR(J327=J324,J327=J325,J327=J326,J327=J320,J327=J321,J327=J322,J327=J323),\"Enter Placings\",\"\"))","v":""},"","",null,{"$f":"IF(L327<>\"\",L327,IF(OR(J327=\"DNF\",J327=\"DSQ\"),0,IF(N327=\"\",\"\",RANK(N327,N320:N327,1))))","v":""},{"$f":"IF(P327=\"\",0,IF(P327=0,0,VLOOKUP(P:P,Points!B:C,2,FALSE)))","v":0},8,null,{"$f":"IF(P328>7.9,8,\"\")","v":""},{"$f":"IFERROR(IF(T327=\"\",\"\",VLOOKUP(T327,P320:R327,3,FALSE)),\"\")","v":""},null,8,null,{"$f":"IF(D327=\"\",\"\",IFERROR(VLOOKUP(B327,Events!B:L,11,FALSE),Y326))","v":""}," "," ",{"$f":"IFERROR(VLOOKUP(AA:AA,'Masters Convertion'!F:G,2,FALSE),\"\")","v":""},"",{"$f":"IF('Gala Name'!C$4=\"No\",\"\",IFERROR(RANK(N327,N327:N334,1),\"\"))","v":""}]
[null,null,null,null,null,null,null,null,null,null,null,null,"","",null,{"$f":"MAX(P320:P327)","v":0},null,null,null,null,null,null,"*"]
[{"$f":"IF(J329=\"\",\"\",B329)","v":""},{"$f":"B320+1","v":37},{"$f":"IF(D329=1,VLOOKUP(B329,Events!B:H,6,FALSE)&VLOOKUP(B329,Events!B:H,7,FALSE),\"\")","v":"   "},1,{"$f":"IF(D329=\"\",\"\",IF(VLOOKUP(D329,Teams!$B$3:$C$10,2,FALSE)=\"\",\"\",VLOOKUP(D329,Teams!$B$3:$C$10,2,FALSE)))","v":""},null,null,{"$f":"IF(G329=\"\",\"\",YEAR('Gala Name'!$C$9)-YEAR(G329))","v":""},"",null,"",{"$f":"IF(OR(J329=\"\",J329=\"DSQ\"),\"\",IF(OR(J329=J330,J329=J331,J329=J332,J329=J333,J329=J334,J329=J335,J329=J336),\"Enter Placings\",\"\"))","v":""},"","",null,{"$f":"IF(L329<>\"\",L329,IF(OR(J329=\"DNF\",J329=\"DSQ\"),0,IF(N329=\"\",\"\",RANK(N329,N329:N336,1))))","v":""},{"$f":"IF(P329=\"\",0,IF(P329=0,0,VLOOKUP(P:P,Points!B:C,2,FALSE)))","v":0},{"$f":"D329","v":1},null,{"$f":"IF(P337>0.9,1,\"\")","v":""},{"$f":"IFERROR(IF(T329=\"\",\"\",VLOOKUP(T329,P329:R336,3,FALSE)),\"\")","v":""},null,1,null,{"$f":"IF(D329=\"\",\"\",IFERROR(VLOOKUP(B329,Events!B:L,11,FALSE),Y328))","v":""}," "," ",{"$f":"IFERROR(VLOOKUP(AA:AA,'Masters Convertion'!F:G,2,FALSE),\"\")","v":""},{"$f":"IF(AB329=\"\",\"\",ROUNDDOWN(AB329*N329,2))","v":""},{"$f":"IF('Gala Name'!C$4=\"No\",\"\",IFERROR(RANK(N329,N329:N336,1),\"\"))","v":""}]
[{"$f":"IF(J330=\"\",\"\",B329)","v":""},null,null,2,{"$f":"IF(D330=\"\",\"\",IF(VLOOKUP(D330,Teams!$B$3:$C$10,2,FALSE)=\"\",\"\",VLOOKUP(D330,Teams!$B$3:$C$10,2,FALSE)))","v":""},null,null,{"$f":"IF(G330=\"\",\"\",YEAR('Gala Name'!$C$9)-YEAR(G330))","v":""},"",null,"",{"$f":"IF(OR(J330=\"\",J330=\"DSQ\"),\"\",IF(OR(J330=J329,J330=J331,J330=J332,J330=J333,J330=J334,J330=J335,J330=J336),\"Enter Placings\",\"\"))","v":""},"","",null,{"$f":"IF(L330<>\"\",L330,IF(OR(J330=\"DNF\",J330=\"DSQ\"),0,IF(N330=\"\",\"\",RANK(N330,N329:N336,1))))","v":""},{"$f":"IF(P330=\"\",0,IF(P330=0,0,VLOOKUP(P:P,Points!B:C,2,FALSE)))","v":0},2,null,{"$f":"IF(P337>1.9,2,\"\")","v":""},{"$f":"IFERROR(IF(T330=\"\",\"\",VLOOKUP(T330,P329:R336,3,FALSE)),\"\")","v":""},null,2,null,{"$f":"IF(D330=\"\",\"\",IFERROR(VLOOKUP(B330,Events!B:L,11,FALSE),Y329))","v":""}," "," ",{"$f":"IFERROR(VLOOKUP(AA:AA,'Masters Convertion'!F:G,2,FALSE),\"\")","v":""},"",{"$f":"IF('Gala Name'!C$4=\"No\",\"\",IFERROR(RANK(N330,N330:N337,1),\"\"))","v":""}]
[{"$f":"IF(J331=\"\",\"\",B329)","v":""},null,null,3,{"$f":"IF(D331=\"\",\"\",IF(VLOOKUP(D331,Teams!$B$3:$C$10,2,FALSE)=\"\",\"\",VLOOKUP(D331,Teams!$B$3:$C$10,2,FALSE)))","v":""},null,null,{"$f":"IF(G331=\"\",\"\",YEAR('Gala Name'!$C$9)-YEAR(G331))","v":""},"",null,"",{"$f":"IF(OR(J331=\"\",J331=\"DSQ\"),\"\",IF(OR(J331=J329,J331=J330,J331=J332,J331=J333,J331=J334,J331=J335,J331=J336),\"Enter Placings\",\"\"))","v":""},"","",null,{"$f":"IF(L331<>\"\",L331,IF(OR(J331=\"DNF\",J331=\"DSQ\"),0,IF(N331=\"\",\"\",RANK(N331,N329:N336,1))))","v":""},{"$f":"IF(P331=\"\",0,IF(P331=0,0,VLOOKUP(P:P,Points!B:C,2,FALSE)))","v":0},3,null,{"$f":"IF(P337>2.9,3,\"\")","v":""},{"$f":"IFERROR(IF(T331=\"\",\"\",VLOOKUP(T331,P329:R336,3,FALSE)),\"\")","v":""},null,3,null,{"$f":"IF(D331=\"\",\"\",IFERROR(VLOOKUP(B331,Events!B:L,11,FALSE),Y330))","v":""}," "," ",{"$f":"IFERROR(VLOOKUP(AA:AA,'Masters Convertion'!F:G,2,FALSE),\"\")","v":""},"",{"$f":"IF('Gala Name'!C$4=\"No\",\"\",IFERROR(RANK(N331,N331:N338,1),\"\"))","v":""}]
[{"$f":"IF(J332=\"\",\"\",B329)","v":""},null,null,4,{"$f":"IF(D332=\"\",\"\",IF(VLOOKUP(D332,Teams!$B$3:$C$10,2,FALSE)=\"\",\"\",VLOOKUP(D332,Teams!$B$3:$C$10,2,FALSE)))","v":""},null,null,{"$f":"IF(G332=\"\",\"\",YEAR('Gala Name'!$C$9)-YEAR(G332))","v":""},"",null,"",{"$f":"IF(OR(J332=\"\",J332=\"DSQ\"),\"\",IF(OR(J332=J329,J332=J330,J332=J331,J332=J333,J332=J334,J332=J335,J332=J336),\"Enter Placings\",\"\"))","v":""},"","",null,{"$f":"IF(L332<>\"\",L332,IF(OR(J332=\"DNF\",J332=\"DSQ\"),0,IF(N332=\"\",\"\",RANK(N332,N329:N336,1))))","v":""},{"$f":"IF(P332=\"\",0,IF(P332=0,0,VLOOKUP(P:P,Points!B:C,2,FALSE)))","v":0},4,null,{"$f":"IF(P337>3.9,4,\"\")","v":""},{"$f":"IFERROR(IF(T332=\"\",\"\",VLOOKUP(T332,P329:R336,3,FALSE)),\"\")","v":""},null,4,null,{"$f":"IF(D332=\"\",\"\",IFERROR(VLOOKUP(B332,Events!B:L,11,FALSE),Y331))","v":""}," "," ",{"$f":"IFERROR(VLOOKUP(AA:AA,'Masters Convertion'!F:G,2,FALSE),\"\")","v":""},"",{"$f":"IF('Gala Name'!C$4=\"No\",\"\",IFERROR(RANK(N332,N332:N339,1),\"\"))","v":""}]
[{"$f":"IF(J333=\"\",\"\",B329)","v":""},null,null,5,{"$f":"IF(D333=\"\",\"\",IF(VLOOKUP(D333,Teams!$B$3:$C$10,2,FALSE)=\"\",\"\",VLOOKUP(D333,Teams!$B$3:$C$10,2,FALSE)))","v":""},null,null,{"$f":"IF(G333=\"\",\"\",YEAR('Gala Name'!$C$9)-YEAR(G333))","v":""},"",null,"",{"$f":"IF(OR(J333=\"\",J333=\"DSQ\"),\"\",IF(OR(J333=J330,J333=J331,J333=J332,J333=J334,J333=J335,J333=J336,J333=J329),\"Enter Placings\",\"\"))","v":""},"","",null,{"$f":"IF(L333<>\"\",L333,IF(OR(J333=\"DNF\",J333=\"DSQ\"),0,IF(N333=\"\",\"\",RANK(N333,N329:N336,1))))","v":""},{"$f":"IF(P333=\"\",0,IF(P333=0,0,VLOOKUP(P:P,Points!B:C,2,FALSE)))","v":0},5,null,{"$f":"IF(P337>4.9,5,\"\")","v":""},{"$f":"IFERROR(IF(T333=\"\",\"\",VLOOKUP(T333,P329:R336,3,FALSE)),\"\")","v":""},null,5,null,{"$f":"IF(D333=\"\",\"\",IFERROR(VLOOKUP(B333,Events!B:L,11,FALSE),Y332))","v":""}," "," ",{"$f":"IFERROR(VLOOKUP(AA:AA,'Masters Convertion'!F:G,2,FALSE),\"\")","v":""},"",{"$f":"IF('Gala Name'!C$4=\"No\",\"\",IFERROR(RANK(N333,N333:N340,1),\"\"))","v":""}]
[{"$f":"IF(J334=\"\",\"\",B329)","v":""},null,null,6,{"$f":"IF(D334=\"\",\"\",IF(VLOOKUP(D334,Teams!$B$3:$C$10,2,FALSE)=\"\",\"\",VLOOKUP(D334,Teams!$B$3:$C$10,2,FALSE)))","v":""},null,null,{"$f":"IF(G334=\"\",\"\",YEAR('Gala Name'!$C$9)-YEAR(G334))","v":""},"",null,"",{"$f":"IF(OR(J334=\"\",J334=\"DSQ\"),\"\",IF(OR(J334=J331,J334=J332,J334=J333,J334=J335,J334=J336,J334=J330,J334=J329),\"Enter Placings\",\"\"))","v":""},"","",null,{"$f":"IF(L334<>\"\",L334,IF(OR(J334=\"DNF\",J334=\"DSQ\"),0,IF(N334=\"\",\"\",RANK(N334,N329:N336,1))))","v":""},{"$f":"IF(P334=\"\",0,IF(P334=0,0,VLOOKUP(P:P,Points!B:C,2,FALSE)))","v":0},6,null,{"$f":"IF(P337>5.9,6,\"\")","v":""},{"$f":"IFERROR(IF(T334=\"\",\"\",VLOOKUP(T334,P329:R336,3,FALSE)),\"\")","v":""},null,6,null,{"$f":"IF(D334=\"\",\"\",IFERROR(VLOOKUP(B334,Events!B:L,11,FALSE),Y333))","v":""}," "," ",{"$f":"IFERROR(VLOOKUP(AA:AA,'Masters Convertion'!F:G,2,FALSE),\"\")","v":""},"",{"$f":"IF('Gala Name'!C$4=\"No\",\"\",IFERROR(RANK(N334,N334:N341,1),\"\"))","v":""}]
[{"$f":"IF(J335=\"\",\"\",B329)","v":""},null,null,7,{"$f":"IF(D335=\"\",\"\",IF(VLOOKUP(D335,Teams!$B$3:$C$10,2,FALSE)=\"\",\"\",VLOOKUP(D335,Teams!$B$3:$C$10,2,FALSE)))","v":""},null,null,{"$f":"IF(G335=\"\",\"\",YEAR('Gala Name'!$C$9)-YEAR(G335))","v":""},"",null,"",{"$f":"IF(OR(J335=\"\",J335=\"DSQ\"),\"\",IF(OR(J335=J332,J335=J333,J335=J334,J335=J336,J335=J329,J335=J330,J335=J331),\"Enter Placings\",\"\"))","v":""},"","",null,{"$f":"IF(L335<>\"\",L335,IF(OR(J335=\"DNF\",J335=\"DSQ\"),0,IF(N335=\"\",\"\",RANK(N335,N329:N336,1))))","v":""},{"$f":"IF(P335=\"\",0,IF(P335=0,0,VLOOKUP(P:P,Points!B:C,2,FALSE)))","v":0},7,null,{"$f":"IF(P337>6.9,7,\"\")","v":""},{"$f":"IFERROR(IF(T335=\"\",\"\",VLOOKUP(T335,P329:R336,3,FALSE)),\"\")","v":""},null,7,null,{"$f":"IF(D335=\"\",\"\",IFERROR(VLOOKUP(B335,Events!B:L,11,FALSE),Y334))","v":""}," "," ",{"$f":"IFERROR(VLOOKUP(AA:AA,'Masters Convertion'!F:G,2,FALSE),\"\")","v":""},"",{"$f":"IF('Gala Name'!C$4=\"No\",\"\",IFERROR(RANK(N335,N335:N342,1),\"\"))","v":""}]
[{"$f":"IF(J336=\"\",\"\",B329)","v":""},null,null,8,{"$f":"IF(D336=\"\",\"\",IF(VLOOKUP(D336,Teams!$B$3:$C$10,2,FALSE)=\"\",\"\",VLOOKUP(D336,Teams!$B$3:$C$10,2,FALSE)))","v":""},null,null,{"$f":"IF(G336=\"\",\"\",YEAR('Gala Name'!$C$9)-YEAR(G336))","v":""},"",null,"",{"$f":"IF(OR(J336=\"\",J336=\"DSQ\"),\"\",IF(OR(J336=J333,J336=J334,J336=J335,J336=J329,J336=J330,J336=J331,J336=J332),\"Enter Placings\",\"\"))","v":""},"","",null,{"$f":"IF(L336<>\"\",L336,IF(OR(J336=\"DNF\",J336=\"DSQ\"),0,IF(N336=\"\",\"\",RANK(N336,N329:N336,1))))","v":""},{"$f":"IF(P336=\"\",0,IF(P336=0,0,VLOOKUP(P:P,Points!B:C,2,FALSE)))","v":0},8,null,{"$f":"IF(P337>7.9,8,\"\")","v":""},{"$f":"IFERROR(IF(T336=\"\",\"\",VLOOKUP(T336,P329:R336,3,FALSE)),\"\")","v":""},null,8,null,{"$f":"IF(D336=\"\",\"\",IFERROR(VLOOKUP(B336,Events!B:L,11,FALSE),Y335))","v":""}," "," ",{"$f":"IFERROR(VLOOKUP(AA:AA,'Masters Convertion'!F:G,2,FALSE),\"\")","v":""},"",{"$f":"IF('Gala Name'!C$4=\"No\",\"\",IFERROR(RANK(N336,N336:N343,1),\"\"))","v":""}]
[null,null,null,null,null,null,null,null,null,null,null,null,"","",null,{"$f":"MAX(P329:P336)","v":0},null,null,null,null,null,null,"*"]
[{"$f":"IF(J338=\"\",\"\",B338)","v":""},{"$f":"B329+1","v":38},{"$f":"IF(D338=1,VLOOKUP(B338,Events!B:H,6,FALSE)&VLOOKUP(B338,Events!B:H,7,FALSE),\"\")","v":"   "},1,{"$f":"IF(D338=\"\",\"\",IF(VLOOKUP(D338,Teams!$B$3:$C$10,2,FALSE)=\"\",\"\",VLOOKUP(D338,Teams!$B$3:$C$10,2,FALSE)))","v":""},null,null,{"$f":"IF(G338=\"\",\"\",YEAR('Gala Name'!$C$9)-YEAR(G338))","v":""},"",null,"",{"$f":"IF(OR(J338=\"\",J338=\"DSQ\"),\"\",IF(OR(J338=J339,J338=J340,J338=J341,J338=J342,J338=J343,J338=J344,J338=J345),\"Enter Placings\",\"\"))","v":""},"","",null,{"$f":"IF(L338<>\"\",L338,IF(OR(J338=\"DNF\",J338=\"DSQ\"),0,IF(N338=\"\",\"\",RANK(N338,N338:N345,1))))","v":""},{"$f":"IF(P338=\"\",0,IF(P338=0,0,VLOOKUP(P:P,Points!B:C,2,FALSE)))","v":0},{"$f":"D338","v":1},null,{"$f":"IF(P346>0.9,1,\"\")","v":""},{"$f":"IFERROR(IF(T338=\"\",\"\",VLOOKUP(T338,P338:R345,3,FALSE)),\"\")","v":""},null,1,null,{"$f":"IF(D338=\"\",\"\",IFERROR(VLOOKUP(B338,Events!B:L,11,FALSE),Y337))","v":""},{"$f":"IF(LEFT(C338,1)=\"\",Z337,LEFT(C338,1))","v":" "}," ",{"$f":"IFERROR(VLOOKUP(AA:AA,'Masters Convertion'!F:G,2,FALSE),\"\")","v":""},"",{"$f":"IF('Gala Name'!C$4=\"No\",\"\",IFERROR(RANK(N338,N338:N345,1),\"\"))","v":""}]
[{"$f":"IF(J339=\"\",\"\",B338)","v":""},null,null,2,{"$f":"IF(D339=\"\",\"\",IF(VLOOKUP(D339,Teams!$B$3:$C$10,2,FALSE)=\"\",\"\",VLOOKUP(D339,Teams!$B$3:$C$10,2,FALSE)))","v":""},null,null,{"$f":"IF(G339=\"\",\"\",YEAR('Gala Name'!$C$9)-YEAR(G339))","v":""},"",null,"",{"$f":"IF(OR(J339=\"\",J339=\"DSQ\"),\"\",IF(OR(J339=J338,J339=J340,J339=J341,J339=J342,J339=J343,J339=J344,J339=J345),\"Enter Placings\",\"\"))","v":""},"","",null,{"$f":"IF(L339<>\"\",L339,IF(OR(J339=\"DNF\",J339=\"DSQ\"),0,IF(N339=\"\",\"\",RANK(N339,N338:N345,1))))","v":""},{"$f":"IF(P339=\"\",0,IF(P339=0,0,VLOOKUP(P:P,Points!B:C,2,FALSE)))","v":0},2,null,{"$f":"IF(P346>1.9,2,\"\")","v":""},{"$f":"IFERROR(IF(T339=\"\",\"\",VLOOKUP(T339,P338:R345,3,FALSE)),\"\")","v":""},null,2,null,{"$f":"IF(D339=\"\",\"\",IFERROR(VLOOKUP(B339,Events!B:L,11,FALSE),Y338))","v":""}," "," ",{"$f":"IFERROR(VLOOKUP(AA:AA,'Masters Convertion'!F:G,2,FALSE),\"\")","v":""},"",{"$f":"IF('Gala Name'!C$4=\"No\",\"\",IFERROR(RANK(N339,N339:N346,1),\"\"))","v":""}]
[{"$f":"IF(J340=\"\",\"\",B338)","v":""},null,null,3,{"$f":"IF(D340=\"\",\"\",IF(VLOOKUP(D340,Teams!$B$3:$C$10,2,FALSE)=\"\",\"\",VLOOKUP(D340,Teams!$B$3:$C$10,2,FALSE)))","v":""},null,null,{"$f":"IF(G340=\"\",\"\",YEAR('Gala Name'!$C$9)-YEAR(G340))","v":""},"",null,"",{"$f":"IF(OR(J340=\"\",J340=\"DSQ\"),\"\",IF(OR(J340=J338,J340=J339,J340=J341,J340=J342,J340=J343,J340=J344,J340=J345),\"Enter Placings\",\"\"))","v":""},"","",null,{"$f":"IF(L340<>\"\",L340,IF(OR(J340=\"DNF\",J340=\"DSQ\"),0,IF(N340=\"\",\"\",RANK(N340,N338:N345,1))))","v":""},{"$f":"IF(P340=\"\",0,IF(P340=0,0,VLOOKUP(P:P,Points!B:C,2,FALSE)))","v":0},3,null,{"$f":"IF(P346>2.9,3,\"\")","v":""},{"$f":"IFERROR(IF(T340=\"\",\"\",VLOOKUP(T340,P338:R345,3,FALSE)),\"\")","v":""},null,3,null,{"$f":"IF(D340=\"\",\"\",IFERROR(VLOOKUP(B340,Events!B:L,11,FALSE),Y339))","v":""}," "," ",{"$f":"IFERROR(VLOOKUP(AA:AA,'Masters Convertion'!F:G,2,FALSE),\"\")","v":""},"",{"$f":"IF('Gala Name'!C$4=\"No\",\"\",IFERROR(RANK(N340,N340:N347,1),\"\"))","v":""}]
[{"$f":"IF(J341=\"\",\"\",B338)","v":""},null,null,4,{"$f":"IF(D341=\"\",\"\",IF(VLOOKUP(D341,Teams!$B$3:$C$10,2,FALSE)=\"\",\"\",VLOOKUP(D341,Teams!$B$3:$C$10,2,FALSE)))","v":""},null,null,{"$f":"IF(G341=\"\",\"\",YEAR('Gala Name'!$C$9)-YEAR(G341))","v":""},"",null,"",{"$f":"IF(OR(J341=\"\",J341=\"DSQ\"),\"\",IF(OR(J341=J338,J341=J339,J341=J340,J341=J342,J341=J343,J341=J344,J341=J345),\"Enter Placings\",\"\"))","v":""},"","",null,{"$f":"IF(L341<>\"\",L341,IF(OR(J341=\"DNF\",J341=\"DSQ\"),0,IF(N341=\"\",\"\",RANK(N341,N338:N345,1))))","v":""},{"$f":"IF(P341=\"\",0,IF(P341=0,0,VLOOKUP(P:P,Points!B:C,2,FALSE)))","v":0},4,null,{"$f":"IF(P346>3.9,4,\"\")","v":""},{"$f":"IFERROR(IF(T341=\"\",\"\",VLOOKUP(T341,P338:R345,3,FALSE)),\"\")","v":""},null,4,null,{"$f":"IF(D341=\"\",\"\",IFERROR(VLOOKUP(B341,Events!B:L,11,FALSE),Y340))","v":""}," "," ",{"$f":"IFERROR(VLOOKUP(AA:AA,'Masters Convertion'!F:G,2,FALSE),\"\")","v":""},"",{"$f":"IF('Gala Name'!C$4=\"No\",\"\",IFERROR(RANK(N341,N341:N348,1),\"\"))","v":""}]
[{"$f":"IF(J342=\"\",\"\",B338)","v":""},null,null,5,{"$f":"IF(D342=\"\",\"\",IF(VLOOKUP(D342,Teams!$B$3:$C$10,2,FALSE)=\"\",\"\",VLOOKUP(D342,Teams!$B$3:$C$10,2,FALSE)))","v":""},null,null,{"$f":"IF(G342=\"\",\"\",YEAR('Gala Name'!$C$9)-YEAR(G342))","v":""},"",null,"",{"$f":"IF(OR(J342=\"\",J342=\"DSQ\"),\"\",IF(OR(J342=J339,J342=J340,J342=J341,J342=J343,J342=J344,J342=J345,J342=J338),\"Enter Placings\",\"\"))","v":""},"","",null,{"$f":"IF(L342<>\"\",L342,IF(OR(J342=\"DNF\",J342=\"DSQ\"),0,IF(N342=\"\",\"\",RANK(N342,N338:N345,1))))","v":""},{"$f":"IF(P342=\"\",0,IF(P342=0,0,VLOOKUP(P:P,Points!B:C,2,FALSE)))","v":0},5,null,{"$f":"IF(P346>4.9,5,\"\")","v":""},{"$f":"IFERROR(IF(T342=\"\",\"\",VLOOKUP(T342,P338:R345,3,FALSE)),\"\")","v":""},null,5,null,{"$f":"IF(D342=\"\",\"\",IFERROR(VLOOKUP(B342,Events!B:L,11,FALSE),Y341))","v":""}," "," ",{"$f":"IFERROR(VLOOKUP(AA:AA,'Masters Convertion'!F:G,2,FALSE),\"\")","v":""},"",{"$f":"IF('Gala Name'!C$4=\"No\",\"\",IFERROR(RANK(N342,N342:N349,1),\"\"))","v":""}]
[{"$f":"IF(J343=\"\",\"\",B338)","v":""},null,null,6,{"$f":"IF(D343=\"\",\"\",IF(VLOOKUP(D343,Teams!$B$3:$C$10,2,FALSE)=\"\",\"\",VLOOKUP(D343,Teams!$B$3:$C$10,2,FALSE)))","v":""},null,null,{"$f":"IF(G343=\"\",\"\",YEAR('Gala Name'!$C$9)-YEAR(G343))","v":""},"",null,"",{"$f":"IF(OR(J343=\"\",J343=\"DSQ\"),\"\",IF(OR(J343=J340,J343=J341,J343=J342,J343=J344,J343=J345,J343=J339,J343=J338),\"Enter Placings\",\"\"))","v":""},"","",null,{"$f":"IF(L343<>\"\",L343,IF(OR(J343=\"DNF\",J343=\"DSQ\"),0,IF(N343=\"\",\"\",RANK(N343,N338:N345,1))))","v":""},{"$f":"IF(P343=\"\",0,IF(P343=0,0,VLOOKUP(P:P,Points!B:C,2,FALSE)))","v":0},6,null,{"$f":"IF(P346>5.9,6,\"\")","v":""},{"$f":"IFERROR(IF(T343=\"\",\"\",VLOOKUP(T343,P338:R345,3,FALSE)),\"\")","v":""},null,6,null,{"$f":"IF(D343=\"\",\"\",IFERROR(VLOOKUP(B343,Events!B:L,11,FALSE),Y342))","v":""}," "," ",{"$f":"IFERROR(VLOOKUP(AA:AA,'Masters Convertion'!F:G,2,FALSE),\"\")","v":""},"",{"$f":"IF('Gala Name'!C$4=\"No\",\"\",IFERROR(RANK(N343,N343:N350,1),\"\"))","v":""}]
[{"$f":"IF(J344=\"\",\"\",B338)","v":""},null,null,7,{"$f":"IF(D344=\"\",\"\",IF(VLOOKUP(D344,Teams!$B$3:$C$10,2,FALSE)=\"\",\"\",VLOOKUP(D344,Teams!$B$3:$C$10,2,FALSE)))","v":""},null,null,{"$f":"IF(G344=\"\",\"\",YEAR('Gala Name'!$C$9)-YEAR(G344))","v":""},"",null,"",{"$f":"IF(OR(J344=\"\",J344=\"DSQ\"),\"\",IF(OR(J344=J341,J344=J342,J344=J343,J344=J345,J344=J338,J344=J339,J344=J340),\"Enter Placings\",\"\"))","v":""},"","",null,{"$f":"IF(L344<>\"\",L344,IF(OR(J344=\"DNF\",J344=\"DSQ\"),0,IF(N344=\"\",\"\",RANK(N344,N338:N345,1))))","v":""},{"$f":"IF(P344=\"\",0,IF(P344=0,0,VLOOKUP(P:P,Points!B:C,2,FALSE)))","v":0},7,null,{"$f":"IF(P346>6.9,7,\"\")","v":""},{"$f":"IFERROR(IF(T344=\"\",\"\",VLOOKUP(T344,P338:R345,3,FALSE)),\"\")","v":""},null,7,null,{"$f":"IF(D344=\"\",\"\",IFERROR(VLOOKUP(B344,Events!B:L,11,FALSE),Y343))","v":""}," "," ",{"$f":"IFERROR(VLOOKUP(AA:AA,'Masters Convertion'!F:G,2,FALSE),\"\")","v":""},"",{"$f":"IF('Gala Name'!C$4=\"No\",\"\",IFERROR(RANK(N344,N344:N351,1),\"\"))","v":""}]
[{"$f":"IF(J345=\"\",\"\",B338)","v":""},null,null,8,{"$f":"IF(D345=\"\",\"\",IF(VLOOKUP(D345,Teams!$B$3:$C$10,2,FALSE)=\"\",\"\",VLOOKUP(D345,Teams!$B$3:$C$10,2,FALSE)))","v":""},null,null,{"$f":"IF(G345=\"\",\"\",YEAR('Gala Name'!$C$9)-YEAR(G345))","v":""},"",null,"",{"$f":"IF(OR(J345=\"\",J345=\"DSQ\"),\"\",IF(OR(J345=J342,J345=J343,J345=J344,J345=J338,J345=J339,J345=J340,J345=J341),\"Enter Placings\",\"\"))","v":""},"","",null,{"$f":"IF(L345<>\"\",L345,IF(OR(J345=\"DNF\",J345=\"DSQ\"),0,IF(N345=\"\",\"\",RANK(N345,N338:N345,1))))","v":""},{"$f":"IF(P345=\"\",0,IF(P345=0,0,VLOOKUP(P:P,Points!B:C,2,FALSE)))","v":0},8,null,{"$f":"IF(P346>7.9,8,\"\")","v":""},{"$f":"IFERROR(IF(T345=\"\",\"\",VLOOKUP(T345,P338:R345,3,FALSE)),\"\")","v":""},null,8,null,{"$f":"IF(D345=\"\",\"\",IFERROR(VLOOKUP(B345,Events!B:L,11,FALSE),Y344))","v":""}," "," ",{"$f":"IFERROR(VLOOKUP(AA:AA,'Masters Convertion'!F:G,2,FALSE),\"\")","v":""},"",{"$f":"IF('Gala Name'!C$4=\"No\",\"\",IFERROR(RANK(N345,N345:N352,1),\"\"))","v":""}]
[null,null,null,null,null,null,null,null,null,null,null,null,"","",null,{"$f":"MAX(P338:P345)","v":0},null,null,null,null,null,null,"*"]
[{"$f":"IF(J347=\"\",\"\",B347)","v":""},{"$f":"B338+1","v":39},{"$f":"IF(D347=1,VLOOKUP(B347,Events!B:H,6,FALSE)&VLOOKUP(B347,Events!B:H,7,FALSE),\"\")","v":"   "},1,{"$f":"IF(D347=\"\",\"\",IF(VLOOKUP(D347,Teams!$B$3:$C$10,2,FALSE)=\"\",\"\",VLOOKUP(D347,Teams!$B$3:$C$10,2,FALSE)))","v":""},null,null,{"$f":"IF(G347=\"\",\"\",YEAR('Gala Name'!$C$9)-YEAR(G347))","v":""},"",null,{"$f":"IF(J347=\"DSQ\",\"Enter Reason\",\"\")","v":""},{"$f":"IF(OR(J347=\"\",J347=\"DSQ\"),\"\",IF(OR(J347=J348,J347=J349,J347=J350,J347=J351,J347=J352,J347=J353,J347=J354),\"Enter Placings\",\"\"))","v":""},"","",null,{"$f":"IF(L347<>\"\",L347,IF(OR(J347=\"DNF\",J347=\"DSQ\"),0,IF(N347=\"\",\"\",RANK(N347,N347:N354,1))))","v":""},{"$f":"IF(P347=\"\",0,IF(P347=0,0,VLOOKUP(P:P,Points!B:C,2,FALSE)))","v":0},{"$f":"D347","v":1},null,{"$f":"IF(P355>0.9,1,\"\")","v":""},{"$f":"IFERROR(IF(T347=\"\",\"\",VLOOKUP(T347,P347:R354,3,FALSE)),\"\")","v":""},null,1,null,{"$f":"IF(D347=\"\",\"\",IFERROR(VLOOKUP(B347,Events!B:L,11,FALSE),Y346))","v":""}," "," ",{"$f":"IFERROR(VLOOKUP(AA:AA,'Masters Convertion'!F:G,2,FALSE),\"\")","v":""},"",{"$f":"IF('Gala Name'!C$4=\"No\",\"\",IFERROR(RANK(N347,N347:N354,1),\"\"))","v":""}]
[{"$f":"IF(J348=\"\",\"\",B347)","v":""},null,null,2,{"$f":"IF(D348=\"\",\"\",IF(VLOOKUP(D348,Teams!$B$3:$C$10,2,FALSE)=\"\",\"\",VLOOKUP(D348,Teams!$B$3:$C$10,2,FALSE)))","v":""},null,null,{"$f":"IF(G348=\"\",\"\",YEAR('Gala Name'!$C$9)-YEAR(G348))","v":""},"",null,"",{"$f":"IF(OR(J348=\"\",J348=\"DSQ\"),\"\",IF(OR(J348=J347,J348=J349,J348=J350,J348=J351,J348=J352,J348=J353,J348=J354),\"Enter Placings\",\"\"))","v":""},"","",null,{"$f":"IF(L348<>\"\",L348,IF(OR(J348=\"DNF\",J348=\"DSQ\"),0,IF(N348=\"\",\"\",RANK(N348,N347:N354,1))))","v":""},{"$f":"IF(P348=\"\",0,IF(P348=0,0,VLOOKUP(P:P,Points!B:C,2,FALSE)))","v":0},2,null,{"$f":"IF(P355>1.9,2,\"\")","v":""},{"$f":"IFERROR(IF(T348=\"\",\"\",VLOOKUP(T348,P347:R354,3,FALSE)),\"\")","v":""},null,2,null,{"$f":"IF(D348=\"\",\"\",IFERROR(VLOOKUP(B348,Events!B:L,11,FALSE),Y347))","v":""}," "," ",{"$f":"IFERROR(VLOOKUP(AA:AA,'Masters Convertion'!F:G,2,FALSE),\"\")","v":""},"",{"$f":"IF('Gala Name'!C$4=\"No\",\"\",IFERROR(RANK(N348,N348:N355,1),\"\"))","v":""}]
[{"$f":"IF(J349=\"\",\"\",B347)","v":""},null,null,3,{"$f":"IF(D349=\"\",\"\",IF(VLOOKUP(D349,Teams!$B$3:$C$10,2,FALSE)=\"\",\"\",VLOOKUP(D349,Teams!$B$3:$C$10,2,FALSE)))","v":""},null,null,{"$f":"IF(G349=\"\",\"\",YEAR('Gala Name'!$C$9)-YEAR(G349))","v":""},"",null,"",{"$f":"IF(OR(J349=\"\",J349=\"DSQ\"),\"\",IF(OR(J349=J347,J349=J348,J349=J350,J349=J351,J349=J352,J349=J353,J349=J354),\"Enter Placings\",\"\"))","v":""},"","",null,{"$f":"IF(L349<>\"\",L349,IF(OR(J349=\"DNF\",J349=\"DSQ\"),0,IF(N349=\"\",\"\",RANK(N349,N347:N354,1))))","v":""},{"$f":"IF(P349=\"\",0,IF(P349=0,0,VLOOKUP(P:P,Points!B:C,2,FALSE)))","v":0},3,null,{"$f":"IF(P355>2.9,3,\"\")","v":""},{"$f":"IFERROR(IF(T349=\"\",\"\",VLOOKUP(T349,P347:R354,3,FALSE)),\"\")","v":""},null,3,null,{"$f":"IF(D349=\"\",\"\",IFERROR(VLOOKUP(B349,Events!B:L,11,FALSE),Y348))","v":""}," "," ",{"$f":"IFERROR(VLOOKUP(AA:AA,'Masters Convertion'!F:G,2,FALSE),\"\")","v":""},"",{"$f":"IF('Gala Name'!C$4=\"No\",\"\",IFERROR(RANK(N349,N349:N356,1),\"\"))","v":""}]
[{"$f":"IF(J350=\"\",\"\",B347)","v":""},null,null,4,{"$f":"IF(D350=\"\",\"\",IF(VLOOKUP(D350,Teams!$B$3:$C$10,2,FALSE)=\"\",\"\",VLOOKUP(D350,Teams!$B$3:$C$10,2,FALSE)))","v":""},null,null,{"$f":"IF(G350=\"\",\"\",YEAR('Gala Name'!$C$9)-YEAR(G350))","v":""},"",null,"",{"$f":"IF(OR(J350=\"\",J350=\"DSQ\"),\"\",IF(OR(J350=J347,J350=J348,J350=J349,J350=J351,J350=J352,J350=J353,J350=J354),\"Enter Placings\",\"\"))","v":""},"","",null,{"$f":"IF(L350<>\"\",L350,IF(OR(J350=\"DNF\",J350=\"DSQ\"),0,IF(N350=\"\",\"\",RANK(N350,N347:N354,1))))","v":""},{"$f":"IF(P350=\"\",0,IF(P350=0,0,VLOOKUP(P:P,Points!B:C,2,FALSE)))","v":0},4,null,{"$f":"IF(P355>3.9,4,\"\")","v":""},{"$f":"IFERROR(IF(T350=\"\",\"\",VLOOKUP(T350,P347:R354,3,FALSE)),\"\")","v":""},null,4,null,{"$f":"IF(D350=\"\",\"\",IFERROR(VLOOKUP(B350,Events!B:L,11,FALSE),Y349))","v":""}," "," ",{"$f":"IFERROR(VLOOKUP(AA:AA,'Masters Convertion'!F:G,2,FALSE),\"\")","v":""},"",{"$f":"IF('Gala Name'!C$4=\"No\",\"\",IFERROR(RANK(N350,N350:N357,1),\"\"))","v":""}]
[{"$f":"IF(J351=\"\",\"\",B347)","v":""},null,null,5,{"$f":"IF(D351=\"\",\"\",IF(VLOOKUP(D351,Teams!$B$3:$C$10,2,FALSE)=\"\",\"\",VLOOKUP(D351,Teams!$B$3:$C$10,2,FALSE)))","v":""},null,null,{"$f":"IF(G351=\"\",\"\",YEAR('Gala Name'!$C$9)-YEAR(G351))","v":""},"",null,"",{"$f":"IF(OR(J351=\"\",J351=\"DSQ\"),\"\",IF(OR(J351=J348,J351=J349,J351=J350,J351=J352,J351=J353,J351=J354,J351=J347),\"Enter Placings\",\"\"))","v":""},"","",null,{"$f":"IF(L351<>\"\",L351,IF(OR(J351=\"DNF\",J351=\"DSQ\"),0,IF(N351=\"\",\"\",RANK(N351,N347:N354,1))))","v":""},{"$f":"IF(P351=\"\",0,IF(P351=0,0,VLOOKUP(P:P,Points!B:C,2,FALSE)))","v":0},5,null,{"$f":"IF(P355>4.9,5,\"\")","v":""},{"$f":"IFERROR(IF(T351=\"\",\"\",VLOOKUP(T351,P347:R354,3,FALSE)),\"\")","v":""},null,5,null,{"$f":"IF(D351=\"\",\"\",IFERROR(VLOOKUP(B351,Events!B:L,11,FALSE),Y350))","v":""}," "," ",{"$f":"IFERROR(VLOOKUP(AA:AA,'Masters Convertion'!F:G,2,FALSE),\"\")","v":""},"",{"$f":"IF('Gala Name'!C$4=\"No\",\"\",IFERROR(RANK(N351,N351:N358,1),\"\"))","v":""}]
[{"$f":"IF(J352=\"\",\"\",B347)","v":""},null,null,6,{"$f":"IF(D352=\"\",\"\",IF(VLOOKUP(D352,Teams!$B$3:$C$10,2,FALSE)=\"\",\"\",VLOOKUP(D352,Teams!$B$3:$C$10,2,FALSE)))","v":""},null,null,{"$f":"IF(G352=\"\",\"\",YEAR('Gala Name'!$C$9)-YEAR(G352))","v":""},"",null,"",{"$f":"IF(OR(J352=\"\",J352=\"DSQ\"),\"\",IF(OR(J352=J349,J352=J350,J352=J351,J352=J353,J352=J354,J352=J348,J352=J347),\"Enter Placings\",\"\"))","v":""},"","",null,{"$f":"IF(L352<>\"\",L352,IF(OR(J352=\"DNF\",J352=\"DSQ\"),0,IF(N352=\"\",\"\",RANK(N352,N347:N354,1))))","v":""},{"$f":"IF(P352=\"\",0,IF(P352=0,0,VLOOKUP(P:P,Points!B:C,2,FALSE)))","v":0},6,null,{"$f":"IF(P355>5.9,6,\"\")","v":""},{"$f":"IFERROR(IF(T352=\"\",\"\",VLOOKUP(T352,P347:R354,3,FALSE)),\"\")","v":""},null,6,null,{"$f":"IF(D352=\"\",\"\",IFERROR(VLOOKUP(B352,Events!B:L,11,FALSE),Y351))","v":""}," "," ",{"$f":"IFERROR(VLOOKUP(AA:AA,'Masters Convertion'!F:G,2,FALSE),\"\")","v":""},"",{"$f":"IF('Gala Name'!C$4=\"No\",\"\",IFERROR(RANK(N352,N352:N359,1),\"\"))","v":""}]
[{"$f":"IF(J353=\"\",\"\",B347)","v":""},null,null,7,{"$f":"IF(D353=\"\",\"\",IF(VLOOKUP(D353,Teams!$B$3:$C$10,2,FALSE)=\"\",\"\",VLOOKUP(D353,Teams!$B$3:$C$10,2,FALSE)))","v":""},null,null,{"$f":"IF(G353=\"\",\"\",YEAR('Gala Name'!$C$9)-YEAR(G353))","v":""},"",null,"",{"$f":"IF(OR(J353=\"\",J353=\"DSQ\"),\"\",IF(OR(J353=J350,J353=J351,J353=J352,J353=J354,J353=J347,J353=J348,J353=J349),\"Enter Placings\",\"\"))","v":""},"","",null,{"$f":"IF(L353<>\"\",L353,IF(OR(J353=\"DNF\",J353=\"DSQ\"),0,IF(N353=\"\",\"\",RANK(N353,N347:N354,1))))","v":""},{"$f":"IF(P353=\"\",0,IF(P353=0,0,VLOOKUP(P:P,Points!B:C,2,FALSE)))","v":0},7,null,{"$f":"IF(P355>6.9,7,\"\")","v":""},{"$f":"IFERROR(IF(T353=\"\",\"\",VLOOKUP(T353,P347:R354,3,FALSE)),\"\")","v":""},null,7,null,{"$f":"IF(D353=\"\",\"\",IFERROR(VLOOKUP(B353,Events!B:L,11,FALSE),Y352))","v":""}," "," ",{"$f":"IFERROR(VLOOKUP(AA:AA,'Masters Convertion'!F:G,2,FALSE),\"\")","v":""},"",{"$f":"IF('Gala Name'!C$4=\"No\",\"\",IFERROR(RANK(N353,N353:N360,1),\"\"))","v":""}]
[{"$f":"IF(J354=\"\",\"\",B347)","v":""},null,null,8,{"$f":"IF(D354=\"\",\"\",IF(VLOOKUP(D354,Teams!$B$3:$C$10,2,FALSE)=\"\",\"\",VLOOKUP(D354,Teams!$B$3:$C$10,2,FALSE)))","v":""},null,null,{"$f":"IF(G354=\"\",\"\",YEAR('Gala Name'!$C$9)-YEAR(G354))","v":""},"",null,"",{"$f":"IF(OR(J354=\"\",J354=\"DSQ\"),\"\",IF(OR(J354=J351,J354=J352,J354=J353,J354=J347,J354=J348,J354=J349,J354=J350),\"Enter Placings\",\"\"))","v":""},"","",null,{"$f":"IF(L354<>\"\",L354,IF(OR(J354=\"DNF\",J354=\"DSQ\"),0,IF(N354=\"\",\"\",RANK(N354,N347:N354,1))))","v":""},{"$f":"IF(P354=\"\",0,IF(P354=0,0,VLOOKUP(P:P,Points!B:C,2,FALSE)))","v":0},8,null,{"$f":"IF(P355>7.9,8,\"\")","v":""},{"$f":"IFERROR(IF(T354=\"\",\"\",VLOOKUP(T354,P347:R354,3,FALSE)),\"\")","v":""},null,8,null,{"$f":"IF(D354=\"\",\"\",IFERROR(VLOOKUP(B354,Events!B:L,11,FALSE),Y353))","v":""}," "," ",{"$f":"IFERROR(VLOOKUP(AA:AA,'Masters Convertion'!F:G,2,FALSE),\"\")","v":""},"",{"$f":"IF('Gala Name'!C$4=\"No\",\"\",IFERROR(RANK(N354,N354:N361,1),\"\"))","v":""}]
[null,null,null,null,null,null,null,null,null,null,null,null,"","",null,{"$f":"MAX(P347:P354)","v":0},null,null,null,null,null,null,"*"]
[{"$f":"IF(J356=\"\",\"\",B356)","v":""},{"$f":"B347+1","v":40},{"$f":"IF(D356=1,VLOOKUP(B356,Events!B:H,6,FALSE)&VLOOKUP(B356,Events!B:H,7,FALSE),\"\")","v":"   "},1,{"$f":"IF(D356=\"\",\"\",IF(VLOOKUP(D356,Teams!$B$3:$C$10,2,FALSE)=\"\",\"\",VLOOKUP(D356,Teams!$B$3:$C$10,2,FALSE)))","v":""},null,null,{"$f":"IF(G356=\"\",\"\",YEAR('Gala Name'!$C$9)-YEAR(G356))","v":""},"",null,"",{"$f":"IF(OR(J356=\"\",J356=\"DSQ\"),\"\",IF(OR(J356=J357,J356=J358,J356=J359,J356=J360,J356=J361,J356=J362,J356=J363),\"Enter Placings\",\"\"))","v":""},"","",null,{"$f":"IF(L356<>\"\",L356,IF(OR(J356=\"DNF\",J356=\"DSQ\"),0,IF(N356=\"\",\"\",RANK(N356,N356:N363,1))))","v":""},{"$f":"IF(P356=\"\",0,IF(P356=0,0,VLOOKUP(P:P,Points!B:C,2,FALSE)))","v":0},{"$f":"D356","v":1},null,{"$f":"IF(P364>0.9,1,\"\")","v":""},{"$f":"IFERROR(IF(T356=\"\",\"\",VLOOKUP(T356,P356:R363,3,FALSE)),\"\")","v":""},null,1,null,{"$f":"IF(D356=\"\",\"\",IFERROR(VLOOKUP(B356,Events!B:L,11,FALSE),Y355))","v":""}," "," ",{"$f":"IFERROR(VLOOKUP(AA:AA,'Masters Convertion'!F:G,2,FALSE),\"\")","v":""},"",{"$f":"IF('Gala Name'!C$4=\"No\",\"\",IFERROR(RANK(N356,N356:N363,1),\"\"))","v":""}]
[{"$f":"IF(J357=\"\",\"\",B356)","v":""},null,null,2,{"$f":"IF(D357=\"\",\"\",IF(VLOOKUP(D357,Teams!$B$3:$C$10,2,FALSE)=\"\",\"\",VLOOKUP(D357,Teams!$B$3:$C$10,2,FALSE)))","v":""},null,null,{"$f":"IF(G357=\"\",\"\",YEAR('Gala Name'!$C$9)-YEAR(G357))","v":""},"",null,"",{"$f":"IF(OR(J357=\"\",J357=\"DSQ\"),\"\",IF(OR(J357=J356,J357=J358,J357=J359,J357=J360,J357=J361,J357=J362,J357=J363),\"Enter Placings\",\"\"))","v":""},"","",null,{"$f":"IF(L357<>\"\",L357,IF(OR(J357=\"DNF\",J357=\"DSQ\"),0,IF(N357=\"\",\"\",RANK(N357,N356:N363,1))))","v":""},{"$f":"IF(P357=\"\",0,IF(P357=0,0,VLOOKUP(P:P,Points!B:C,2,FALSE)))","v":0},2,null,{"$f":"IF(P364>1.9,2,\"\")","v":""},{"$f":"IFERROR(IF(T357=\"\",\"\",VLOOKUP(T357,P356:R363,3,FALSE)),\"\")","v":""},null,2,null,{"$f":"IF(D357=\"\",\"\",IFERROR(VLOOKUP(B357,Events!B:L,11,FALSE),Y356))","v":""}," "," ",{"$f":"IFERROR(VLOOKUP(AA:AA,'Masters Convertion'!F:G,2,FALSE),\"\")","v":""},"",{"$f":"IF('Gala Name'!C$4=\"No\",\"\",IFERROR(RANK(N357,N357:N364,1),\"\"))","v":""}]
[{"$f":"IF(J358=\"\",\"\",B356)","v":""},null,null,3,{"$f":"IF(D358=\"\",\"\",IF(VLOOKUP(D358,Teams!$B$3:$C$10,2,FALSE)=\"\",\"\",VLOOKUP(D358,Teams!$B$3:$C$10,2,FALSE)))","v":""},null,null,{"$f":"IF(G358=\"\",\"\",YEAR('Gala Name'!$C$9)-YEAR(G358))","v":""},"",null,"",{"$f":"IF(OR(J358=\"\",J358=\"DSQ\"),\"\",IF(OR(J358=J356,J358=J357,J358=J359,J358=J360,J358=J361,J358=J362,J358=J363),\"Enter Placings\",\"\"))","v":""},"","",null,{"$f":"IF(L358<>\"\",L358,IF(OR(J358=\"DNF\",J358=\"DSQ\"),0,IF(N358=\"\",\"\",RANK(N358,N356:N363,1))))","v":""},{"$f":"IF(P358=\"\",0,IF(P358=0,0,VLOOKUP(P:P,Points!B:C,2,FALSE)))","v":0},3,null,{"$f":"IF(P364>2.9,3,\"\")","v":""},{"$f":"IFERROR(IF(T358=\"\",\"\",VLOOKUP(T358,P356:R363,3,FALSE)),\"\")","v":""},null,3,null,{"$f":"IF(D358=\"\",\"\",IFERROR(VLOOKUP(B358,Events!B:L,11,FALSE),Y357))","v":""}," "," ",{"$f":"IFERROR(VLOOKUP(AA:AA,'Masters Convertion'!F:G,2,FALSE),\"\")","v":""},"",{"$f":"IF('Gala Name'!C$4=\"No\",\"\",IFERROR(RANK(N358,N358:N365,1),\"\"))","v":""}]
[{"$f":"IF(J359=\"\",\"\",B356)","v":""},null,null,4,{"$f":"IF(D359=\"\",\"\",IF(VLOOKUP(D359,Teams!$B$3:$C$10,2,FALSE)=\"\",\"\",VLOOKUP(D359,Teams!$B$3:$C$10,2,FALSE)))","v":""},null,null,{"$f":"IF(G359=\"\",\"\",YEAR('Gala Name'!$C$9)-YEAR(G359))","v":""},"",null,"",{"$f":"IF(OR(J359=\"\",J359=\"DSQ\"),\"\",IF(OR(J359=J356,J359=J357,J359=J358,J359=J360,J359=J361,J359=J362,J359=J363),\"Enter Placings\",\"\"))","v":""},"","",null,{"$f":"IF(L359<>\"\",L359,IF(OR(J359=\"DNF\",J359=\"DSQ\"),0,IF(N359=\"\",\"\",RANK(N359,N356:N363,1))))","v":""},{"$f":"IF(P359=\"\",0,IF(P359=0,0,VLOOKUP(P:P,Points!B:C,2,FALSE)))","v":0},4,null,{"$f":"IF(P364>3.9,4,\"\")","v":""},{"$f":"IFERROR(IF(T359=\"\",\"\",VLOOKUP(T359,P356:R363,3,FALSE)),\"\")","v":""},null,4,null,{"$f":"IF(D359=\"\",\"\",IFERROR(VLOOKUP(B359,Events!B:L,11,FALSE),Y358))","v":""}," "," ",{"$f":"IFERROR(VLOOKUP(AA:AA,'Masters Convertion'!F:G,2,FALSE),\"\")","v":""},"",{"$f":"IF('Gala Name'!C$4=\"No\",\"\",IFERROR(RANK(N359,N359:N366,1),\"\"))","v":""}]
[{"$f":"IF(J360=\"\",\"\",B356)","v":""},null,null,5,{"$f":"IF(D360=\"\",\"\",IF(VLOOKUP(D360,Teams!$B$3:$C$10,2,FALSE)=\"\",\"\",VLOOKUP(D360,Teams!$B$3:$C$10,2,FALSE)))","v":""},null,null,{"$f":"IF(G360=\"\",\"\",YEAR('Gala Name'!$C$9)-YEAR(G360))","v":""},"",null,"",{"$f":"IF(OR(J360=\"\",J360=\"DSQ\"),\"\",IF(OR(J360=J357,J360=J358,J360=J359,J360=J361,J360=J362,J360=J363,J360=J356),\"Enter Placings\",\"\"))","v":""},"","",null,{"$f":"IF(L360<>\"\",L360,IF(OR(J360=\"DNF\",J360=\"DSQ\"),0,IF(N360=\"\",\"\",RANK(N360,N356:N363,1))))","v":""},{"$f":"IF(P360=\"\",0,IF(P360=0,0,VLOOKUP(P:P,Points!B:C,2,FALSE)))","v":0},5,null,{"$f":"IF(P364>4.9,5,\"\")","v":""},{"$f":"IFERROR(IF(T360=\"\",\"\",VLOOKUP(T360,P356:R363,3,FALSE)),\"\")","v":""},null,5,null,{"$f":"IF(D360=\"\",\"\",IFERROR(VLOOKUP(B360,Events!B:L,11,FALSE),Y359))","v":""}," "," ",{"$f":"IFERROR(VLOOKUP(AA:AA,'Masters Convertion'!F:G,2,FALSE),\"\")","v":""},"",{"$f":"IF('Gala Name'!C$4=\"No\",\"\",IFERROR(RANK(N360,N360:N367,1),\"\"))","v":""}]
[{"$f":"IF(J361=\"\",\"\",B356)","v":""},null,null,6,{"$f":"IF(D361=\"\",\"\",IF(VLOOKUP(D361,Teams!$B$3:$C$10,2,FALSE)=\"\",\"\",VLOOKUP(D361,Teams!$B$3:$C$10,2,FALSE)))","v":""},null,null,{"$f":"IF(G361=\"\",\"\",YEAR('Gala Name'!$C$9)-YEAR(G361))","v":""},"",null,"",{"$f":"IF(OR(J361=\"\",J361=\"DSQ\"),\"\",IF(OR(J361=J358,J361=J359,J361=J360,J361=J362,J361=J363,J361=J357,J361=J356),\"Enter Placings\",\"\"))","v":""},"","",null,{"$f":"IF(L361<>\"\",L361,IF(OR(J361=\"DNF\",J361=\"DSQ\"),0,IF(N361=\"\",\"\",RANK(N361,N356:N363,1))))","v":""},{"$f":"IF(P361=\"\",0,IF(P361=0,0,VLOOKUP(P:P,Points!B:C,2,FALSE)))","v":0},6,null,{"$f":"IF(P364>5.9,6,\"\")","v":""},{"$f":"IFERROR(IF(T361=\"\",\"\",VLOOKUP(T361,P356:R363,3,FALSE)),\"\")","v":""},null,6,null,{"$f":"IF(D361=\"\",\"\",IFERROR(VLOOKUP(B361,Events!B:L,11,FALSE),Y360))","v":""}," "," ",{"$f":"IFERROR(VLOOKUP(AA:AA,'Masters Convertion'!F:G,2,FALSE),\"\")","v":""},"",{"$f":"IF('Gala Name'!C$4=\"No\",\"\",IFERROR(RANK(N361,N361:N368,1),\"\"))","v":""}]
[{"$f":"IF(J362=\"\",\"\",B356)","v":""},null,null,7,{"$f":"IF(D362=\"\",\"\",IF(VLOOKUP(D362,Teams!$B$3:$C$10,2,FALSE)=\"\",\"\",VLOOKUP(D362,Teams!$B$3:$C$10,2,FALSE)))","v":""},null,null,{"$f":"IF(G362=\"\",\"\",YEAR('Gala Name'!$C$9)-YEAR(G362))","v":""},"",null,"",{"$f":"IF(OR(J362=\"\",J362=\"DSQ\"),\"\",IF(OR(J362=J359,J362=J360,J362=J361,J362=J363,J362=J356,J362=J357,J362=J358),\"Enter Placings\",\"\"))","v":""},"","",null,{"$f":"IF(L362<>\"\",L362,IF(OR(J362=\"DNF\",J362=\"DSQ\"),0,IF(N362=\"\",\"\",RANK(N362,N356:N363,1))))","v":""},{"$f":"IF(P362=\"\",0,IF(P362=0,0,VLOOKUP(P:P,Points!B:C,2,FALSE)))","v":0},7,null,{"$f":"IF(P364>6.9,7,\"\")","v":""},{"$f":"IFERROR(IF(T362=\"\",\"\",VLOOKUP(T362,P356:R363,3,FALSE)),\"\")","v":""},null,7,null,{"$f":"IF(D362=\"\",\"\",IFERROR(VLOOKUP(B362,Events!B:L,11,FALSE),Y361))","v":""}," "," ",{"$f":"IFERROR(VLOOKUP(AA:AA,'Masters Convertion'!F:G,2,FALSE),\"\")","v":""},"",{"$f":"IF('Gala Name'!C$4=\"No\",\"\",IFERROR(RANK(N362,N362:N369,1),\"\"))","v":""}]
[{"$f":"IF(J363=\"\",\"\",B356)","v":""},null,null,8,{"$f":"IF(D363=\"\",\"\",IF(VLOOKUP(D363,Teams!$B$3:$C$10,2,FALSE)=\"\",\"\",VLOOKUP(D363,Teams!$B$3:$C$10,2,FALSE)))","v":""},null,null,{"$f":"IF(G363=\"\",\"\",YEAR('Gala Name'!$C$9)-YEAR(G363))","v":""},"",null,"",{"$f":"IF(OR(J363=\"\",J363=\"DSQ\"),\"\",IF(OR(J363=J360,J363=J361,J363=J362,J363=J356,J363=J357,J363=J358,J363=J359),\"Enter Placings\",\"\"))","v":""},"","",null,{"$f":"IF(L363<>\"\",L363,IF(OR(J363=\"DNF\",J363=\"DSQ\"),0,IF(N363=\"\",\"\",RANK(N363,N356:N363,1))))","v":""},{"$f":"IF(P363=\"\",0,IF(P363=0,0,VLOOKUP(P:P,Points!B:C,2,FALSE)))","v":0},8,null,{"$f":"IF(P364>7.9,8,\"\")","v":""},{"$f":"IFERROR(IF(T363=\"\",\"\",VLOOKUP(T363,P356:R363,3,FALSE)),\"\")","v":""},null,8,null,{"$f":"IF(D363=\"\",\"\",IFERROR(VLOOKUP(B363,Events!B:L,11,FALSE),Y362))","v":""}," "," ",{"$f":"IFERROR(VLOOKUP(AA:AA,'Masters Convertion'!F:G,2,FALSE),\"\")","v":""},"",{"$f":"IF('Gala Name'!C$4=\"No\",\"\",IFERROR(RANK(N363,N363:N370,1),\"\"))","v":""}]
[null,null,null,null,null,null,null,null,null,null,null,null,"","",null,{"$f":"MAX(P356:P363)","v":0},null,null,null,null,null,null,"*"]
[{"$f":"IF(J365=\"\",\"\",B365)","v":""},{"$f":"B356+1","v":41},{"$f":"IF(D365=1,VLOOKUP(B365,Events!B:H,6,FALSE)&VLOOKUP(B365,Events!B:H,7,FALSE),\"\")","v":"   "},1,{"$f":"IF(D365=\"\",\"\",IF(VLOOKUP(D365,Teams!$B$3:$C$10,2,FALSE)=\"\",\"\",VLOOKUP(D365,Teams!$B$3:$C$10,2,FALSE)))","v":""},null,null,{"$f":"IF(G365=\"\",\"\",YEAR('Gala Name'!$C$9)-YEAR(G365))","v":""},"",null,"",{"$f":"IF(OR(J365=\"\",J365=\"DSQ\"),\"\",IF(OR(J365=J366,J365=J367,J365=J368,J365=J369,J365=J370,J365=J371,J365=J372),\"Enter Placings\",\"\"))","v":""},"","",null,{"$f":"IF(L365<>\"\",L365,IF(OR(J365=\"DNF\",J365=\"DSQ\"),0,IF(N365=\"\",\"\",RANK(N365,N365:N372,1))))","v":""},{"$f":"IF(P365=\"\",0,IF(P365=0,0,VLOOKUP(P:P,Points!B:C,2,FALSE)))","v":0},{"$f":"D365","v":1},null,{"$f":"IF(P373>0.9,1,\"\")","v":""},{"$f":"IFERROR(IF(T365=\"\",\"\",VLOOKUP(T365,P365:R372,3,FALSE)),\"\")","v":""},null,1,null,{"$f":"IF(D365=\"\",\"\",IFERROR(VLOOKUP(B365,Events!B:L,11,FALSE),Y364))","v":""}," "," ",{"$f":"IFERROR(VLOOKUP(AA:AA,'Masters Convertion'!F:G,2,FALSE),\"\")","v":""},"",{"$f":"IF('Gala Name'!C$4=\"No\",\"\",IFERROR(RANK(N365,N365:N372,1),\"\"))","v":""}]
[{"$f":"IF(J366=\"\",\"\",B365)","v":""},null,null,2,{"$f":"IF(D366=\"\",\"\",IF(VLOOKUP(D366,Teams!$B$3:$C$10,2,FALSE)=\"\",\"\",VLOOKUP(D366,Teams!$B$3:$C$10,2,FALSE)))","v":""},null,null,{"$f":"IF(G366=\"\",\"\",YEAR('Gala Name'!$C$9)-YEAR(G366))","v":""},"",null,"",{"$f":"IF(OR(J366=\"\",J366=\"DSQ\"),\"\",IF(OR(J366=J365,J366=J367,J366=J368,J366=J369,J366=J370,J366=J371,J366=J372),\"Enter Placings\",\"\"))","v":""},"","",null,{"$f":"IF(L366<>\"\",L366,IF(OR(J366=\"DNF\",J366=\"DSQ\"),0,IF(N366=\"\",\"\",RANK(N366,N365:N372,1))))","v":""},{"$f":"IF(P366=\"\",0,IF(P366=0,0,VLOOKUP(P:P,Points!B:C,2,FALSE)))","v":0},2,null,{"$f":"IF(P373>1.9,2,\"\")","v":""},{"$f":"IFERROR(IF(T366=\"\",\"\",VLOOKUP(T366,P365:R372,3,FALSE)),\"\")","v":""},null,2,null,{"$f":"IF(D366=\"\",\"\",IFERROR(VLOOKUP(B366,Events!B:L,11,FALSE),Y365))","v":""}," "," ",{"$f":"IFERROR(VLOOKUP(AA:AA,'Masters Convertion'!F:G,2,FALSE),\"\")","v":""},"",{"$f":"IF('Gala Name'!C$4=\"No\",\"\",IFERROR(RANK(N366,N366:N373,1),\"\"))","v":""}]
[{"$f":"IF(J367=\"\",\"\",B365)","v":""},null,null,3,{"$f":"IF(D367=\"\",\"\",IF(VLOOKUP(D367,Teams!$B$3:$C$10,2,FALSE)=\"\",\"\",VLOOKUP(D367,Teams!$B$3:$C$10,2,FALSE)))","v":""},null,null,{"$f":"IF(G367=\"\",\"\",YEAR('Gala Name'!$C$9)-YEAR(G367))","v":""},"",null,"",{"$f":"IF(OR(J367=\"\",J367=\"DSQ\"),\"\",IF(OR(J367=J365,J367=J366,J367=J368,J367=J369,J367=J370,J367=J371,J367=J372),\"Enter Placings\",\"\"))","v":""},"","",null,{"$f":"IF(L367<>\"\",L367,IF(OR(J367=\"DNF\",J367=\"DSQ\"),0,IF(N367=\"\",\"\",RANK(N367,N365:N372,1))))","v":""},{"$f":"IF(P367=\"\",0,IF(P367=0,0,VLOOKUP(P:P,Points!B:C,2,FALSE)))","v":0},3,null,{"$f":"IF(P373>2.9,3,\"\")","v":""},{"$f":"IFERROR(IF(T367=\"\",\"\",VLOOKUP(T367,P365:R372,3,FALSE)),\"\")","v":""},null,3,null,{"$f":"IF(D367=\"\",\"\",IFERROR(VLOOKUP(B367,Events!B:L,11,FALSE),Y366))","v":""}," "," ",{"$f":"IFERROR(VLOOKUP(AA:AA,'Masters Convertion'!F:G,2,FALSE),\"\")","v":""},"",{"$f":"IF('Gala Name'!C$4=\"No\",\"\",IFERROR(RANK(N367,N367:N374,1),\"\"))","v":""}]
[{"$f":"IF(J368=\"\",\"\",B365)","v":""},null,null,4,{"$f":"IF(D368=\"\",\"\",IF(VLOOKUP(D368,Teams!$B$3:$C$10,2,FALSE)=\"\",\"\",VLOOKUP(D368,Teams!$B$3:$C$10,2,FALSE)))","v":""},null,null,{"$f":"IF(G368=\"\",\"\",YEAR('Gala Name'!$C$9)-YEAR(G368))","v":""},"",null,"",{"$f":"IF(OR(J368=\"\",J368=\"DSQ\"),\"\",IF(OR(J368=J365,J368=J366,J368=J367,J368=J369,J368=J370,J368=J371,J368=J372),\"Enter Placings\",\"\"))","v":""},"","",null,{"$f":"IF(L368<>\"\",L368,IF(OR(J368=\"DNF\",J368=\"DSQ\"),0,IF(N368=\"\",\"\",RANK(N368,N365:N372,1))))","v":""},{"$f":"IF(P368=\"\",0,IF(P368=0,0,VLOOKUP(P:P,Points!B:C,2,FALSE)))","v":0},4,null,{"$f":"IF(P373>3.9,4,\"\")","v":""},{"$f":"IFERROR(IF(T368=\"\",\"\",VLOOKUP(T368,P365:R372,3,FALSE)),\"\")","v":""},null,4,null,{"$f":"IF(D368=\"\",\"\",IFERROR(VLOOKUP(B368,Events!B:L,11,FALSE),Y367))","v":""}," "," ",{"$f":"IFERROR(VLOOKUP(AA:AA,'Masters Convertion'!F:G,2,FALSE),\"\")","v":""},"",{"$f":"IF('Gala Name'!C$4=\"No\",\"\",IFERROR(RANK(N368,N368:N375,1),\"\"))","v":""}]
[{"$f":"IF(J369=\"\",\"\",B365)","v":""},null,null,5,{"$f":"IF(D369=\"\",\"\",IF(VLOOKUP(D369,Teams!$B$3:$C$10,2,FALSE)=\"\",\"\",VLOOKUP(D369,Teams!$B$3:$C$10,2,FALSE)))","v":""},null,null,{"$f":"IF(G369=\"\",\"\",YEAR('Gala Name'!$C$9)-YEAR(G369))","v":""},"",null,"",{"$f":"IF(OR(J369=\"\",J369=\"DSQ\"),\"\",IF(OR(J369=J366,J369=J367,J369=J368,J369=J370,J369=J371,J369=J372,J369=J365),\"Enter Placings\",\"\"))","v":""},"","",null,{"$f":"IF(L369<>\"\",L369,IF(OR(J369=\"DNF\",J369=\"DSQ\"),0,IF(N369=\"\",\"\",RANK(N369,N365:N372,1))))","v":""},{"$f":"IF(P369=\"\",0,IF(P369=0,0,VLOOKUP(P:P,Points!B:C,2,FALSE)))","v":0},5,null,{"$f":"IF(P373>4.9,5,\"\")","v":""},{"$f":"IFERROR(IF(T369=\"\",\"\",VLOOKUP(T369,P365:R372,3,FALSE)),\"\")","v":""},null,5,null,{"$f":"IF(D369=\"\",\"\",IFERROR(VLOOKUP(B369,Events!B:L,11,FALSE),Y368))","v":""}," "," ",{"$f":"IFERROR(VLOOKUP(AA:AA,'Masters Convertion'!F:G,2,FALSE),\"\")","v":""},"",{"$f":"IF('Gala Name'!C$4=\"No\",\"\",IFERROR(RANK(N369,N369:N376,1),\"\"))","v":""}]
[{"$f":"IF(J370=\"\",\"\",B365)","v":""},null,null,6,{"$f":"IF(D370=\"\",\"\",IF(VLOOKUP(D370,Teams!$B$3:$C$10,2,FALSE)=\"\",\"\",VLOOKUP(D370,Teams!$B$3:$C$10,2,FALSE)))","v":""},null,null,{"$f":"IF(G370=\"\",\"\",YEAR('Gala Name'!$C$9)-YEAR(G370))","v":""},"",null,"",{"$f":"IF(OR(J370=\"\",J370=\"DSQ\"),\"\",IF(OR(J370=J367,J370=J368,J370=J369,J370=J371,J370=J372,J370=J366,J370=J365),\"Enter Placings\",\"\"))","v":""},"","",null,{"$f":"IF(L370<>\"\",L370,IF(OR(J370=\"DNF\",J370=\"DSQ\"),0,IF(N370=\"\",\"\",RANK(N370,N365:N372,1))))","v":""},{"$f":"IF(P370=\"\",0,IF(P370=0,0,VLOOKUP(P:P,Points!B:C,2,FALSE)))","v":0},6,null,{"$f":"IF(P373>5.9,6,\"\")","v":""},{"$f":"IFERROR(IF(T370=\"\",\"\",VLOOKUP(T370,P365:R372,3,FALSE)),\"\")","v":""},null,6,null,{"$f":"IF(D370=\"\",\"\",IFERROR(VLOOKUP(B370,Events!B:L,11,FALSE),Y369))","v":""}," "," ",{"$f":"IFERROR(VLOOKUP(AA:AA,'Masters Convertion'!F:G,2,FALSE),\"\")","v":""},"",{"$f":"IF('Gala Name'!C$4=\"No\",\"\",IFERROR(RANK(N370,N370:N377,1),\"\"))","v":""}]
[{"$f":"IF(J371=\"\",\"\",B365)","v":""},null,null,7,{"$f":"IF(D371=\"\",\"\",IF(VLOOKUP(D371,Teams!$B$3:$C$10,2,FALSE)=\"\",\"\",VLOOKUP(D371,Teams!$B$3:$C$10,2,FALSE)))","v":""},null,null,{"$f":"IF(G371=\"\",\"\",YEAR('Gala Name'!$C$9)-YEAR(G371))","v":""},"",null,"",{"$f":"IF(OR(J371=\"\",J371=\"DSQ\"),\"\",IF(OR(J371=J368,J371=J369,J371=J370,J371=J372,J371=J365,J371=J366,J371=J367),\"Enter Placings\",\"\"))","v":""},"","",null,{"$f":"IF(L371<>\"\",L371,IF(OR(J371=\"DNF\",J371=\"DSQ\"),0,IF(N371=\"\",\"\",RANK(N371,N365:N372,1))))","v":""},{"$f":"IF(P371=\"\",0,IF(P371=0,0,VLOOKUP(P:P,Points!B:C,2,FALSE)))","v":0},7,null,{"$f":"IF(P373>6.9,7,\"\")","v":""},{"$f":"IFERROR(IF(T371=\"\",\"\",VLOOKUP(T371,P365:R372,3,FALSE)),\"\")","v":""},null,7,null,{"$f":"IF(D371=\"\",\"\",IFERROR(VLOOKUP(B371,Events!B:L,11,FALSE),Y370))","v":""}," "," ",{"$f":"IFERROR(VLOOKUP(AA:AA,'Masters Convertion'!F:G,2,FALSE),\"\")","v":""},"",{"$f":"IF('Gala Name'!C$4=\"No\",\"\",IFERROR(RANK(N371,N371:N378,1),\"\"))","v":""}]
[{"$f":"IF(J372=\"\",\"\",B365)","v":""},null,null,8,{"$f":"IF(D372=\"\",\"\",IF(VLOOKUP(D372,Teams!$B$3:$C$10,2,FALSE)=\"\",\"\",VLOOKUP(D372,Teams!$B$3:$C$10,2,FALSE)))","v":""},null,null,{"$f":"IF(G372=\"\",\"\",YEAR('Gala Name'!$C$9)-YEAR(G372))","v":""},"",null,"",{"$f":"IF(OR(J372=\"\",J372=\"DSQ\"),\"\",IF(OR(J372=J369,J372=J370,J372=J371,J372=J365,J372=J366,J372=J367,J372=J368),\"Enter Placings\",\"\"))","v":""},"","",null,{"$f":"IF(L372<>\"\",L372,IF(OR(J372=\"DNF\",J372=\"DSQ\"),0,IF(N372=\"\",\"\",RANK(N372,N365:N372,1))))","v":""},{"$f":"IF(P372=\"\",0,IF(P372=0,0,VLOOKUP(P:P,Points!B:C,2,FALSE)))","v":0},8,null,{"$f":"IF(P373>7.9,8,\"\")","v":""},{"$f":"IFERROR(IF(T372=\"\",\"\",VLOOKUP(T372,P365:R372,3,FALSE)),\"\")","v":""},null,8,null,{"$f":"IF(D372=\"\",\"\",IFERROR(VLOOKUP(B372,Events!B:L,11,FALSE),Y371))","v":""}," "," ",{"$f":"IFERROR(VLOOKUP(AA:AA,'Masters Convertion'!F:G,2,FALSE),\"\")","v":""},"",{"$f":"IF('Gala Name'!C$4=\"No\",\"\",IFERROR(RANK(N372,N372:N379,1),\"\"))","v":""}]
[null,null,null,null,null,null,null,null,null,null,null,null,"","",null,{"$f":"MAX(P365:P372)","v":0},null,null,null,null,null,null,"*"]
[{"$f":"IF(J374=\"\",\"\",B374)","v":""},{"$f":"B365+1","v":42},{"$f":"IF(D374=1,VLOOKUP(B374,Events!B:H,6,FALSE)&VLOOKUP(B374,Events!B:H,7,FALSE),\"\")","v":"   "},1,{"$f":"IF(D374=\"\",\"\",IF(VLOOKUP(D374,Teams!$B$3:$C$10,2,FALSE)=\"\",\"\",VLOOKUP(D374,Teams!$B$3:$C$10,2,FALSE)))","v":""},null,null,{"$f":"IF(G374=\"\",\"\",YEAR('Gala Name'!$C$9)-YEAR(G374))","v":""},"",null,"",{"$f":"IF(OR(J374=\"\",J374=\"DSQ\"),\"\",IF(OR(J374=J375,J374=J376,J374=J377,J374=J378,J374=J379,J374=J380,J374=J381),\"Enter Placings\",\"\"))","v":""},"","",null,{"$f":"IF(L374<>\"\",L374,IF(OR(J374=\"DNF\",J374=\"DSQ\"),0,IF(N374=\"\",\"\",RANK(N374,N374:N381,1))))","v":""},{"$f":"IF(P374=\"\",0,IF(P374=0,0,VLOOKUP(P:P,Points!B:C,2,FALSE)))","v":0},{"$f":"D374","v":1},null,{"$f":"IF(P382>0.9,1,\"\")","v":""},{"$f":"IFERROR(IF(T374=\"\",\"\",VLOOKUP(T374,P374:R381,3,FALSE)),\"\")","v":""},null,1,null,{"$f":"IF(D374=\"\",\"\",IFERROR(VLOOKUP(B374,Events!B:L,11,FALSE),Y373))","v":""}," "," ",{"$f":"IFERROR(VLOOKUP(AA:AA,'Masters Convertion'!F:G,2,FALSE),\"\")","v":""},"",{"$f":"IF('Gala Name'!C$4=\"No\",\"\",IFERROR(RANK(N374,N374:N381,1),\"\"))","v":""}]
[{"$f":"IF(J375=\"\",\"\",B374)","v":""},null,null,2,{"$f":"IF(D375=\"\",\"\",IF(VLOOKUP(D375,Teams!$B$3:$C$10,2,FALSE)=\"\",\"\",VLOOKUP(D375,Teams!$B$3:$C$10,2,FALSE)))","v":""},null,null,{"$f":"IF(G375=\"\",\"\",YEAR('Gala Name'!$C$9)-YEAR(G375))","v":""},"",null,"",{"$f":"IF(OR(J375=\"\",J375=\"DSQ\"),\"\",IF(OR(J375=J374,J375=J376,J375=J377,J375=J378,J375=J379,J375=J380,J375=J381),\"Enter Placings\",\"\"))","v":""},"","",null,{"$f":"IF(L375<>\"\",L375,IF(OR(J375=\"DNF\",J375=\"DSQ\"),0,IF(N375=\"\",\"\",RANK(N375,N374:N381,1))))","v":""},{"$f":"IF(P375=\"\",0,IF(P375=0,0,VLOOKUP(P:P,Points!B:C,2,FALSE)))","v":0},2,null,{"$f":"IF(P382>1.9,2,\"\")","v":""},{"$f":"IFERROR(IF(T375=\"\",\"\",VLOOKUP(T375,P374:R381,3,FALSE)),\"\")","v":""},null,2,null,{"$f":"IF(D375=\"\",\"\",IFERROR(VLOOKUP(B375,Events!B:L,11,FALSE),Y374))","v":""}," "," ",{"$f":"IFERROR(VLOOKUP(AA:AA,'Masters Convertion'!F:G,2,FALSE),\"\")","v":""},"",{"$f":"IF('Gala Name'!C$4=\"No\",\"\",IFERROR(RANK(N375,N375:N382,1),\"\"))","v":""}]
[{"$f":"IF(J376=\"\",\"\",B374)","v":""},null,null,3,{"$f":"IF(D376=\"\",\"\",IF(VLOOKUP(D376,Teams!$B$3:$C$10,2,FALSE)=\"\",\"\",VLOOKUP(D376,Teams!$B$3:$C$10,2,FALSE)))","v":""},null,null,{"$f":"IF(G376=\"\",\"\",YEAR('Gala Name'!$C$9)-YEAR(G376))","v":""},"",null,"",{"$f":"IF(OR(J376=\"\",J376=\"DSQ\"),\"\",IF(OR(J376=J374,J376=J375,J376=J377,J376=J378,J376=J379,J376=J380,J376=J381),\"Enter Placings\",\"\"))","v":""},"","",null,{"$f":"IF(L376<>\"\",L376,IF(OR(J376=\"DNF\",J376=\"DSQ\"),0,IF(N376=\"\",\"\",RANK(N376,N374:N381,1))))","v":""},{"$f":"IF(P376=\"\",0,IF(P376=0,0,VLOOKUP(P:P,Points!B:C,2,FALSE)))","v":0},3,null,{"$f":"IF(P382>2.9,3,\"\")","v":""},{"$f":"IFERROR(IF(T376=\"\",\"\",VLOOKUP(T376,P374:R381,3,FALSE)),\"\")","v":""},null,3,null,{"$f":"IF(D376=\"\",\"\",IFERROR(VLOOKUP(B376,Events!B:L,11,FALSE),Y375))","v":""}," "," ",{"$f":"IFERROR(VLOOKUP(AA:AA,'Masters Convertion'!F:G,2,FALSE),\"\")","v":""},"",{"$f":"IF('Gala Name'!C$4=\"No\",\"\",IFERROR(RANK(N376,N376:N383,1),\"\"))","v":""}]
[{"$f":"IF(J377=\"\",\"\",B374)","v":""},null,null,4,{"$f":"IF(D377=\"\",\"\",IF(VLOOKUP(D377,Teams!$B$3:$C$10,2,FALSE)=\"\",\"\",VLOOKUP(D377,Teams!$B$3:$C$10,2,FALSE)))","v":""},null,null,{"$f":"IF(G377=\"\",\"\",YEAR('Gala Name'!$C$9)-YEAR(G377))","v":""},"",null,"",{"$f":"IF(OR(J377=\"\",J377=\"DSQ\"),\"\",IF(OR(J377=J374,J377=J375,J377=J376,J377=J378,J377=J379,J377=J380,J377=J381),\"Enter Placings\",\"\"))","v":""},"","",null,{"$f":"IF(L377<>\"\",L377,IF(OR(J377=\"DNF\",J377=\"DSQ\"),0,IF(N377=\"\",\"\",RANK(N377,N374:N381,1))))","v":""},{"$f":"IF(P377=\"\",0,IF(P377=0,0,VLOOKUP(P:P,Points!B:C,2,FALSE)))","v":0},4,null,{"$f":"IF(P382>3.9,4,\"\")","v":""},{"$f":"IFERROR(IF(T377=\"\",\"\",VLOOKUP(T377,P374:R381,3,FALSE)),\"\")","v":""},null,4,null,{"$f":"IF(D377=\"\",\"\",IFERROR(VLOOKUP(B377,Events!B:L,11,FALSE),Y376))","v":""}," "," ",{"$f":"IFERROR(VLOOKUP(AA:AA,'Masters Convertion'!F:G,2,FALSE),\"\")","v":""},"",{"$f":"IF('Gala Name'!C$4=\"No\",\"\",IFERROR(RANK(N377,N377:N384,1),\"\"))","v":""}]
[{"$f":"IF(J378=\"\",\"\",B374)","v":""},null,null,5,{"$f":"IF(D378=\"\",\"\",IF(VLOOKUP(D378,Teams!$B$3:$C$10,2,FALSE)=\"\",\"\",VLOOKUP(D378,Teams!$B$3:$C$10,2,FALSE)))","v":""},null,null,{"$f":"IF(G378=\"\",\"\",YEAR('Gala Name'!$C$9)-YEAR(G378))","v":""},"",null,"",{"$f":"IF(OR(J378=\"\",J378=\"DSQ\"),\"\",IF(OR(J378=J375,J378=J376,J378=J377,J378=J379,J378=J380,J378=J381,J378=J374),\"Enter Placings\",\"\"))","v":""},"","",null,{"$f":"IF(L378<>\"\",L378,IF(OR(J378=\"DNF\",J378=\"DSQ\"),0,IF(N378=\"\",\"\",RANK(N378,N374:N381,1))))","v":""},{"$f":"IF(P378=\"\",0,IF(P378=0,0,VLOOKUP(P:P,Points!B:C,2,FALSE)))","v":0},5,null,{"$f":"IF(P382>4.9,5,\"\")","v":""},{"$f":"IFERROR(IF(T378=\"\",\"\",VLOOKUP(T378,P374:R381,3,FALSE)),\"\")","v":""},null,5,null,{"$f":"IF(D378=\"\",\"\",IFERROR(VLOOKUP(B378,Events!B:L,11,FALSE),Y377))","v":""}," "," ",{"$f":"IFERROR(VLOOKUP(AA:AA,'Masters Convertion'!F:G,2,FALSE),\"\")","v":""},"",{"$f":"IF('Gala Name'!C$4=\"No\",\"\",IFERROR(RANK(N378,N378:N385,1),\"\"))","v":""}]
[{"$f":"IF(J379=\"\",\"\",B374)","v":""},null,null,6,{"$f":"IF(D379=\"\",\"\",IF(VLOOKUP(D379,Teams!$B$3:$C$10,2,FALSE)=\"\",\"\",VLOOKUP(D379,Teams!$B$3:$C$10,2,FALSE)))","v":""},null,null,{"$f":"IF(G379=\"\",\"\",YEAR('Gala Name'!$C$9)-YEAR(G379))","v":""},"",null,"",{"$f":"IF(OR(J379=\"\",J379=\"DSQ\"),\"\",IF(OR(J379=J376,J379=J377,J379=J378,J379=J380,J379=J381,J379=J375,J379=J374),\"Enter Placings\",\"\"))","v":""},"","",null,{"$f":"IF(L379<>\"\",L379,IF(OR(J379=\"DNF\",J379=\"DSQ\"),0,IF(N379=\"\",\"\",RANK(N379,N374:N381,1))))","v":""},{"$f":"IF(P379=\"\",0,IF(P379=0,0,VLOOKUP(P:P,Points!B:C,2,FALSE)))","v":0},6,null,{"$f":"IF(P382>5.9,6,\"\")","v":""},{"$f":"IFERROR(IF(T379=\"\",\"\",VLOOKUP(T379,P374:R381,3,FALSE)),\"\")","v":""},null,6,null,{"$f":"IF(D379=\"\",\"\",IFERROR(VLOOKUP(B379,Events!B:L,11,FALSE),Y378))","v":""}," "," ",{"$f":"IFERROR(VLOOKUP(AA:AA,'Masters Convertion'!F:G,2,FALSE),\"\")","v":""},"",{"$f":"IF('Gala Name'!C$4=\"No\",\"\",IFERROR(RANK(N379,N379:N386,1),\"\"))","v":""}]
[{"$f":"IF(J380=\"\",\"\",B374)","v":""},null,null,7,{"$f":"IF(D380=\"\",\"\",IF(VLOOKUP(D380,Teams!$B$3:$C$10,2,FALSE)=\"\",\"\",VLOOKUP(D380,Teams!$B$3:$C$10,2,FALSE)))","v":""},null,null,{"$f":"IF(G380=\"\",\"\",YEAR('Gala Name'!$C$9)-YEAR(G380))","v":""},"",null,"",{"$f":"IF(OR(J380=\"\",J380=\"DSQ\"),\"\",IF(OR(J380=J377,J380=J378,J380=J379,J380=J381,J380=J374,J380=J375,J380=J376),\"Enter Placings\",\"\"))","v":""},"","",null,{"$f":"IF(L380<>\"\",L380,IF(OR(J380=\"DNF\",J380=\"DSQ\"),0,IF(N380=\"\",\"\",RANK(N380,N374:N381,1))))","v":""},{"$f":"IF(P380=\"\",0,IF(P380=0,0,VLOOKUP(P:P,Points!B:C,2,FALSE)))","v":0},7,null,{"$f":"IF(P382>6.9,7,\"\")","v":""},{"$f":"IFERROR(IF(T380=\"\",\"\",VLOOKUP(T380,P374:R381,3,FALSE)),\"\")","v":""},null,7,null,{"$f":"IF(D380=\"\",\"\",IFERROR(VLOOKUP(B380,Events!B:L,11,FALSE),Y379))","v":""}," "," ",{"$f":"IFERROR(VLOOKUP(AA:AA,'Masters Convertion'!F:G,2,FALSE),\"\")","v":""},"",{"$f":"IF('Gala Name'!C$4=\"No\",\"\",IFERROR(RANK(N380,N380:N387,1),\"\"))","v":""}]
[{"$f":"IF(J381=\"\",\"\",B374)","v":""},null,null,8,{"$f":"IF(D381=\"\",\"\",IF(VLOOKUP(D381,Teams!$B$3:$C$10,2,FALSE)=\"\",\"\",VLOOKUP(D381,Teams!$B$3:$C$10,2,FALSE)))","v":""},null,null,{"$f":"IF(G381=\"\",\"\",YEAR('Gala Name'!$C$9)-YEAR(G381))","v":""},"",null,"",{"$f":"IF(OR(J381=\"\",J381=\"DSQ\"),\"\",IF(OR(J381=J378,J381=J379,J381=J380,J381=J374,J381=J375,J381=J376,J381=J377),\"Enter Placings\",\"\"))","v":""},"","",null,{"$f":"IF(L381<>\"\",L381,IF(OR(J381=\"DNF\",J381=\"DSQ\"),0,IF(N381=\"\",\"\",RANK(N381,N374:N381,1))))","v":""},{"$f":"IF(P381=\"\",0,IF(P381=0,0,VLOOKUP(P:P,Points!B:C,2,FALSE)))","v":0},8,null,{"$f":"IF(P382>7.9,8,\"\")","v":""},{"$f":"IFERROR(IF(T381=\"\",\"\",VLOOKUP(T381,P374:R381,3,FALSE)),\"\")","v":""},null,8,null,{"$f":"IF(D381=\"\",\"\",IFERROR(VLOOKUP(B381,Events!B:L,11,FALSE),Y380))","v":""}," "," ",{"$f":"IFERROR(VLOOKUP(AA:AA,'Masters Convertion'!F:G,2,FALSE),\"\")","v":""},"",{"$f":"IF('Gala Name'!C$4=\"No\",\"\",IFERROR(RANK(N381,N381:N388,1),\"\"))","v":""}]
[null,null,null,null,null,null,null,null,null,null,null,null,"","",null,{"$f":"MAX(P374:P381)","v":0},null,null,null,null,null,null,"*"]
[{"$f":"IF(J383=\"\",\"\",B383)","v":""},{"$f":"B374+1","v":43},{"$f":"IF(D383=1,VLOOKUP(B383,Events!B:H,6,FALSE)&VLOOKUP(B383,Events!B:H,7,FALSE),\"\")","v":"   "},1,{"$f":"IF(D383=\"\",\"\",IF(VLOOKUP(D383,Teams!$B$3:$C$10,2,FALSE)=\"\",\"\",VLOOKUP(D383,Teams!$B$3:$C$10,2,FALSE)))","v":""},null,null,{"$f":"IF(G383=\"\",\"\",YEAR('Gala Name'!$C$9)-YEAR(G383))","v":""},"",null,"",{"$f":"IF(OR(J383=\"\",J383=\"DSQ\"),\"\",IF(OR(J383=J384,J383=J385,J383=J386,J383=J387,J383=J388,J383=J389,J383=J390),\"Enter Placings\",\"\"))","v":""},"","",null,{"$f":"IF(L383<>\"\",L383,IF(OR(J383=\"DNF\",J383=\"DSQ\"),0,IF(N383=\"\",\"\",RANK(N383,N383:N390,1))))","v":""},{"$f":"IF(P383=\"\",0,IF(P383=0,0,VLOOKUP(P:P,Points!B:C,2,FALSE)))","v":0},{"$f":"D383","v":1},null,{"$f":"IF(P391>0.9,1,\"\")","v":""},{"$f":"IFERROR(IF(T383=\"\",\"\",VLOOKUP(T383,P383:R390,3,FALSE)),\"\")","v":""},null,1,null,{"$f":"IF(D383=\"\",\"\",IFERROR(VLOOKUP(B383,Events!B:L,11,FALSE),Y382))","v":""}," "," ",{"$f":"IFERROR(VLOOKUP(AA:AA,'Masters Convertion'!F:G,2,FALSE),\"\")","v":""},"",{"$f":"IF('Gala Name'!C$4=\"No\",\"\",IFERROR(RANK(N383,N383:N390,1),\"\"))","v":""}]
[{"$f":"IF(J384=\"\",\"\",B383)","v":""},null,null,2,{"$f":"IF(D384=\"\",\"\",IF(VLOOKUP(D384,Teams!$B$3:$C$10,2,FALSE)=\"\",\"\",VLOOKUP(D384,Teams!$B$3:$C$10,2,FALSE)))","v":""},null,null,{"$f":"IF(G384=\"\",\"\",YEAR('Gala Name'!$C$9)-YEAR(G384))","v":""},"",null,"",{"$f":"IF(OR(J384=\"\",J384=\"DSQ\"),\"\",IF(OR(J384=J383,J384=J385,J384=J386,J384=J387,J384=J388,J384=J389,J384=J390),\"Enter Placings\",\"\"))","v":""},"","",null,{"$f":"IF(L384<>\"\",L384,IF(OR(J384=\"DNF\",J384=\"DSQ\"),0,IF(N384=\"\",\"\",RANK(N384,N383:N390,1))))","v":""},{"$f":"IF(P384=\"\",0,IF(P384=0,0,VLOOKUP(P:P,Points!B:C,2,FALSE)))","v":0},2,null,{"$f":"IF(P391>1.9,2,\"\")","v":""},{"$f":"IFERROR(IF(T384=\"\",\"\",VLOOKUP(T384,P383:R390,3,FALSE)),\"\")","v":""},null,2,null,{"$f":"IF(D384=\"\",\"\",IFERROR(VLOOKUP(B384,Events!B:L,11,FALSE),Y383))","v":""}," "," ",{"$f":"IFERROR(VLOOKUP(AA:AA,'Masters Convertion'!F:G,2,FALSE),\"\")","v":""},"",{"$f":"IF('Gala Name'!C$4=\"No\",\"\",IFERROR(RANK(N384,N384:N391,1),\"\"))","v":""}]
[{"$f":"IF(J385=\"\",\"\",B383)","v":""},null,null,3,{"$f":"IF(D385=\"\",\"\",IF(VLOOKUP(D385,Teams!$B$3:$C$10,2,FALSE)=\"\",\"\",VLOOKUP(D385,Teams!$B$3:$C$10,2,FALSE)))","v":""},null,null,{"$f":"IF(G385=\"\",\"\",YEAR('Gala Name'!$C$9)-YEAR(G385))","v":""},"",null,"",{"$f":"IF(OR(J385=\"\",J385=\"DSQ\"),\"\",IF(OR(J385=J383,J385=J384,J385=J386,J385=J387,J385=J388,J385=J389,J385=J390),\"Enter Placings\",\"\"))","v":""},"","",null,{"$f":"IF(L385<>\"\",L385,IF(OR(J385=\"DNF\",J385=\"DSQ\"),0,IF(N385=\"\",\"\",RANK(N385,N383:N390,1))))","v":""},{"$f":"IF(P385=\"\",0,IF(P385=0,0,VLOOKUP(P:P,Points!B:C,2,FALSE)))","v":0},3,null,{"$f":"IF(P391>2.9,3,\"\")","v":""},{"$f":"IFERROR(IF(T385=\"\",\"\",VLOOKUP(T385,P383:R390,3,FALSE)),\"\")","v":""},null,3,null,{"$f":"IF(D385=\"\",\"\",IFERROR(VLOOKUP(B385,Events!B:L,11,FALSE),Y384))","v":""}," "," ",{"$f":"IFERROR(VLOOKUP(AA:AA,'Masters Convertion'!F:G,2,FALSE),\"\")","v":""},"",{"$f":"IF('Gala Name'!C$4=\"No\",\"\",IFERROR(RANK(N385,N385:N392,1),\"\"))","v":""}]
[{"$f":"IF(J386=\"\",\"\",B383)","v":""},null,null,4,{"$f":"IF(D386=\"\",\"\",IF(VLOOKUP(D386,Teams!$B$3:$C$10,2,FALSE)=\"\",\"\",VLOOKUP(D386,Teams!$B$3:$C$10,2,FALSE)))","v":""},null,null,{"$f":"IF(G386=\"\",\"\",YEAR('Gala Name'!$C$9)-YEAR(G386))","v":""},"",null,"",{"$f":"IF(OR(J386=\"\",J386=\"DSQ\"),\"\",IF(OR(J386=J383,J386=J384,J386=J385,J386=J387,J386=J388,J386=J389,J386=J390),\"Enter Placings\",\"\"))","v":""},"","",null,{"$f":"IF(L386<>\"\",L386,IF(OR(J386=\"DNF\",J386=\"DSQ\"),0,IF(N386=\"\",\"\",RANK(N386,N383:N390,1))))","v":""},{"$f":"IF(P386=\"\",0,IF(P386=0,0,VLOOKUP(P:P,Points!B:C,2,FALSE)))","v":0},4,null,{"$f":"IF(P391>3.9,4,\"\")","v":""},{"$f":"IFERROR(IF(T386=\"\",\"\",VLOOKUP(T386,P383:R390,3,FALSE)),\"\")","v":""},null,4,null,{"$f":"IF(D386=\"\",\"\",IFERROR(VLOOKUP(B386,Events!B:L,11,FALSE),Y385))","v":""}," "," ",{"$f":"IFERROR(VLOOKUP(AA:AA,'Masters Convertion'!F:G,2,FALSE),\"\")","v":""},"",{"$f":"IF('Gala Name'!C$4=\"No\",\"\",IFERROR(RANK(N386,N386:N393,1),\"\"))","v":""}]
[{"$f":"IF(J387=\"\",\"\",B383)","v":""},null,null,5,{"$f":"IF(D387=\"\",\"\",IF(VLOOKUP(D387,Teams!$B$3:$C$10,2,FALSE)=\"\",\"\",VLOOKUP(D387,Teams!$B$3:$C$10,2,FALSE)))","v":""},null,null,{"$f":"IF(G387=\"\",\"\",YEAR('Gala Name'!$C$9)-YEAR(G387))","v":""},"",null,"",{"$f":"IF(OR(J387=\"\",J387=\"DSQ\"),\"\",IF(OR(J387=J384,J387=J385,J387=J386,J387=J388,J387=J389,J387=J390,J387=J383),\"Enter Placings\",\"\"))","v":""},"","",null,{"$f":"IF(L387<>\"\",L387,IF(OR(J387=\"DNF\",J387=\"DSQ\"),0,IF(N387=\"\",\"\",RANK(N387,N383:N390,1))))","v":""},{"$f":"IF(P387=\"\",0,IF(P387=0,0,VLOOKUP(P:P,Points!B:C,2,FALSE)))","v":0},5,null,{"$f":"IF(P391>4.9,5,\"\")","v":""},{"$f":"IFERROR(IF(T387=\"\",\"\",VLOOKUP(T387,P383:R390,3,FALSE)),\"\")","v":""},null,5,null,{"$f":"IF(D387=\"\",\"\",IFERROR(VLOOKUP(B387,Events!B:L,11,FALSE),Y386))","v":""}," "," ",{"$f":"IFERROR(VLOOKUP(AA:AA,'Masters Convertion'!F:G,2,FALSE),\"\")","v":""},"",{"$f":"IF('Gala Name'!C$4=\"No\",\"\",IFERROR(RANK(N387,N387:N394,1),\"\"))","v":""}]
[{"$f":"IF(J388=\"\",\"\",B383)","v":""},null,null,6,{"$f":"IF(D388=\"\",\"\",IF(VLOOKUP(D388,Teams!$B$3:$C$10,2,FALSE)=\"\",\"\",VLOOKUP(D388,Teams!$B$3:$C$10,2,FALSE)))","v":""},null,null,{"$f":"IF(G388=\"\",\"\",YEAR('Gala Name'!$C$9)-YEAR(G388))","v":""},"",null,"",{"$f":"IF(OR(J388=\"\",J388=\"DSQ\"),\"\",IF(OR(J388=J385,J388=J386,J388=J387,J388=J389,J388=J390,J388=J384,J388=J383),\"Enter Placings\",\"\"))","v":""},"","",null,{"$f":"IF(L388<>\"\",L388,IF(OR(J388=\"DNF\",J388=\"DSQ\"),0,IF(N388=\"\",\"\",RANK(N388,N383:N390,1))))","v":""},{"$f":"IF(P388=\"\",0,IF(P388=0,0,VLOOKUP(P:P,Points!B:C,2,FALSE)))","v":0},6,null,{"$f":"IF(P391>5.9,6,\"\")","v":""},{"$f":"IFERROR(IF(T388=\"\",\"\",VLOOKUP(T388,P383:R390,3,FALSE)),\"\")","v":""},null,6,null,{"$f":"IF(D388=\"\",\"\",IFERROR(VLOOKUP(B388,Events!B:L,11,FALSE),Y387))","v":""}," "," ",{"$f":"IFERROR(VLOOKUP(AA:AA,'Masters Convertion'!F:G,2,FALSE),\"\")","v":""},"",{"$f":"IF('Gala Name'!C$4=\"No\",\"\",IFERROR(RANK(N388,N388:N395,1),\"\"))","v":""}]
[{"$f":"IF(J389=\"\",\"\",B383)","v":""},null,null,7,{"$f":"IF(D389=\"\",\"\",IF(VLOOKUP(D389,Teams!$B$3:$C$10,2,FALSE)=\"\",\"\",VLOOKUP(D389,Teams!$B$3:$C$10,2,FALSE)))","v":""},null,null,{"$f":"IF(G389=\"\",\"\",YEAR('Gala Name'!$C$9)-YEAR(G389))","v":""},"",null,"",{"$f":"IF(OR(J389=\"\",J389=\"DSQ\"),\"\",IF(OR(J389=J386,J389=J387,J389=J388,J389=J390,J389=J383,J389=J384,J389=J385),\"Enter Placings\",\"\"))","v":""},"","",null,{"$f":"IF(L389<>\"\",L389,IF(OR(J389=\"DNF\",J389=\"DSQ\"),0,IF(N389=\"\",\"\",RANK(N389,N383:N390,1))))","v":""},{"$f":"IF(P389=\"\",0,IF(P389=0,0,VLOOKUP(P:P,Points!B:C,2,FALSE)))","v":0},7,null,{"$f":"IF(P391>6.9,7,\"\")","v":""},{"$f":"IFERROR(IF(T389=\"\",\"\",VLOOKUP(T389,P383:R390,3,FALSE)),\"\")","v":""},null,7,null,{"$f":"IF(D389=\"\",\"\",IFERROR(VLOOKUP(B389,Events!B:L,11,FALSE),Y388))","v":""}," "," ",{"$f":"IFERROR(VLOOKUP(AA:AA,'Masters Convertion'!F:G,2,FALSE),\"\")","v":""},"",{"$f":"IF('Gala Name'!C$4=\"No\",\"\",IFERROR(RANK(N389,N389:N396,1),\"\"))","v":""}]
[{"$f":"IF(J390=\"\",\"\",B383)","v":""},null,null,8,{"$f":"IF(D390=\"\",\"\",IF(VLOOKUP(D390,Teams!$B$3:$C$10,2,FALSE)=\"\",\"\",VLOOKUP(D390,Teams!$B$3:$C$10,2,FALSE)))","v":""},null,null,{"$f":"IF(G390=\"\",\"\",YEAR('Gala Name'!$C$9)-YEAR(G390))","v":""},{"$f":"IF(IF(J390=\"DSQ\",PROPER(K390),PROPER(F390))=\"\",\"\",IF(J390=\"DSQ\",PROPER(K390),PROPER(F390)))","v":""},null,"",{"$f":"IF(OR(J390=\"\",J390=\"DSQ\"),\"\",IF(OR(J390=J387,J390=J388,J390=J389,J390=J383,J390=J384,J390=J385,J390=J386),\"Enter Placings\",\"\"))","v":""},{"$f":"IF(J390=\"\",\"\",UPPER(TEXT(J390,\"0 00.00\")))","v":""},{"$f":"IF(J390=\"DSQ\",999999,IF(J390=\"DNF\",999999,IF(J390=\"\",\"\",IF(LEFT(M390,1)=\"0\",RIGHT(M390,5)*1,LEFT(J390,1)*60+RIGHT(M390,5)*1))))","v":""},null,{"$f":"IF(L390<>\"\",L390,IF(OR(J390=\"DNF\",J390=\"DSQ\"),0,IF(N390=\"\",\"\",RANK(N390,N383:N390,1))))","v":""},{"$f":"IF(P390=\"\",0,IF(P390=0,0,VLOOKUP(P:P,Points!B:C,2,FALSE)))","v":0},8,null,{"$f":"IF(P391>7.9,8,\"\")","v":""},{"$f":"IFERROR(IF(T390=\"\",\"\",VLOOKUP(T390,P383:R390,3,FALSE)),\"\")","v":""},null,8,null,{"$f":"IF(D390=\"\",\"\",IFERROR(VLOOKUP(B390,Events!B:L,11,FALSE),Y389))","v":""}," ",{"$f":"Z390&Y390&H390","v":" "},{"$f":"IFERROR(VLOOKUP(AA:AA,'Masters Convertion'!F:G,2,FALSE),\"\")","v":""},"",{"$f":"IF('Gala Name'!C$4=\"No\",\"\",IFERROR(RANK(N390,N390:N397,1),\"\"))","v":""}]
[null,null,null,null,null,null,null,null,null,null,null,null,"","",null,{"$f":"MAX(P383:P390)","v":0},null,null,null,null,null,null,"*"]
[{"$f":"IF(J392=\"\",\"\",B392)","v":""},{"$f":"B383+1","v":44},{"$f":"IF(D392=1,VLOOKUP(B392,Events!B:H,6,FALSE)&VLOOKUP(B392,Events!B:H,7,FALSE),\"\")","v":"   "},1,{"$f":"IF(D392=\"\",\"\",IF(VLOOKUP(D392,Teams!$B$3:$C$10,2,FALSE)=\"\",\"\",VLOOKUP(D392,Teams!$B$3:$C$10,2,FALSE)))","v":""},null,null,{"$f":"IF(G392=\"\",\"\",YEAR('Gala Name'!$C$9)-YEAR(G392))","v":""},"",null,"",{"$f":"IF(OR(J392=\"\",J392=\"DSQ\"),\"\",IF(OR(J392=J393,J392=J394,J392=J395,J392=J396,J392=J397,J392=J398,J392=J399),\"Enter Placings\",\"\"))","v":""},"","",null,{"$f":"IF(L392<>\"\",L392,IF(OR(J392=\"DNF\",J392=\"DSQ\"),0,IF(N392=\"\",\"\",RANK(N392,N392:N399,1))))","v":""},{"$f":"IF(P392=\"\",0,IF(P392=0,0,VLOOKUP(P:P,Points!B:C,2,FALSE)))","v":0},{"$f":"D392","v":1},null,{"$f":"IF(P400>0.9,1,\"\")","v":""},{"$f":"IFERROR(IF(T392=\"\",\"\",VLOOKUP(T392,P392:R399,3,FALSE)),\"\")","v":""},null,1,null,{"$f":"IF(D392=\"\",\"\",IFERROR(VLOOKUP(B392,Events!B:L,11,FALSE),Y391))","v":""}," "," ",{"$f":"IFERROR(VLOOKUP(AA:AA,'Masters Convertion'!F:G,2,FALSE),\"\")","v":""},{"$f":"IF(AB392=\"\",\"\",ROUNDDOWN(AB392*N392,2))","v":""},{"$f":"IF('Gala Name'!C$4=\"No\",\"\",IFERROR(RANK(N392,N392:N399,1),\"\"))","v":""}]
[{"$f":"IF(J393=\"\",\"\",B392)","v":""},null,null,2,{"$f":"IF(D393=\"\",\"\",IF(VLOOKUP(D393,Teams!$B$3:$C$10,2,FALSE)=\"\",\"\",VLOOKUP(D393,Teams!$B$3:$C$10,2,FALSE)))","v":""},null,null,{"$f":"IF(G393=\"\",\"\",YEAR('Gala Name'!$C$9)-YEAR(G393))","v":""},"",null,"",{"$f":"IF(OR(J393=\"\",J393=\"DSQ\"),\"\",IF(OR(J393=J392,J393=J394,J393=J395,J393=J396,J393=J397,J393=J398,J393=J399),\"Enter Placings\",\"\"))","v":""},"","",null,{"$f":"IF(L393<>\"\",L393,IF(OR(J393=\"DNF\",J393=\"DSQ\"),0,IF(N393=\"\",\"\",RANK(N393,N392:N399,1))))","v":""},{"$f":"IF(P393=\"\",0,IF(P393=0,0,VLOOKUP(P:P,Points!B:C,2,FALSE)))","v":0},2,null,{"$f":"IF(P400>1.9,2,\"\")","v":""},{"$f":"IFERROR(IF(T393=\"\",\"\",VLOOKUP(T393,P392:R399,3,FALSE)),\"\")","v":""},null,2,null,{"$f":"IF(D393=\"\",\"\",IFERROR(VLOOKUP(B393,Events!B:L,11,FALSE),Y392))","v":""}," "," ",{"$f":"IFERROR(VLOOKUP(AA:AA,'Masters Convertion'!F:G,2,FALSE),\"\")","v":""},"",{"$f":"IF('Gala Name'!C$4=\"No\",\"\",IFERROR(RANK(N393,N393:N400,1),\"\"))","v":""}]
[{"$f":"IF(J394=\"\",\"\",B392)","v":""},null,null,3,{"$f":"IF(D394=\"\",\"\",IF(VLOOKUP(D394,Teams!$B$3:$C$10,2,FALSE)=\"\",\"\",VLOOKUP(D394,Teams!$B$3:$C$10,2,FALSE)))","v":""},null,null,{"$f":"IF(G394=\"\",\"\",YEAR('Gala Name'!$C$9)-YEAR(G394))","v":""},"",null,"",{"$f":"IF(OR(J394=\"\",J394=\"DSQ\"),\"\",IF(OR(J394=J392,J394=J393,J394=J395,J394=J396,J394=J397,J394=J398,J394=J399),\"Enter Placings\",\"\"))","v":""},"","",null,{"$f":"IF(L394<>\"\",L394,IF(OR(J394=\"DNF\",J394=\"DSQ\"),0,IF(N394=\"\",\"\",RANK(N394,N392:N399,1))))","v":""},{"$f":"IF(P394=\"\",0,IF(P394=0,0,VLOOKUP(P:P,Points!B:C,2,FALSE)))","v":0},3,null,{"$f":"IF(P400>2.9,3,\"\")","v":""},{"$f":"IFERROR(IF(T394=\"\",\"\",VLOOKUP(T394,P392:R399,3,FALSE)),\"\")","v":""},null,3,null,{"$f":"IF(D394=\"\",\"\",IFERROR(VLOOKUP(B394,Events!B:L,11,FALSE),Y393))","v":""}," "," ",{"$f":"IFERROR(VLOOKUP(AA:AA,'Masters Convertion'!F:G,2,FALSE),\"\")","v":""},"",{"$f":"IF('Gala Name'!C$4=\"No\",\"\",IFERROR(RANK(N394,N394:N401,1),\"\"))","v":""}]
[{"$f":"IF(J395=\"\",\"\",B392)","v":""},null,null,4,{"$f":"IF(D395=\"\",\"\",IF(VLOOKUP(D395,Teams!$B$3:$C$10,2,FALSE)=\"\",\"\",VLOOKUP(D395,Teams!$B$3:$C$10,2,FALSE)))","v":""},null,null,{"$f":"IF(G395=\"\",\"\",YEAR('Gala Name'!$C$9)-YEAR(G395))","v":""},"",null,"",{"$f":"IF(OR(J395=\"\",J395=\"DSQ\"),\"\",IF(OR(J395=J392,J395=J393,J395=J394,J395=J396,J395=J397,J395=J398,J395=J399),\"Enter Placings\",\"\"))","v":""},"","",null,{"$f":"IF(L395<>\"\",L395,IF(OR(J395=\"DNF\",J395=\"DSQ\"),0,IF(N395=\"\",\"\",RANK(N395,N392:N399,1))))","v":""},{"$f":"IF(P395=\"\",0,IF(P395=0,0,VLOOKUP(P:P,Points!B:C,2,FALSE)))","v":0},4,null,{"$f":"IF(P400>3.9,4,\"\")","v":""},{"$f":"IFERROR(IF(T395=\"\",\"\",VLOOKUP(T395,P392:R399,3,FALSE)),\"\")","v":""},null,4,null,{"$f":"IF(D395=\"\",\"\",IFERROR(VLOOKUP(B395,Events!B:L,11,FALSE),Y394))","v":""}," "," ",{"$f":"IFERROR(VLOOKUP(AA:AA,'Masters Convertion'!F:G,2,FALSE),\"\")","v":""},"",{"$f":"IF('Gala Name'!C$4=\"No\",\"\",IFERROR(RANK(N395,N395:N402,1),\"\"))","v":""}]
[{"$f":"IF(J396=\"\",\"\",B392)","v":""},null,null,5,{"$f":"IF(D396=\"\",\"\",IF(VLOOKUP(D396,Teams!$B$3:$C$10,2,FALSE)=\"\",\"\",VLOOKUP(D396,Teams!$B$3:$C$10,2,FALSE)))","v":""},null,null,{"$f":"IF(G396=\"\",\"\",YEAR('Gala Name'!$C$9)-YEAR(G396))","v":""},"",null,"",{"$f":"IF(OR(J396=\"\",J396=\"DSQ\"),\"\",IF(OR(J396=J393,J396=J394,J396=J395,J396=J397,J396=J398,J396=J399,J396=J392),\"Enter Placings\",\"\"))","v":""},"","",null,{"$f":"IF(L396<>\"\",L396,IF(OR(J396=\"DNF\",J396=\"DSQ\"),0,IF(N396=\"\",\"\",RANK(N396,N392:N399,1))))","v":""},{"$f":"IF(P396=\"\",0,IF(P396=0,0,VLOOKUP(P:P,Points!B:C,2,FALSE)))","v":0},5,null,{"$f":"IF(P400>4.9,5,\"\")","v":""},{"$f":"IFERROR(IF(T396=\"\",\"\",VLOOKUP(T396,P392:R399,3,FALSE)),\"\")","v":""},null,5,null,{"$f":"IF(D396=\"\",\"\",IFERROR(VLOOKUP(B396,Events!B:L,11,FALSE),Y395))","v":""}," "," ",{"$f":"IFERROR(VLOOKUP(AA:AA,'Masters Convertion'!F:G,2,FALSE),\"\")","v":""},"",{"$f":"IF('Gala Name'!C$4=\"No\",\"\",IFERROR(RANK(N396,N396:N403,1),\"\"))","v":""}]
[{"$f":"IF(J397=\"\",\"\",B392)","v":""},null,null,6,{"$f":"IF(D397=\"\",\"\",IF(VLOOKUP(D397,Teams!$B$3:$C$10,2,FALSE)=\"\",\"\",VLOOKUP(D397,Teams!$B$3:$C$10,2,FALSE)))","v":""},null,null,{"$f":"IF(G397=\"\",\"\",YEAR('Gala Name'!$C$9)-YEAR(G397))","v":""},"",null,"",{"$f":"IF(OR(J397=\"\",J397=\"DSQ\"),\"\",IF(OR(J397=J394,J397=J395,J397=J396,J397=J398,J397=J399,J397=J393,J397=J392),\"Enter Placings\",\"\"))","v":""},"","",null,{"$f":"IF(L397<>\"\",L397,IF(OR(J397=\"DNF\",J397=\"DSQ\"),0,IF(N397=\"\",\"\",RANK(N397,N392:N399,1))))","v":""},{"$f":"IF(P397=\"\",0,IF(P397=0,0,VLOOKUP(P:P,Points!B:C,2,FALSE)))","v":0},6,null,{"$f":"IF(P400>5.9,6,\"\")","v":""},{"$f":"IFERROR(IF(T397=\"\",\"\",VLOOKUP(T397,P392:R399,3,FALSE)),\"\")","v":""},null,6,null,{"$f":"IF(D397=\"\",\"\",IFERROR(VLOOKUP(B397,Events!B:L,11,FALSE),Y396))","v":""}," "," ",{"$f":"IFERROR(VLOOKUP(AA:AA,'Masters Convertion'!F:G,2,FALSE),\"\")","v":""},"",{"$f":"IF('Gala Name'!C$4=\"No\",\"\",IFERROR(RANK(N397,N397:N404,1),\"\"))","v":""}]
[{"$f":"IF(J398=\"\",\"\",B392)","v":""},null,null,7,{"$f":"IF(D398=\"\",\"\",IF(VLOOKUP(D398,Teams!$B$3:$C$10,2,FALSE)=\"\",\"\",VLOOKUP(D398,Teams!$B$3:$C$10,2,FALSE)))","v":""},null,null,{"$f":"IF(G398=\"\",\"\",YEAR('Gala Name'!$C$9)-YEAR(G398))","v":""},"",null,"",{"$f":"IF(OR(J398=\"\",J398=\"DSQ\"),\"\",IF(OR(J398=J395,J398=J396,J398=J397,J398=J399,J398=J392,J398=J393,J398=J394),\"Enter Placings\",\"\"))","v":""},"","",null,{"$f":"IF(L398<>\"\",L398,IF(OR(J398=\"DNF\",J398=\"DSQ\"),0,IF(N398=\"\",\"\",RANK(N398,N392:N399,1))))","v":""},{"$f":"IF(P398=\"\",0,IF(P398=0,0,VLOOKUP(P:P,Points!B:C,2,FALSE)))","v":0},7,null,{"$f":"IF(P400>6.9,7,\"\")","v":""},{"$f":"IFERROR(IF(T398=\"\",\"\",VLOOKUP(T398,P392:R399,3,FALSE)),\"\")","v":""},null,7,null,{"$f":"IF(D398=\"\",\"\",IFERROR(VLOOKUP(B398,Events!B:L,11,FALSE),Y397))","v":""}," "," ",{"$f":"IFERROR(VLOOKUP(AA:AA,'Masters Convertion'!F:G,2,FALSE),\"\")","v":""},"",{"$f":"IF('Gala Name'!C$4=\"No\",\"\",IFERROR(RANK(N398,N398:N405,1),\"\"))","v":""}]
[{"$f":"IF(J399=\"\",\"\",B392)","v":""},null,null,8,{"$f":"IF(D399=\"\",\"\",IF(VLOOKUP(D399,Teams!$B$3:$C$10,2,FALSE)=\"\",\"\",VLOOKUP(D399,Teams!$B$3:$C$10,2,FALSE)))","v":""},null,null,{"$f":"IF(G399=\"\",\"\",YEAR('Gala Name'!$C$9)-YEAR(G399))","v":""},"",null,"",{"$f":"IF(OR(J399=\"\",J399=\"DSQ\"),\"\",IF(OR(J399=J396,J399=J397,J399=J398,J399=J392,J399=J393,J399=J394,J399=J395),\"Enter Placings\",\"\"))","v":""},"","",null,{"$f":"IF(L399<>\"\",L399,IF(OR(J399=\"DNF\",J399=\"DSQ\"),0,IF(N399=\"\",\"\",RANK(N399,N392:N399,1))))","v":""},{"$f":"IF(P399=\"\",0,IF(P399=0,0,VLOOKUP(P:P,Points!B:C,2,FALSE)))","v":0},8,null,{"$f":"IF(P400>7.9,8,\"\")","v":""},{"$f":"IFERROR(IF(T399=\"\",\"\",VLOOKUP(T399,P392:R399,3,FALSE)),\"\")","v":""},null,8,null,{"$f":"IF(D399=\"\",\"\",IFERROR(VLOOKUP(B399,Events!B:L,11,FALSE),Y398))","v":""}," "," ",{"$f":"IFERROR(VLOOKUP(AA:AA,'Masters Convertion'!F:G,2,FALSE),\"\")","v":""},"",{"$f":"IF('Gala Name'!C$4=\"No\",\"\",IFERROR(RANK(N399,N399:N406,1),\"\"))","v":""}]
[null,null,null,null,null,null,null,null,null,null,null,null,"","",null,{"$f":"MAX(P392:P399)","v":0},null,null,null,null,null,null,"*"]
[{"$f":"IF(J401=\"\",\"\",B401)","v":""},{"$f":"B392+1","v":45},{"$f":"IF(D401=1,VLOOKUP(B401,Events!B:H,6,FALSE)&VLOOKUP(B401,Events!B:H,7,FALSE),\"\")","v":"   "},1,{"$f":"IF(D401=\"\",\"\",IF(VLOOKUP(D401,Teams!$B$3:$C$10,2,FALSE)=\"\",\"\",VLOOKUP(D401,Teams!$B$3:$C$10,2,FALSE)))","v":""},null,null,{"$f":"IF(G401=\"\",\"\",YEAR('Gala Name'!$C$9)-YEAR(G401))","v":""},"",null,"",{"$f":"IF(OR(J401=\"\",J401=\"DSQ\"),\"\",IF(OR(J401=J402,J401=J403,J401=J404,J401=J405,J401=J406,J401=J407,J401=J408),\"Enter Placings\",\"\"))","v":""},"","",null,{"$f":"IF(L401<>\"\",L401,IF(OR(J401=\"DNF\",J401=\"DSQ\"),0,IF(N401=\"\",\"\",RANK(N401,N401:N408,1))))","v":""},{"$f":"IF(P401=\"\",0,IF(P401=0,0,VLOOKUP(P:P,Points!B:C,2,FALSE)))","v":0},{"$f":"D401","v":1},null,{"$f":"IF(P409>0.9,1,\"\")","v":""},{"$f":"IFERROR(IF(T401=\"\",\"\",VLOOKUP(T401,P401:R408,3,FALSE)),\"\")","v":""},null,1,null,{"$f":"IF(D401=\"\",\"\",IFERROR(VLOOKUP(B401,Events!B:L,11,FALSE),Y400))","v":""},{"$f":"IF(LEFT(C401,1)=\"\",Z400,LEFT(C401,1))","v":" "}," ",{"$f":"IFERROR(VLOOKUP(AA:AA,'Masters Convertion'!F:G,2,FALSE),\"\")","v":""},"",{"$f":"IF('Gala Name'!C$4=\"No\",\"\",IFERROR(RANK(N401,N401:N408,1),\"\"))","v":""}]
[{"$f":"IF(J402=\"\",\"\",B401)","v":""},null,null,2,{"$f":"IF(D402=\"\",\"\",IF(VLOOKUP(D402,Teams!$B$3:$C$10,2,FALSE)=\"\",\"\",VLOOKUP(D402,Teams!$B$3:$C$10,2,FALSE)))","v":""},null,null,{"$f":"IF(G402=\"\",\"\",YEAR('Gala Name'!$C$9)-YEAR(G402))","v":""},"",null,"",{"$f":"IF(OR(J402=\"\",J402=\"DSQ\"),\"\",IF(OR(J402=J401,J402=J403,J402=J404,J402=J405,J402=J406,J402=J407,J402=J408),\"Enter Placings\",\"\"))","v":""},"","",null,{"$f":"IF(L402<>\"\",L402,IF(OR(J402=\"DNF\",J402=\"DSQ\"),0,IF(N402=\"\",\"\",RANK(N402,N401:N408,1))))","v":""},{"$f":"IF(P402=\"\",0,IF(P402=0,0,VLOOKUP(P:P,Points!B:C,2,FALSE)))","v":0},2,null,{"$f":"IF(P409>1.9,2,\"\")","v":""},{"$f":"IFERROR(IF(T402=\"\",\"\",VLOOKUP(T402,P401:R408,3,FALSE)),\"\")","v":""},null,2,null,{"$f":"IF(D402=\"\",\"\",IFERROR(VLOOKUP(B402,Events!B:L,11,FALSE),Y401))","v":""}," "," ",{"$f":"IFERROR(VLOOKUP(AA:AA,'Masters Convertion'!F:G,2,FALSE),\"\")","v":""},"",{"$f":"IF('Gala Name'!C$4=\"No\",\"\",IFERROR(RANK(N402,N402:N409,1),\"\"))","v":""}]
[{"$f":"IF(J403=\"\",\"\",B401)","v":""},null,null,3,{"$f":"IF(D403=\"\",\"\",IF(VLOOKUP(D403,Teams!$B$3:$C$10,2,FALSE)=\"\",\"\",VLOOKUP(D403,Teams!$B$3:$C$10,2,FALSE)))","v":""},null,null,{"$f":"IF(G403=\"\",\"\",YEAR('Gala Name'!$C$9)-YEAR(G403))","v":""},"",null,"",{"$f":"IF(OR(J403=\"\",J403=\"DSQ\"),\"\",IF(OR(J403=J401,J403=J402,J403=J404,J403=J405,J403=J406,J403=J407,J403=J408),\"Enter Placings\",\"\"))","v":""},"","",null,{"$f":"IF(L403<>\"\",L403,IF(OR(J403=\"DNF\",J403=\"DSQ\"),0,IF(N403=\"\",\"\",RANK(N403,N401:N408,1))))","v":""},{"$f":"IF(P403=\"\",0,IF(P403=0,0,VLOOKUP(P:P,Points!B:C,2,FALSE)))","v":0},3,null,{"$f":"IF(P409>2.9,3,\"\")","v":""},{"$f":"IFERROR(IF(T403=\"\",\"\",VLOOKUP(T403,P401:R408,3,FALSE)),\"\")","v":""},null,3,null,{"$f":"IF(D403=\"\",\"\",IFERROR(VLOOKUP(B403,Events!B:L,11,FALSE),Y402))","v":""}," "," ",{"$f":"IFERROR(VLOOKUP(AA:AA,'Masters Convertion'!F:G,2,FALSE),\"\")","v":""},"",{"$f":"IF('Gala Name'!C$4=\"No\",\"\",IFERROR(RANK(N403,N403:N410,1),\"\"))","v":""}]
[{"$f":"IF(J404=\"\",\"\",B401)","v":""},null,null,4,{"$f":"IF(D404=\"\",\"\",IF(VLOOKUP(D404,Teams!$B$3:$C$10,2,FALSE)=\"\",\"\",VLOOKUP(D404,Teams!$B$3:$C$10,2,FALSE)))","v":""},null,null,{"$f":"IF(G404=\"\",\"\",YEAR('Gala Name'!$C$9)-YEAR(G404))","v":""},"",null,"",{"$f":"IF(OR(J404=\"\",J404=\"DSQ\"),\"\",IF(OR(J404=J401,J404=J402,J404=J403,J404=J405,J404=J406,J404=J407,J404=J408),\"Enter Placings\",\"\"))","v":""},"","",null,{"$f":"IF(L404<>\"\",L404,IF(OR(J404=\"DNF\",J404=\"DSQ\"),0,IF(N404=\"\",\"\",RANK(N404,N401:N408,1))))","v":""},{"$f":"IF(P404=\"\",0,IF(P404=0,0,VLOOKUP(P:P,Points!B:C,2,FALSE)))","v":0},4,null,{"$f":"IF(P409>3.9,4,\"\")","v":""},{"$f":"IFERROR(IF(T404=\"\",\"\",VLOOKUP(T404,P401:R408,3,FALSE)),\"\")","v":""},null,4,null,{"$f":"IF(D404=\"\",\"\",IFERROR(VLOOKUP(B404,Events!B:L,11,FALSE),Y403))","v":""}," "," ",{"$f":"IFERROR(VLOOKUP(AA:AA,'Masters Convertion'!F:G,2,FALSE),\"\")","v":""},"",{"$f":"IF('Gala Name'!C$4=\"No\",\"\",IFERROR(RANK(N404,N404:N411,1),\"\"))","v":""}]
[{"$f":"IF(J405=\"\",\"\",B401)","v":""},null,null,5,{"$f":"IF(D405=\"\",\"\",IF(VLOOKUP(D405,Teams!$B$3:$C$10,2,FALSE)=\"\",\"\",VLOOKUP(D405,Teams!$B$3:$C$10,2,FALSE)))","v":""},null,null,{"$f":"IF(G405=\"\",\"\",YEAR('Gala Name'!$C$9)-YEAR(G405))","v":""},"",null,"",{"$f":"IF(OR(J405=\"\",J405=\"DSQ\"),\"\",IF(OR(J405=J402,J405=J403,J405=J404,J405=J406,J405=J407,J405=J408,J405=J401),\"Enter Placings\",\"\"))","v":""},"","",null,{"$f":"IF(L405<>\"\",L405,IF(OR(J405=\"DNF\",J405=\"DSQ\"),0,IF(N405=\"\",\"\",RANK(N405,N401:N408,1))))","v":""},{"$f":"IF(P405=\"\",0,IF(P405=0,0,VLOOKUP(P:P,Points!B:C,2,FALSE)))","v":0},5,null,{"$f":"IF(P409>4.9,5,\"\")","v":""},{"$f":"IFERROR(IF(T405=\"\",\"\",VLOOKUP(T405,P401:R408,3,FALSE)),\"\")","v":""},null,5,null,{"$f":"IF(D405=\"\",\"\",IFERROR(VLOOKUP(B405,Events!B:L,11,FALSE),Y404))","v":""}," "," ",{"$f":"IFERROR(VLOOKUP(AA:AA,'Masters Convertion'!F:G,2,FALSE),\"\")","v":""},"",{"$f":"IF('Gala Name'!C$4=\"No\",\"\",IFERROR(RANK(N405,N405:N412,1),\"\"))","v":""}]
[{"$f":"IF(J406=\"\",\"\",B401)","v":""},null,null,6,{"$f":"IF(D406=\"\",\"\",IF(VLOOKUP(D406,Teams!$B$3:$C$10,2,FALSE)=\"\",\"\",VLOOKUP(D406,Teams!$B$3:$C$10,2,FALSE)))","v":""},null,null,{"$f":"IF(G406=\"\",\"\",YEAR('Gala Name'!$C$9)-YEAR(G406))","v":""},"",null,"",{"$f":"IF(OR(J406=\"\",J406=\"DSQ\"),\"\",IF(OR(J406=J403,J406=J404,J406=J405,J406=J407,J406=J408,J406=J402,J406=J401),\"Enter Placings\",\"\"))","v":""},"","",null,{"$f":"IF(L406<>\"\",L406,IF(OR(J406=\"DNF\",J406=\"DSQ\"),0,IF(N406=\"\",\"\",RANK(N406,N401:N408,1))))","v":""},{"$f":"IF(P406=\"\",0,IF(P406=0,0,VLOOKUP(P:P,Points!B:C,2,FALSE)))","v":0},6,null,{"$f":"IF(P409>5.9,6,\"\")","v":""},{"$f":"IFERROR(IF(T406=\"\",\"\",VLOOKUP(T406,P401:R408,3,FALSE)),\"\")","v":""},null,6,null,{"$f":"IF(D406=\"\",\"\",IFERROR(VLOOKUP(B406,Events!B:L,11,FALSE),Y405))","v":""}," "," ",{"$f":"IFERROR(VLOOKUP(AA:AA,'Masters Convertion'!F:G,2,FALSE),\"\")","v":""},"",{"$f":"IF('Gala Name'!C$4=\"No\",\"\",IFERROR(RANK(N406,N406:N413,1),\"\"))","v":""}]
[{"$f":"IF(J407=\"\",\"\",B401)","v":""},null,null,7,{"$f":"IF(D407=\"\",\"\",IF(VLOOKUP(D407,Teams!$B$3:$C$10,2,FALSE)=\"\",\"\",VLOOKUP(D407,Teams!$B$3:$C$10,2,FALSE)))","v":""},null,null,{"$f":"IF(G407=\"\",\"\",YEAR('Gala Name'!$C$9)-YEAR(G407))","v":""},"",null,"",{"$f":"IF(OR(J407=\"\",J407=\"DSQ\"),\"\",IF(OR(J407=J404,J407=J405,J407=J406,J407=J408,J407=J401,J407=J402,J407=J403),\"Enter Placings\",\"\"))","v":""},"","",null,{"$f":"IF(L407<>\"\",L407,IF(OR(J407=\"DNF\",J407=\"DSQ\"),0,IF(N407=\"\",\"\",RANK(N407,N401:N408,1))))","v":""},{"$f":"IF(P407=\"\",0,IF(P407=0,0,VLOOKUP(P:P,Points!B:C,2,FALSE)))","v":0},7,null,{"$f":"IF(P409>6.9,7,\"\")","v":""},{"$f":"IFERROR(IF(T407=\"\",\"\",VLOOKUP(T407,P401:R408,3,FALSE)),\"\")","v":""},null,7,null,{"$f":"IF(D407=\"\",\"\",IFERROR(VLOOKUP(B407,Events!B:L,11,FALSE),Y406))","v":""}," "," ",{"$f":"IFERROR(VLOOKUP(AA:AA,'Masters Convertion'!F:G,2,FALSE),\"\")","v":""},"",{"$f":"IF('Gala Name'!C$4=\"No\",\"\",IFERROR(RANK(N407,N407:N414,1),\"\"))","v":""}]
[{"$f":"IF(J408=\"\",\"\",B401)","v":""},null,null,8,{"$f":"IF(D408=\"\",\"\",IF(VLOOKUP(D408,Teams!$B$3:$C$10,2,FALSE)=\"\",\"\",VLOOKUP(D408,Teams!$B$3:$C$10,2,FALSE)))","v":""},null,null,{"$f":"IF(G408=\"\",\"\",YEAR('Gala Name'!$C$9)-YEAR(G408))","v":""},"",null,"",{"$f":"IF(OR(J408=\"\",J408=\"DSQ\"),\"\",IF(OR(J408=J405,J408=J406,J408=J407,J408=J401,J408=J402,J408=J403,J408=J404),\"Enter Placings\",\"\"))","v":""},"","",null,{"$f":"IF(L408<>\"\",L408,IF(OR(J408=\"DNF\",J408=\"DSQ\"),0,IF(N408=\"\",\"\",RANK(N408,N401:N408,1))))","v":""},{"$f":"IF(P408=\"\",0,IF(P408=0,0,VLOOKUP(P:P,Points!B:C,2,FALSE)))","v":0},8,null,{"$f":"IF(P409>7.9,8,\"\")","v":""},{"$f":"IFERROR(IF(T408=\"\",\"\",VLOOKUP(T408,P401:R408,3,FALSE)),\"\")","v":""},null,8,null,{"$f":"IF(D408=\"\",\"\",IFERROR(VLOOKUP(B408,Events!B:L,11,FALSE),Y407))","v":""}," "," ",{"$f":"IFERROR(VLOOKUP(AA:AA,'Masters Convertion'!F:G,2,FALSE),\"\")","v":""},"",{"$f":"IF('Gala Name'!C$4=\"No\",\"\",IFERROR(RANK(N408,N408:N415,1),\"\"))","v":""}]
[null,null,null,null,null,null,null,null,null,null,null,null,"","",null,{"$f":"MAX(P401:P408)","v":0},null,null,null,null,null,null,"*"]
[{"$f":"IF(J410=\"\",\"\",B410)","v":""},{"$f":"B401+1","v":46},{"$f":"IF(D410=1,VLOOKUP(B410,Events!B:H,6,FALSE)&VLOOKUP(B410,Events!B:H,7,FALSE),\"\")","v":"   "},1,{"$f":"IF(D410=\"\",\"\",IF(VLOOKUP(D410,Teams!$B$3:$C$10,2,FALSE)=\"\",\"\",VLOOKUP(D410,Teams!$B$3:$C$10,2,FALSE)))","v":""},null,null,{"$f":"IF(G410=\"\",\"\",YEAR('Gala Name'!$C$9)-YEAR(G410))","v":""},"",null,{"$f":"IF(J410=\"DSQ\",\"Enter Reason\",\"\")","v":""},{"$f":"IF(OR(J410=\"\",J410=\"DSQ\"),\"\",IF(OR(J410=J411,J410=J412,J410=J413,J410=J414,J410=J415,J410=J416,J410=J417),\"Enter Placings\",\"\"))","v":""},"","",null,{"$f":"IF(L410<>\"\",L410,IF(OR(J410=\"DNF\",J410=\"DSQ\"),0,IF(N410=\"\",\"\",RANK(N410,N410:N417,1))))","v":""},{"$f":"IF(P410=\"\",0,IF(P410=0,0,VLOOKUP(P:P,Points!B:C,2,FALSE)))","v":0},{"$f":"D410","v":1},null,{"$f":"IF(P418>0.9,1,\"\")","v":""},{"$f":"IFERROR(IF(T410=\"\",\"\",VLOOKUP(T410,P410:R417,3,FALSE)),\"\")","v":""},null,1,null,{"$f":"IF(D410=\"\",\"\",IFERROR(VLOOKUP(B410,Events!B:L,11,FALSE),Y409))","v":""}," "," ",{"$f":"IFERROR(VLOOKUP(AA:AA,'Masters Convertion'!F:G,2,FALSE),\"\")","v":""},"",{"$f":"IF('Gala Name'!C$4=\"No\",\"\",IFERROR(RANK(N410,N410:N417,1),\"\"))","v":""}]
[{"$f":"IF(J411=\"\",\"\",B410)","v":""},null,null,2,{"$f":"IF(D411=\"\",\"\",IF(VLOOKUP(D411,Teams!$B$3:$C$10,2,FALSE)=\"\",\"\",VLOOKUP(D411,Teams!$B$3:$C$10,2,FALSE)))","v":""},null,null,{"$f":"IF(G411=\"\",\"\",YEAR('Gala Name'!$C$9)-YEAR(G411))","v":""},"",null,"",{"$f":"IF(OR(J411=\"\",J411=\"DSQ\"),\"\",IF(OR(J411=J410,J411=J412,J411=J413,J411=J414,J411=J415,J411=J416,J411=J417),\"Enter Placings\",\"\"))","v":""},"","",null,{"$f":"IF(L411<>\"\",L411,IF(OR(J411=\"DNF\",J411=\"DSQ\"),0,IF(N411=\"\",\"\",RANK(N411,N410:N417,1))))","v":""},{"$f":"IF(P411=\"\",0,IF(P411=0,0,VLOOKUP(P:P,Points!B:C,2,FALSE)))","v":0},2,null,{"$f":"IF(P418>1.9,2,\"\")","v":""},{"$f":"IFERROR(IF(T411=\"\",\"\",VLOOKUP(T411,P410:R417,3,FALSE)),\"\")","v":""},null,2,null,{"$f":"IF(D411=\"\",\"\",IFERROR(VLOOKUP(B411,Events!B:L,11,FALSE),Y410))","v":""}," "," ",{"$f":"IFERROR(VLOOKUP(AA:AA,'Masters Convertion'!F:G,2,FALSE),\"\")","v":""},"",{"$f":"IF('Gala Name'!C$4=\"No\",\"\",IFERROR(RANK(N411,N411:N418,1),\"\"))","v":""}]
[{"$f":"IF(J412=\"\",\"\",B410)","v":""},null,null,3,{"$f":"IF(D412=\"\",\"\",IF(VLOOKUP(D412,Teams!$B$3:$C$10,2,FALSE)=\"\",\"\",VLOOKUP(D412,Teams!$B$3:$C$10,2,FALSE)))","v":""},null,null,{"$f":"IF(G412=\"\",\"\",YEAR('Gala Name'!$C$9)-YEAR(G412))","v":""},"",null,"",{"$f":"IF(OR(J412=\"\",J412=\"DSQ\"),\"\",IF(OR(J412=J410,J412=J411,J412=J413,J412=J414,J412=J415,J412=J416,J412=J417),\"Enter Placings\",\"\"))","v":""},"","",null,{"$f":"IF(L412<>\"\",L412,IF(OR(J412=\"DNF\",J412=\"DSQ\"),0,IF(N412=\"\",\"\",RANK(N412,N410:N417,1))))","v":""},{"$f":"IF(P412=\"\",0,IF(P412=0,0,VLOOKUP(P:P,Points!B:C,2,FALSE)))","v":0},3,null,{"$f":"IF(P418>2.9,3,\"\")","v":""},{"$f":"IFERROR(IF(T412=\"\",\"\",VLOOKUP(T412,P410:R417,3,FALSE)),\"\")","v":""},null,3,null,{"$f":"IF(D412=\"\",\"\",IFERROR(VLOOKUP(B412,Events!B:L,11,FALSE),Y411))","v":""}," "," ",{"$f":"IFERROR(VLOOKUP(AA:AA,'Masters Convertion'!F:G,2,FALSE),\"\")","v":""},"",{"$f":"IF('Gala Name'!C$4=\"No\",\"\",IFERROR(RANK(N412,N412:N419,1),\"\"))","v":""}]
[{"$f":"IF(J413=\"\",\"\",B410)","v":""},null,null,4,{"$f":"IF(D413=\"\",\"\",IF(VLOOKUP(D413,Teams!$B$3:$C$10,2,FALSE)=\"\",\"\",VLOOKUP(D413,Teams!$B$3:$C$10,2,FALSE)))","v":""},null,null,{"$f":"IF(G413=\"\",\"\",YEAR('Gala Name'!$C$9)-YEAR(G413))","v":""},"",null,"",{"$f":"IF(OR(J413=\"\",J413=\"DSQ\"),\"\",IF(OR(J413=J410,J413=J411,J413=J412,J413=J414,J413=J415,J413=J416,J413=J417),\"Enter Placings\",\"\"))","v":""},"","",null,{"$f":"IF(L413<>\"\",L413,IF(OR(J413=\"DNF\",J413=\"DSQ\"),0,IF(N413=\"\",\"\",RANK(N413,N410:N417,1))))","v":""},{"$f":"IF(P413=\"\",0,IF(P413=0,0,VLOOKUP(P:P,Points!B:C,2,FALSE)))","v":0},4,null,{"$f":"IF(P418>3.9,4,\"\")","v":""},{"$f":"IFERROR(IF(T413=\"\",\"\",VLOOKUP(T413,P410:R417,3,FALSE)),\"\")","v":""},null,4,null,{"$f":"IF(D413=\"\",\"\",IFERROR(VLOOKUP(B413,Events!B:L,11,FALSE),Y412))","v":""}," "," ",{"$f":"IFERROR(VLOOKUP(AA:AA,'Masters Convertion'!F:G,2,FALSE),\"\")","v":""},"",{"$f":"IF('Gala Name'!C$4=\"No\",\"\",IFERROR(RANK(N413,N413:N420,1),\"\"))","v":""}]
[{"$f":"IF(J414=\"\",\"\",B410)","v":""},null,null,5,{"$f":"IF(D414=\"\",\"\",IF(VLOOKUP(D414,Teams!$B$3:$C$10,2,FALSE)=\"\",\"\",VLOOKUP(D414,Teams!$B$3:$C$10,2,FALSE)))","v":""},null,null,{"$f":"IF(G414=\"\",\"\",YEAR('Gala Name'!$C$9)-YEAR(G414))","v":""},"",null,"",{"$f":"IF(OR(J414=\"\",J414=\"DSQ\"),\"\",IF(OR(J414=J411,J414=J412,J414=J413,J414=J415,J414=J416,J414=J417,J414=J410),\"Enter Placings\",\"\"))","v":""},"","",null,{"$f":"IF(L414<>\"\",L414,IF(OR(J414=\"DNF\",J414=\"DSQ\"),0,IF(N414=\"\",\"\",RANK(N414,N410:N417,1))))","v":""},{"$f":"IF(P414=\"\",0,IF(P414=0,0,VLOOKUP(P:P,Points!B:C,2,FALSE)))","v":0},5,null,{"$f":"IF(P418>4.9,5,\"\")","v":""},{"$f":"IFERROR(IF(T414=\"\",\"\",VLOOKUP(T414,P410:R417,3,FALSE)),\"\")","v":""},null,5,null,{"$f":"IF(D414=\"\",\"\",IFERROR(VLOOKUP(B414,Events!B:L,11,FALSE),Y413))","v":""}," "," ",{"$f":"IFERROR(VLOOKUP(AA:AA,'Masters Convertion'!F:G,2,FALSE),\"\")","v":""},"",{"$f":"IF('Gala Name'!C$4=\"No\",\"\",IFERROR(RANK(N414,N414:N421,1),\"\"))","v":""}]
[{"$f":"IF(J415=\"\",\"\",B410)","v":""},null,null,6,{"$f":"IF(D415=\"\",\"\",IF(VLOOKUP(D415,Teams!$B$3:$C$10,2,FALSE)=\"\",\"\",VLOOKUP(D415,Teams!$B$3:$C$10,2,FALSE)))","v":""},null,null,{"$f":"IF(G415=\"\",\"\",YEAR('Gala Name'!$C$9)-YEAR(G415))","v":""},"",null,"",{"$f":"IF(OR(J415=\"\",J415=\"DSQ\"),\"\",IF(OR(J415=J412,J415=J413,J415=J414,J415=J416,J415=J417,J415=J411,J415=J410),\"Enter Placings\",\"\"))","v":""},"","",null,{"$f":"IF(L415<>\"\",L415,IF(OR(J415=\"DNF\",J415=\"DSQ\"),0,IF(N415=\"\",\"\",RANK(N415,N410:N417,1))))","v":""},{"$f":"IF(P415=\"\",0,IF(P415=0,0,VLOOKUP(P:P,Points!B:C,2,FALSE)))","v":0},6,null,{"$f":"IF(P418>5.9,6,\"\")","v":""},{"$f":"IFERROR(IF(T415=\"\",\"\",VLOOKUP(T415,P410:R417,3,FALSE)),\"\")","v":""},null,6,null,{"$f":"IF(D415=\"\",\"\",IFERROR(VLOOKUP(B415,Events!B:L,11,FALSE),Y414))","v":""}," "," ",{"$f":"IFERROR(VLOOKUP(AA:AA,'Masters Convertion'!F:G,2,FALSE),\"\")","v":""},"",{"$f":"IF('Gala Name'!C$4=\"No\",\"\",IFERROR(RANK(N415,N415:N422,1),\"\"))","v":""}]
[{"$f":"IF(J416=\"\",\"\",B410)","v":""},null,null,7,{"$f":"IF(D416=\"\",\"\",IF(VLOOKUP(D416,Teams!$B$3:$C$10,2,FALSE)=\"\",\"\",VLOOKUP(D416,Teams!$B$3:$C$10,2,FALSE)))","v":""},null,null,{"$f":"IF(G416=\"\",\"\",YEAR('Gala Name'!$C$9)-YEAR(G416))","v":""},"",null,"",{"$f":"IF(OR(J416=\"\",J416=\"DSQ\"),\"\",IF(OR(J416=J413,J416=J414,J416=J415,J416=J417,J416=J410,J416=J411,J416=J412),\"Enter Placings\",\"\"))","v":""},"","",null,{"$f":"IF(L416<>\"\",L416,IF(OR(J416=\"DNF\",J416=\"DSQ\"),0,IF(N416=\"\",\"\",RANK(N416,N410:N417,1))))","v":""},{"$f":"IF(P416=\"\",0,IF(P416=0,0,VLOOKUP(P:P,Points!B:C,2,FALSE)))","v":0},7,null,{"$f":"IF(P418>6.9,7,\"\")","v":""},{"$f":"IFERROR(IF(T416=\"\",\"\",VLOOKUP(T416,P410:R417,3,FALSE)),\"\")","v":""},null,7,null,{"$f":"IF(D416=\"\",\"\",IFERROR(VLOOKUP(B416,Events!B:L,11,FALSE),Y415))","v":""}," "," ",{"$f":"IFERROR(VLOOKUP(AA:AA,'Masters Convertion'!F:G,2,FALSE),\"\")","v":""},"",{"$f":"IF('Gala Name'!C$4=\"No\",\"\",IFERROR(RANK(N416,N416:N423,1),\"\"))","v":""}]
[{"$f":"IF(J417=\"\",\"\",B410)","v":""},null,null,8,{"$f":"IF(D417=\"\",\"\",IF(VLOOKUP(D417,Teams!$B$3:$C$10,2,FALSE)=\"\",\"\",VLOOKUP(D417,Teams!$B$3:$C$10,2,FALSE)))","v":""},null,null,{"$f":"IF(G417=\"\",\"\",YEAR('Gala Name'!$C$9)-YEAR(G417))","v":""},"",null,"",{"$f":"IF(OR(J417=\"\",J417=\"DSQ\"),\"\",IF(OR(J417=J414,J417=J415,J417=J416,J417=J410,J417=J411,J417=J412,J417=J413),\"Enter Placings\",\"\"))","v":""},"","",null,{"$f":"IF(L417<>\"\",L417,IF(OR(J417=\"DNF\",J417=\"DSQ\"),0,IF(N417=\"\",\"\",RANK(N417,N410:N417,1))))","v":""},{"$f":"IF(P417=\"\",0,IF(P417=0,0,VLOOKUP(P:P,Points!B:C,2,FALSE)))","v":0},8,null,{"$f":"IF(P418>7.9,8,\"\")","v":""},{"$f":"IFERROR(IF(T417=\"\",\"\",VLOOKUP(T417,P410:R417,3,FALSE)),\"\")","v":""},null,8,null,{"$f":"IF(D417=\"\",\"\",IFERROR(VLOOKUP(B417,Events!B:L,11,FALSE),Y416))","v":""}," "," ",{"$f":"IFERROR(VLOOKUP(AA:AA,'Masters Convertion'!F:G,2,FALSE),\"\")","v":""},"",{"$f":"IF('Gala Name'!C$4=\"No\",\"\",IFERROR(RANK(N417,N417:N424,1),\"\"))","v":""}]
[null,null,null,null,null,null,null,null,null,null,null,null,"","",null,{"$f":"MAX(P410:P417)","v":0},null,null,null,null,null,null,"*"]
[{"$f":"IF(J419=\"\",\"\",B419)","v":""},{"$f":"B410+1","v":47},{"$f":"IF(D419=1,VLOOKUP(B419,Events!B:H,6,FALSE)&VLOOKUP(B419,Events!B:H,7,FALSE),\"\")","v":"   "},1,{"$f":"IF(D419=\"\",\"\",IF(VLOOKUP(D419,Teams!$B$3:$C$10,2,FALSE)=\"\",\"\",VLOOKUP(D419,Teams!$B$3:$C$10,2,FALSE)))","v":""},null,null,{"$f":"IF(G419=\"\",\"\",YEAR('Gala Name'!$C$9)-YEAR(G419))","v":""},"",null,"",{"$f":"IF(OR(J419=\"\",J419=\"DSQ\"),\"\",IF(OR(J419=J420,J419=J421,J419=J422,J419=J423,J419=J424,J419=J425,J419=J426),\"Enter Placings\",\"\"))","v":""},"","",null,{"$f":"IF(L419<>\"\",L419,IF(OR(J419=\"DNF\",J419=\"DSQ\"),0,IF(N419=\"\",\"\",RANK(N419,N419:N426,1))))","v":""},{"$f":"IF(P419=\"\",0,IF(P419=0,0,VLOOKUP(P:P,Points!B:C,2,FALSE)))","v":0},{"$f":"D419","v":1},null,{"$f":"IF(P427>0.9,1,\"\")","v":""},{"$f":"IFERROR(IF(T419=\"\",\"\",VLOOKUP(T419,P419:R426,3,FALSE)),\"\")","v":""},null,1,null,{"$f":"IF(D419=\"\",\"\",IFERROR(VLOOKUP(B419,Events!B:L,11,FALSE),Y418))","v":""}," "," ",{"$f":"IFERROR(VLOOKUP(AA:AA,'Masters Convertion'!F:G,2,FALSE),\"\")","v":""},"",{"$f":"IF('Gala Name'!C$4=\"No\",\"\",IFERROR(RANK(N419,N419:N426,1),\"\"))","v":""}]
[{"$f":"IF(J420=\"\",\"\",B419)","v":""},null,null,2,{"$f":"IF(D420=\"\",\"\",IF(VLOOKUP(D420,Teams!$B$3:$C$10,2,FALSE)=\"\",\"\",VLOOKUP(D420,Teams!$B$3:$C$10,2,FALSE)))","v":""},null,null,{"$f":"IF(G420=\"\",\"\",YEAR('Gala Name'!$C$9)-YEAR(G420))","v":""},"",null,"",{"$f":"IF(OR(J420=\"\",J420=\"DSQ\"),\"\",IF(OR(J420=J419,J420=J421,J420=J422,J420=J423,J420=J424,J420=J425,J420=J426),\"Enter Placings\",\"\"))","v":""},"","",null,{"$f":"IF(L420<>\"\",L420,IF(OR(J420=\"DNF\",J420=\"DSQ\"),0,IF(N420=\"\",\"\",RANK(N420,N419:N426,1))))","v":""},{"$f":"IF(P420=\"\",0,IF(P420=0,0,VLOOKUP(P:P,Points!B:C,2,FALSE)))","v":0},2,null,{"$f":"IF(P427>1.9,2,\"\")","v":""},{"$f":"IFERROR(IF(T420=\"\",\"\",VLOOKUP(T420,P419:R426,3,FALSE)),\"\")","v":""},null,2,null,{"$f":"IF(D420=\"\",\"\",IFERROR(VLOOKUP(B420,Events!B:L,11,FALSE),Y419))","v":""}," "," ",{"$f":"IFERROR(VLOOKUP(AA:AA,'Masters Convertion'!F:G,2,FALSE),\"\")","v":""},"",{"$f":"IF('Gala Name'!C$4=\"No\",\"\",IFERROR(RANK(N420,N420:N427,1),\"\"))","v":""}]
[{"$f":"IF(J421=\"\",\"\",B419)","v":""},null,null,3,{"$f":"IF(D421=\"\",\"\",IF(VLOOKUP(D421,Teams!$B$3:$C$10,2,FALSE)=\"\",\"\",VLOOKUP(D421,Teams!$B$3:$C$10,2,FALSE)))","v":""},null,null,{"$f":"IF(G421=\"\",\"\",YEAR('Gala Name'!$C$9)-YEAR(G421))","v":""},"",null,"",{"$f":"IF(OR(J421=\"\",J421=\"DSQ\"),\"\",IF(OR(J421=J419,J421=J420,J421=J422,J421=J423,J421=J424,J421=J425,J421=J426),\"Enter Placings\",\"\"))","v":""},"","",null,{"$f":"IF(L421<>\"\",L421,IF(OR(J421=\"DNF\",J421=\"DSQ\"),0,IF(N421=\"\",\"\",RANK(N421,N419:N426,1))))","v":""},{"$f":"IF(P421=\"\",0,IF(P421=0,0,VLOOKUP(P:P,Points!B:C,2,FALSE)))","v":0},3,null,{"$f":"IF(P427>2.9,3,\"\")","v":""},{"$f":"IFERROR(IF(T421=\"\",\"\",VLOOKUP(T421,P419:R426,3,FALSE)),\"\")","v":""},null,3,null,{"$f":"IF(D421=\"\",\"\",IFERROR(VLOOKUP(B421,Events!B:L,11,FALSE),Y420))","v":""}," "," ",{"$f":"IFERROR(VLOOKUP(AA:AA,'Masters Convertion'!F:G,2,FALSE),\"\")","v":""},"",{"$f":"IF('Gala Name'!C$4=\"No\",\"\",IFERROR(RANK(N421,N421:N428,1),\"\"))","v":""}]
[{"$f":"IF(J422=\"\",\"\",B419)","v":""},null,null,4,{"$f":"IF(D422=\"\",\"\",IF(VLOOKUP(D422,Teams!$B$3:$C$10,2,FALSE)=\"\",\"\",VLOOKUP(D422,Teams!$B$3:$C$10,2,FALSE)))","v":""},null,null,{"$f":"IF(G422=\"\",\"\",YEAR('Gala Name'!$C$9)-YEAR(G422))","v":""},"",null,"",{"$f":"IF(OR(J422=\"\",J422=\"DSQ\"),\"\",IF(OR(J422=J419,J422=J420,J422=J421,J422=J423,J422=J424,J422=J425,J422=J426),\"Enter Placings\",\"\"))","v":""},"","",null,{"$f":"IF(L422<>\"\",L422,IF(OR(J422=\"DNF\",J422=\"DSQ\"),0,IF(N422=\"\",\"\",RANK(N422,N419:N426,1))))","v":""},{"$f":"IF(P422=\"\",0,IF(P422=0,0,VLOOKUP(P:P,Points!B:C,2,FALSE)))","v":0},4,null,{"$f":"IF(P427>3.9,4,\"\")","v":""},{"$f":"IFERROR(IF(T422=\"\",\"\",VLOOKUP(T422,P419:R426,3,FALSE)),\"\")","v":""},null,4,null,{"$f":"IF(D422=\"\",\"\",IFERROR(VLOOKUP(B422,Events!B:L,11,FALSE),Y421))","v":""}," "," ",{"$f":"IFERROR(VLOOKUP(AA:AA,'Masters Convertion'!F:G,2,FALSE),\"\")","v":""},"",{"$f":"IF('Gala Name'!C$4=\"No\",\"\",IFERROR(RANK(N422,N422:N429,1),\"\"))","v":""}]
[{"$f":"IF(J423=\"\",\"\",B419)","v":""},null,null,5,{"$f":"IF(D423=\"\",\"\",IF(VLOOKUP(D423,Teams!$B$3:$C$10,2,FALSE)=\"\",\"\",VLOOKUP(D423,Teams!$B$3:$C$10,2,FALSE)))","v":""},null,null,{"$f":"IF(G423=\"\",\"\",YEAR('Gala Name'!$C$9)-YEAR(G423))","v":""},"",null,"",{"$f":"IF(OR(J423=\"\",J423=\"DSQ\"),\"\",IF(OR(J423=J420,J423=J421,J423=J422,J423=J424,J423=J425,J423=J426,J423=J419),\"Enter Placings\",\"\"))","v":""},"","",null,{"$f":"IF(L423<>\"\",L423,IF(OR(J423=\"DNF\",J423=\"DSQ\"),0,IF(N423=\"\",\"\",RANK(N423,N419:N426,1))))","v":""},{"$f":"IF(P423=\"\",0,IF(P423=0,0,VLOOKUP(P:P,Points!B:C,2,FALSE)))","v":0},5,null,{"$f":"IF(P427>4.9,5,\"\")","v":""},{"$f":"IFERROR(IF(T423=\"\",\"\",VLOOKUP(T423,P419:R426,3,FALSE)),\"\")","v":""},null,5,null,{"$f":"IF(D423=\"\",\"\",IFERROR(VLOOKUP(B423,Events!B:L,11,FALSE),Y422))","v":""}," "," ",{"$f":"IFERROR(VLOOKUP(AA:AA,'Masters Convertion'!F:G,2,FALSE),\"\")","v":""},"",{"$f":"IF('Gala Name'!C$4=\"No\",\"\",IFERROR(RANK(N423,N423:N430,1),\"\"))","v":""}]
[{"$f":"IF(J424=\"\",\"\",B419)","v":""},null,null,6,{"$f":"IF(D424=\"\",\"\",IF(VLOOKUP(D424,Teams!$B$3:$C$10,2,FALSE)=\"\",\"\",VLOOKUP(D424,Teams!$B$3:$C$10,2,FALSE)))","v":""},null,null,{"$f":"IF(G424=\"\",\"\",YEAR('Gala Name'!$C$9)-YEAR(G424))","v":""},"",null,"",{"$f":"IF(OR(J424=\"\",J424=\"DSQ\"),\"\",IF(OR(J424=J421,J424=J422,J424=J423,J424=J425,J424=J426,J424=J420,J424=J419),\"Enter Placings\",\"\"))","v":""},"","",null,{"$f":"IF(L424<>\"\",L424,IF(OR(J424=\"DNF\",J424=\"DSQ\"),0,IF(N424=\"\",\"\",RANK(N424,N419:N426,1))))","v":""},{"$f":"IF(P424=\"\",0,IF(P424=0,0,VLOOKUP(P:P,Points!B:C,2,FALSE)))","v":0},6,null,{"$f":"IF(P427>5.9,6,\"\")","v":""},{"$f":"IFERROR(IF(T424=\"\",\"\",VLOOKUP(T424,P419:R426,3,FALSE)),\"\")","v":""},null,6,null,{"$f":"IF(D424=\"\",\"\",IFERROR(VLOOKUP(B424,Events!B:L,11,FALSE),Y423))","v":""}," "," ",{"$f":"IFERROR(VLOOKUP(AA:AA,'Masters Convertion'!F:G,2,FALSE),\"\")","v":""},"",{"$f":"IF('Gala Name'!C$4=\"No\",\"\",IFERROR(RANK(N424,N424:N431,1),\"\"))","v":""}]
[{"$f":"IF(J425=\"\",\"\",B419)","v":""},null,null,7,{"$f":"IF(D425=\"\",\"\",IF(VLOOKUP(D425,Teams!$B$3:$C$10,2,FALSE)=\"\",\"\",VLOOKUP(D425,Teams!$B$3:$C$10,2,FALSE)))","v":""},null,null,{"$f":"IF(G425=\"\",\"\",YEAR('Gala Name'!$C$9)-YEAR(G425))","v":""},"",null,"",{"$f":"IF(OR(J425=\"\",J425=\"DSQ\"),\"\",IF(OR(J425=J422,J425=J423,J425=J424,J425=J426,J425=J419,J425=J420,J425=J421),\"Enter Placings\",\"\"))","v":""},"","",null,{"$f":"IF(L425<>\"\",L425,IF(OR(J425=\"DNF\",J425=\"DSQ\"),0,IF(N425=\"\",\"\",RANK(N425,N419:N426,1))))","v":""},{"$f":"IF(P425=\"\",0,IF(P425=0,0,VLOOKUP(P:P,Points!B:C,2,FALSE)))","v":0},7,null,{"$f":"IF(P427>6.9,7,\"\")","v":""},{"$f":"IFERROR(IF(T425=\"\",\"\",VLOOKUP(T425,P419:R426,3,FALSE)),\"\")","v":""},null,7,null,{"$f":"IF(D425=\"\",\"\",IFERROR(VLOOKUP(B425,Events!B:L,11,FALSE),Y424))","v":""}," "," ",{"$f":"IFERROR(VLOOKUP(AA:AA,'Masters Convertion'!F:G,2,FALSE),\"\")","v":""},"",{"$f":"IF('Gala Name'!C$4=\"No\",\"\",IFERROR(RANK(N425,N425:N432,1),\"\"))","v":""}]
[{"$f":"IF(J426=\"\",\"\",B419)","v":""},null,null,8,{"$f":"IF(D426=\"\",\"\",IF(VLOOKUP(D426,Teams!$B$3:$C$10,2,FALSE)=\"\",\"\",VLOOKUP(D426,Teams!$B$3:$C$10,2,FALSE)))","v":""},null,null,{"$f":"IF(G426=\"\",\"\",YEAR('Gala Name'!$C$9)-YEAR(G426))","v":""},"",null,"",{"$f":"IF(OR(J426=\"\",J426=\"DSQ\"),\"\",IF(OR(J426=J423,J426=J424,J426=J425,J426=J419,J426=J420,J426=J421,J426=J422),\"Enter Placings\",\"\"))","v":""},"","",null,{"$f":"IF(L426<>\"\",L426,IF(OR(J426=\"DNF\",J426=\"DSQ\"),0,IF(N426=\"\",\"\",RANK(N426,N419:N426,1))))","v":""},{"$f":"IF(P426=\"\",0,IF(P426=0,0,VLOOKUP(P:P,Points!B:C,2,FALSE)))","v":0},8,null,{"$f":"IF(P427>7.9,8,\"\")","v":""},{"$f":"IFERROR(IF(T426=\"\",\"\",VLOOKUP(T426,P419:R426,3,FALSE)),\"\")","v":""},null,8,null,{"$f":"IF(D426=\"\",\"\",IFERROR(VLOOKUP(B426,Events!B:L,11,FALSE),Y425))","v":""}," "," ",{"$f":"IFERROR(VLOOKUP(AA:AA,'Masters Convertion'!F:G,2,FALSE),\"\")","v":""},"",{"$f":"IF('Gala Name'!C$4=\"No\",\"\",IFERROR(RANK(N426,N426:N433,1),\"\"))","v":""}]
[null,null,null,null,null,null,null,null,null,null,null,null,"","",null,{"$f":"MAX(P419:P426)","v":0},null,null,null,null,null,null,"*"]
[{"$f":"IF(J428=\"\",\"\",B428)","v":""},{"$f":"B419+1","v":48},{"$f":"IF(D428=1,VLOOKUP(B428,Events!B:H,6,FALSE)&VLOOKUP(B428,Events!B:H,7,FALSE),\"\")","v":"   "},1,{"$f":"IF(D428=\"\",\"\",IF(VLOOKUP(D428,Teams!$B$3:$C$10,2,FALSE)=\"\",\"\",VLOOKUP(D428,Teams!$B$3:$C$10,2,FALSE)))","v":""},null,null,{"$f":"IF(G428=\"\",\"\",YEAR('Gala Name'!$C$9)-YEAR(G428))","v":""},"",null,"",{"$f":"IF(OR(J428=\"\",J428=\"DSQ\"),\"\",IF(OR(J428=J429,J428=J430,J428=J431,J428=J432,J428=J433,J428=J434,J428=J435),\"Enter Placings\",\"\"))","v":""},"","",null,{"$f":"IF(L428<>\"\",L428,IF(OR(J428=\"DNF\",J428=\"DSQ\"),0,IF(N428=\"\",\"\",RANK(N428,N428:N435,1))))","v":""},{"$f":"IF(P428=\"\",0,IF(P428=0,0,VLOOKUP(P:P,Points!B:C,2,FALSE)))","v":0},{"$f":"D428","v":1},null,{"$f":"IF(P436>0.9,1,\"\")","v":""},{"$f":"IFERROR(IF(T428=\"\",\"\",VLOOKUP(T428,P428:R435,3,FALSE)),\"\")","v":""},null,1,null,{"$f":"IF(D428=\"\",\"\",IFERROR(VLOOKUP(B428,Events!B:L,11,FALSE),Y427))","v":""}," "," ",{"$f":"IFERROR(VLOOKUP(AA:AA,'Masters Convertion'!F:G,2,FALSE),\"\")","v":""},"",{"$f":"IF('Gala Name'!C$4=\"No\",\"\",IFERROR(RANK(N428,N428:N435,1),\"\"))","v":""}]
[{"$f":"IF(J429=\"\",\"\",B428)","v":""},null,null,2,{"$f":"IF(D429=\"\",\"\",IF(VLOOKUP(D429,Teams!$B$3:$C$10,2,FALSE)=\"\",\"\",VLOOKUP(D429,Teams!$B$3:$C$10,2,FALSE)))","v":""},null,null,{"$f":"IF(G429=\"\",\"\",YEAR('Gala Name'!$C$9)-YEAR(G429))","v":""},"",null,"",{"$f":"IF(OR(J429=\"\",J429=\"DSQ\"),\"\",IF(OR(J429=J428,J429=J430,J429=J431,J429=J432,J429=J433,J429=J434,J429=J435),\"Enter Placings\",\"\"))","v":""},"","",null,{"$f":"IF(L429<>\"\",L429,IF(OR(J429=\"DNF\",J429=\"DSQ\"),0,IF(N429=\"\",\"\",RANK(N429,N428:N435,1))))","v":""},{"$f":"IF(P429=\"\",0,IF(P429=0,0,VLOOKUP(P:P,Points!B:C,2,FALSE)))","v":0},2,null,{"$f":"IF(P436>1.9,2,\"\")","v":""},{"$f":"IFERROR(IF(T429=\"\",\"\",VLOOKUP(T429,P428:R435,3,FALSE)),\"\")","v":""},null,2,null,{"$f":"IF(D429=\"\",\"\",IFERROR(VLOOKUP(B429,Events!B:L,11,FALSE),Y428))","v":""}," "," ",{"$f":"IFERROR(VLOOKUP(AA:AA,'Masters Convertion'!F:G,2,FALSE),\"\")","v":""},"",{"$f":"IF('Gala Name'!C$4=\"No\",\"\",IFERROR(RANK(N429,N429:N436,1),\"\"))","v":""}]
[{"$f":"IF(J430=\"\",\"\",B428)","v":""},null,null,3,{"$f":"IF(D430=\"\",\"\",IF(VLOOKUP(D430,Teams!$B$3:$C$10,2,FALSE)=\"\",\"\",VLOOKUP(D430,Teams!$B$3:$C$10,2,FALSE)))","v":""},null,null,{"$f":"IF(G430=\"\",\"\",YEAR('Gala Name'!$C$9)-YEAR(G430))","v":""},"",null,"",{"$f":"IF(OR(J430=\"\",J430=\"DSQ\"),\"\",IF(OR(J430=J428,J430=J429,J430=J431,J430=J432,J430=J433,J430=J434,J430=J435),\"Enter Placings\",\"\"))","v":""},"","",null,{"$f":"IF(L430<>\"\",L430,IF(OR(J430=\"DNF\",J430=\"DSQ\"),0,IF(N430=\"\",\"\",RANK(N430,N428:N435,1))))","v":""},{"$f":"IF(P430=\"\",0,IF(P430=0,0,VLOOKUP(P:P,Points!B:C,2,FALSE)))","v":0},3,null,{"$f":"IF(P436>2.9,3,\"\")","v":""},{"$f":"IFERROR(IF(T430=\"\",\"\",VLOOKUP(T430,P428:R435,3,FALSE)),\"\")","v":""},null,3,null,{"$f":"IF(D430=\"\",\"\",IFERROR(VLOOKUP(B430,Events!B:L,11,FALSE),Y429))","v":""}," "," ",{"$f":"IFERROR(VLOOKUP(AA:AA,'Masters Convertion'!F:G,2,FALSE),\"\")","v":""},"",{"$f":"IF('Gala Name'!C$4=\"No\",\"\",IFERROR(RANK(N430,N430:N437,1),\"\"))","v":""}]
[{"$f":"IF(J431=\"\",\"\",B428)","v":""},null,null,4,{"$f":"IF(D431=\"\",\"\",IF(VLOOKUP(D431,Teams!$B$3:$C$10,2,FALSE)=\"\",\"\",VLOOKUP(D431,Teams!$B$3:$C$10,2,FALSE)))","v":""},null,null,{"$f":"IF(G431=\"\",\"\",YEAR('Gala Name'!$C$9)-YEAR(G431))","v":""},"",null,"",{"$f":"IF(OR(J431=\"\",J431=\"DSQ\"),\"\",IF(OR(J431=J428,J431=J429,J431=J430,J431=J432,J431=J433,J431=J434,J431=J435),\"Enter Placings\",\"\"))","v":""},"","",null,{"$f":"IF(L431<>\"\",L431,IF(OR(J431=\"DNF\",J431=\"DSQ\"),0,IF(N431=\"\",\"\",RANK(N431,N428:N435,1))))","v":""},{"$f":"IF(P431=\"\",0,IF(P431=0,0,VLOOKUP(P:P,Points!B:C,2,FALSE)))","v":0},4,null,{"$f":"IF(P436>3.9,4,\"\")","v":""},{"$f":"IFERROR(IF(T431=\"\",\"\",VLOOKUP(T431,P428:R435,3,FALSE)),\"\")","v":""},null,4,null,{"$f":"IF(D431=\"\",\"\",IFERROR(VLOOKUP(B431,Events!B:L,11,FALSE),Y430))","v":""}," "," ",{"$f":"IFERROR(VLOOKUP(AA:AA,'Masters Convertion'!F:G,2,FALSE),\"\")","v":""},"",{"$f":"IF('Gala Name'!C$4=\"No\",\"\",IFERROR(RANK(N431,N431:N438,1),\"\"))","v":""}]
[{"$f":"IF(J432=\"\",\"\",B428)","v":""},null,null,5,{"$f":"IF(D432=\"\",\"\",IF(VLOOKUP(D432,Teams!$B$3:$C$10,2,FALSE)=\"\",\"\",VLOOKUP(D432,Teams!$B$3:$C$10,2,FALSE)))","v":""},null,null,{"$f":"IF(G432=\"\",\"\",YEAR('Gala Name'!$C$9)-YEAR(G432))","v":""},"",null,"",{"$f":"IF(OR(J432=\"\",J432=\"DSQ\"),\"\",IF(OR(J432=J429,J432=J430,J432=J431,J432=J433,J432=J434,J432=J435,J432=J428),\"Enter Placings\",\"\"))","v":""},"","",null,{"$f":"IF(L432<>\"\",L432,IF(OR(J432=\"DNF\",J432=\"DSQ\"),0,IF(N432=\"\",\"\",RANK(N432,N428:N435,1))))","v":""},{"$f":"IF(P432=\"\",0,IF(P432=0,0,VLOOKUP(P:P,Points!B:C,2,FALSE)))","v":0},5,null,{"$f":"IF(P436>4.9,5,\"\")","v":""},{"$f":"IFERROR(IF(T432=\"\",\"\",VLOOKUP(T432,P428:R435,3,FALSE)),\"\")","v":""},null,5,null,{"$f":"IF(D432=\"\",\"\",IFERROR(VLOOKUP(B432,Events!B:L,11,FALSE),Y431))","v":""}," "," ",{"$f":"IFERROR(VLOOKUP(AA:AA,'Masters Convertion'!F:G,2,FALSE),\"\")","v":""},"",{"$f":"IF('Gala Name'!C$4=\"No\",\"\",IFERROR(RANK(N432,N432:N439,1),\"\"))","v":""}]
[{"$f":"IF(J433=\"\",\"\",B428)","v":""},null,null,6,{"$f":"IF(D433=\"\",\"\",IF(VLOOKUP(D433,Teams!$B$3:$C$10,2,FALSE)=\"\",\"\",VLOOKUP(D433,Teams!$B$3:$C$10,2,FALSE)))","v":""},null,null,{"$f":"IF(G433=\"\",\"\",YEAR('Gala Name'!$C$9)-YEAR(G433))","v":""},"",null,"",{"$f":"IF(OR(J433=\"\",J433=\"DSQ\"),\"\",IF(OR(J433=J430,J433=J431,J433=J432,J433=J434,J433=J435,J433=J429,J433=J428),\"Enter Placings\",\"\"))","v":""},"","",null,{"$f":"IF(L433<>\"\",L433,IF(OR(J433=\"DNF\",J433=\"DSQ\"),0,IF(N433=\"\",\"\",RANK(N433,N428:N435,1))))","v":""},{"$f":"IF(P433=\"\",0,IF(P433=0,0,VLOOKUP(P:P,Points!B:C,2,FALSE)))","v":0},6,null,{"$f":"IF(P436>5.9,6,\"\")","v":""},{"$f":"IFERROR(IF(T433=\"\",\"\",VLOOKUP(T433,P428:R435,3,FALSE)),\"\")","v":""},null,6,null,{"$f":"IF(D433=\"\",\"\",IFERROR(VLOOKUP(B433,Events!B:L,11,FALSE),Y432))","v":""}," "," ",{"$f":"IFERROR(VLOOKUP(AA:AA,'Masters Convertion'!F:G,2,FALSE),\"\")","v":""},"",{"$f":"IF('Gala Name'!C$4=\"No\",\"\",IFERROR(RANK(N433,N433:N440,1),\"\"))","v":""}]
[{"$f":"IF(J434=\"\",\"\",B428)","v":""},null,null,7,{"$f":"IF(D434=\"\",\"\",IF(VLOOKUP(D434,Teams!$B$3:$C$10,2,FALSE)=\"\",\"\",VLOOKUP(D434,Teams!$B$3:$C$10,2,FALSE)))","v":""},null,null,{"$f":"IF(G434=\"\",\"\",YEAR('Gala Name'!$C$9)-YEAR(G434))","v":""},"",null,"",{"$f":"IF(OR(J434=\"\",J434=\"DSQ\"),\"\",IF(OR(J434=J431,J434=J432,J434=J433,J434=J435,J434=J428,J434=J429,J434=J430),\"Enter Placings\",\"\"))","v":""},"","",null,{"$f":"IF(L434<>\"\",L434,IF(OR(J434=\"DNF\",J434=\"DSQ\"),0,IF(N434=\"\",\"\",RANK(N434,N428:N435,1))))","v":""},{"$f":"IF(P434=\"\",0,IF(P434=0,0,VLOOKUP(P:P,Points!B:C,2,FALSE)))","v":0},7,null,{"$f":"IF(P436>6.9,7,\"\")","v":""},{"$f":"IFERROR(IF(T434=\"\",\"\",VLOOKUP(T434,P428:R435,3,FALSE)),\"\")","v":""},null,7,null,{"$f":"IF(D434=\"\",\"\",IFERROR(VLOOKUP(B434,Events!B:L,11,FALSE),Y433))","v":""}," "," ",{"$f":"IFERROR(VLOOKUP(AA:AA,'Masters Convertion'!F:G,2,FALSE),\"\")","v":""},"",{"$f":"IF('Gala Name'!C$4=\"No\",\"\",IFERROR(RANK(N434,N434:N441,1),\"\"))","v":""}]
[{"$f":"IF(J435=\"\",\"\",B428)","v":""},null,null,8,{"$f":"IF(D435=\"\",\"\",IF(VLOOKUP(D435,Teams!$B$3:$C$10,2,FALSE)=\"\",\"\",VLOOKUP(D435,Teams!$B$3:$C$10,2,FALSE)))","v":""},null,null,{"$f":"IF(G435=\"\",\"\",YEAR('Gala Name'!$C$9)-YEAR(G435))","v":""},"",null,"",{"$f":"IF(OR(J435=\"\",J435=\"DSQ\"),\"\",IF(OR(J435=J432,J435=J433,J435=J434,J435=J428,J435=J429,J435=J430,J435=J431),\"Enter Placings\",\"\"))","v":""},"","",null,{"$f":"IF(L435<>\"\",L435,IF(OR(J435=\"DNF\",J435=\"DSQ\"),0,IF(N435=\"\",\"\",RANK(N435,N428:N435,1))))","v":""},{"$f":"IF(P435=\"\",0,IF(P435=0,0,VLOOKUP(P:P,Points!B:C,2,FALSE)))","v":0},8,null,{"$f":"IF(P436>7.9,8,\"\")","v":""},{"$f":"IFERROR(IF(T435=\"\",\"\",VLOOKUP(T435,P428:R435,3,FALSE)),\"\")","v":""},null,8,null,{"$f":"IF(D435=\"\",\"\",IFERROR(VLOOKUP(B435,Events!B:L,11,FALSE),Y434))","v":""}," "," ",{"$f":"IFERROR(VLOOKUP(AA:AA,'Masters Convertion'!F:G,2,FALSE),\"\")","v":""},"",{"$f":"IF('Gala Name'!C$4=\"No\",\"\",IFERROR(RANK(N435,N435:N442,1),\"\"))","v":""}]
[null,null,null,null,null,null,null,null,null,null,null,null,"","",null,{"$f":"MAX(P428:P435)","v":0},null,null,null,null,null,null,"*"]
[{"$f":"IF(J437=\"\",\"\",B437)","v":""},{"$f":"B428+1","v":49},{"$f":"IF(D437=1,VLOOKUP(B437,Events!B:H,6,FALSE)&VLOOKUP(B437,Events!B:H,7,FALSE),\"\")","v":"   "},1,{"$f":"IF(D437=\"\",\"\",IF(VLOOKUP(D437,Teams!$B$3:$C$10,2,FALSE)=\"\",\"\",VLOOKUP(D437,Teams!$B$3:$C$10,2,FALSE)))","v":""},null,null,{"$f":"IF(G437=\"\",\"\",YEAR('Gala Name'!$C$9)-YEAR(G437))","v":""},"",null,"",{"$f":"IF(OR(J437=\"\",J437=\"DSQ\"),\"\",IF(OR(J437=J438,J437=J439,J437=J440,J437=J441,J437=J442,J437=J443,J437=J444),\"Enter Placings\",\"\"))","v":""},"","",null,{"$f":"IF(L437<>\"\",L437,IF(OR(J437=\"DNF\",J437=\"DSQ\"),0,IF(N437=\"\",\"\",RANK(N437,N437:N444,1))))","v":""},{"$f":"IF(P437=\"\",0,IF(P437=0,0,VLOOKUP(P:P,Points!B:C,2,FALSE)))","v":0},{"$f":"D437","v":1},null,{"$f":"IF(P445>0.9,1,\"\")","v":""},{"$f":"IFERROR(IF(T437=\"\",\"\",VLOOKUP(T437,P437:R444,3,FALSE)),\"\")","v":""},null,1,null,{"$f":"IF(D437=\"\",\"\",IFERROR(VLOOKUP(B437,Events!B:L,11,FALSE),Y436))","v":""}," "," ",{"$f":"IFERROR(VLOOKUP(AA:AA,'Masters Convertion'!F:G,2,FALSE),\"\")","v":""},"",{"$f":"IF('Gala Name'!C$4=\"No\",\"\",IFERROR(RANK(N437,N437:N444,1),\"\"))","v":""}]
[{"$f":"IF(J438=\"\",\"\",B437)","v":""},null,null,2,{"$f":"IF(D438=\"\",\"\",IF(VLOOKUP(D438,Teams!$B$3:$C$10,2,FALSE)=\"\",\"\",VLOOKUP(D438,Teams!$B$3:$C$10,2,FALSE)))","v":""},null,null,{"$f":"IF(G438=\"\",\"\",YEAR('Gala Name'!$C$9)-YEAR(G438))","v":""},"",null,"",{"$f":"IF(OR(J438=\"\",J438=\"DSQ\"),\"\",IF(OR(J438=J437,J438=J439,J438=J440,J438=J441,J438=J442,J438=J443,J438=J444),\"Enter Placings\",\"\"))","v":""},"","",null,{"$f":"IF(L438<>\"\",L438,IF(OR(J438=\"DNF\",J438=\"DSQ\"),0,IF(N438=\"\",\"\",RANK(N438,N437:N444,1))))","v":""},{"$f":"IF(P438=\"\",0,IF(P438=0,0,VLOOKUP(P:P,Points!B:C,2,FALSE)))","v":0},2,null,{"$f":"IF(P445>1.9,2,\"\")","v":""},{"$f":"IFERROR(IF(T438=\"\",\"\",VLOOKUP(T438,P437:R444,3,FALSE)),\"\")","v":""},null,2,null,{"$f":"IF(D438=\"\",\"\",IFERROR(VLOOKUP(B438,Events!B:L,11,FALSE),Y437))","v":""}," "," ",{"$f":"IFERROR(VLOOKUP(AA:AA,'Masters Convertion'!F:G,2,FALSE),\"\")","v":""},"",{"$f":"IF('Gala Name'!C$4=\"No\",\"\",IFERROR(RANK(N438,N438:N445,1),\"\"))","v":""}]
[{"$f":"IF(J439=\"\",\"\",B437)","v":""},null,null,3,{"$f":"IF(D439=\"\",\"\",IF(VLOOKUP(D439,Teams!$B$3:$C$10,2,FALSE)=\"\",\"\",VLOOKUP(D439,Teams!$B$3:$C$10,2,FALSE)))","v":""},null,null,{"$f":"IF(G439=\"\",\"\",YEAR('Gala Name'!$C$9)-YEAR(G439))","v":""},"",null,"",{"$f":"IF(OR(J439=\"\",J439=\"DSQ\"),\"\",IF(OR(J439=J437,J439=J438,J439=J440,J439=J441,J439=J442,J439=J443,J439=J444),\"Enter Placings\",\"\"))","v":""},"","",null,{"$f":"IF(L439<>\"\",L439,IF(OR(J439=\"DNF\",J439=\"DSQ\"),0,IF(N439=\"\",\"\",RANK(N439,N437:N444,1))))","v":""},{"$f":"IF(P439=\"\",0,IF(P439=0,0,VLOOKUP(P:P,Points!B:C,2,FALSE)))","v":0},3,null,{"$f":"IF(P445>2.9,3,\"\")","v":""},{"$f":"IFERROR(IF(T439=\"\",\"\",VLOOKUP(T439,P437:R444,3,FALSE)),\"\")","v":""},null,3,null,{"$f":"IF(D439=\"\",\"\",IFERROR(VLOOKUP(B439,Events!B:L,11,FALSE),Y438))","v":""}," "," ",{"$f":"IFERROR(VLOOKUP(AA:AA,'Masters Convertion'!F:G,2,FALSE),\"\")","v":""},"",{"$f":"IF('Gala Name'!C$4=\"No\",\"\",IFERROR(RANK(N439,N439:N446,1),\"\"))","v":""}]
[{"$f":"IF(J440=\"\",\"\",B437)","v":""},null,null,4,{"$f":"IF(D440=\"\",\"\",IF(VLOOKUP(D440,Teams!$B$3:$C$10,2,FALSE)=\"\",\"\",VLOOKUP(D440,Teams!$B$3:$C$10,2,FALSE)))","v":""},null,null,{"$f":"IF(G440=\"\",\"\",YEAR('Gala Name'!$C$9)-YEAR(G440))","v":""},"",null,"",{"$f":"IF(OR(J440=\"\",J440=\"DSQ\"),\"\",IF(OR(J440=J437,J440=J438,J440=J439,J440=J441,J440=J442,J440=J443,J440=J444),\"Enter Placings\",\"\"))","v":""},"","",null,{"$f":"IF(L440<>\"\",L440,IF(OR(J440=\"DNF\",J440=\"DSQ\"),0,IF(N440=\"\",\"\",RANK(N440,N437:N444,1))))","v":""},{"$f":"IF(P440=\"\",0,IF(P440=0,0,VLOOKUP(P:P,Points!B:C,2,FALSE)))","v":0},4,null,{"$f":"IF(P445>3.9,4,\"\")","v":""},{"$f":"IFERROR(IF(T440=\"\",\"\",VLOOKUP(T440,P437:R444,3,FALSE)),\"\")","v":""},null,4,null,{"$f":"IF(D440=\"\",\"\",IFERROR(VLOOKUP(B440,Events!B:L,11,FALSE),Y439))","v":""}," "," ",{"$f":"IFERROR(VLOOKUP(AA:AA,'Masters Convertion'!F:G,2,FALSE),\"\")","v":""},"",{"$f":"IF('Gala Name'!C$4=\"No\",\"\",IFERROR(RANK(N440,N440:N447,1),\"\"))","v":""}]
[{"$f":"IF(J441=\"\",\"\",B437)","v":""},null,null,5,{"$f":"IF(D441=\"\",\"\",IF(VLOOKUP(D441,Teams!$B$3:$C$10,2,FALSE)=\"\",\"\",VLOOKUP(D441,Teams!$B$3:$C$10,2,FALSE)))","v":""},null,null,{"$f":"IF(G441=\"\",\"\",YEAR('Gala Name'!$C$9)-YEAR(G441))","v":""},"",null,"",{"$f":"IF(OR(J441=\"\",J441=\"DSQ\"),\"\",IF(OR(J441=J438,J441=J439,J441=J440,J441=J442,J441=J443,J441=J444,J441=J437),\"Enter Placings\",\"\"))","v":""},"","",null,{"$f":"IF(L441<>\"\",L441,IF(OR(J441=\"DNF\",J441=\"DSQ\"),0,IF(N441=\"\",\"\",RANK(N441,N437:N444,1))))","v":""},{"$f":"IF(P441=\"\",0,IF(P441=0,0,VLOOKUP(P:P,Points!B:C,2,FALSE)))","v":0},5,null,{"$f":"IF(P445>4.9,5,\"\")","v":""},{"$f":"IFERROR(IF(T441=\"\",\"\",VLOOKUP(T441,P437:R444,3,FALSE)),\"\")","v":""},null,5,null,{"$f":"IF(D441=\"\",\"\",IFERROR(VLOOKUP(B441,Events!B:L,11,FALSE),Y440))","v":""}," "," ",{"$f":"IFERROR(VLOOKUP(AA:AA,'Masters Convertion'!F:G,2,FALSE),\"\")","v":""},"",{"$f":"IF('Gala Name'!C$4=\"No\",\"\",IFERROR(RANK(N441,N441:N448,1),\"\"))","v":""}]
[{"$f":"IF(J442=\"\",\"\",B437)","v":""},null,null,6,{"$f":"IF(D442=\"\",\"\",IF(VLOOKUP(D442,Teams!$B$3:$C$10,2,FALSE)=\"\",\"\",VLOOKUP(D442,Teams!$B$3:$C$10,2,FALSE)))","v":""},null,null,{"$f":"IF(G442=\"\",\"\",YEAR('Gala Name'!$C$9)-YEAR(G442))","v":""},"",null,"",{"$f":"IF(OR(J442=\"\",J442=\"DSQ\"),\"\",IF(OR(J442=J439,J442=J440,J442=J441,J442=J443,J442=J444,J442=J438,J442=J437),\"Enter Placings\",\"\"))","v":""},"","",null,{"$f":"IF(L442<>\"\",L442,IF(OR(J442=\"DNF\",J442=\"DSQ\"),0,IF(N442=\"\",\"\",RANK(N442,N437:N444,1))))","v":""},{"$f":"IF(P442=\"\",0,IF(P442=0,0,VLOOKUP(P:P,Points!B:C,2,FALSE)))","v":0},6,null,{"$f":"IF(P445>5.9,6,\"\")","v":""},{"$f":"IFERROR(IF(T442=\"\",\"\",VLOOKUP(T442,P437:R444,3,FALSE)),\"\")","v":""},null,6,null,{"$f":"IF(D442=\"\",\"\",IFERROR(VLOOKUP(B442,Events!B:L,11,FALSE),Y441))","v":""}," "," ",{"$f":"IFERROR(VLOOKUP(AA:AA,'Masters Convertion'!F:G,2,FALSE),\"\")","v":""},"",{"$f":"IF('Gala Name'!C$4=\"No\",\"\",IFERROR(RANK(N442,N442:N449,1),\"\"))","v":""}]
[{"$f":"IF(J443=\"\",\"\",B437)","v":""},null,null,7,{"$f":"IF(D443=\"\",\"\",IF(VLOOKUP(D443,Teams!$B$3:$C$10,2,FALSE)=\"\",\"\",VLOOKUP(D443,Teams!$B$3:$C$10,2,FALSE)))","v":""},null,null,{"$f":"IF(G443=\"\",\"\",YEAR('Gala Name'!$C$9)-YEAR(G443))","v":""},"",null,"",{"$f":"IF(OR(J443=\"\",J443=\"DSQ\"),\"\",IF(OR(J443=J440,J443=J441,J443=J442,J443=J444,J443=J437,J443=J438,J443=J439),\"Enter Placings\",\"\"))","v":""},"","",null,{"$f":"IF(L443<>\"\",L443,IF(OR(J443=\"DNF\",J443=\"DSQ\"),0,IF(N443=\"\",\"\",RANK(N443,N437:N444,1))))","v":""},{"$f":"IF(P443=\"\",0,IF(P443=0,0,VLOOKUP(P:P,Points!B:C,2,FALSE)))","v":0},7,null,{"$f":"IF(P445>6.9,7,\"\")","v":""},{"$f":"IFERROR(IF(T443=\"\",\"\",VLOOKUP(T443,P437:R444,3,FALSE)),\"\")","v":""},null,7,null,{"$f":"IF(D443=\"\",\"\",IFERROR(VLOOKUP(B443,Events!B:L,11,FALSE),Y442))","v":""}," "," ",{"$f":"IFERROR(VLOOKUP(AA:AA,'Masters Convertion'!F:G,2,FALSE),\"\")","v":""},"",{"$f":"IF('Gala Name'!C$4=\"No\",\"\",IFERROR(RANK(N443,N443:N450,1),\"\"))","v":""}]
[{"$f":"IF(J444=\"\",\"\",B437)","v":""},null,null,8,{"$f":"IF(D444=\"\",\"\",IF(VLOOKUP(D444,Teams!$B$3:$C$10,2,FALSE)=\"\",\"\",VLOOKUP(D444,Teams!$B$3:$C$10,2,FALSE)))","v":""},null,null,{"$f":"IF(G444=\"\",\"\",YEAR('Gala Name'!$C$9)-YEAR(G444))","v":""},"",null,"",{"$f":"IF(OR(J444=\"\",J444=\"DSQ\"),\"\",IF(OR(J444=J441,J444=J442,J444=J443,J444=J437,J444=J438,J444=J439,J444=J440),\"Enter Placings\",\"\"))","v":""},"","",null,{"$f":"IF(L444<>\"\",L444,IF(OR(J444=\"DNF\",J444=\"DSQ\"),0,IF(N444=\"\",\"\",RANK(N444,N437:N444,1))))","v":""},{"$f":"IF(P444=\"\",0,IF(P444=0,0,VLOOKUP(P:P,Points!B:C,2,FALSE)))","v":0},8,null,{"$f":"IF(P445>7.9,8,\"\")","v":""},{"$f":"IFERROR(IF(T444=\"\",\"\",VLOOKUP(T444,P437:R444,3,FALSE)),\"\")","v":""},null,8,null,{"$f":"IF(D444=\"\",\"\",IFERROR(VLOOKUP(B444,Events!B:L,11,FALSE),Y443))","v":""}," "," ",{"$f":"IFERROR(VLOOKUP(AA:AA,'Masters Convertion'!F:G,2,FALSE),\"\")","v":""},"",{"$f":"IF('Gala Name'!C$4=\"No\",\"\",IFERROR(RANK(N444,N444:N451,1),\"\"))","v":""}]
[null,null,null,null,null,null,null,null,null,null,null,null,"","",null,{"$f":"MAX(P437:P444)","v":0},null,null,null,null,null,null,"*"]
[{"$f":"IF(J446=\"\",\"\",B446)","v":""},{"$f":"B437+1","v":50},{"$f":"IF(D446=1,VLOOKUP(B446,Events!B:H,6,FALSE)&VLOOKUP(B446,Events!B:H,7,FALSE),\"\")","v":"   "},1,{"$f":"IF(D446=\"\",\"\",IF(VLOOKUP(D446,Teams!$B$3:$C$10,2,FALSE)=\"\",\"\",VLOOKUP(D446,Teams!$B$3:$C$10,2,FALSE)))","v":""},null,null,{"$f":"IF(G446=\"\",\"\",YEAR('Gala Name'!$C$9)-YEAR(G446))","v":""},"",null,"",{"$f":"IF(OR(J446=\"\",J446=\"DSQ\"),\"\",IF(OR(J446=J447,J446=J448,J446=J449,J446=J450,J446=J451,J446=J452,J446=J453),\"Enter Placings\",\"\"))","v":""},"","",null,{"$f":"IF(L446<>\"\",L446,IF(OR(J446=\"DNF\",J446=\"DSQ\"),0,IF(N446=\"\",\"\",RANK(N446,N446:N453,1))))","v":""},{"$f":"IF(P446=\"\",0,IF(P446=0,0,VLOOKUP(P:P,Points!B:C,2,FALSE)))","v":0},{"$f":"D446","v":1},null,{"$f":"IF(P454>0.9,1,\"\")","v":""},{"$f":"IFERROR(IF(T446=\"\",\"\",VLOOKUP(T446,P446:R453,3,FALSE)),\"\")","v":""},null,1,null,{"$f":"IF(D446=\"\",\"\",IFERROR(VLOOKUP(B446,Events!B:L,11,FALSE),Y445))","v":""}," "," ",{"$f":"IFERROR(VLOOKUP(AA:AA,'Masters Convertion'!F:G,2,FALSE),\"\")","v":""},"",{"$f":"IF('Gala Name'!C$4=\"No\",\"\",IFERROR(RANK(N446,N446:N453,1),\"\"))","v":""}]
[{"$f":"IF(J447=\"\",\"\",B446)","v":""},null,null,2,{"$f":"IF(D447=\"\",\"\",IF(VLOOKUP(D447,Teams!$B$3:$C$10,2,FALSE)=\"\",\"\",VLOOKUP(D447,Teams!$B$3:$C$10,2,FALSE)))","v":""},null,null,{"$f":"IF(G447=\"\",\"\",YEAR('Gala Name'!$C$9)-YEAR(G447))","v":""},"",null,"",{"$f":"IF(OR(J447=\"\",J447=\"DSQ\"),\"\",IF(OR(J447=J446,J447=J448,J447=J449,J447=J450,J447=J451,J447=J452,J447=J453),\"Enter Placings\",\"\"))","v":""},"","",null,{"$f":"IF(L447<>\"\",L447,IF(OR(J447=\"DNF\",J447=\"DSQ\"),0,IF(N447=\"\",\"\",RANK(N447,N446:N453,1))))","v":""},{"$f":"IF(P447=\"\",0,IF(P447=0,0,VLOOKUP(P:P,Points!B:C,2,FALSE)))","v":0},2,null,{"$f":"IF(P454>1.9,2,\"\")","v":""},{"$f":"IFERROR(IF(T447=\"\",\"\",VLOOKUP(T447,P446:R453,3,FALSE)),\"\")","v":""},null,2,null,{"$f":"IF(D447=\"\",\"\",IFERROR(VLOOKUP(B447,Events!B:L,11,FALSE),Y446))","v":""}," "," ",{"$f":"IFERROR(VLOOKUP(AA:AA,'Masters Convertion'!F:G,2,FALSE),\"\")","v":""},"",{"$f":"IF('Gala Name'!C$4=\"No\",\"\",IFERROR(RANK(N447,N447:N454,1),\"\"))","v":""}]
[{"$f":"IF(J448=\"\",\"\",B446)","v":""},null,null,3,{"$f":"IF(D448=\"\",\"\",IF(VLOOKUP(D448,Teams!$B$3:$C$10,2,FALSE)=\"\",\"\",VLOOKUP(D448,Teams!$B$3:$C$10,2,FALSE)))","v":""},null,null,{"$f":"IF(G448=\"\",\"\",YEAR('Gala Name'!$C$9)-YEAR(G448))","v":""},"",null,"",{"$f":"IF(OR(J448=\"\",J448=\"DSQ\"),\"\",IF(OR(J448=J446,J448=J447,J448=J449,J448=J450,J448=J451,J448=J452,J448=J453),\"Enter Placings\",\"\"))","v":""},"","",null,{"$f":"IF(L448<>\"\",L448,IF(OR(J448=\"DNF\",J448=\"DSQ\"),0,IF(N448=\"\",\"\",RANK(N448,N446:N453,1))))","v":""},{"$f":"IF(P448=\"\",0,IF(P448=0,0,VLOOKUP(P:P,Points!B:C,2,FALSE)))","v":0},3,null,{"$f":"IF(P454>2.9,3,\"\")","v":""},{"$f":"IFERROR(IF(T448=\"\",\"\",VLOOKUP(T448,P446:R453,3,FALSE)),\"\")","v":""},null,3,null,{"$f":"IF(D448=\"\",\"\",IFERROR(VLOOKUP(B448,Events!B:L,11,FALSE),Y447))","v":""}," "," ",{"$f":"IFERROR(VLOOKUP(AA:AA,'Masters Convertion'!F:G,2,FALSE),\"\")","v":""},"",{"$f":"IF('Gala Name'!C$4=\"No\",\"\",IFERROR(RANK(N448,N448:N455,1),\"\"))","v":""}]
[{"$f":"IF(J449=\"\",\"\",B446)","v":""},null,null,4,{"$f":"IF(D449=\"\",\"\",IF(VLOOKUP(D449,Teams!$B$3:$C$10,2,FALSE)=\"\",\"\",VLOOKUP(D449,Teams!$B$3:$C$10,2,FALSE)))","v":""},null,null,{"$f":"IF(G449=\"\",\"\",YEAR('Gala Name'!$C$9)-YEAR(G449))","v":""},"",null,"",{"$f":"IF(OR(J449=\"\",J449=\"DSQ\"),\"\",IF(OR(J449=J446,J449=J447,J449=J448,J449=J450,J449=J451,J449=J452,J449=J453),\"Enter Placings\",\"\"))","v":""},"","",null,{"$f":"IF(L449<>\"\",L449,IF(OR(J449=\"DNF\",J449=\"DSQ\"),0,IF(N449=\"\",\"\",RANK(N449,N446:N453,1))))","v":""},{"$f":"IF(P449=\"\",0,IF(P449=0,0,VLOOKUP(P:P,Points!B:C,2,FALSE)))","v":0},4,null,{"$f":"IF(P454>3.9,4,\"\")","v":""},{"$f":"IFERROR(IF(T449=\"\",\"\",VLOOKUP(T449,P446:R453,3,FALSE)),\"\")","v":""},null,4,null,{"$f":"IF(D449=\"\",\"\",IFERROR(VLOOKUP(B449,Events!B:L,11,FALSE),Y448))","v":""}," "," ",{"$f":"IFERROR(VLOOKUP(AA:AA,'Masters Convertion'!F:G,2,FALSE),\"\")","v":""},"",{"$f":"IF('Gala Name'!C$4=\"No\",\"\",IFERROR(RANK(N449,N449:N456,1),\"\"))","v":""}]
[{"$f":"IF(J450=\"\",\"\",B446)","v":""},null,null,5,{"$f":"IF(D450=\"\",\"\",IF(VLOOKUP(D450,Teams!$B$3:$C$10,2,FALSE)=\"\",\"\",VLOOKUP(D450,Teams!$B$3:$C$10,2,FALSE)))","v":""},null,null,{"$f":"IF(G450=\"\",\"\",YEAR('Gala Name'!$C$9)-YEAR(G450))","v":""},"",null,"",{"$f":"IF(OR(J450=\"\",J450=\"DSQ\"),\"\",IF(OR(J450=J447,J450=J448,J450=J449,J450=J451,J450=J452,J450=J453,J450=J446),\"Enter Placings\",\"\"))","v":""},"","",null,{"$f":"IF(L450<>\"\",L450,IF(OR(J450=\"DNF\",J450=\"DSQ\"),0,IF(N450=\"\",\"\",RANK(N450,N446:N453,1))))","v":""},{"$f":"IF(P450=\"\",0,IF(P450=0,0,VLOOKUP(P:P,Points!B:C,2,FALSE)))","v":0},5,null,{"$f":"IF(P454>4.9,5,\"\")","v":""},{"$f":"IFERROR(IF(T450=\"\",\"\",VLOOKUP(T450,P446:R453,3,FALSE)),\"\")","v":""},null,5,null,{"$f":"IF(D450=\"\",\"\",IFERROR(VLOOKUP(B450,Events!B:L,11,FALSE),Y449))","v":""}," "," ",{"$f":"IFERROR(VLOOKUP(AA:AA,'Masters Convertion'!F:G,2,FALSE),\"\")","v":""},"",{"$f":"IF('Gala Name'!C$4=\"No\",\"\",IFERROR(RANK(N450,N450:N457,1),\"\"))","v":""}]
[{"$f":"IF(J451=\"\",\"\",B446)","v":""},null,null,6,{"$f":"IF(D451=\"\",\"\",IF(VLOOKUP(D451,Teams!$B$3:$C$10,2,FALSE)=\"\",\"\",VLOOKUP(D451,Teams!$B$3:$C$10,2,FALSE)))","v":""},null,null,{"$f":"IF(G451=\"\",\"\",YEAR('Gala Name'!$C$9)-YEAR(G451))","v":""},"",null,"",{"$f":"IF(OR(J451=\"\",J451=\"DSQ\"),\"\",IF(OR(J451=J448,J451=J449,J451=J450,J451=J452,J451=J453,J451=J447,J451=J446),\"Enter Placings\",\"\"))","v":""},"","",null,{"$f":"IF(L451<>\"\",L451,IF(OR(J451=\"DNF\",J451=\"DSQ\"),0,IF(N451=\"\",\"\",RANK(N451,N446:N453,1))))","v":""},{"$f":"IF(P451=\"\",0,IF(P451=0,0,VLOOKUP(P:P,Points!B:C,2,FALSE)))","v":0},6,null,{"$f":"IF(P454>5.9,6,\"\")","v":""},{"$f":"IFERROR(IF(T451=\"\",\"\",VLOOKUP(T451,P446:R453,3,FALSE)),\"\")","v":""},null,6,null,{"$f":"IF(D451=\"\",\"\",IFERROR(VLOOKUP(B451,Events!B:L,11,FALSE),Y450))","v":""}," "," ",{"$f":"IFERROR(VLOOKUP(AA:AA,'Masters Convertion'!F:G,2,FALSE),\"\")","v":""},"",{"$f":"IF('Gala Name'!C$4=\"No\",\"\",IFERROR(RANK(N451,N451:N458,1),\"\"))","v":""}]
[{"$f":"IF(J452=\"\",\"\",B446)","v":""},null,null,7,{"$f":"IF(D452=\"\",\"\",IF(VLOOKUP(D452,Teams!$B$3:$C$10,2,FALSE)=\"\",\"\",VLOOKUP(D452,Teams!$B$3:$C$10,2,FALSE)))","v":""},null,null,{"$f":"IF(G452=\"\",\"\",YEAR('Gala Name'!$C$9)-YEAR(G452))","v":""},"",null,"",{"$f":"IF(OR(J452=\"\",J452=\"DSQ\"),\"\",IF(OR(J452=J449,J452=J450,J452=J451,J452=J453,J452=J446,J452=J447,J452=J448),\"Enter Placings\",\"\"))","v":""},"","",null,{"$f":"IF(L452<>\"\",L452,IF(OR(J452=\"DNF\",J452=\"DSQ\"),0,IF(N452=\"\",\"\",RANK(N452,N446:N453,1))))","v":""},{"$f":"IF(P452=\"\",0,IF(P452=0,0,VLOOKUP(P:P,Points!B:C,2,FALSE)))","v":0},7,null,{"$f":"IF(P454>6.9,7,\"\")","v":""},{"$f":"IFERROR(IF(T452=\"\",\"\",VLOOKUP(T452,P446:R453,3,FALSE)),\"\")","v":""},null,7,null,{"$f":"IF(D452=\"\",\"\",IFERROR(VLOOKUP(B452,Events!B:L,11,FALSE),Y451))","v":""}," "," ",{"$f":"IFERROR(VLOOKUP(AA:AA,'Masters Convertion'!F:G,2,FALSE),\"\")","v":""},"",{"$f":"IF('Gala Name'!C$4=\"No\",\"\",IFERROR(RANK(N452,N452:N459,1),\"\"))","v":""}]
[{"$f":"IF(J453=\"\",\"\",B446)","v":""},null,null,8,{"$f":"IF(D453=\"\",\"\",IF(VLOOKUP(D453,Teams!$B$3:$C$10,2,FALSE)=\"\",\"\",VLOOKUP(D453,Teams!$B$3:$C$10,2,FALSE)))","v":""},null,null,{"$f":"IF(G453=\"\",\"\",YEAR('Gala Name'!$C$9)-YEAR(G453))","v":""},"",null,"",{"$f":"IF(OR(J453=\"\",J453=\"DSQ\"),\"\",IF(OR(J453=J450,J453=J451,J453=J452,J453=J446,J453=J447,J453=J448,J453=J449),\"Enter Placings\",\"\"))","v":""},"","",null,{"$f":"IF(L453<>\"\",L453,IF(OR(J453=\"DNF\",J453=\"DSQ\"),0,IF(N453=\"\",\"\",RANK(N453,N446:N453,1))))","v":""},{"$f":"IF(P453=\"\",0,IF(P453=0,0,VLOOKUP(P:P,Points!B:C,2,FALSE)))","v":0},8,null,{"$f":"IF(P454>7.9,8,\"\")","v":""},{"$f":"IFERROR(IF(T453=\"\",\"\",VLOOKUP(T453,P446:R453,3,FALSE)),\"\")","v":""},null,8,null,{"$f":"IF(D453=\"\",\"\",IFERROR(VLOOKUP(B453,Events!B:L,11,FALSE),Y452))","v":""}," "," ",{"$f":"IFERROR(VLOOKUP(AA:AA,'Masters Convertion'!F:G,2,FALSE),\"\")","v":""},"",{"$f":"IF('Gala Name'!C$4=\"No\",\"\",IFERROR(RANK(N453,N453:N460,1),\"\"))","v":""}]
[null,null,null,null,null,null,null,null,null,null,null,null,{"$f":"IF(J454=\"\",\"\",UPPER(TEXT(J454,\"0 00.00\")))","v":""},{"$f":"IF(J454=\"DSQ\",999999,IF(J454=\"DNF\",999999,IF(J454=\"\",\"\",IF(LEFT(M454,1)=\"0\",RIGHT(M454,5)*1,LEFT(J454,1)*60+RIGHT(M454,5)*1))))","v":""},null,{"$f":"MAX(P446:P453)","v":0},null,null,null,null,null,null,"*"]
[{"$f":"IF(J455=\"\",\"\",B455)","v":""},{"$f":"B446+1","v":51},{"$f":"IF(D455=1,VLOOKUP(B455,Events!B:H,6,FALSE)&VLOOKUP(B455,Events!B:H,7,FALSE),\"\")","v":"   "},1,{"$f":"IF(D455=\"\",\"\",IF(VLOOKUP(D455,Teams!$B$3:$C$10,2,FALSE)=\"\",\"\",VLOOKUP(D455,Teams!$B$3:$C$10,2,FALSE)))","v":""},null,null,{"$f":"IF(G455=\"\",\"\",YEAR('Gala Name'!$C$9)-YEAR(G455))","v":""},{"$f":"IF(IF(J455=\"DSQ\",PROPER(K455),PROPER(F455))=\"\",\"\",IF(J455=\"DSQ\",PROPER(K455),PROPER(F455)))","v":""},null,"",{"$f":"IF(OR(J455=\"\",J455=\"DSQ\"),\"\",IF(OR(J455=J456,J455=J457,J455=J458,J455=J459,J455=J460,J455=J461,J455=J462),\"Enter Placings\",\"\"))","v":""},"","",null,{"$f":"IF(L455<>\"\",L455,IF(OR(J455=\"DNF\",J455=\"DSQ\"),0,IF(N455=\"\",\"\",RANK(N455,N455:N462,1))))","v":""},{"$f":"IF(P455=\"\",0,IF(P455=0,0,VLOOKUP(P:P,Points!B:C,2,FALSE)))","v":0},{"$f":"D455","v":1},null,{"$f":"IF(P463>0.9,1,\"\")","v":""},{"$f":"IFERROR(IF(T455=\"\",\"\",VLOOKUP(T455,P455:R462,3,FALSE)),\"\")","v":""},null,1,null,{"$f":"IF(D455=\"\",\"\",IFERROR(VLOOKUP(B455,Events!B:L,11,FALSE),Y454))","v":""}," ",{"$f":"Z455&Y455&H455","v":" "},{"$f":"IFERROR(VLOOKUP(AA:AA,'Masters Convertion'!F:G,2,FALSE),\"\")","v":""},"",{"$f":"IF('Gala Name'!C$4=\"No\",\"\",IFERROR(RANK(N455,N455:N462,1),\"\"))","v":""}]
[{"$f":"IF(J456=\"\",\"\",B455)","v":""},null,null,2,{"$f":"IF(D456=\"\",\"\",IF(VLOOKUP(D456,Teams!$B$3:$C$10,2,FALSE)=\"\",\"\",VLOOKUP(D456,Teams!$B$3:$C$10,2,FALSE)))","v":""},null,null,{"$f":"IF(G456=\"\",\"\",YEAR('Gala Name'!$C$9)-YEAR(G456))","v":""},"",null,"",{"$f":"IF(OR(J456=\"\",J456=\"DSQ\"),\"\",IF(OR(J456=J455,J456=J457,J456=J458,J456=J459,J456=J460,J456=J461,J456=J462),\"Enter Placings\",\"\"))","v":""},"","",null,{"$f":"IF(L456<>\"\",L456,IF(OR(J456=\"DNF\",J456=\"DSQ\"),0,IF(N456=\"\",\"\",RANK(N456,N455:N462,1))))","v":""},{"$f":"IF(P456=\"\",0,IF(P456=0,0,VLOOKUP(P:P,Points!B:C,2,FALSE)))","v":0},2,null,{"$f":"IF(P463>1.9,2,\"\")","v":""},{"$f":"IFERROR(IF(T456=\"\",\"\",VLOOKUP(T456,P455:R462,3,FALSE)),\"\")","v":""},null,2,null,{"$f":"IF(D456=\"\",\"\",IFERROR(VLOOKUP(B456,Events!B:L,11,FALSE),Y455))","v":""}," "," ",{"$f":"IFERROR(VLOOKUP(AA:AA,'Masters Convertion'!F:G,2,FALSE),\"\")","v":""},{"$f":"IF(AB456=\"\",\"\",ROUNDDOWN(AB456*N456,2))","v":""},{"$f":"IF('Gala Name'!C$4=\"No\",\"\",IFERROR(RANK(N456,N456:N463,1),\"\"))","v":""}]
[{"$f":"IF(J457=\"\",\"\",B455)","v":""},null,null,3,{"$f":"IF(D457=\"\",\"\",IF(VLOOKUP(D457,Teams!$B$3:$C$10,2,FALSE)=\"\",\"\",VLOOKUP(D457,Teams!$B$3:$C$10,2,FALSE)))","v":""},null,null,{"$f":"IF(G457=\"\",\"\",YEAR('Gala Name'!$C$9)-YEAR(G457))","v":""},"",null,"",{"$f":"IF(OR(J457=\"\",J457=\"DSQ\"),\"\",IF(OR(J457=J455,J457=J456,J457=J458,J457=J459,J457=J460,J457=J461,J457=J462),\"Enter Placings\",\"\"))","v":""},"","",null,{"$f":"IF(L457<>\"\",L457,IF(OR(J457=\"DNF\",J457=\"DSQ\"),0,IF(N457=\"\",\"\",RANK(N457,N455:N462,1))))","v":""},{"$f":"IF(P457=\"\",0,IF(P457=0,0,VLOOKUP(P:P,Points!B:C,2,FALSE)))","v":0},3,null,{"$f":"IF(P463>2.9,3,\"\")","v":""},{"$f":"IFERROR(IF(T457=\"\",\"\",VLOOKUP(T457,P455:R462,3,FALSE)),\"\")","v":""},null,3,null,{"$f":"IF(D457=\"\",\"\",IFERROR(VLOOKUP(B457,Events!B:L,11,FALSE),Y456))","v":""}," "," ",{"$f":"IFERROR(VLOOKUP(AA:AA,'Masters Convertion'!F:G,2,FALSE),\"\")","v":""},"",{"$f":"IF('Gala Name'!C$4=\"No\",\"\",IFERROR(RANK(N457,N457:N464,1),\"\"))","v":""}]
[{"$f":"IF(J458=\"\",\"\",B455)","v":""},null,null,4,{"$f":"IF(D458=\"\",\"\",IF(VLOOKUP(D458,Teams!$B$3:$C$10,2,FALSE)=\"\",\"\",VLOOKUP(D458,Teams!$B$3:$C$10,2,FALSE)))","v":""},null,null,{"$f":"IF(G458=\"\",\"\",YEAR('Gala Name'!$C$9)-YEAR(G458))","v":""},"",null,"",{"$f":"IF(OR(J458=\"\",J458=\"DSQ\"),\"\",IF(OR(J458=J455,J458=J456,J458=J457,J458=J459,J458=J460,J458=J461,J458=J462),\"Enter Placings\",\"\"))","v":""},"","",null,{"$f":"IF(L458<>\"\",L458,IF(OR(J458=\"DNF\",J458=\"DSQ\"),0,IF(N458=\"\",\"\",RANK(N458,N455:N462,1))))","v":""},{"$f":"IF(P458=\"\",0,IF(P458=0,0,VLOOKUP(P:P,Points!B:C,2,FALSE)))","v":0},4,null,{"$f":"IF(P463>3.9,4,\"\")","v":""},{"$f":"IFERROR(IF(T458=\"\",\"\",VLOOKUP(T458,P455:R462,3,FALSE)),\"\")","v":""},null,4,null,{"$f":"IF(D458=\"\",\"\",IFERROR(VLOOKUP(B458,Events!B:L,11,FALSE),Y457))","v":""}," "," ",{"$f":"IFERROR(VLOOKUP(AA:AA,'Masters Convertion'!F:G,2,FALSE),\"\")","v":""},"",{"$f":"IF('Gala Name'!C$4=\"No\",\"\",IFERROR(RANK(N458,N458:N465,1),\"\"))","v":""}]
[{"$f":"IF(J459=\"\",\"\",B455)","v":""},null,null,5,{"$f":"IF(D459=\"\",\"\",IF(VLOOKUP(D459,Teams!$B$3:$C$10,2,FALSE)=\"\",\"\",VLOOKUP(D459,Teams!$B$3:$C$10,2,FALSE)))","v":""},null,null,{"$f":"IF(G459=\"\",\"\",YEAR('Gala Name'!$C$9)-YEAR(G459))","v":""},"",null,"",{"$f":"IF(OR(J459=\"\",J459=\"DSQ\"),\"\",IF(OR(J459=J456,J459=J457,J459=J458,J459=J460,J459=J461,J459=J462,J459=J455),\"Enter Placings\",\"\"))","v":""},"","",null,{"$f":"IF(L459<>\"\",L459,IF(OR(J459=\"DNF\",J459=\"DSQ\"),0,IF(N459=\"\",\"\",RANK(N459,N455:N462,1))))","v":""},{"$f":"IF(P459=\"\",0,IF(P459=0,0,VLOOKUP(P:P,Points!B:C,2,FALSE)))","v":0},5,null,{"$f":"IF(P463>4.9,5,\"\")","v":""},{"$f":"IFERROR(IF(T459=\"\",\"\",VLOOKUP(T459,P455:R462,3,FALSE)),\"\")","v":""},null,5,null,{"$f":"IF(D459=\"\",\"\",IFERROR(VLOOKUP(B459,Events!B:L,11,FALSE),Y458))","v":""}," "," ",{"$f":"IFERROR(VLOOKUP(AA:AA,'Masters Convertion'!F:G,2,FALSE),\"\")","v":""},"",{"$f":"IF('Gala Name'!C$4=\"No\",\"\",IFERROR(RANK(N459,N459:N466,1),\"\"))","v":""}]
[{"$f":"IF(J460=\"\",\"\",B455)","v":""},null,null,6,{"$f":"IF(D460=\"\",\"\",IF(VLOOKUP(D460,Teams!$B$3:$C$10,2,FALSE)=\"\",\"\",VLOOKUP(D460,Teams!$B$3:$C$10,2,FALSE)))","v":""},null,null,{"$f":"IF(G460=\"\",\"\",YEAR('Gala Name'!$C$9)-YEAR(G460))","v":""},"",null,"",{"$f":"IF(OR(J460=\"\",J460=\"DSQ\"),\"\",IF(OR(J460=J457,J460=J458,J460=J459,J460=J461,J460=J462,J460=J456,J460=J455),\"Enter Placings\",\"\"))","v":""},"","",null,{"$f":"IF(L460<>\"\",L460,IF(OR(J460=\"DNF\",J460=\"DSQ\"),0,IF(N460=\"\",\"\",RANK(N460,N455:N462,1))))","v":""},{"$f":"IF(P460=\"\",0,IF(P460=0,0,VLOOKUP(P:P,Points!B:C,2,FALSE)))","v":0},6,null,{"$f":"IF(P463>5.9,6,\"\")","v":""},{"$f":"IFERROR(IF(T460=\"\",\"\",VLOOKUP(T460,P455:R462,3,FALSE)),\"\")","v":""},null,6,null,{"$f":"IF(D460=\"\",\"\",IFERROR(VLOOKUP(B460,Events!B:L,11,FALSE),Y459))","v":""}," "," ",{"$f":"IFERROR(VLOOKUP(AA:AA,'Masters Convertion'!F:G,2,FALSE),\"\")","v":""},"",{"$f":"IF('Gala Name'!C$4=\"No\",\"\",IFERROR(RANK(N460,N460:N467,1),\"\"))","v":""}]
[{"$f":"IF(J461=\"\",\"\",B455)","v":""},null,null,7,{"$f":"IF(D461=\"\",\"\",IF(VLOOKUP(D461,Teams!$B$3:$C$10,2,FALSE)=\"\",\"\",VLOOKUP(D461,Teams!$B$3:$C$10,2,FALSE)))","v":""},null,null,{"$f":"IF(G461=\"\",\"\",YEAR('Gala Name'!$C$9)-YEAR(G461))","v":""},"",null,"",{"$f":"IF(OR(J461=\"\",J461=\"DSQ\"),\"\",IF(OR(J461=J458,J461=J459,J461=J460,J461=J462,J461=J455,J461=J456,J461=J457),\"Enter Placings\",\"\"))","v":""},"","",null,{"$f":"IF(L461<>\"\",L461,IF(OR(J461=\"DNF\",J461=\"DSQ\"),0,IF(N461=\"\",\"\",RANK(N461,N455:N462,1))))","v":""},{"$f":"IF(P461=\"\",0,IF(P461=0,0,VLOOKUP(P:P,Points!B:C,2,FALSE)))","v":0},7,null,{"$f":"IF(P463>6.9,7,\"\")","v":""},{"$f":"IFERROR(IF(T461=\"\",\"\",VLOOKUP(T461,P455:R462,3,FALSE)),\"\")","v":""},null,7,null,{"$f":"IF(D461=\"\",\"\",IFERROR(VLOOKUP(B461,Events!B:L,11,FALSE),Y460))","v":""}," "," ",{"$f":"IFERROR(VLOOKUP(AA:AA,'Masters Convertion'!F:G,2,FALSE),\"\")","v":""},"",{"$f":"IF('Gala Name'!C$4=\"No\",\"\",IFERROR(RANK(N461,N461:N468,1),\"\"))","v":""}]
[{"$f":"IF(J462=\"\",\"\",B455)","v":""},null,null,8,{"$f":"IF(D462=\"\",\"\",IF(VLOOKUP(D462,Teams!$B$3:$C$10,2,FALSE)=\"\",\"\",VLOOKUP(D462,Teams!$B$3:$C$10,2,FALSE)))","v":""},null,null,{"$f":"IF(G462=\"\",\"\",YEAR('Gala Name'!$C$9)-YEAR(G462))","v":""},"",null,"",{"$f":"IF(OR(J462=\"\",J462=\"DSQ\"),\"\",IF(OR(J462=J459,J462=J460,J462=J461,J462=J455,J462=J456,J462=J457,J462=J458),\"Enter Placings\",\"\"))","v":""},"","",null,{"$f":"IF(L462<>\"\",L462,IF(OR(J462=\"DNF\",J462=\"DSQ\"),0,IF(N462=\"\",\"\",RANK(N462,N455:N462,1))))","v":""},{"$f":"IF(P462=\"\",0,IF(P462=0,0,VLOOKUP(P:P,Points!B:C,2,FALSE)))","v":0},8,null,{"$f":"IF(P463>7.9,8,\"\")","v":""},{"$f":"IFERROR(IF(T462=\"\",\"\",VLOOKUP(T462,P455:R462,3,FALSE)),\"\")","v":""},null,8,null,{"$f":"IF(D462=\"\",\"\",IFERROR(VLOOKUP(B462,Events!B:L,11,FALSE),Y461))","v":""}," "," ",{"$f":"IFERROR(VLOOKUP(AA:AA,'Masters Convertion'!F:G,2,FALSE),\"\")","v":""},"",{"$f":"IF('Gala Name'!C$4=\"No\",\"\",IFERROR(RANK(N462,N462:N469,1),\"\"))","v":""}]
[null,null,null,null,null,null,null,null,null,null,null,null,"","",null,{"$f":"MAX(P455:P462)","v":0},null,null,null,null,null,null,"*"]
[{"$f":"IF(J464=\"\",\"\",B464)","v":""},{"$f":"B455+1","v":52},{"$f":"IF(D464=1,VLOOKUP(B464,Events!B:H,6,FALSE)&VLOOKUP(B464,Events!B:H,7,FALSE),\"\")","v":"   "},1,{"$f":"IF(D464=\"\",\"\",IF(VLOOKUP(D464,Teams!$B$3:$C$10,2,FALSE)=\"\",\"\",VLOOKUP(D464,Teams!$B$3:$C$10,2,FALSE)))","v":""},null,null,{"$f":"IF(G464=\"\",\"\",YEAR('Gala Name'!$C$9)-YEAR(G464))","v":""},"",null,"",{"$f":"IF(OR(J464=\"\",J464=\"DSQ\"),\"\",IF(OR(J464=J465,J464=J466,J464=J467,J464=J468,J464=J469,J464=J470,J464=J471),\"Enter Placings\",\"\"))","v":""},"","",null,{"$f":"IF(L464<>\"\",L464,IF(OR(J464=\"DNF\",J464=\"DSQ\"),0,IF(N464=\"\",\"\",RANK(N464,N464:N471,1))))","v":""},{"$f":"IF(P464=\"\",0,IF(P464=0,0,VLOOKUP(P:P,Points!B:C,2,FALSE)))","v":0},{"$f":"D464","v":1},null,{"$f":"IF(P472>0.9,1,\"\")","v":""},{"$f":"IFERROR(IF(T464=\"\",\"\",VLOOKUP(T464,P464:R471,3,FALSE)),\"\")","v":""},null,1,null,{"$f":"IF(D464=\"\",\"\",IFERROR(VLOOKUP(B464,Events!B:L,11,FALSE),Y463))","v":""}," "," ",{"$f":"IFERROR(VLOOKUP(AA:AA,'Masters Convertion'!F:G,2,FALSE),\"\")","v":""},"",{"$f":"IF('Gala Name'!C$4=\"No\",\"\",IFERROR(RANK(N464,N464:N471,1),\"\"))","v":""}]
[{"$f":"IF(J465=\"\",\"\",B464)","v":""},null,null,2,{"$f":"IF(D465=\"\",\"\",IF(VLOOKUP(D465,Teams!$B$3:$C$10,2,FALSE)=\"\",\"\",VLOOKUP(D465,Teams!$B$3:$C$10,2,FALSE)))","v":""},null,null,{"$f":"IF(G465=\"\",\"\",YEAR('Gala Name'!$C$9)-YEAR(G465))","v":""},"",null,"",{"$f":"IF(OR(J465=\"\",J465=\"DSQ\"),\"\",IF(OR(J465=J464,J465=J466,J465=J467,J465=J468,J465=J469,J465=J470,J465=J471),\"Enter Placings\",\"\"))","v":""},"","",null,{"$f":"IF(L465<>\"\",L465,IF(OR(J465=\"DNF\",J465=\"DSQ\"),0,IF(N465=\"\",\"\",RANK(N465,N464:N471,1))))","v":""},{"$f":"IF(P465=\"\",0,IF(P465=0,0,VLOOKUP(P:P,Points!B:C,2,FALSE)))","v":0},2,null,{"$f":"IF(P472>1.9,2,\"\")","v":""},{"$f":"IFERROR(IF(T465=\"\",\"\",VLOOKUP(T465,P464:R471,3,FALSE)),\"\")","v":""},null,2,null,{"$f":"IF(D465=\"\",\"\",IFERROR(VLOOKUP(B465,Events!B:L,11,FALSE),Y464))","v":""},{"$f":"IF(LEFT(C465,1)=\"\",Z464,LEFT(C465,1))","v":" "}," ",{"$f":"IFERROR(VLOOKUP(AA:AA,'Masters Convertion'!F:G,2,FALSE),\"\")","v":""},"",{"$f":"IF('Gala Name'!C$4=\"No\",\"\",IFERROR(RANK(N465,N465:N472,1),\"\"))","v":""}]
[{"$f":"IF(J466=\"\",\"\",B464)","v":""},null,null,3,{"$f":"IF(D466=\"\",\"\",IF(VLOOKUP(D466,Teams!$B$3:$C$10,2,FALSE)=\"\",\"\",VLOOKUP(D466,Teams!$B$3:$C$10,2,FALSE)))","v":""},null,null,{"$f":"IF(G466=\"\",\"\",YEAR('Gala Name'!$C$9)-YEAR(G466))","v":""},"",null,"",{"$f":"IF(OR(J466=\"\",J466=\"DSQ\"),\"\",IF(OR(J466=J464,J466=J465,J466=J467,J466=J468,J466=J469,J466=J470,J466=J471),\"Enter Placings\",\"\"))","v":""},"","",null,{"$f":"IF(L466<>\"\",L466,IF(OR(J466=\"DNF\",J466=\"DSQ\"),0,IF(N466=\"\",\"\",RANK(N466,N464:N471,1))))","v":""},{"$f":"IF(P466=\"\",0,IF(P466=0,0,VLOOKUP(P:P,Points!B:C,2,FALSE)))","v":0},3,null,{"$f":"IF(P472>2.9,3,\"\")","v":""},{"$f":"IFERROR(IF(T466=\"\",\"\",VLOOKUP(T466,P464:R471,3,FALSE)),\"\")","v":""},null,3,null,{"$f":"IF(D466=\"\",\"\",IFERROR(VLOOKUP(B466,Events!B:L,11,FALSE),Y465))","v":""}," "," ",{"$f":"IFERROR(VLOOKUP(AA:AA,'Masters Convertion'!F:G,2,FALSE),\"\")","v":""},"",{"$f":"IF('Gala Name'!C$4=\"No\",\"\",IFERROR(RANK(N466,N466:N473,1),\"\"))","v":""}]
[{"$f":"IF(J467=\"\",\"\",B464)","v":""},null,null,4,{"$f":"IF(D467=\"\",\"\",IF(VLOOKUP(D467,Teams!$B$3:$C$10,2,FALSE)=\"\",\"\",VLOOKUP(D467,Teams!$B$3:$C$10,2,FALSE)))","v":""},null,null,{"$f":"IF(G467=\"\",\"\",YEAR('Gala Name'!$C$9)-YEAR(G467))","v":""},"",null,"",{"$f":"IF(OR(J467=\"\",J467=\"DSQ\"),\"\",IF(OR(J467=J464,J467=J465,J467=J466,J467=J468,J467=J469,J467=J470,J467=J471),\"Enter Placings\",\"\"))","v":""},"","",null,{"$f":"IF(L467<>\"\",L467,IF(OR(J467=\"DNF\",J467=\"DSQ\"),0,IF(N467=\"\",\"\",RANK(N467,N464:N471,1))))","v":""},{"$f":"IF(P467=\"\",0,IF(P467=0,0,VLOOKUP(P:P,Points!B:C,2,FALSE)))","v":0},4,null,{"$f":"IF(P472>3.9,4,\"\")","v":""},{"$f":"IFERROR(IF(T467=\"\",\"\",VLOOKUP(T467,P464:R471,3,FALSE)),\"\")","v":""},null,4,null,{"$f":"IF(D467=\"\",\"\",IFERROR(VLOOKUP(B467,Events!B:L,11,FALSE),Y466))","v":""}," "," ",{"$f":"IFERROR(VLOOKUP(AA:AA,'Masters Convertion'!F:G,2,FALSE),\"\")","v":""},"",{"$f":"IF('Gala Name'!C$4=\"No\",\"\",IFERROR(RANK(N467,N467:N474,1),\"\"))","v":""}]
[{"$f":"IF(J468=\"\",\"\",B464)","v":""},null,null,5,{"$f":"IF(D468=\"\",\"\",IF(VLOOKUP(D468,Teams!$B$3:$C$10,2,FALSE)=\"\",\"\",VLOOKUP(D468,Teams!$B$3:$C$10,2,FALSE)))","v":""},null,null,{"$f":"IF(G468=\"\",\"\",YEAR('Gala Name'!$C$9)-YEAR(G468))","v":""},"",null,"",{"$f":"IF(OR(J468=\"\",J468=\"DSQ\"),\"\",IF(OR(J468=J465,J468=J466,J468=J467,J468=J469,J468=J470,J468=J471,J468=J464),\"Enter Placings\",\"\"))","v":""},"","",null,{"$f":"IF(L468<>\"\",L468,IF(OR(J468=\"DNF\",J468=\"DSQ\"),0,IF(N468=\"\",\"\",RANK(N468,N464:N471,1))))","v":""},{"$f":"IF(P468=\"\",0,IF(P468=0,0,VLOOKUP(P:P,Points!B:C,2,FALSE)))","v":0},5,null,{"$f":"IF(P472>4.9,5,\"\")","v":""},{"$f":"IFERROR(IF(T468=\"\",\"\",VLOOKUP(T468,P464:R471,3,FALSE)),\"\")","v":""},null,5,null,{"$f":"IF(D468=\"\",\"\",IFERROR(VLOOKUP(B468,Events!B:L,11,FALSE),Y467))","v":""}," "," ",{"$f":"IFERROR(VLOOKUP(AA:AA,'Masters Convertion'!F:G,2,FALSE),\"\")","v":""},"",{"$f":"IF('Gala Name'!C$4=\"No\",\"\",IFERROR(RANK(N468,N468:N475,1),\"\"))","v":""}]
[{"$f":"IF(J469=\"\",\"\",B464)","v":""},null,null,6,{"$f":"IF(D469=\"\",\"\",IF(VLOOKUP(D469,Teams!$B$3:$C$10,2,FALSE)=\"\",\"\",VLOOKUP(D469,Teams!$B$3:$C$10,2,FALSE)))","v":""},null,null,{"$f":"IF(G469=\"\",\"\",YEAR('Gala Name'!$C$9)-YEAR(G469))","v":""},"",null,"",{"$f":"IF(OR(J469=\"\",J469=\"DSQ\"),\"\",IF(OR(J469=J466,J469=J467,J469=J468,J469=J470,J469=J471,J469=J465,J469=J464),\"Enter Placings\",\"\"))","v":""},"","",null,{"$f":"IF(L469<>\"\",L469,IF(OR(J469=\"DNF\",J469=\"DSQ\"),0,IF(N469=\"\",\"\",RANK(N469,N464:N471,1))))","v":""},{"$f":"IF(P469=\"\",0,IF(P469=0,0,VLOOKUP(P:P,Points!B:C,2,FALSE)))","v":0},6,null,{"$f":"IF(P472>5.9,6,\"\")","v":""},{"$f":"IFERROR(IF(T469=\"\",\"\",VLOOKUP(T469,P464:R471,3,FALSE)),\"\")","v":""},null,6,null,{"$f":"IF(D469=\"\",\"\",IFERROR(VLOOKUP(B469,Events!B:L,11,FALSE),Y468))","v":""}," "," ",{"$f":"IFERROR(VLOOKUP(AA:AA,'Masters Convertion'!F:G,2,FALSE),\"\")","v":""},"",{"$f":"IF('Gala Name'!C$4=\"No\",\"\",IFERROR(RANK(N469,N469:N476,1),\"\"))","v":""}]
[{"$f":"IF(J470=\"\",\"\",B464)","v":""},null,null,7,{"$f":"IF(D470=\"\",\"\",IF(VLOOKUP(D470,Teams!$B$3:$C$10,2,FALSE)=\"\",\"\",VLOOKUP(D470,Teams!$B$3:$C$10,2,FALSE)))","v":""},null,null,{"$f":"IF(G470=\"\",\"\",YEAR('Gala Name'!$C$9)-YEAR(G470))","v":""},"",null,"",{"$f":"IF(OR(J470=\"\",J470=\"DSQ\"),\"\",IF(OR(J470=J467,J470=J468,J470=J469,J470=J471,J470=J464,J470=J465,J470=J466),\"Enter Placings\",\"\"))","v":""},"","",null,{"$f":"IF(L470<>\"\",L470,IF(OR(J470=\"DNF\",J470=\"DSQ\"),0,IF(N470=\"\",\"\",RANK(N470,N464:N471,1))))","v":""},{"$f":"IF(P470=\"\",0,IF(P470=0,0,VLOOKUP(P:P,Points!B:C,2,FALSE)))","v":0},7,null,{"$f":"IF(P472>6.9,7,\"\")","v":""},{"$f":"IFERROR(IF(T470=\"\",\"\",VLOOKUP(T470,P464:R471,3,FALSE)),\"\")","v":""},null,7,null,{"$f":"IF(D470=\"\",\"\",IFERROR(VLOOKUP(B470,Events!B:L,11,FALSE),Y469))","v":""}," "," ",{"$f":"IFERROR(VLOOKUP(AA:AA,'Masters Convertion'!F:G,2,FALSE),\"\")","v":""},"",{"$f":"IF('Gala Name'!C$4=\"No\",\"\",IFERROR(RANK(N470,N470:N477,1),\"\"))","v":""}]
[{"$f":"IF(J471=\"\",\"\",B464)","v":""},null,null,8,{"$f":"IF(D471=\"\",\"\",IF(VLOOKUP(D471,Teams!$B$3:$C$10,2,FALSE)=\"\",\"\",VLOOKUP(D471,Teams!$B$3:$C$10,2,FALSE)))","v":""},null,null,{"$f":"IF(G471=\"\",\"\",YEAR('Gala Name'!$C$9)-YEAR(G471))","v":""},"",null,"",{"$f":"IF(OR(J471=\"\",J471=\"DSQ\"),\"\",IF(OR(J471=J468,J471=J469,J471=J470,J471=J464,J471=J465,J471=J466,J471=J467),\"Enter Placings\",\"\"))","v":""},"","",null,{"$f":"IF(L471<>\"\",L471,IF(OR(J471=\"DNF\",J471=\"DSQ\"),0,IF(N471=\"\",\"\",RANK(N471,N464:N471,1))))","v":""},{"$f":"IF(P471=\"\",0,IF(P471=0,0,VLOOKUP(P:P,Points!B:C,2,FALSE)))","v":0},8,null,{"$f":"IF(P472>7.9,8,\"\")","v":""},{"$f":"IFERROR(IF(T471=\"\",\"\",VLOOKUP(T471,P464:R471,3,FALSE)),\"\")","v":""},null,8,null,{"$f":"IF(D471=\"\",\"\",IFERROR(VLOOKUP(B471,Events!B:L,11,FALSE),Y470))","v":""}," "," ",{"$f":"IFERROR(VLOOKUP(AA:AA,'Masters Convertion'!F:G,2,FALSE),\"\")","v":""},"",{"$f":"IF('Gala Name'!C$4=\"No\",\"\",IFERROR(RANK(N471,N471:N478,1),\"\"))","v":""}]
[null,null,null,null,null,null,null,null,null,null,null,null,"","",null,{"$f":"MAX(P464:P471)","v":0},null,null,null,null,null,null,"*"]
[{"$f":"IF(J473=\"\",\"\",B473)","v":""},{"$f":"B464+1","v":53},{"$f":"IF(D473=1,VLOOKUP(B473,Events!B:H,6,FALSE)&VLOOKUP(B473,Events!B:H,7,FALSE),\"\")","v":"   "},1,{"$f":"IF(D473=\"\",\"\",IF(VLOOKUP(D473,Teams!$B$3:$C$10,2,FALSE)=\"\",\"\",VLOOKUP(D473,Teams!$B$3:$C$10,2,FALSE)))","v":""},null,null,{"$f":"IF(G473=\"\",\"\",YEAR('Gala Name'!$C$9)-YEAR(G473))","v":""},"",null,"",{"$f":"IF(OR(J473=\"\",J473=\"DSQ\"),\"\",IF(OR(J473=J474,J473=J475,J473=J476,J473=J477,J473=J478,J473=J479,J473=J480),\"Enter Placings\",\"\"))","v":""},"","",null,{"$f":"IF(L473<>\"\",L473,IF(OR(J473=\"DNF\",J473=\"DSQ\"),0,IF(N473=\"\",\"\",RANK(N473,N473:N480,1))))","v":""},{"$f":"IF(P473=\"\",0,IF(P473=0,0,VLOOKUP(P:P,Points!B:C,2,FALSE)))","v":0},{"$f":"D473","v":1},null,{"$f":"IF(P481>0.9,1,\"\")","v":""},{"$f":"IFERROR(IF(T473=\"\",\"\",VLOOKUP(T473,P473:R480,3,FALSE)),\"\")","v":""},null,1,null,{"$f":"IF(D473=\"\",\"\",IFERROR(VLOOKUP(B473,Events!B:L,11,FALSE),Y472))","v":""}," "," ",{"$f":"IFERROR(VLOOKUP(AA:AA,'Masters Convertion'!F:G,2,FALSE),\"\")","v":""},"",{"$f":"IF('Gala Name'!C$4=\"No\",\"\",IFERROR(RANK(N473,N473:N480,1),\"\"))","v":""}]
[{"$f":"IF(J474=\"\",\"\",B473)","v":""},null,null,2,{"$f":"IF(D474=\"\",\"\",IF(VLOOKUP(D474,Teams!$B$3:$C$10,2,FALSE)=\"\",\"\",VLOOKUP(D474,Teams!$B$3:$C$10,2,FALSE)))","v":""},null,null,{"$f":"IF(G474=\"\",\"\",YEAR('Gala Name'!$C$9)-YEAR(G474))","v":""},"",null,{"$f":"IF(J474=\"DSQ\",\"Enter Reason\",\"\")","v":""},{"$f":"IF(OR(J474=\"\",J474=\"DSQ\"),\"\",IF(OR(J474=J473,J474=J475,J474=J476,J474=J477,J474=J478,J474=J479,J474=J480),\"Enter Placings\",\"\"))","v":""},"","",null,{"$f":"IF(L474<>\"\",L474,IF(OR(J474=\"DNF\",J474=\"DSQ\"),0,IF(N474=\"\",\"\",RANK(N474,N473:N480,1))))","v":""},{"$f":"IF(P474=\"\",0,IF(P474=0,0,VLOOKUP(P:P,Points!B:C,2,FALSE)))","v":0},2,null,{"$f":"IF(P481>1.9,2,\"\")","v":""},{"$f":"IFERROR(IF(T474=\"\",\"\",VLOOKUP(T474,P473:R480,3,FALSE)),\"\")","v":""},null,2,null,{"$f":"IF(D474=\"\",\"\",IFERROR(VLOOKUP(B474,Events!B:L,11,FALSE),Y473))","v":""}," "," ",{"$f":"IFERROR(VLOOKUP(AA:AA,'Masters Convertion'!F:G,2,FALSE),\"\")","v":""},"",{"$f":"IF('Gala Name'!C$4=\"No\",\"\",IFERROR(RANK(N474,N474:N481,1),\"\"))","v":""}]
[{"$f":"IF(J475=\"\",\"\",B473)","v":""},null,null,3,{"$f":"IF(D475=\"\",\"\",IF(VLOOKUP(D475,Teams!$B$3:$C$10,2,FALSE)=\"\",\"\",VLOOKUP(D475,Teams!$B$3:$C$10,2,FALSE)))","v":""},null,null,{"$f":"IF(G475=\"\",\"\",YEAR('Gala Name'!$C$9)-YEAR(G475))","v":""},"",null,"",{"$f":"IF(OR(J475=\"\",J475=\"DSQ\"),\"\",IF(OR(J475=J473,J475=J474,J475=J476,J475=J477,J475=J478,J475=J479,J475=J480),\"Enter Placings\",\"\"))","v":""},"","",null,{"$f":"IF(L475<>\"\",L475,IF(OR(J475=\"DNF\",J475=\"DSQ\"),0,IF(N475=\"\",\"\",RANK(N475,N473:N480,1))))","v":""},{"$f":"IF(P475=\"\",0,IF(P475=0,0,VLOOKUP(P:P,Points!B:C,2,FALSE)))","v":0},3,null,{"$f":"IF(P481>2.9,3,\"\")","v":""},{"$f":"IFERROR(IF(T475=\"\",\"\",VLOOKUP(T475,P473:R480,3,FALSE)),\"\")","v":""},null,3,null,{"$f":"IF(D475=\"\",\"\",IFERROR(VLOOKUP(B475,Events!B:L,11,FALSE),Y474))","v":""}," "," ",{"$f":"IFERROR(VLOOKUP(AA:AA,'Masters Convertion'!F:G,2,FALSE),\"\")","v":""},"",{"$f":"IF('Gala Name'!C$4=\"No\",\"\",IFERROR(RANK(N475,N475:N482,1),\"\"))","v":""}]
[{"$f":"IF(J476=\"\",\"\",B473)","v":""},null,null,4,{"$f":"IF(D476=\"\",\"\",IF(VLOOKUP(D476,Teams!$B$3:$C$10,2,FALSE)=\"\",\"\",VLOOKUP(D476,Teams!$B$3:$C$10,2,FALSE)))","v":""},null,null,{"$f":"IF(G476=\"\",\"\",YEAR('Gala Name'!$C$9)-YEAR(G476))","v":""},"",null,"",{"$f":"IF(OR(J476=\"\",J476=\"DSQ\"),\"\",IF(OR(J476=J473,J476=J474,J476=J475,J476=J477,J476=J478,J476=J479,J476=J480),\"Enter Placings\",\"\"))","v":""},"","",null,{"$f":"IF(L476<>\"\",L476,IF(OR(J476=\"DNF\",J476=\"DSQ\"),0,IF(N476=\"\",\"\",RANK(N476,N473:N480,1))))","v":""},{"$f":"IF(P476=\"\",0,IF(P476=0,0,VLOOKUP(P:P,Points!B:C,2,FALSE)))","v":0},4,null,{"$f":"IF(P481>3.9,4,\"\")","v":""},{"$f":"IFERROR(IF(T476=\"\",\"\",VLOOKUP(T476,P473:R480,3,FALSE)),\"\")","v":""},null,4,null,{"$f":"IF(D476=\"\",\"\",IFERROR(VLOOKUP(B476,Events!B:L,11,FALSE),Y475))","v":""}," "," ",{"$f":"IFERROR(VLOOKUP(AA:AA,'Masters Convertion'!F:G,2,FALSE),\"\")","v":""},"",{"$f":"IF('Gala Name'!C$4=\"No\",\"\",IFERROR(RANK(N476,N476:N483,1),\"\"))","v":""}]
[{"$f":"IF(J477=\"\",\"\",B473)","v":""},null,null,5,{"$f":"IF(D477=\"\",\"\",IF(VLOOKUP(D477,Teams!$B$3:$C$10,2,FALSE)=\"\",\"\",VLOOKUP(D477,Teams!$B$3:$C$10,2,FALSE)))","v":""},null,null,{"$f":"IF(G477=\"\",\"\",YEAR('Gala Name'!$C$9)-YEAR(G477))","v":""},"",null,"",{"$f":"IF(OR(J477=\"\",J477=\"DSQ\"),\"\",IF(OR(J477=J474,J477=J475,J477=J476,J477=J478,J477=J479,J477=J480,J477=J473),\"Enter Placings\",\"\"))","v":""},"","",null,{"$f":"IF(L477<>\"\",L477,IF(OR(J477=\"DNF\",J477=\"DSQ\"),0,IF(N477=\"\",\"\",RANK(N477,N473:N480,1))))","v":""},{"$f":"IF(P477=\"\",0,IF(P477=0,0,VLOOKUP(P:P,Points!B:C,2,FALSE)))","v":0},5,null,{"$f":"IF(P481>4.9,5,\"\")","v":""},{"$f":"IFERROR(IF(T477=\"\",\"\",VLOOKUP(T477,P473:R480,3,FALSE)),\"\")","v":""},null,5,null,{"$f":"IF(D477=\"\",\"\",IFERROR(VLOOKUP(B477,Events!B:L,11,FALSE),Y476))","v":""}," "," ",{"$f":"IFERROR(VLOOKUP(AA:AA,'Masters Convertion'!F:G,2,FALSE),\"\")","v":""},"",{"$f":"IF('Gala Name'!C$4=\"No\",\"\",IFERROR(RANK(N477,N477:N484,1),\"\"))","v":""}]
[{"$f":"IF(J478=\"\",\"\",B473)","v":""},null,null,6,{"$f":"IF(D478=\"\",\"\",IF(VLOOKUP(D478,Teams!$B$3:$C$10,2,FALSE)=\"\",\"\",VLOOKUP(D478,Teams!$B$3:$C$10,2,FALSE)))","v":""},null,null,{"$f":"IF(G478=\"\",\"\",YEAR('Gala Name'!$C$9)-YEAR(G478))","v":""},"",null,"",{"$f":"IF(OR(J478=\"\",J478=\"DSQ\"),\"\",IF(OR(J478=J475,J478=J476,J478=J477,J478=J479,J478=J480,J478=J474,J478=J473),\"Enter Placings\",\"\"))","v":""},"","",null,{"$f":"IF(L478<>\"\",L478,IF(OR(J478=\"DNF\",J478=\"DSQ\"),0,IF(N478=\"\",\"\",RANK(N478,N473:N480,1))))","v":""},{"$f":"IF(P478=\"\",0,IF(P478=0,0,VLOOKUP(P:P,Points!B:C,2,FALSE)))","v":0},6,null,{"$f":"IF(P481>5.9,6,\"\")","v":""},{"$f":"IFERROR(IF(T478=\"\",\"\",VLOOKUP(T478,P473:R480,3,FALSE)),\"\")","v":""},null,6,null,{"$f":"IF(D478=\"\",\"\",IFERROR(VLOOKUP(B478,Events!B:L,11,FALSE),Y477))","v":""}," "," ",{"$f":"IFERROR(VLOOKUP(AA:AA,'Masters Convertion'!F:G,2,FALSE),\"\")","v":""},"",{"$f":"IF('Gala Name'!C$4=\"No\",\"\",IFERROR(RANK(N478,N478:N485,1),\"\"))","v":""}]
[{"$f":"IF(J479=\"\",\"\",B473)","v":""},null,null,7,{"$f":"IF(D479=\"\",\"\",IF(VLOOKUP(D479,Teams!$B$3:$C$10,2,FALSE)=\"\",\"\",VLOOKUP(D479,Teams!$B$3:$C$10,2,FALSE)))","v":""},null,null,{"$f":"IF(G479=\"\",\"\",YEAR('Gala Name'!$C$9)-YEAR(G479))","v":""},"",null,"",{"$f":"IF(OR(J479=\"\",J479=\"DSQ\"),\"\",IF(OR(J479=J476,J479=J477,J479=J478,J479=J480,J479=J473,J479=J474,J479=J475),\"Enter Placings\",\"\"))","v":""},"","",null,{"$f":"IF(L479<>\"\",L479,IF(OR(J479=\"DNF\",J479=\"DSQ\"),0,IF(N479=\"\",\"\",RANK(N479,N473:N480,1))))","v":""},{"$f":"IF(P479=\"\",0,IF(P479=0,0,VLOOKUP(P:P,Points!B:C,2,FALSE)))","v":0},7,null,{"$f":"IF(P481>6.9,7,\"\")","v":""},{"$f":"IFERROR(IF(T479=\"\",\"\",VLOOKUP(T479,P473:R480,3,FALSE)),\"\")","v":""},null,7,null,{"$f":"IF(D479=\"\",\"\",IFERROR(VLOOKUP(B479,Events!B:L,11,FALSE),Y478))","v":""}," "," ",{"$f":"IFERROR(VLOOKUP(AA:AA,'Masters Convertion'!F:G,2,FALSE),\"\")","v":""},"",{"$f":"IF('Gala Name'!C$4=\"No\",\"\",IFERROR(RANK(N479,N479:N486,1),\"\"))","v":""}]
[{"$f":"IF(J480=\"\",\"\",B473)","v":""},null,null,8,{"$f":"IF(D480=\"\",\"\",IF(VLOOKUP(D480,Teams!$B$3:$C$10,2,FALSE)=\"\",\"\",VLOOKUP(D480,Teams!$B$3:$C$10,2,FALSE)))","v":""},null,null,{"$f":"IF(G480=\"\",\"\",YEAR('Gala Name'!$C$9)-YEAR(G480))","v":""},"",null,"",{"$f":"IF(OR(J480=\"\",J480=\"DSQ\"),\"\",IF(OR(J480=J477,J480=J478,J480=J479,J480=J473,J480=J474,J480=J475,J480=J476),\"Enter Placings\",\"\"))","v":""},"","",null,{"$f":"IF(L480<>\"\",L480,IF(OR(J480=\"DNF\",J480=\"DSQ\"),0,IF(N480=\"\",\"\",RANK(N480,N473:N480,1))))","v":""},{"$f":"IF(P480=\"\",0,IF(P480=0,0,VLOOKUP(P:P,Points!B:C,2,FALSE)))","v":0},8,null,{"$f":"IF(P481>7.9,8,\"\")","v":""},{"$f":"IFERROR(IF(T480=\"\",\"\",VLOOKUP(T480,P473:R480,3,FALSE)),\"\")","v":""},null,8,null,{"$f":"IF(D480=\"\",\"\",IFERROR(VLOOKUP(B480,Events!B:L,11,FALSE),Y479))","v":""}," "," ",{"$f":"IFERROR(VLOOKUP(AA:AA,'Masters Convertion'!F:G,2,FALSE),\"\")","v":""},"",{"$f":"IF('Gala Name'!C$4=\"No\",\"\",IFERROR(RANK(N480,N480:N487,1),\"\"))","v":""}]
[null,null,null,null,null,null,null,null,null,null,null,null,"","",null,{"$f":"MAX(P473:P480)","v":0},null,null,null,null,null,null,"*"]
[{"$f":"IF(J482=\"\",\"\",B482)","v":""},{"$f":"B473+1","v":54},{"$f":"IF(D482=1,VLOOKUP(B482,Events!B:H,6,FALSE)&VLOOKUP(B482,Events!B:H,7,FALSE),\"\")","v":"   "},1,{"$f":"IF(D482=\"\",\"\",IF(VLOOKUP(D482,Teams!$B$3:$C$10,2,FALSE)=\"\",\"\",VLOOKUP(D482,Teams!$B$3:$C$10,2,FALSE)))","v":""},null,null,{"$f":"IF(G482=\"\",\"\",YEAR('Gala Name'!$C$9)-YEAR(G482))","v":""},"",null,"",{"$f":"IF(OR(J482=\"\",J482=\"DSQ\"),\"\",IF(OR(J482=J483,J482=J484,J482=J485,J482=J486,J482=J487,J482=J488,J482=J489),\"Enter Placings\",\"\"))","v":""},"","",null,{"$f":"IF(L482<>\"\",L482,IF(OR(J482=\"DNF\",J482=\"DSQ\"),0,IF(N482=\"\",\"\",RANK(N482,N482:N489,1))))","v":""},{"$f":"IF(P482=\"\",0,IF(P482=0,0,VLOOKUP(P:P,Points!B:C,2,FALSE)))","v":0},{"$f":"D482","v":1},null,{"$f":"IF(P490>0.9,1,\"\")","v":""},{"$f":"IFERROR(IF(T482=\"\",\"\",VLOOKUP(T482,P482:R489,3,FALSE)),\"\")","v":""},null,1,null,{"$f":"IF(D482=\"\",\"\",IFERROR(VLOOKUP(B482,Events!B:L,11,FALSE),Y481))","v":""}," "," ",{"$f":"IFERROR(VLOOKUP(AA:AA,'Masters Convertion'!F:G,2,FALSE),\"\")","v":""},"",{"$f":"IF('Gala Name'!C$4=\"No\",\"\",IFERROR(RANK(N482,N482:N489,1),\"\"))","v":""}]
[{"$f":"IF(J483=\"\",\"\",B482)","v":""},null,null,2,{"$f":"IF(D483=\"\",\"\",IF(VLOOKUP(D483,Teams!$B$3:$C$10,2,FALSE)=\"\",\"\",VLOOKUP(D483,Teams!$B$3:$C$10,2,FALSE)))","v":""},null,null,{"$f":"IF(G483=\"\",\"\",YEAR('Gala Name'!$C$9)-YEAR(G483))","v":""},"",null,"",{"$f":"IF(OR(J483=\"\",J483=\"DSQ\"),\"\",IF(OR(J483=J482,J483=J484,J483=J485,J483=J486,J483=J487,J483=J488,J483=J489),\"Enter Placings\",\"\"))","v":""},"","",null,{"$f":"IF(L483<>\"\",L483,IF(OR(J483=\"DNF\",J483=\"DSQ\"),0,IF(N483=\"\",\"\",RANK(N483,N482:N489,1))))","v":""},{"$f":"IF(P483=\"\",0,IF(P483=0,0,VLOOKUP(P:P,Points!B:C,2,FALSE)))","v":0},2,null,{"$f":"IF(P490>1.9,2,\"\")","v":""},{"$f":"IFERROR(IF(T483=\"\",\"\",VLOOKUP(T483,P482:R489,3,FALSE)),\"\")","v":""},null,2,null,{"$f":"IF(D483=\"\",\"\",IFERROR(VLOOKUP(B483,Events!B:L,11,FALSE),Y482))","v":""}," "," ",{"$f":"IFERROR(VLOOKUP(AA:AA,'Masters Convertion'!F:G,2,FALSE),\"\")","v":""},"",{"$f":"IF('Gala Name'!C$4=\"No\",\"\",IFERROR(RANK(N483,N483:N490,1),\"\"))","v":""}]
[{"$f":"IF(J484=\"\",\"\",B482)","v":""},null,null,3,{"$f":"IF(D484=\"\",\"\",IF(VLOOKUP(D484,Teams!$B$3:$C$10,2,FALSE)=\"\",\"\",VLOOKUP(D484,Teams!$B$3:$C$10,2,FALSE)))","v":""},null,null,{"$f":"IF(G484=\"\",\"\",YEAR('Gala Name'!$C$9)-YEAR(G484))","v":""},"",null,"",{"$f":"IF(OR(J484=\"\",J484=\"DSQ\"),\"\",IF(OR(J484=J482,J484=J483,J484=J485,J484=J486,J484=J487,J484=J488,J484=J489),\"Enter Placings\",\"\"))","v":""},"","",null,{"$f":"IF(L484<>\"\",L484,IF(OR(J484=\"DNF\",J484=\"DSQ\"),0,IF(N484=\"\",\"\",RANK(N484,N482:N489,1))))","v":""},{"$f":"IF(P484=\"\",0,IF(P484=0,0,VLOOKUP(P:P,Points!B:C,2,FALSE)))","v":0},3,null,{"$f":"IF(P490>2.9,3,\"\")","v":""},{"$f":"IFERROR(IF(T484=\"\",\"\",VLOOKUP(T484,P482:R489,3,FALSE)),\"\")","v":""},null,3,null,{"$f":"IF(D484=\"\",\"\",IFERROR(VLOOKUP(B484,Events!B:L,11,FALSE),Y483))","v":""}," "," ",{"$f":"IFERROR(VLOOKUP(AA:AA,'Masters Convertion'!F:G,2,FALSE),\"\")","v":""},"",{"$f":"IF('Gala Name'!C$4=\"No\",\"\",IFERROR(RANK(N484,N484:N491,1),\"\"))","v":""}]
[{"$f":"IF(J485=\"\",\"\",B482)","v":""},null,null,4,{"$f":"IF(D485=\"\",\"\",IF(VLOOKUP(D485,Teams!$B$3:$C$10,2,FALSE)=\"\",\"\",VLOOKUP(D485,Teams!$B$3:$C$10,2,FALSE)))","v":""},null,null,{"$f":"IF(G485=\"\",\"\",YEAR('Gala Name'!$C$9)-YEAR(G485))","v":""},"",null,"",{"$f":"IF(OR(J485=\"\",J485=\"DSQ\"),\"\",IF(OR(J485=J482,J485=J483,J485=J484,J485=J486,J485=J487,J485=J488,J485=J489),\"Enter Placings\",\"\"))","v":""},"","",null,{"$f":"IF(L485<>\"\",L485,IF(OR(J485=\"DNF\",J485=\"DSQ\"),0,IF(N485=\"\",\"\",RANK(N485,N482:N489,1))))","v":""},{"$f":"IF(P485=\"\",0,IF(P485=0,0,VLOOKUP(P:P,Points!B:C,2,FALSE)))","v":0},4,null,{"$f":"IF(P490>3.9,4,\"\")","v":""},{"$f":"IFERROR(IF(T485=\"\",\"\",VLOOKUP(T485,P482:R489,3,FALSE)),\"\")","v":""},null,4,null,{"$f":"IF(D485=\"\",\"\",IFERROR(VLOOKUP(B485,Events!B:L,11,FALSE),Y484))","v":""}," "," ",{"$f":"IFERROR(VLOOKUP(AA:AA,'Masters Convertion'!F:G,2,FALSE),\"\")","v":""},"",{"$f":"IF('Gala Name'!C$4=\"No\",\"\",IFERROR(RANK(N485,N485:N492,1),\"\"))","v":""}]
[{"$f":"IF(J486=\"\",\"\",B482)","v":""},null,null,5,{"$f":"IF(D486=\"\",\"\",IF(VLOOKUP(D486,Teams!$B$3:$C$10,2,FALSE)=\"\",\"\",VLOOKUP(D486,Teams!$B$3:$C$10,2,FALSE)))","v":""},null,null,{"$f":"IF(G486=\"\",\"\",YEAR('Gala Name'!$C$9)-YEAR(G486))","v":""},"",null,"",{"$f":"IF(OR(J486=\"\",J486=\"DSQ\"),\"\",IF(OR(J486=J483,J486=J484,J486=J485,J486=J487,J486=J488,J486=J489,J486=J482),\"Enter Placings\",\"\"))","v":""},"","",null,{"$f":"IF(L486<>\"\",L486,IF(OR(J486=\"DNF\",J486=\"DSQ\"),0,IF(N486=\"\",\"\",RANK(N486,N482:N489,1))))","v":""},{"$f":"IF(P486=\"\",0,IF(P486=0,0,VLOOKUP(P:P,Points!B:C,2,FALSE)))","v":0},5,null,{"$f":"IF(P490>4.9,5,\"\")","v":""},{"$f":"IFERROR(IF(T486=\"\",\"\",VLOOKUP(T486,P482:R489,3,FALSE)),\"\")","v":""},null,5,null,{"$f":"IF(D486=\"\",\"\",IFERROR(VLOOKUP(B486,Events!B:L,11,FALSE),Y485))","v":""}," "," ",{"$f":"IFERROR(VLOOKUP(AA:AA,'Masters Convertion'!F:G,2,FALSE),\"\")","v":""},"",{"$f":"IF('Gala Name'!C$4=\"No\",\"\",IFERROR(RANK(N486,N486:N493,1),\"\"))","v":""}]
[{"$f":"IF(J487=\"\",\"\",B482)","v":""},null,null,6,{"$f":"IF(D487=\"\",\"\",IF(VLOOKUP(D487,Teams!$B$3:$C$10,2,FALSE)=\"\",\"\",VLOOKUP(D487,Teams!$B$3:$C$10,2,FALSE)))","v":""},null,null,{"$f":"IF(G487=\"\",\"\",YEAR('Gala Name'!$C$9)-YEAR(G487))","v":""},"",null,"",{"$f":"IF(OR(J487=\"\",J487=\"DSQ\"),\"\",IF(OR(J487=J484,J487=J485,J487=J486,J487=J488,J487=J489,J487=J483,J487=J482),\"Enter Placings\",\"\"))","v":""},"","",null,{"$f":"IF(L487<>\"\",L487,IF(OR(J487=\"DNF\",J487=\"DSQ\"),0,IF(N487=\"\",\"\",RANK(N487,N482:N489,1))))","v":""},{"$f":"IF(P487=\"\",0,IF(P487=0,0,VLOOKUP(P:P,Points!B:C,2,FALSE)))","v":0},6,null,{"$f":"IF(P490>5.9,6,\"\")","v":""},{"$f":"IFERROR(IF(T487=\"\",\"\",VLOOKUP(T487,P482:R489,3,FALSE)),\"\")","v":""},null,6,null,{"$f":"IF(D487=\"\",\"\",IFERROR(VLOOKUP(B487,Events!B:L,11,FALSE),Y486))","v":""}," "," ",{"$f":"IFERROR(VLOOKUP(AA:AA,'Masters Convertion'!F:G,2,FALSE),\"\")","v":""},"",{"$f":"IF('Gala Name'!C$4=\"No\",\"\",IFERROR(RANK(N487,N487:N494,1),\"\"))","v":""}]
[{"$f":"IF(J488=\"\",\"\",B482)","v":""},null,null,7,{"$f":"IF(D488=\"\",\"\",IF(VLOOKUP(D488,Teams!$B$3:$C$10,2,FALSE)=\"\",\"\",VLOOKUP(D488,Teams!$B$3:$C$10,2,FALSE)))","v":""},null,null,{"$f":"IF(G488=\"\",\"\",YEAR('Gala Name'!$C$9)-YEAR(G488))","v":""},"",null,"",{"$f":"IF(OR(J488=\"\",J488=\"DSQ\"),\"\",IF(OR(J488=J485,J488=J486,J488=J487,J488=J489,J488=J482,J488=J483,J488=J484),\"Enter Placings\",\"\"))","v":""},"","",null,{"$f":"IF(L488<>\"\",L488,IF(OR(J488=\"DNF\",J488=\"DSQ\"),0,IF(N488=\"\",\"\",RANK(N488,N482:N489,1))))","v":""},{"$f":"IF(P488=\"\",0,IF(P488=0,0,VLOOKUP(P:P,Points!B:C,2,FALSE)))","v":0},7,null,{"$f":"IF(P490>6.9,7,\"\")","v":""},{"$f":"IFERROR(IF(T488=\"\",\"\",VLOOKUP(T488,P482:R489,3,FALSE)),\"\")","v":""},null,7,null,{"$f":"IF(D488=\"\",\"\",IFERROR(VLOOKUP(B488,Events!B:L,11,FALSE),Y487))","v":""}," "," ",{"$f":"IFERROR(VLOOKUP(AA:AA,'Masters Convertion'!F:G,2,FALSE),\"\")","v":""},"",{"$f":"IF('Gala Name'!C$4=\"No\",\"\",IFERROR(RANK(N488,N488:N495,1),\"\"))","v":""}]
[{"$f":"IF(J489=\"\",\"\",B482)","v":""},null,null,8,{"$f":"IF(D489=\"\",\"\",IF(VLOOKUP(D489,Teams!$B$3:$C$10,2,FALSE)=\"\",\"\",VLOOKUP(D489,Teams!$B$3:$C$10,2,FALSE)))","v":""},null,null,{"$f":"IF(G489=\"\",\"\",YEAR('Gala Name'!$C$9)-YEAR(G489))","v":""},"",null,"",{"$f":"IF(OR(J489=\"\",J489=\"DSQ\"),\"\",IF(OR(J489=J486,J489=J487,J489=J488,J489=J482,J489=J483,J489=J484,J489=J485),\"Enter Placings\",\"\"))","v":""},"","",null,{"$f":"IF(L489<>\"\",L489,IF(OR(J489=\"DNF\",J489=\"DSQ\"),0,IF(N489=\"\",\"\",RANK(N489,N482:N489,1))))","v":""},{"$f":"IF(P489=\"\",0,IF(P489=0,0,VLOOKUP(P:P,Points!B:C,2,FALSE)))","v":0},8,null,{"$f":"IF(P490>7.9,8,\"\")","v":""},{"$f":"IFERROR(IF(T489=\"\",\"\",VLOOKUP(T489,P482:R489,3,FALSE)),\"\")","v":""},null,8,null,{"$f":"IF(D489=\"\",\"\",IFERROR(VLOOKUP(B489,Events!B:L,11,FALSE),Y488))","v":""}," "," ",{"$f":"IFERROR(VLOOKUP(AA:AA,'Masters Convertion'!F:G,2,FALSE),\"\")","v":""},"",{"$f":"IF('Gala Name'!C$4=\"No\",\"\",IFERROR(RANK(N489,N489:N496,1),\"\"))","v":""}]
[null,null,null,null,null,null,null,null,null,null,null,null,"","",null,{"$f":"MAX(P482:P489)","v":0},null,null,null,null,null,null,"*"]
[{"$f":"IF(J491=\"\",\"\",B491)","v":""},{"$f":"B482+1","v":55},{"$f":"IF(D491=1,VLOOKUP(B491,Events!B:H,6,FALSE)&VLOOKUP(B491,Events!B:H,7,FALSE),\"\")","v":"   "},1,{"$f":"IF(D491=\"\",\"\",IF(VLOOKUP(D491,Teams!$B$3:$C$10,2,FALSE)=\"\",\"\",VLOOKUP(D491,Teams!$B$3:$C$10,2,FALSE)))","v":""},null,null,{"$f":"IF(G491=\"\",\"\",YEAR('Gala Name'!$C$9)-YEAR(G491))","v":""},"",null,"",{"$f":"IF(OR(J491=\"\",J491=\"DSQ\"),\"\",IF(OR(J491=J492,J491=J493,J491=J494,J491=J495,J491=J496,J491=J497,J491=J498),\"Enter Placings\",\"\"))","v":""},"","",null,{"$f":"IF(L491<>\"\",L491,IF(OR(J491=\"DNF\",J491=\"DSQ\"),0,IF(N491=\"\",\"\",RANK(N491,N491:N498,1))))","v":""},{"$f":"IF(P491=\"\",0,IF(P491=0,0,VLOOKUP(P:P,Points!B:C,2,FALSE)))","v":0},{"$f":"D491","v":1},null,{"$f":"IF(P499>0.9,1,\"\")","v":""},{"$f":"IFERROR(IF(T491=\"\",\"\",VLOOKUP(T491,P491:R498,3,FALSE)),\"\")","v":""},null,1,null,{"$f":"IF(D491=\"\",\"\",IFERROR(VLOOKUP(B491,Events!B:L,11,FALSE),Y490))","v":""}," "," ",{"$f":"IFERROR(VLOOKUP(AA:AA,'Masters Convertion'!F:G,2,FALSE),\"\")","v":""},"",{"$f":"IF('Gala Name'!C$4=\"No\",\"\",IFERROR(RANK(N491,N491:N498,1),\"\"))","v":""}]
[{"$f":"IF(J492=\"\",\"\",B491)","v":""},null,null,2,{"$f":"IF(D492=\"\",\"\",IF(VLOOKUP(D492,Teams!$B$3:$C$10,2,FALSE)=\"\",\"\",VLOOKUP(D492,Teams!$B$3:$C$10,2,FALSE)))","v":""},null,null,{"$f":"IF(G492=\"\",\"\",YEAR('Gala Name'!$C$9)-YEAR(G492))","v":""},"",null,"",{"$f":"IF(OR(J492=\"\",J492=\"DSQ\"),\"\",IF(OR(J492=J491,J492=J493,J492=J494,J492=J495,J492=J496,J492=J497,J492=J498),\"Enter Placings\",\"\"))","v":""},"","",null,{"$f":"IF(L492<>\"\",L492,IF(OR(J492=\"DNF\",J492=\"DSQ\"),0,IF(N492=\"\",\"\",RANK(N492,N491:N498,1))))","v":""},{"$f":"IF(P492=\"\",0,IF(P492=0,0,VLOOKUP(P:P,Points!B:C,2,FALSE)))","v":0},2,null,{"$f":"IF(P499>1.9,2,\"\")","v":""},{"$f":"IFERROR(IF(T492=\"\",\"\",VLOOKUP(T492,P491:R498,3,FALSE)),\"\")","v":""},null,2,null,{"$f":"IF(D492=\"\",\"\",IFERROR(VLOOKUP(B492,Events!B:L,11,FALSE),Y491))","v":""}," "," ",{"$f":"IFERROR(VLOOKUP(AA:AA,'Masters Convertion'!F:G,2,FALSE),\"\")","v":""},"",{"$f":"IF('Gala Name'!C$4=\"No\",\"\",IFERROR(RANK(N492,N492:N499,1),\"\"))","v":""}]
[{"$f":"IF(J493=\"\",\"\",B491)","v":""},null,null,3,{"$f":"IF(D493=\"\",\"\",IF(VLOOKUP(D493,Teams!$B$3:$C$10,2,FALSE)=\"\",\"\",VLOOKUP(D493,Teams!$B$3:$C$10,2,FALSE)))","v":""},null,null,{"$f":"IF(G493=\"\",\"\",YEAR('Gala Name'!$C$9)-YEAR(G493))","v":""},"",null,"",{"$f":"IF(OR(J493=\"\",J493=\"DSQ\"),\"\",IF(OR(J493=J491,J493=J492,J493=J494,J493=J495,J493=J496,J493=J497,J493=J498),\"Enter Placings\",\"\"))","v":""},"","",null,{"$f":"IF(L493<>\"\",L493,IF(OR(J493=\"DNF\",J493=\"DSQ\"),0,IF(N493=\"\",\"\",RANK(N493,N491:N498,1))))","v":""},{"$f":"IF(P493=\"\",0,IF(P493=0,0,VLOOKUP(P:P,Points!B:C,2,FALSE)))","v":0},3,null,{"$f":"IF(P499>2.9,3,\"\")","v":""},{"$f":"IFERROR(IF(T493=\"\",\"\",VLOOKUP(T493,P491:R498,3,FALSE)),\"\")","v":""},null,3,null,{"$f":"IF(D493=\"\",\"\",IFERROR(VLOOKUP(B493,Events!B:L,11,FALSE),Y492))","v":""}," "," ",{"$f":"IFERROR(VLOOKUP(AA:AA,'Masters Convertion'!F:G,2,FALSE),\"\")","v":""},"",{"$f":"IF('Gala Name'!C$4=\"No\",\"\",IFERROR(RANK(N493,N493:N500,1),\"\"))","v":""}]
[{"$f":"IF(J494=\"\",\"\",B491)","v":""},null,null,4,{"$f":"IF(D494=\"\",\"\",IF(VLOOKUP(D494,Teams!$B$3:$C$10,2,FALSE)=\"\",\"\",VLOOKUP(D494,Teams!$B$3:$C$10,2,FALSE)))","v":""},null,null,{"$f":"IF(G494=\"\",\"\",YEAR('Gala Name'!$C$9)-YEAR(G494))","v":""},"",null,"",{"$f":"IF(OR(J494=\"\",J494=\"DSQ\"),\"\",IF(OR(J494=J491,J494=J492,J494=J493,J494=J495,J494=J496,J494=J497,J494=J498),\"Enter Placings\",\"\"))","v":""},"","",null,{"$f":"IF(L494<>\"\",L494,IF(OR(J494=\"DNF\",J494=\"DSQ\"),0,IF(N494=\"\",\"\",RANK(N494,N491:N498,1))))","v":""},{"$f":"IF(P494=\"\",0,IF(P494=0,0,VLOOKUP(P:P,Points!B:C,2,FALSE)))","v":0},4,null,{"$f":"IF(P499>3.9,4,\"\")","v":""},{"$f":"IFERROR(IF(T494=\"\",\"\",VLOOKUP(T494,P491:R498,3,FALSE)),\"\")","v":""},null,4,null,{"$f":"IF(D494=\"\",\"\",IFERROR(VLOOKUP(B494,Events!B:L,11,FALSE),Y493))","v":""}," "," ",{"$f":"IFERROR(VLOOKUP(AA:AA,'Masters Convertion'!F:G,2,FALSE),\"\")","v":""},"",{"$f":"IF('Gala Name'!C$4=\"No\",\"\",IFERROR(RANK(N494,N494:N501,1),\"\"))","v":""}]
[{"$f":"IF(J495=\"\",\"\",B491)","v":""},null,null,5,{"$f":"IF(D495=\"\",\"\",IF(VLOOKUP(D495,Teams!$B$3:$C$10,2,FALSE)=\"\",\"\",VLOOKUP(D495,Teams!$B$3:$C$10,2,FALSE)))","v":""},null,null,{"$f":"IF(G495=\"\",\"\",YEAR('Gala Name'!$C$9)-YEAR(G495))","v":""},"",null,"",{"$f":"IF(OR(J495=\"\",J495=\"DSQ\"),\"\",IF(OR(J495=J492,J495=J493,J495=J494,J495=J496,J495=J497,J495=J498,J495=J491),\"Enter Placings\",\"\"))","v":""},"","",null,{"$f":"IF(L495<>\"\",L495,IF(OR(J495=\"DNF\",J495=\"DSQ\"),0,IF(N495=\"\",\"\",RANK(N495,N491:N498,1))))","v":""},{"$f":"IF(P495=\"\",0,IF(P495=0,0,VLOOKUP(P:P,Points!B:C,2,FALSE)))","v":0},5,null,{"$f":"IF(P499>4.9,5,\"\")","v":""},{"$f":"IFERROR(IF(T495=\"\",\"\",VLOOKUP(T495,P491:R498,3,FALSE)),\"\")","v":""},null,5,null,{"$f":"IF(D495=\"\",\"\",IFERROR(VLOOKUP(B495,Events!B:L,11,FALSE),Y494))","v":""}," "," ",{"$f":"IFERROR(VLOOKUP(AA:AA,'Masters Convertion'!F:G,2,FALSE),\"\")","v":""},"",{"$f":"IF('Gala Name'!C$4=\"No\",\"\",IFERROR(RANK(N495,N495:N502,1),\"\"))","v":""}]
[{"$f":"IF(J496=\"\",\"\",B491)","v":""},null,null,6,{"$f":"IF(D496=\"\",\"\",IF(VLOOKUP(D496,Teams!$B$3:$C$10,2,FALSE)=\"\",\"\",VLOOKUP(D496,Teams!$B$3:$C$10,2,FALSE)))","v":""},null,null,{"$f":"IF(G496=\"\",\"\",YEAR('Gala Name'!$C$9)-YEAR(G496))","v":""},"",null,"",{"$f":"IF(OR(J496=\"\",J496=\"DSQ\"),\"\",IF(OR(J496=J493,J496=J494,J496=J495,J496=J497,J496=J498,J496=J492,J496=J491),\"Enter Placings\",\"\"))","v":""},"","",null,{"$f":"IF(L496<>\"\",L496,IF(OR(J496=\"DNF\",J496=\"DSQ\"),0,IF(N496=\"\",\"\",RANK(N496,N491:N498,1))))","v":""},{"$f":"IF(P496=\"\",0,IF(P496=0,0,VLOOKUP(P:P,Points!B:C,2,FALSE)))","v":0},6,null,{"$f":"IF(P499>5.9,6,\"\")","v":""},{"$f":"IFERROR(IF(T496=\"\",\"\",VLOOKUP(T496,P491:R498,3,FALSE)),\"\")","v":""},null,6,null,{"$f":"IF(D496=\"\",\"\",IFERROR(VLOOKUP(B496,Events!B:L,11,FALSE),Y495))","v":""}," "," ",{"$f":"IFERROR(VLOOKUP(AA:AA,'Masters Convertion'!F:G,2,FALSE),\"\")","v":""},"",{"$f":"IF('Gala Name'!C$4=\"No\",\"\",IFERROR(RANK(N496,N496:N503,1),\"\"))","v":""}]
[{"$f":"IF(J497=\"\",\"\",B491)","v":""},null,null,7,{"$f":"IF(D497=\"\",\"\",IF(VLOOKUP(D497,Teams!$B$3:$C$10,2,FALSE)=\"\",\"\",VLOOKUP(D497,Teams!$B$3:$C$10,2,FALSE)))","v":""},null,null,{"$f":"IF(G497=\"\",\"\",YEAR('Gala Name'!$C$9)-YEAR(G497))","v":""},"",null,"",{"$f":"IF(OR(J497=\"\",J497=\"DSQ\"),\"\",IF(OR(J497=J494,J497=J495,J497=J496,J497=J498,J497=J491,J497=J492,J497=J493),\"Enter Placings\",\"\"))","v":""},"","",null,{"$f":"IF(L497<>\"\",L497,IF(OR(J497=\"DNF\",J497=\"DSQ\"),0,IF(N497=\"\",\"\",RANK(N497,N491:N498,1))))","v":""},{"$f":"IF(P497=\"\",0,IF(P497=0,0,VLOOKUP(P:P,Points!B:C,2,FALSE)))","v":0},7,null,{"$f":"IF(P499>6.9,7,\"\")","v":""},{"$f":"IFERROR(IF(T497=\"\",\"\",VLOOKUP(T497,P491:R498,3,FALSE)),\"\")","v":""},null,7,null,{"$f":"IF(D497=\"\",\"\",IFERROR(VLOOKUP(B497,Events!B:L,11,FALSE),Y496))","v":""}," "," ",{"$f":"IFERROR(VLOOKUP(AA:AA,'Masters Convertion'!F:G,2,FALSE),\"\")","v":""},"",{"$f":"IF('Gala Name'!C$4=\"No\",\"\",IFERROR(RANK(N497,N497:N504,1),\"\"))","v":""}]
[{"$f":"IF(J498=\"\",\"\",B491)","v":""},null,null,8,{"$f":"IF(D498=\"\",\"\",IF(VLOOKUP(D498,Teams!$B$3:$C$10,2,FALSE)=\"\",\"\",VLOOKUP(D498,Teams!$B$3:$C$10,2,FALSE)))","v":""},null,null,{"$f":"IF(G498=\"\",\"\",YEAR('Gala Name'!$C$9)-YEAR(G498))","v":""},"",null,"",{"$f":"IF(OR(J498=\"\",J498=\"DSQ\"),\"\",IF(OR(J498=J495,J498=J496,J498=J497,J498=J491,J498=J492,J498=J493,J498=J494),\"Enter Placings\",\"\"))","v":""},"","",null,{"$f":"IF(L498<>\"\",L498,IF(OR(J498=\"DNF\",J498=\"DSQ\"),0,IF(N498=\"\",\"\",RANK(N498,N491:N498,1))))","v":""},{"$f":"IF(P498=\"\",0,IF(P498=0,0,VLOOKUP(P:P,Points!B:C,2,FALSE)))","v":0},8,null,{"$f":"IF(P499>7.9,8,\"\")","v":""},{"$f":"IFERROR(IF(T498=\"\",\"\",VLOOKUP(T498,P491:R498,3,FALSE)),\"\")","v":""},null,8,null,{"$f":"IF(D498=\"\",\"\",IFERROR(VLOOKUP(B498,Events!B:L,11,FALSE),Y497))","v":""}," "," ",{"$f":"IFERROR(VLOOKUP(AA:AA,'Masters Convertion'!F:G,2,FALSE),\"\")","v":""},"",{"$f":"IF('Gala Name'!C$4=\"No\",\"\",IFERROR(RANK(N498,N498:N505,1),\"\"))","v":""}]
[null,null,null,null,null,null,null,null,null,null,null,null,"","",null,{"$f":"MAX(P491:P498)","v":0},null,null,null,null,null,null,"*"]
[{"$f":"IF(J500=\"\",\"\",B500)","v":""},{"$f":"B491+1","v":56},{"$f":"IF(D500=1,VLOOKUP(B500,Events!B:H,6,FALSE)&VLOOKUP(B500,Events!B:H,7,FALSE),\"\")","v":"   "},1,{"$f":"IF(D500=\"\",\"\",IF(VLOOKUP(D500,Teams!$B$3:$C$10,2,FALSE)=\"\",\"\",VLOOKUP(D500,Teams!$B$3:$C$10,2,FALSE)))","v":""},null,null,{"$f":"IF(G500=\"\",\"\",YEAR('Gala Name'!$C$9)-YEAR(G500))","v":""},"",null,"",{"$f":"IF(OR(J500=\"\",J500=\"DSQ\"),\"\",IF(OR(J500=J501,J500=J502,J500=J503,J500=J504,J500=J505,J500=J506,J500=J507),\"Enter Placings\",\"\"))","v":""},"","",null,{"$f":"IF(L500<>\"\",L500,IF(OR(J500=\"DNF\",J500=\"DSQ\"),0,IF(N500=\"\",\"\",RANK(N500,N500:N507,1))))","v":""},{"$f":"IF(P500=\"\",0,IF(P500=0,0,VLOOKUP(P:P,Points!B:C,2,FALSE)))","v":0},{"$f":"D500","v":1},null,{"$f":"IF(P508>0.9,1,\"\")","v":""},{"$f":"IFERROR(IF(T500=\"\",\"\",VLOOKUP(T500,P500:R507,3,FALSE)),\"\")","v":""},null,1,null,{"$f":"IF(D500=\"\",\"\",IFERROR(VLOOKUP(B500,Events!B:L,11,FALSE),Y499))","v":""}," "," ",{"$f":"IFERROR(VLOOKUP(AA:AA,'Masters Convertion'!F:G,2,FALSE),\"\")","v":""},"",{"$f":"IF('Gala Name'!C$4=\"No\",\"\",IFERROR(RANK(N500,N500:N507,1),\"\"))","v":""}]
[{"$f":"IF(J501=\"\",\"\",B500)","v":""},null,null,2,{"$f":"IF(D501=\"\",\"\",IF(VLOOKUP(D501,Teams!$B$3:$C$10,2,FALSE)=\"\",\"\",VLOOKUP(D501,Teams!$B$3:$C$10,2,FALSE)))","v":""},null,null,{"$f":"IF(G501=\"\",\"\",YEAR('Gala Name'!$C$9)-YEAR(G501))","v":""},"",null,"",{"$f":"IF(OR(J501=\"\",J501=\"DSQ\"),\"\",IF(OR(J501=J500,J501=J502,J501=J503,J501=J504,J501=J505,J501=J506,J501=J507),\"Enter Placings\",\"\"))","v":""},"","",null,{"$f":"IF(L501<>\"\",L501,IF(OR(J501=\"DNF\",J501=\"DSQ\"),0,IF(N501=\"\",\"\",RANK(N501,N500:N507,1))))","v":""},{"$f":"IF(P501=\"\",0,IF(P501=0,0,VLOOKUP(P:P,Points!B:C,2,FALSE)))","v":0},2,null,{"$f":"IF(P508>1.9,2,\"\")","v":""},{"$f":"IFERROR(IF(T501=\"\",\"\",VLOOKUP(T501,P500:R507,3,FALSE)),\"\")","v":""},null,2,null,{"$f":"IF(D501=\"\",\"\",IFERROR(VLOOKUP(B501,Events!B:L,11,FALSE),Y500))","v":""}," "," ",{"$f":"IFERROR(VLOOKUP(AA:AA,'Masters Convertion'!F:G,2,FALSE),\"\")","v":""},"",{"$f":"IF('Gala Name'!C$4=\"No\",\"\",IFERROR(RANK(N501,N501:N508,1),\"\"))","v":""}]
[{"$f":"IF(J502=\"\",\"\",B500)","v":""},null,null,3,{"$f":"IF(D502=\"\",\"\",IF(VLOOKUP(D502,Teams!$B$3:$C$10,2,FALSE)=\"\",\"\",VLOOKUP(D502,Teams!$B$3:$C$10,2,FALSE)))","v":""},null,null,{"$f":"IF(G502=\"\",\"\",YEAR('Gala Name'!$C$9)-YEAR(G502))","v":""},"",null,"",{"$f":"IF(OR(J502=\"\",J502=\"DSQ\"),\"\",IF(OR(J502=J500,J502=J501,J502=J503,J502=J504,J502=J505,J502=J506,J502=J507),\"Enter Placings\",\"\"))","v":""},"","",null,{"$f":"IF(L502<>\"\",L502,IF(OR(J502=\"DNF\",J502=\"DSQ\"),0,IF(N502=\"\",\"\",RANK(N502,N500:N507,1))))","v":""},{"$f":"IF(P502=\"\",0,IF(P502=0,0,VLOOKUP(P:P,Points!B:C,2,FALSE)))","v":0},3,null,{"$f":"IF(P508>2.9,3,\"\")","v":""},{"$f":"IFERROR(IF(T502=\"\",\"\",VLOOKUP(T502,P500:R507,3,FALSE)),\"\")","v":""},null,3,null,{"$f":"IF(D502=\"\",\"\",IFERROR(VLOOKUP(B502,Events!B:L,11,FALSE),Y501))","v":""}," "," ",{"$f":"IFERROR(VLOOKUP(AA:AA,'Masters Convertion'!F:G,2,FALSE),\"\")","v":""},"",{"$f":"IF('Gala Name'!C$4=\"No\",\"\",IFERROR(RANK(N502,N502:N509,1),\"\"))","v":""}]
[{"$f":"IF(J503=\"\",\"\",B500)","v":""},null,null,4,{"$f":"IF(D503=\"\",\"\",IF(VLOOKUP(D503,Teams!$B$3:$C$10,2,FALSE)=\"\",\"\",VLOOKUP(D503,Teams!$B$3:$C$10,2,FALSE)))","v":""},null,null,{"$f":"IF(G503=\"\",\"\",YEAR('Gala Name'!$C$9)-YEAR(G503))","v":""},"",null,"",{"$f":"IF(OR(J503=\"\",J503=\"DSQ\"),\"\",IF(OR(J503=J500,J503=J501,J503=J502,J503=J504,J503=J505,J503=J506,J503=J507),\"Enter Placings\",\"\"))","v":""},"","",null,{"$f":"IF(L503<>\"\",L503,IF(OR(J503=\"DNF\",J503=\"DSQ\"),0,IF(N503=\"\",\"\",RANK(N503,N500:N507,1))))","v":""},{"$f":"IF(P503=\"\",0,IF(P503=0,0,VLOOKUP(P:P,Points!B:C,2,FALSE)))","v":0},4,null,{"$f":"IF(P508>3.9,4,\"\")","v":""},{"$f":"IFERROR(IF(T503=\"\",\"\",VLOOKUP(T503,P500:R507,3,FALSE)),\"\")","v":""},null,4,null,{"$f":"IF(D503=\"\",\"\",IFERROR(VLOOKUP(B503,Events!B:L,11,FALSE),Y502))","v":""}," "," ",{"$f":"IFERROR(VLOOKUP(AA:AA,'Masters Convertion'!F:G,2,FALSE),\"\")","v":""},"",{"$f":"IF('Gala Name'!C$4=\"No\",\"\",IFERROR(RANK(N503,N503:N510,1),\"\"))","v":""}]
[{"$f":"IF(J504=\"\",\"\",B500)","v":""},null,null,5,{"$f":"IF(D504=\"\",\"\",IF(VLOOKUP(D504,Teams!$B$3:$C$10,2,FALSE)=\"\",\"\",VLOOKUP(D504,Teams!$B$3:$C$10,2,FALSE)))","v":""},null,null,{"$f":"IF(G504=\"\",\"\",YEAR('Gala Name'!$C$9)-YEAR(G504))","v":""},"",null,"",{"$f":"IF(OR(J504=\"\",J504=\"DSQ\"),\"\",IF(OR(J504=J501,J504=J502,J504=J503,J504=J505,J504=J506,J504=J507,J504=J500),\"Enter Placings\",\"\"))","v":""},"","",null,{"$f":"IF(L504<>\"\",L504,IF(OR(J504=\"DNF\",J504=\"DSQ\"),0,IF(N504=\"\",\"\",RANK(N504,N500:N507,1))))","v":""},{"$f":"IF(P504=\"\",0,IF(P504=0,0,VLOOKUP(P:P,Points!B:C,2,FALSE)))","v":0},5,null,{"$f":"IF(P508>4.9,5,\"\")","v":""},{"$f":"IFERROR(IF(T504=\"\",\"\",VLOOKUP(T504,P500:R507,3,FALSE)),\"\")","v":""},null,5,null,{"$f":"IF(D504=\"\",\"\",IFERROR(VLOOKUP(B504,Events!B:L,11,FALSE),Y503))","v":""}," "," ",{"$f":"IFERROR(VLOOKUP(AA:AA,'Masters Convertion'!F:G,2,FALSE),\"\")","v":""},"",{"$f":"IF('Gala Name'!C$4=\"No\",\"\",IFERROR(RANK(N504,N504:N511,1),\"\"))","v":""}]
[{"$f":"IF(J505=\"\",\"\",B500)","v":""},null,null,6,{"$f":"IF(D505=\"\",\"\",IF(VLOOKUP(D505,Teams!$B$3:$C$10,2,FALSE)=\"\",\"\",VLOOKUP(D505,Teams!$B$3:$C$10,2,FALSE)))","v":""},null,null,{"$f":"IF(G505=\"\",\"\",YEAR('Gala Name'!$C$9)-YEAR(G505))","v":""},"",null,"",{"$f":"IF(OR(J505=\"\",J505=\"DSQ\"),\"\",IF(OR(J505=J502,J505=J503,J505=J504,J505=J506,J505=J507,J505=J501,J505=J500),\"Enter Placings\",\"\"))","v":""},"","",null,{"$f":"IF(L505<>\"\",L505,IF(OR(J505=\"DNF\",J505=\"DSQ\"),0,IF(N505=\"\",\"\",RANK(N505,N500:N507,1))))","v":""},{"$f":"IF(P505=\"\",0,IF(P505=0,0,VLOOKUP(P:P,Points!B:C,2,FALSE)))","v":0},6,null,{"$f":"IF(P508>5.9,6,\"\")","v":""},{"$f":"IFERROR(IF(T505=\"\",\"\",VLOOKUP(T505,P500:R507,3,FALSE)),\"\")","v":""},null,6,null,{"$f":"IF(D505=\"\",\"\",IFERROR(VLOOKUP(B505,Events!B:L,11,FALSE),Y504))","v":""}," "," ",{"$f":"IFERROR(VLOOKUP(AA:AA,'Masters Convertion'!F:G,2,FALSE),\"\")","v":""},"",{"$f":"IF('Gala Name'!C$4=\"No\",\"\",IFERROR(RANK(N505,N505:N512,1),\"\"))","v":""}]
[{"$f":"IF(J506=\"\",\"\",B500)","v":""},null,null,7,{"$f":"IF(D506=\"\",\"\",IF(VLOOKUP(D506,Teams!$B$3:$C$10,2,FALSE)=\"\",\"\",VLOOKUP(D506,Teams!$B$3:$C$10,2,FALSE)))","v":""},null,null,{"$f":"IF(G506=\"\",\"\",YEAR('Gala Name'!$C$9)-YEAR(G506))","v":""},"",null,"",{"$f":"IF(OR(J506=\"\",J506=\"DSQ\"),\"\",IF(OR(J506=J503,J506=J504,J506=J505,J506=J507,J506=J500,J506=J501,J506=J502),\"Enter Placings\",\"\"))","v":""},"","",null,{"$f":"IF(L506<>\"\",L506,IF(OR(J506=\"DNF\",J506=\"DSQ\"),0,IF(N506=\"\",\"\",RANK(N506,N500:N507,1))))","v":""},{"$f":"IF(P506=\"\",0,IF(P506=0,0,VLOOKUP(P:P,Points!B:C,2,FALSE)))","v":0},7,null,{"$f":"IF(P508>6.9,7,\"\")","v":""},{"$f":"IFERROR(IF(T506=\"\",\"\",VLOOKUP(T506,P500:R507,3,FALSE)),\"\")","v":""},null,7,null,{"$f":"IF(D506=\"\",\"\",IFERROR(VLOOKUP(B506,Events!B:L,11,FALSE),Y505))","v":""}," "," ",{"$f":"IFERROR(VLOOKUP(AA:AA,'Masters Convertion'!F:G,2,FALSE),\"\")","v":""},"",{"$f":"IF('Gala Name'!C$4=\"No\",\"\",IFERROR(RANK(N506,N506:N513,1),\"\"))","v":""}]
[{"$f":"IF(J507=\"\",\"\",B500)","v":""},null,null,8,{"$f":"IF(D507=\"\",\"\",IF(VLOOKUP(D507,Teams!$B$3:$C$10,2,FALSE)=\"\",\"\",VLOOKUP(D507,Teams!$B$3:$C$10,2,FALSE)))","v":""},null,null,{"$f":"IF(G507=\"\",\"\",YEAR('Gala Name'!$C$9)-YEAR(G507))","v":""},"",null,"",{"$f":"IF(OR(J507=\"\",J507=\"DSQ\"),\"\",IF(OR(J507=J504,J507=J505,J507=J506,J507=J500,J507=J501,J507=J502,J507=J503),\"Enter Placings\",\"\"))","v":""},"","",null,{"$f":"IF(L507<>\"\",L507,IF(OR(J507=\"DNF\",J507=\"DSQ\"),0,IF(N507=\"\",\"\",RANK(N507,N500:N507,1))))","v":""},{"$f":"IF(P507=\"\",0,IF(P507=0,0,VLOOKUP(P:P,Points!B:C,2,FALSE)))","v":0},8,null,{"$f":"IF(P508>7.9,8,\"\")","v":""},{"$f":"IFERROR(IF(T507=\"\",\"\",VLOOKUP(T507,P500:R507,3,FALSE)),\"\")","v":""},null,8,null,{"$f":"IF(D507=\"\",\"\",IFERROR(VLOOKUP(B507,Events!B:L,11,FALSE),Y506))","v":""}," "," ",{"$f":"IFERROR(VLOOKUP(AA:AA,'Masters Convertion'!F:G,2,FALSE),\"\")","v":""},"",{"$f":"IF('Gala Name'!C$4=\"No\",\"\",IFERROR(RANK(N507,N507:N514,1),\"\"))","v":""}]
[null,null,null,null,null,null,null,null,null,null,null,null,"","",null,{"$f":"MAX(P500:P507)","v":0},null,null,null,null,null,null,"*"]
[{"$f":"IF(J509=\"\",\"\",B509)","v":""},{"$f":"B500+1","v":57},{"$f":"IF(D509=1,VLOOKUP(B509,Events!B:H,6,FALSE)&VLOOKUP(B509,Events!B:H,7,FALSE),\"\")","v":"   "},1,{"$f":"IF(D509=\"\",\"\",IF(VLOOKUP(D509,Teams!$B$3:$C$10,2,FALSE)=\"\",\"\",VLOOKUP(D509,Teams!$B$3:$C$10,2,FALSE)))","v":""},null,null,{"$f":"IF(G509=\"\",\"\",YEAR('Gala Name'!$C$9)-YEAR(G509))","v":""},"",null,"",{"$f":"IF(OR(J509=\"\",J509=\"DSQ\"),\"\",IF(OR(J509=J510,J509=J511,J509=J512,J509=J513,J509=J514,J509=J515,J509=J516),\"Enter Placings\",\"\"))","v":""},"","",null,{"$f":"IF(L509<>\"\",L509,IF(OR(J509=\"DNF\",J509=\"DSQ\"),0,IF(N509=\"\",\"\",RANK(N509,N509:N516,1))))","v":""},{"$f":"IF(P509=\"\",0,IF(P509=0,0,VLOOKUP(P:P,Points!B:C,2,FALSE)))","v":0},{"$f":"D509","v":1},null,{"$f":"IF(P517>0.9,1,\"\")","v":""},{"$f":"IFERROR(IF(T509=\"\",\"\",VLOOKUP(T509,P509:R516,3,FALSE)),\"\")","v":""},null,1,null,{"$f":"IF(D509=\"\",\"\",IFERROR(VLOOKUP(B509,Events!B:L,11,FALSE),Y508))","v":""}," "," ",{"$f":"IFERROR(VLOOKUP(AA:AA,'Masters Convertion'!F:G,2,FALSE),\"\")","v":""},"",{"$f":"IF('Gala Name'!C$4=\"No\",\"\",IFERROR(RANK(N509,N509:N516,1),\"\"))","v":""}]
[{"$f":"IF(J510=\"\",\"\",B509)","v":""},null,null,2,{"$f":"IF(D510=\"\",\"\",IF(VLOOKUP(D510,Teams!$B$3:$C$10,2,FALSE)=\"\",\"\",VLOOKUP(D510,Teams!$B$3:$C$10,2,FALSE)))","v":""},null,null,{"$f":"IF(G510=\"\",\"\",YEAR('Gala Name'!$C$9)-YEAR(G510))","v":""},"",null,"",{"$f":"IF(OR(J510=\"\",J510=\"DSQ\"),\"\",IF(OR(J510=J509,J510=J511,J510=J512,J510=J513,J510=J514,J510=J515,J510=J516),\"Enter Placings\",\"\"))","v":""},"","",null,{"$f":"IF(L510<>\"\",L510,IF(OR(J510=\"DNF\",J510=\"DSQ\"),0,IF(N510=\"\",\"\",RANK(N510,N509:N516,1))))","v":""},{"$f":"IF(P510=\"\",0,IF(P510=0,0,VLOOKUP(P:P,Points!B:C,2,FALSE)))","v":0},2,null,{"$f":"IF(P517>1.9,2,\"\")","v":""},{"$f":"IFERROR(IF(T510=\"\",\"\",VLOOKUP(T510,P509:R516,3,FALSE)),\"\")","v":""},null,2,null,{"$f":"IF(D510=\"\",\"\",IFERROR(VLOOKUP(B510,Events!B:L,11,FALSE),Y509))","v":""}," "," ",{"$f":"IFERROR(VLOOKUP(AA:AA,'Masters Convertion'!F:G,2,FALSE),\"\")","v":""},"",{"$f":"IF('Gala Name'!C$4=\"No\",\"\",IFERROR(RANK(N510,N510:N517,1),\"\"))","v":""}]
[{"$f":"IF(J511=\"\",\"\",B509)","v":""},null,null,3,{"$f":"IF(D511=\"\",\"\",IF(VLOOKUP(D511,Teams!$B$3:$C$10,2,FALSE)=\"\",\"\",VLOOKUP(D511,Teams!$B$3:$C$10,2,FALSE)))","v":""},null,null,{"$f":"IF(G511=\"\",\"\",YEAR('Gala Name'!$C$9)-YEAR(G511))","v":""},"",null,"",{"$f":"IF(OR(J511=\"\",J511=\"DSQ\"),\"\",IF(OR(J511=J509,J511=J510,J511=J512,J511=J513,J511=J514,J511=J515,J511=J516),\"Enter Placings\",\"\"))","v":""},"","",null,{"$f":"IF(L511<>\"\",L511,IF(OR(J511=\"DNF\",J511=\"DSQ\"),0,IF(N511=\"\",\"\",RANK(N511,N509:N516,1))))","v":""},{"$f":"IF(P511=\"\",0,IF(P511=0,0,VLOOKUP(P:P,Points!B:C,2,FALSE)))","v":0},3,null,{"$f":"IF(P517>2.9,3,\"\")","v":""},{"$f":"IFERROR(IF(T511=\"\",\"\",VLOOKUP(T511,P509:R516,3,FALSE)),\"\")","v":""},null,3,null,{"$f":"IF(D511=\"\",\"\",IFERROR(VLOOKUP(B511,Events!B:L,11,FALSE),Y510))","v":""}," "," ",{"$f":"IFERROR(VLOOKUP(AA:AA,'Masters Convertion'!F:G,2,FALSE),\"\")","v":""},"",{"$f":"IF('Gala Name'!C$4=\"No\",\"\",IFERROR(RANK(N511,N511:N518,1),\"\"))","v":""}]
[{"$f":"IF(J512=\"\",\"\",B509)","v":""},null,null,4,{"$f":"IF(D512=\"\",\"\",IF(VLOOKUP(D512,Teams!$B$3:$C$10,2,FALSE)=\"\",\"\",VLOOKUP(D512,Teams!$B$3:$C$10,2,FALSE)))","v":""},null,null,{"$f":"IF(G512=\"\",\"\",YEAR('Gala Name'!$C$9)-YEAR(G512))","v":""},"",null,"",{"$f":"IF(OR(J512=\"\",J512=\"DSQ\"),\"\",IF(OR(J512=J509,J512=J510,J512=J511,J512=J513,J512=J514,J512=J515,J512=J516),\"Enter Placings\",\"\"))","v":""},"","",null,{"$f":"IF(L512<>\"\",L512,IF(OR(J512=\"DNF\",J512=\"DSQ\"),0,IF(N512=\"\",\"\",RANK(N512,N509:N516,1))))","v":""},{"$f":"IF(P512=\"\",0,IF(P512=0,0,VLOOKUP(P:P,Points!B:C,2,FALSE)))","v":0},4,null,{"$f":"IF(P517>3.9,4,\"\")","v":""},{"$f":"IFERROR(IF(T512=\"\",\"\",VLOOKUP(T512,P509:R516,3,FALSE)),\"\")","v":""},null,4,null,{"$f":"IF(D512=\"\",\"\",IFERROR(VLOOKUP(B512,Events!B:L,11,FALSE),Y511))","v":""}," "," ",{"$f":"IFERROR(VLOOKUP(AA:AA,'Masters Convertion'!F:G,2,FALSE),\"\")","v":""},"",{"$f":"IF('Gala Name'!C$4=\"No\",\"\",IFERROR(RANK(N512,N512:N519,1),\"\"))","v":""}]
[{"$f":"IF(J513=\"\",\"\",B509)","v":""},null,null,5,{"$f":"IF(D513=\"\",\"\",IF(VLOOKUP(D513,Teams!$B$3:$C$10,2,FALSE)=\"\",\"\",VLOOKUP(D513,Teams!$B$3:$C$10,2,FALSE)))","v":""},null,null,{"$f":"IF(G513=\"\",\"\",YEAR('Gala Name'!$C$9)-YEAR(G513))","v":""},"",null,"",{"$f":"IF(OR(J513=\"\",J513=\"DSQ\"),\"\",IF(OR(J513=J510,J513=J511,J513=J512,J513=J514,J513=J515,J513=J516,J513=J509),\"Enter Placings\",\"\"))","v":""},"","",null,{"$f":"IF(L513<>\"\",L513,IF(OR(J513=\"DNF\",J513=\"DSQ\"),0,IF(N513=\"\",\"\",RANK(N513,N509:N516,1))))","v":""},{"$f":"IF(P513=\"\",0,IF(P513=0,0,VLOOKUP(P:P,Points!B:C,2,FALSE)))","v":0},5,null,{"$f":"IF(P517>4.9,5,\"\")","v":""},{"$f":"IFERROR(IF(T513=\"\",\"\",VLOOKUP(T513,P509:R516,3,FALSE)),\"\")","v":""},null,5,null,{"$f":"IF(D513=\"\",\"\",IFERROR(VLOOKUP(B513,Events!B:L,11,FALSE),Y512))","v":""}," "," ",{"$f":"IFERROR(VLOOKUP(AA:AA,'Masters Convertion'!F:G,2,FALSE),\"\")","v":""},"",{"$f":"IF('Gala Name'!C$4=\"No\",\"\",IFERROR(RANK(N513,N513:N520,1),\"\"))","v":""}]
[{"$f":"IF(J514=\"\",\"\",B509)","v":""},null,null,6,{"$f":"IF(D514=\"\",\"\",IF(VLOOKUP(D514,Teams!$B$3:$C$10,2,FALSE)=\"\",\"\",VLOOKUP(D514,Teams!$B$3:$C$10,2,FALSE)))","v":""},null,null,{"$f":"IF(G514=\"\",\"\",YEAR('Gala Name'!$C$9)-YEAR(G514))","v":""},"",null,"",{"$f":"IF(OR(J514=\"\",J514=\"DSQ\"),\"\",IF(OR(J514=J511,J514=J512,J514=J513,J514=J515,J514=J516,J514=J510,J514=J509),\"Enter Placings\",\"\"))","v":""},"","",null,{"$f":"IF(L514<>\"\",L514,IF(OR(J514=\"DNF\",J514=\"DSQ\"),0,IF(N514=\"\",\"\",RANK(N514,N509:N516,1))))","v":""},{"$f":"IF(P514=\"\",0,IF(P514=0,0,VLOOKUP(P:P,Points!B:C,2,FALSE)))","v":0},6,null,{"$f":"IF(P517>5.9,6,\"\")","v":""},{"$f":"IFERROR(IF(T514=\"\",\"\",VLOOKUP(T514,P509:R516,3,FALSE)),\"\")","v":""},null,6,null,{"$f":"IF(D514=\"\",\"\",IFERROR(VLOOKUP(B514,Events!B:L,11,FALSE),Y513))","v":""}," "," ",{"$f":"IFERROR(VLOOKUP(AA:AA,'Masters Convertion'!F:G,2,FALSE),\"\")","v":""},"",{"$f":"IF('Gala Name'!C$4=\"No\",\"\",IFERROR(RANK(N514,N514:N521,1),\"\"))","v":""}]
[{"$f":"IF(J515=\"\",\"\",B509)","v":""},null,null,7,{"$f":"IF(D515=\"\",\"\",IF(VLOOKUP(D515,Teams!$B$3:$C$10,2,FALSE)=\"\",\"\",VLOOKUP(D515,Teams!$B$3:$C$10,2,FALSE)))","v":""},null,null,{"$f":"IF(G515=\"\",\"\",YEAR('Gala Name'!$C$9)-YEAR(G515))","v":""},"",null,"",{"$f":"IF(OR(J515=\"\",J515=\"DSQ\"),\"\",IF(OR(J515=J512,J515=J513,J515=J514,J515=J516,J515=J509,J515=J510,J515=J511),\"Enter Placings\",\"\"))","v":""},"","",null,{"$f":"IF(L515<>\"\",L515,IF(OR(J515=\"DNF\",J515=\"DSQ\"),0,IF(N515=\"\",\"\",RANK(N515,N509:N516,1))))","v":""},{"$f":"IF(P515=\"\",0,IF(P515=0,0,VLOOKUP(P:P,Points!B:C,2,FALSE)))","v":0},7,null,{"$f":"IF(P517>6.9,7,\"\")","v":""},{"$f":"IFERROR(IF(T515=\"\",\"\",VLOOKUP(T515,P509:R516,3,FALSE)),\"\")","v":""},null,7,null,{"$f":"IF(D515=\"\",\"\",IFERROR(VLOOKUP(B515,Events!B:L,11,FALSE),Y514))","v":""}," "," ",{"$f":"IFERROR(VLOOKUP(AA:AA,'Masters Convertion'!F:G,2,FALSE),\"\")","v":""},"",{"$f":"IF('Gala Name'!C$4=\"No\",\"\",IFERROR(RANK(N515,N515:N522,1),\"\"))","v":""}]
[{"$f":"IF(J516=\"\",\"\",B509)","v":""},null,null,8,{"$f":"IF(D516=\"\",\"\",IF(VLOOKUP(D516,Teams!$B$3:$C$10,2,FALSE)=\"\",\"\",VLOOKUP(D516,Teams!$B$3:$C$10,2,FALSE)))","v":""},null,null,{"$f":"IF(G516=\"\",\"\",YEAR('Gala Name'!$C$9)-YEAR(G516))","v":""},"",null,"",{"$f":"IF(OR(J516=\"\",J516=\"DSQ\"),\"\",IF(OR(J516=J513,J516=J514,J516=J515,J516=J509,J516=J510,J516=J511,J516=J512),\"Enter Placings\",\"\"))","v":""},"","",null,{"$f":"IF(L516<>\"\",L516,IF(OR(J516=\"DNF\",J516=\"DSQ\"),0,IF(N516=\"\",\"\",RANK(N516,N509:N516,1))))","v":""},{"$f":"IF(P516=\"\",0,IF(P516=0,0,VLOOKUP(P:P,Points!B:C,2,FALSE)))","v":0},8,null,{"$f":"IF(P517>7.9,8,\"\")","v":""},{"$f":"IFERROR(IF(T516=\"\",\"\",VLOOKUP(T516,P509:R516,3,FALSE)),\"\")","v":""},null,8,null,{"$f":"IF(D516=\"\",\"\",IFERROR(VLOOKUP(B516,Events!B:L,11,FALSE),Y515))","v":""}," "," ",{"$f":"IFERROR(VLOOKUP(AA:AA,'Masters Convertion'!F:G,2,FALSE),\"\")","v":""},"",{"$f":"IF('Gala Name'!C$4=\"No\",\"\",IFERROR(RANK(N516,N516:N523,1),\"\"))","v":""}]
[null,null,null,null,null,null,null,null,null,null,null,null,"","",null,{"$f":"MAX(P509:P516)","v":0},null,null,null,null,null,null,"*"]
[{"$f":"IF(J518=\"\",\"\",B518)","v":""},{"$f":"B509+1","v":58},{"$f":"IF(D518=1,VLOOKUP(B518,Events!B:H,6,FALSE)&VLOOKUP(B518,Events!B:H,7,FALSE),\"\")","v":"   "},1,{"$f":"IF(D518=\"\",\"\",IF(VLOOKUP(D518,Teams!$B$3:$C$10,2,FALSE)=\"\",\"\",VLOOKUP(D518,Teams!$B$3:$C$10,2,FALSE)))","v":""},null,null,{"$f":"IF(G518=\"\",\"\",YEAR('Gala Name'!$C$9)-YEAR(G518))","v":""},{"$f":"IF(IF(J518=\"DSQ\",PROPER(K518),PROPER(F518))=\"\",\"\",IF(J518=\"DSQ\",PROPER(K518),PROPER(F518)))","v":""},null,"",{"$f":"IF(OR(J518=\"\",J518=\"DSQ\"),\"\",IF(OR(J518=J519,J518=J520,J518=J521,J518=J522,J518=J523,J518=J524,J518=J525),\"Enter Placings\",\"\"))","v":""},{"$f":"IF(J518=\"\",\"\",UPPER(TEXT(J518,\"0 00.00\")))","v":""},{"$f":"IF(J518=\"DSQ\",999999,IF(J518=\"DNF\",999999,IF(J518=\"\",\"\",IF(LEFT(M518,1)=\"0\",RIGHT(M518,5)*1,LEFT(J518,1)*60+RIGHT(M518,5)*1))))","v":""},null,{"$f":"IF(L518<>\"\",L518,IF(OR(J518=\"DNF\",J518=\"DSQ\"),0,IF(N518=\"\",\"\",RANK(N518,N518:N525,1))))","v":""},{"$f":"IF(P518=\"\",0,IF(P518=0,0,VLOOKUP(P:P,Points!B:C,2,FALSE)))","v":0},{"$f":"D518","v":1},null,{"$f":"IF(P526>0.9,1,\"\")","v":""},{"$f":"IFERROR(IF(T518=\"\",\"\",VLOOKUP(T518,P518:R525,3,FALSE)),\"\")","v":""},null,1,null,{"$f":"IF(D518=\"\",\"\",IFERROR(VLOOKUP(B518,Events!B:L,11,FALSE),Y517))","v":""}," ",{"$f":"Z518&Y518&H518","v":" "},{"$f":"IFERROR(VLOOKUP(AA:AA,'Masters Convertion'!F:G,2,FALSE),\"\")","v":""},"",{"$f":"IF('Gala Name'!C$4=\"No\",\"\",IFERROR(RANK(N518,N518:N525,1),\"\"))","v":""}]
[{"$f":"IF(J519=\"\",\"\",B518)","v":""},null,null,2,{"$f":"IF(D519=\"\",\"\",IF(VLOOKUP(D519,Teams!$B$3:$C$10,2,FALSE)=\"\",\"\",VLOOKUP(D519,Teams!$B$3:$C$10,2,FALSE)))","v":""},null,null,{"$f":"IF(G519=\"\",\"\",YEAR('Gala Name'!$C$9)-YEAR(G519))","v":""},"",null,"",{"$f":"IF(OR(J519=\"\",J519=\"DSQ\"),\"\",IF(OR(J519=J518,J519=J520,J519=J521,J519=J522,J519=J523,J519=J524,J519=J525),\"Enter Placings\",\"\"))","v":""},"","",null,{"$f":"IF(L519<>\"\",L519,IF(OR(J519=\"DNF\",J519=\"DSQ\"),0,IF(N519=\"\",\"\",RANK(N519,N518:N525,1))))","v":""},{"$f":"IF(P519=\"\",0,IF(P519=0,0,VLOOKUP(P:P,Points!B:C,2,FALSE)))","v":0},2,null,{"$f":"IF(P526>1.9,2,\"\")","v":""},{"$f":"IFERROR(IF(T519=\"\",\"\",VLOOKUP(T519,P518:R525,3,FALSE)),\"\")","v":""},null,2,null,{"$f":"IF(D519=\"\",\"\",IFERROR(VLOOKUP(B519,Events!B:L,11,FALSE),Y518))","v":""}," "," ",{"$f":"IFERROR(VLOOKUP(AA:AA,'Masters Convertion'!F:G,2,FALSE),\"\")","v":""},"",{"$f":"IF('Gala Name'!C$4=\"No\",\"\",IFERROR(RANK(N519,N519:N526,1),\"\"))","v":""}]
[{"$f":"IF(J520=\"\",\"\",B518)","v":""},null,null,3,{"$f":"IF(D520=\"\",\"\",IF(VLOOKUP(D520,Teams!$B$3:$C$10,2,FALSE)=\"\",\"\",VLOOKUP(D520,Teams!$B$3:$C$10,2,FALSE)))","v":""},null,null,{"$f":"IF(G520=\"\",\"\",YEAR('Gala Name'!$C$9)-YEAR(G520))","v":""},"",null,"",{"$f":"IF(OR(J520=\"\",J520=\"DSQ\"),\"\",IF(OR(J520=J518,J520=J519,J520=J521,J520=J522,J520=J523,J520=J524,J520=J525),\"Enter Placings\",\"\"))","v":""},"","",null,{"$f":"IF(L520<>\"\",L520,IF(OR(J520=\"DNF\",J520=\"DSQ\"),0,IF(N520=\"\",\"\",RANK(N520,N518:N525,1))))","v":""},{"$f":"IF(P520=\"\",0,IF(P520=0,0,VLOOKUP(P:P,Points!B:C,2,FALSE)))","v":0},3,null,{"$f":"IF(P526>2.9,3,\"\")","v":""},{"$f":"IFERROR(IF(T520=\"\",\"\",VLOOKUP(T520,P518:R525,3,FALSE)),\"\")","v":""},null,3,null,{"$f":"IF(D520=\"\",\"\",IFERROR(VLOOKUP(B520,Events!B:L,11,FALSE),Y519))","v":""}," "," ",{"$f":"IFERROR(VLOOKUP(AA:AA,'Masters Convertion'!F:G,2,FALSE),\"\")","v":""},{"$f":"IF(AB520=\"\",\"\",ROUNDDOWN(AB520*N520,2))","v":""},{"$f":"IF('Gala Name'!C$4=\"No\",\"\",IFERROR(RANK(N520,N520:N527,1),\"\"))","v":""}]
[{"$f":"IF(J521=\"\",\"\",B518)","v":""},null,null,4,{"$f":"IF(D521=\"\",\"\",IF(VLOOKUP(D521,Teams!$B$3:$C$10,2,FALSE)=\"\",\"\",VLOOKUP(D521,Teams!$B$3:$C$10,2,FALSE)))","v":""},null,null,{"$f":"IF(G521=\"\",\"\",YEAR('Gala Name'!$C$9)-YEAR(G521))","v":""},"",null,"",{"$f":"IF(OR(J521=\"\",J521=\"DSQ\"),\"\",IF(OR(J521=J518,J521=J519,J521=J520,J521=J522,J521=J523,J521=J524,J521=J525),\"Enter Placings\",\"\"))","v":""},"","",null,{"$f":"IF(L521<>\"\",L521,IF(OR(J521=\"DNF\",J521=\"DSQ\"),0,IF(N521=\"\",\"\",RANK(N521,N518:N525,1))))","v":""},{"$f":"IF(P521=\"\",0,IF(P521=0,0,VLOOKUP(P:P,Points!B:C,2,FALSE)))","v":0},4,null,{"$f":"IF(P526>3.9,4,\"\")","v":""},{"$f":"IFERROR(IF(T521=\"\",\"\",VLOOKUP(T521,P518:R525,3,FALSE)),\"\")","v":""},null,4,null,{"$f":"IF(D521=\"\",\"\",IFERROR(VLOOKUP(B521,Events!B:L,11,FALSE),Y520))","v":""}," "," ",{"$f":"IFERROR(VLOOKUP(AA:AA,'Masters Convertion'!F:G,2,FALSE),\"\")","v":""},"",{"$f":"IF('Gala Name'!C$4=\"No\",\"\",IFERROR(RANK(N521,N521:N528,1),\"\"))","v":""}]
[{"$f":"IF(J522=\"\",\"\",B518)","v":""},null,null,5,{"$f":"IF(D522=\"\",\"\",IF(VLOOKUP(D522,Teams!$B$3:$C$10,2,FALSE)=\"\",\"\",VLOOKUP(D522,Teams!$B$3:$C$10,2,FALSE)))","v":""},null,null,{"$f":"IF(G522=\"\",\"\",YEAR('Gala Name'!$C$9)-YEAR(G522))","v":""},"",null,"",{"$f":"IF(OR(J522=\"\",J522=\"DSQ\"),\"\",IF(OR(J522=J519,J522=J520,J522=J521,J522=J523,J522=J524,J522=J525,J522=J518),\"Enter Placings\",\"\"))","v":""},"","",null,{"$f":"IF(L522<>\"\",L522,IF(OR(J522=\"DNF\",J522=\"DSQ\"),0,IF(N522=\"\",\"\",RANK(N522,N518:N525,1))))","v":""},{"$f":"IF(P522=\"\",0,IF(P522=0,0,VLOOKUP(P:P,Points!B:C,2,FALSE)))","v":0},5,null,{"$f":"IF(P526>4.9,5,\"\")","v":""},{"$f":"IFERROR(IF(T522=\"\",\"\",VLOOKUP(T522,P518:R525,3,FALSE)),\"\")","v":""},null,5,null,{"$f":"IF(D522=\"\",\"\",IFERROR(VLOOKUP(B522,Events!B:L,11,FALSE),Y521))","v":""}," "," ",{"$f":"IFERROR(VLOOKUP(AA:AA,'Masters Convertion'!F:G,2,FALSE),\"\")","v":""},"",{"$f":"IF('Gala Name'!C$4=\"No\",\"\",IFERROR(RANK(N522,N522:N529,1),\"\"))","v":""}]
[{"$f":"IF(J523=\"\",\"\",B518)","v":""},null,null,6,{"$f":"IF(D523=\"\",\"\",IF(VLOOKUP(D523,Teams!$B$3:$C$10,2,FALSE)=\"\",\"\",VLOOKUP(D523,Teams!$B$3:$C$10,2,FALSE)))","v":""},null,null,{"$f":"IF(G523=\"\",\"\",YEAR('Gala Name'!$C$9)-YEAR(G523))","v":""},"",null,"",{"$f":"IF(OR(J523=\"\",J523=\"DSQ\"),\"\",IF(OR(J523=J520,J523=J521,J523=J522,J523=J524,J523=J525,J523=J519,J523=J518),\"Enter Placings\",\"\"))","v":""},"","",null,{"$f":"IF(L523<>\"\",L523,IF(OR(J523=\"DNF\",J523=\"DSQ\"),0,IF(N523=\"\",\"\",RANK(N523,N518:N525,1))))","v":""},{"$f":"IF(P523=\"\",0,IF(P523=0,0,VLOOKUP(P:P,Points!B:C,2,FALSE)))","v":0},6,null,{"$f":"IF(P526>5.9,6,\"\")","v":""},{"$f":"IFERROR(IF(T523=\"\",\"\",VLOOKUP(T523,P518:R525,3,FALSE)),\"\")","v":""},null,6,null,{"$f":"IF(D523=\"\",\"\",IFERROR(VLOOKUP(B523,Events!B:L,11,FALSE),Y522))","v":""}," "," ",{"$f":"IFERROR(VLOOKUP(AA:AA,'Masters Convertion'!F:G,2,FALSE),\"\")","v":""},"",{"$f":"IF('Gala Name'!C$4=\"No\",\"\",IFERROR(RANK(N523,N523:N530,1),\"\"))","v":""}]
[{"$f":"IF(J524=\"\",\"\",B518)","v":""},null,null,7,{"$f":"IF(D524=\"\",\"\",IF(VLOOKUP(D524,Teams!$B$3:$C$10,2,FALSE)=\"\",\"\",VLOOKUP(D524,Teams!$B$3:$C$10,2,FALSE)))","v":""},null,null,{"$f":"IF(G524=\"\",\"\",YEAR('Gala Name'!$C$9)-YEAR(G524))","v":""},"",null,"",{"$f":"IF(OR(J524=\"\",J524=\"DSQ\"),\"\",IF(OR(J524=J521,J524=J522,J524=J523,J524=J525,J524=J518,J524=J519,J524=J520),\"Enter Placings\",\"\"))","v":""},"","",null,{"$f":"IF(L524<>\"\",L524,IF(OR(J524=\"DNF\",J524=\"DSQ\"),0,IF(N524=\"\",\"\",RANK(N524,N518:N525,1))))","v":""},{"$f":"IF(P524=\"\",0,IF(P524=0,0,VLOOKUP(P:P,Points!B:C,2,FALSE)))","v":0},7,null,{"$f":"IF(P526>6.9,7,\"\")","v":""},{"$f":"IFERROR(IF(T524=\"\",\"\",VLOOKUP(T524,P518:R525,3,FALSE)),\"\")","v":""},null,7,null,{"$f":"IF(D524=\"\",\"\",IFERROR(VLOOKUP(B524,Events!B:L,11,FALSE),Y523))","v":""}," "," ",{"$f":"IFERROR(VLOOKUP(AA:AA,'Masters Convertion'!F:G,2,FALSE),\"\")","v":""},"",{"$f":"IF('Gala Name'!C$4=\"No\",\"\",IFERROR(RANK(N524,N524:N531,1),\"\"))","v":""}]
[{"$f":"IF(J525=\"\",\"\",B518)","v":""},null,null,8,{"$f":"IF(D525=\"\",\"\",IF(VLOOKUP(D525,Teams!$B$3:$C$10,2,FALSE)=\"\",\"\",VLOOKUP(D525,Teams!$B$3:$C$10,2,FALSE)))","v":""},null,null,{"$f":"IF(G525=\"\",\"\",YEAR('Gala Name'!$C$9)-YEAR(G525))","v":""},"",null,"",{"$f":"IF(OR(J525=\"\",J525=\"DSQ\"),\"\",IF(OR(J525=J522,J525=J523,J525=J524,J525=J518,J525=J519,J525=J520,J525=J521),\"Enter Placings\",\"\"))","v":""},"","",null,{"$f":"IF(L525<>\"\",L525,IF(OR(J525=\"DNF\",J525=\"DSQ\"),0,IF(N525=\"\",\"\",RANK(N525,N518:N525,1))))","v":""},{"$f":"IF(P525=\"\",0,IF(P525=0,0,VLOOKUP(P:P,Points!B:C,2,FALSE)))","v":0},8,null,{"$f":"IF(P526>7.9,8,\"\")","v":""},{"$f":"IFERROR(IF(T525=\"\",\"\",VLOOKUP(T525,P518:R525,3,FALSE)),\"\")","v":""},null,8,null,{"$f":"IF(D525=\"\",\"\",IFERROR(VLOOKUP(B525,Events!B:L,11,FALSE),Y524))","v":""}," "," ",{"$f":"IFERROR(VLOOKUP(AA:AA,'Masters Convertion'!F:G,2,FALSE),\"\")","v":""},"",{"$f":"IF('Gala Name'!C$4=\"No\",\"\",IFERROR(RANK(N525,N525:N532,1),\"\"))","v":""}]
[null,null,null,null,null,null,null,null,null,null,null,null,"","",null,{"$f":"MAX(P518:P525)","v":0},null,null,null,null,null,null,"*"]
[{"$f":"IF(J527=\"\",\"\",B527)","v":""},{"$f":"B518+1","v":59},{"$f":"IF(D527=1,VLOOKUP(B527,Events!B:H,6,FALSE)&VLOOKUP(B527,Events!B:H,7,FALSE),\"\")","v":"   "},1,{"$f":"IF(D527=\"\",\"\",IF(VLOOKUP(D527,Teams!$B$3:$C$10,2,FALSE)=\"\",\"\",VLOOKUP(D527,Teams!$B$3:$C$10,2,FALSE)))","v":""},null,null,{"$f":"IF(G527=\"\",\"\",YEAR('Gala Name'!$C$9)-YEAR(G527))","v":""},"",null,"",{"$f":"IF(OR(J527=\"\",J527=\"DSQ\"),\"\",IF(OR(J527=J528,J527=J529,J527=J530,J527=J531,J527=J532,J527=J533,J527=J534),\"Enter Placings\",\"\"))","v":""},"","",null,{"$f":"IF(L527<>\"\",L527,IF(OR(J527=\"DNF\",J527=\"DSQ\"),0,IF(N527=\"\",\"\",RANK(N527,N527:N534,1))))","v":""},{"$f":"IF(P527=\"\",0,IF(P527=0,0,VLOOKUP(P:P,Points!B:C,2,FALSE)))","v":0},{"$f":"D527","v":1},null,{"$f":"IF(P535>0.9,1,\"\")","v":""},{"$f":"IFERROR(IF(T527=\"\",\"\",VLOOKUP(T527,P527:R534,3,FALSE)),\"\")","v":""},null,1,null,{"$f":"IF(D527=\"\",\"\",IFERROR(VLOOKUP(B527,Events!B:L,11,FALSE),Y526))","v":""}," "," ",{"$f":"IFERROR(VLOOKUP(AA:AA,'Masters Convertion'!F:G,2,FALSE),\"\")","v":""},"",{"$f":"IF('Gala Name'!C$4=\"No\",\"\",IFERROR(RANK(N527,N527:N534,1),\"\"))","v":""}]
[{"$f":"IF(J528=\"\",\"\",B527)","v":""},null,null,2,{"$f":"IF(D528=\"\",\"\",IF(VLOOKUP(D528,Teams!$B$3:$C$10,2,FALSE)=\"\",\"\",VLOOKUP(D528,Teams!$B$3:$C$10,2,FALSE)))","v":""},null,null,{"$f":"IF(G528=\"\",\"\",YEAR('Gala Name'!$C$9)-YEAR(G528))","v":""},"",null,"",{"$f":"IF(OR(J528=\"\",J528=\"DSQ\"),\"\",IF(OR(J528=J527,J528=J529,J528=J530,J528=J531,J528=J532,J528=J533,J528=J534),\"Enter Placings\",\"\"))","v":""},"","",null,{"$f":"IF(L528<>\"\",L528,IF(OR(J528=\"DNF\",J528=\"DSQ\"),0,IF(N528=\"\",\"\",RANK(N528,N527:N534,1))))","v":""},{"$f":"IF(P528=\"\",0,IF(P528=0,0,VLOOKUP(P:P,Points!B:C,2,FALSE)))","v":0},2,null,{"$f":"IF(P535>1.9,2,\"\")","v":""},{"$f":"IFERROR(IF(T528=\"\",\"\",VLOOKUP(T528,P527:R534,3,FALSE)),\"\")","v":""},null,2,null,{"$f":"IF(D528=\"\",\"\",IFERROR(VLOOKUP(B528,Events!B:L,11,FALSE),Y527))","v":""}," "," ",{"$f":"IFERROR(VLOOKUP(AA:AA,'Masters Convertion'!F:G,2,FALSE),\"\")","v":""},"",{"$f":"IF('Gala Name'!C$4=\"No\",\"\",IFERROR(RANK(N528,N528:N535,1),\"\"))","v":""}]
[{"$f":"IF(J529=\"\",\"\",B527)","v":""},null,null,3,{"$f":"IF(D529=\"\",\"\",IF(VLOOKUP(D529,Teams!$B$3:$C$10,2,FALSE)=\"\",\"\",VLOOKUP(D529,Teams!$B$3:$C$10,2,FALSE)))","v":""},null,null,{"$f":"IF(G529=\"\",\"\",YEAR('Gala Name'!$C$9)-YEAR(G529))","v":""},"",null,"",{"$f":"IF(OR(J529=\"\",J529=\"DSQ\"),\"\",IF(OR(J529=J527,J529=J528,J529=J530,J529=J531,J529=J532,J529=J533,J529=J534),\"Enter Placings\",\"\"))","v":""},"","",null,{"$f":"IF(L529<>\"\",L529,IF(OR(J529=\"DNF\",J529=\"DSQ\"),0,IF(N529=\"\",\"\",RANK(N529,N527:N534,1))))","v":""},{"$f":"IF(P529=\"\",0,IF(P529=0,0,VLOOKUP(P:P,Points!B:C,2,FALSE)))","v":0},3,null,{"$f":"IF(P535>2.9,3,\"\")","v":""},{"$f":"IFERROR(IF(T529=\"\",\"\",VLOOKUP(T529,P527:R534,3,FALSE)),\"\")","v":""},null,3,null,{"$f":"IF(D529=\"\",\"\",IFERROR(VLOOKUP(B529,Events!B:L,11,FALSE),Y528))","v":""},{"$f":"IF(LEFT(C529,1)=\"\",Z528,LEFT(C529,1))","v":" "}," ",{"$f":"IFERROR(VLOOKUP(AA:AA,'Masters Convertion'!F:G,2,FALSE),\"\")","v":""},"",{"$f":"IF('Gala Name'!C$4=\"No\",\"\",IFERROR(RANK(N529,N529:N536,1),\"\"))","v":""}]
[{"$f":"IF(J530=\"\",\"\",B527)","v":""},null,null,4,{"$f":"IF(D530=\"\",\"\",IF(VLOOKUP(D530,Teams!$B$3:$C$10,2,FALSE)=\"\",\"\",VLOOKUP(D530,Teams!$B$3:$C$10,2,FALSE)))","v":""},null,null,{"$f":"IF(G530=\"\",\"\",YEAR('Gala Name'!$C$9)-YEAR(G530))","v":""},"",null,"",{"$f":"IF(OR(J530=\"\",J530=\"DSQ\"),\"\",IF(OR(J530=J527,J530=J528,J530=J529,J530=J531,J530=J532,J530=J533,J530=J534),\"Enter Placings\",\"\"))","v":""},"","",null,{"$f":"IF(L530<>\"\",L530,IF(OR(J530=\"DNF\",J530=\"DSQ\"),0,IF(N530=\"\",\"\",RANK(N530,N527:N534,1))))","v":""},{"$f":"IF(P530=\"\",0,IF(P530=0,0,VLOOKUP(P:P,Points!B:C,2,FALSE)))","v":0},4,null,{"$f":"IF(P535>3.9,4,\"\")","v":""},{"$f":"IFERROR(IF(T530=\"\",\"\",VLOOKUP(T530,P527:R534,3,FALSE)),\"\")","v":""},null,4,null,{"$f":"IF(D530=\"\",\"\",IFERROR(VLOOKUP(B530,Events!B:L,11,FALSE),Y529))","v":""}," "," ",{"$f":"IFERROR(VLOOKUP(AA:AA,'Masters Convertion'!F:G,2,FALSE),\"\")","v":""},"",{"$f":"IF('Gala Name'!C$4=\"No\",\"\",IFERROR(RANK(N530,N530:N537,1),\"\"))","v":""}]
[{"$f":"IF(J531=\"\",\"\",B527)","v":""},null,null,5,{"$f":"IF(D531=\"\",\"\",IF(VLOOKUP(D531,Teams!$B$3:$C$10,2,FALSE)=\"\",\"\",VLOOKUP(D531,Teams!$B$3:$C$10,2,FALSE)))","v":""},null,null,{"$f":"IF(G531=\"\",\"\",YEAR('Gala Name'!$C$9)-YEAR(G531))","v":""},"",null,"",{"$f":"IF(OR(J531=\"\",J531=\"DSQ\"),\"\",IF(OR(J531=J528,J531=J529,J531=J530,J531=J532,J531=J533,J531=J534,J531=J527),\"Enter Placings\",\"\"))","v":""},"","",null,{"$f":"IF(L531<>\"\",L531,IF(OR(J531=\"DNF\",J531=\"DSQ\"),0,IF(N531=\"\",\"\",RANK(N531,N527:N534,1))))","v":""},{"$f":"IF(P531=\"\",0,IF(P531=0,0,VLOOKUP(P:P,Points!B:C,2,FALSE)))","v":0},5,null,{"$f":"IF(P535>4.9,5,\"\")","v":""},{"$f":"IFERROR(IF(T531=\"\",\"\",VLOOKUP(T531,P527:R534,3,FALSE)),\"\")","v":""},null,5,null,{"$f":"IF(D531=\"\",\"\",IFERROR(VLOOKUP(B531,Events!B:L,11,FALSE),Y530))","v":""}," "," ",{"$f":"IFERROR(VLOOKUP(AA:AA,'Masters Convertion'!F:G,2,FALSE),\"\")","v":""},"",{"$f":"IF('Gala Name'!C$4=\"No\",\"\",IFERROR(RANK(N531,N531:N538,1),\"\"))","v":""}]
[{"$f":"IF(J532=\"\",\"\",B527)","v":""},null,null,6,{"$f":"IF(D532=\"\",\"\",IF(VLOOKUP(D532,Teams!$B$3:$C$10,2,FALSE)=\"\",\"\",VLOOKUP(D532,Teams!$B$3:$C$10,2,FALSE)))","v":""},null,null,{"$f":"IF(G532=\"\",\"\",YEAR('Gala Name'!$C$9)-YEAR(G532))","v":""},"",null,"",{"$f":"IF(OR(J532=\"\",J532=\"DSQ\"),\"\",IF(OR(J532=J529,J532=J530,J532=J531,J532=J533,J532=J534,J532=J528,J532=J527),\"Enter Placings\",\"\"))","v":""},"","",null,{"$f":"IF(L532<>\"\",L532,IF(OR(J532=\"DNF\",J532=\"DSQ\"),0,IF(N532=\"\",\"\",RANK(N532,N527:N534,1))))","v":""},{"$f":"IF(P532=\"\",0,IF(P532=0,0,VLOOKUP(P:P,Points!B:C,2,FALSE)))","v":0},6,null,{"$f":"IF(P535>5.9,6,\"\")","v":""},{"$f":"IFERROR(IF(T532=\"\",\"\",VLOOKUP(T532,P527:R534,3,FALSE)),\"\")","v":""},null,6,null,{"$f":"IF(D532=\"\",\"\",IFERROR(VLOOKUP(B532,Events!B:L,11,FALSE),Y531))","v":""}," "," ",{"$f":"IFERROR(VLOOKUP(AA:AA,'Masters Convertion'!F:G,2,FALSE),\"\")","v":""},"",{"$f":"IF('Gala Name'!C$4=\"No\",\"\",IFERROR(RANK(N532,N532:N539,1),\"\"))","v":""}]
[{"$f":"IF(J533=\"\",\"\",B527)","v":""},null,null,7,{"$f":"IF(D533=\"\",\"\",IF(VLOOKUP(D533,Teams!$B$3:$C$10,2,FALSE)=\"\",\"\",VLOOKUP(D533,Teams!$B$3:$C$10,2,FALSE)))","v":""},null,null,{"$f":"IF(G533=\"\",\"\",YEAR('Gala Name'!$C$9)-YEAR(G533))","v":""},"",null,"",{"$f":"IF(OR(J533=\"\",J533=\"DSQ\"),\"\",IF(OR(J533=J530,J533=J531,J533=J532,J533=J534,J533=J527,J533=J528,J533=J529),\"Enter Placings\",\"\"))","v":""},"","",null,{"$f":"IF(L533<>\"\",L533,IF(OR(J533=\"DNF\",J533=\"DSQ\"),0,IF(N533=\"\",\"\",RANK(N533,N527:N534,1))))","v":""},{"$f":"IF(P533=\"\",0,IF(P533=0,0,VLOOKUP(P:P,Points!B:C,2,FALSE)))","v":0},7,null,{"$f":"IF(P535>6.9,7,\"\")","v":""},{"$f":"IFERROR(IF(T533=\"\",\"\",VLOOKUP(T533,P527:R534,3,FALSE)),\"\")","v":""},null,7,null,{"$f":"IF(D533=\"\",\"\",IFERROR(VLOOKUP(B533,Events!B:L,11,FALSE),Y532))","v":""}," "," ",{"$f":"IFERROR(VLOOKUP(AA:AA,'Masters Convertion'!F:G,2,FALSE),\"\")","v":""},"",{"$f":"IF('Gala Name'!C$4=\"No\",\"\",IFERROR(RANK(N533,N533:N540,1),\"\"))","v":""}]
[{"$f":"IF(J534=\"\",\"\",B527)","v":""},null,null,8,{"$f":"IF(D534=\"\",\"\",IF(VLOOKUP(D534,Teams!$B$3:$C$10,2,FALSE)=\"\",\"\",VLOOKUP(D534,Teams!$B$3:$C$10,2,FALSE)))","v":""},null,null,{"$f":"IF(G534=\"\",\"\",YEAR('Gala Name'!$C$9)-YEAR(G534))","v":""},"",null,"",{"$f":"IF(OR(J534=\"\",J534=\"DSQ\"),\"\",IF(OR(J534=J531,J534=J532,J534=J533,J534=J527,J534=J528,J534=J529,J534=J530),\"Enter Placings\",\"\"))","v":""},"","",null,{"$f":"IF(L534<>\"\",L534,IF(OR(J534=\"DNF\",J534=\"DSQ\"),0,IF(N534=\"\",\"\",RANK(N534,N527:N534,1))))","v":""},{"$f":"IF(P534=\"\",0,IF(P534=0,0,VLOOKUP(P:P,Points!B:C,2,FALSE)))","v":0},8,null,{"$f":"IF(P535>7.9,8,\"\")","v":""},{"$f":"IFERROR(IF(T534=\"\",\"\",VLOOKUP(T534,P527:R534,3,FALSE)),\"\")","v":""},null,8,null,{"$f":"IF(D534=\"\",\"\",IFERROR(VLOOKUP(B534,Events!B:L,11,FALSE),Y533))","v":""}," "," ",{"$f":"IFERROR(VLOOKUP(AA:AA,'Masters Convertion'!F:G,2,FALSE),\"\")","v":""},"",{"$f":"IF('Gala Name'!C$4=\"No\",\"\",IFERROR(RANK(N534,N534:N541,1),\"\"))","v":""}]
[null,null,null,null,null,null,null,null,null,null,null,null,"","",null,{"$f":"MAX(P527:P534)","v":0},null,null,null,null,null,null,"*"]
[{"$f":"IF(J536=\"\",\"\",B536)","v":""},{"$f":"B527+1","v":60},{"$f":"IF(D536=1,VLOOKUP(B536,Events!B:H,6,FALSE)&VLOOKUP(B536,Events!B:H,7,FALSE),\"\")","v":"   "},1,{"$f":"IF(D536=\"\",\"\",IF(VLOOKUP(D536,Teams!$B$3:$C$10,2,FALSE)=\"\",\"\",VLOOKUP(D536,Teams!$B$3:$C$10,2,FALSE)))","v":""},null,null,{"$f":"IF(G536=\"\",\"\",YEAR('Gala Name'!$C$9)-YEAR(G536))","v":""},"",null,"",{"$f":"IF(OR(J536=\"\",J536=\"DSQ\"),\"\",IF(OR(J536=J537,J536=J538,J536=J539,J536=J540,J536=J541,J536=J542,J536=J543),\"Enter Placings\",\"\"))","v":""},"","",null,{"$f":"IF(L536<>\"\",L536,IF(OR(J536=\"DNF\",J536=\"DSQ\"),0,IF(N536=\"\",\"\",RANK(N536,N536:N543,1))))","v":""},{"$f":"IF(P536=\"\",0,IF(P536=0,0,VLOOKUP(P:P,Points!B:C,2,FALSE)))","v":0},{"$f":"D536","v":1},null,{"$f":"IF(P544>0.9,1,\"\")","v":""},{"$f":"IFERROR(IF(T536=\"\",\"\",VLOOKUP(T536,P536:R543,3,FALSE)),\"\")","v":""},null,1,null,{"$f":"IF(D536=\"\",\"\",IFERROR(VLOOKUP(B536,Events!B:L,11,FALSE),Y535))","v":""}," "," ",{"$f":"IFERROR(VLOOKUP(AA:AA,'Masters Convertion'!F:G,2,FALSE),\"\")","v":""},"",{"$f":"IF('Gala Name'!C$4=\"No\",\"\",IFERROR(RANK(N536,N536:N543,1),\"\"))","v":""}]
[{"$f":"IF(J537=\"\",\"\",B536)","v":""},null,null,2,{"$f":"IF(D537=\"\",\"\",IF(VLOOKUP(D537,Teams!$B$3:$C$10,2,FALSE)=\"\",\"\",VLOOKUP(D537,Teams!$B$3:$C$10,2,FALSE)))","v":""},null,null,{"$f":"IF(G537=\"\",\"\",YEAR('Gala Name'!$C$9)-YEAR(G537))","v":""},"",null,"",{"$f":"IF(OR(J537=\"\",J537=\"DSQ\"),\"\",IF(OR(J537=J536,J537=J538,J537=J539,J537=J540,J537=J541,J537=J542,J537=J543),\"Enter Placings\",\"\"))","v":""},"","",null,{"$f":"IF(L537<>\"\",L537,IF(OR(J537=\"DNF\",J537=\"DSQ\"),0,IF(N537=\"\",\"\",RANK(N537,N536:N543,1))))","v":""},{"$f":"IF(P537=\"\",0,IF(P537=0,0,VLOOKUP(P:P,Points!B:C,2,FALSE)))","v":0},2,null,{"$f":"IF(P544>1.9,2,\"\")","v":""},{"$f":"IFERROR(IF(T537=\"\",\"\",VLOOKUP(T537,P536:R543,3,FALSE)),\"\")","v":""},null,2,null,{"$f":"IF(D537=\"\",\"\",IFERROR(VLOOKUP(B537,Events!B:L,11,FALSE),Y536))","v":""}," "," ",{"$f":"IFERROR(VLOOKUP(AA:AA,'Masters Convertion'!F:G,2,FALSE),\"\")","v":""},"",{"$f":"IF('Gala Name'!C$4=\"No\",\"\",IFERROR(RANK(N537,N537:N544,1),\"\"))","v":""}]
[{"$f":"IF(J538=\"\",\"\",B536)","v":""},null,null,3,{"$f":"IF(D538=\"\",\"\",IF(VLOOKUP(D538,Teams!$B$3:$C$10,2,FALSE)=\"\",\"\",VLOOKUP(D538,Teams!$B$3:$C$10,2,FALSE)))","v":""},null,null,{"$f":"IF(G538=\"\",\"\",YEAR('Gala Name'!$C$9)-YEAR(G538))","v":""},"",null,{"$f":"IF(J538=\"DSQ\",\"Enter Reason\",\"\")","v":""},{"$f":"IF(OR(J538=\"\",J538=\"DSQ\"),\"\",IF(OR(J538=J536,J538=J537,J538=J539,J538=J540,J538=J541,J538=J542,J538=J543),\"Enter Placings\",\"\"))","v":""},"","",null,{"$f":"IF(L538<>\"\",L538,IF(OR(J538=\"DNF\",J538=\"DSQ\"),0,IF(N538=\"\",\"\",RANK(N538,N536:N543,1))))","v":""},{"$f":"IF(P538=\"\",0,IF(P538=0,0,VLOOKUP(P:P,Points!B:C,2,FALSE)))","v":0},3,null,{"$f":"IF(P544>2.9,3,\"\")","v":""},{"$f":"IFERROR(IF(T538=\"\",\"\",VLOOKUP(T538,P536:R543,3,FALSE)),\"\")","v":""},null,3,null,{"$f":"IF(D538=\"\",\"\",IFERROR(VLOOKUP(B538,Events!B:L,11,FALSE),Y537))","v":""}," "," ",{"$f":"IFERROR(VLOOKUP(AA:AA,'Masters Convertion'!F:G,2,FALSE),\"\")","v":""},"",{"$f":"IF('Gala Name'!C$4=\"No\",\"\",IFERROR(RANK(N538,N538:N545,1),\"\"))","v":""}]
[{"$f":"IF(J539=\"\",\"\",B536)","v":""},null,null,4,{"$f":"IF(D539=\"\",\"\",IF(VLOOKUP(D539,Teams!$B$3:$C$10,2,FALSE)=\"\",\"\",VLOOKUP(D539,Teams!$B$3:$C$10,2,FALSE)))","v":""},null,null,{"$f":"IF(G539=\"\",\"\",YEAR('Gala Name'!$C$9)-YEAR(G539))","v":""},"",null,"",{"$f":"IF(OR(J539=\"\",J539=\"DSQ\"),\"\",IF(OR(J539=J536,J539=J537,J539=J538,J539=J540,J539=J541,J539=J542,J539=J543),\"Enter Placings\",\"\"))","v":""},"","",null,{"$f":"IF(L539<>\"\",L539,IF(OR(J539=\"DNF\",J539=\"DSQ\"),0,IF(N539=\"\",\"\",RANK(N539,N536:N543,1))))","v":""},{"$f":"IF(P539=\"\",0,IF(P539=0,0,VLOOKUP(P:P,Points!B:C,2,FALSE)))","v":0},4,null,{"$f":"IF(P544>3.9,4,\"\")","v":""},{"$f":"IFERROR(IF(T539=\"\",\"\",VLOOKUP(T539,P536:R543,3,FALSE)),\"\")","v":""},null,4,null,{"$f":"IF(D539=\"\",\"\",IFERROR(VLOOKUP(B539,Events!B:L,11,FALSE),Y538))","v":""}," "," ",{"$f":"IFERROR(VLOOKUP(AA:AA,'Masters Convertion'!F:G,2,FALSE),\"\")","v":""},"",{"$f":"IF('Gala Name'!C$4=\"No\",\"\",IFERROR(RANK(N539,N539:N546,1),\"\"))","v":""}]
[{"$f":"IF(J540=\"\",\"\",B536)","v":""},null,null,5,{"$f":"IF(D540=\"\",\"\",IF(VLOOKUP(D540,Teams!$B$3:$C$10,2,FALSE)=\"\",\"\",VLOOKUP(D540,Teams!$B$3:$C$10,2,FALSE)))","v":""},null,null,{"$f":"IF(G540=\"\",\"\",YEAR('Gala Name'!$C$9)-YEAR(G540))","v":""},"",null,"",{"$f":"IF(OR(J540=\"\",J540=\"DSQ\"),\"\",IF(OR(J540=J537,J540=J538,J540=J539,J540=J541,J540=J542,J540=J543,J540=J536),\"Enter Placings\",\"\"))","v":""},"","",null,{"$f":"IF(L540<>\"\",L540,IF(OR(J540=\"DNF\",J540=\"DSQ\"),0,IF(N540=\"\",\"\",RANK(N540,N536:N543,1))))","v":""},{"$f":"IF(P540=\"\",0,IF(P540=0,0,VLOOKUP(P:P,Points!B:C,2,FALSE)))","v":0},5,null,{"$f":"IF(P544>4.9,5,\"\")","v":""},{"$f":"IFERROR(IF(T540=\"\",\"\",VLOOKUP(T540,P536:R543,3,FALSE)),\"\")","v":""},null,5,null,{"$f":"IF(D540=\"\",\"\",IFERROR(VLOOKUP(B540,Events!B:L,11,FALSE),Y539))","v":""}," "," ",{"$f":"IFERROR(VLOOKUP(AA:AA,'Masters Convertion'!F:G,2,FALSE),\"\")","v":""},"",{"$f":"IF('Gala Name'!C$4=\"No\",\"\",IFERROR(RANK(N540,N540:N547,1),\"\"))","v":""}]
[{"$f":"IF(J541=\"\",\"\",B536)","v":""},null,null,6,{"$f":"IF(D541=\"\",\"\",IF(VLOOKUP(D541,Teams!$B$3:$C$10,2,FALSE)=\"\",\"\",VLOOKUP(D541,Teams!$B$3:$C$10,2,FALSE)))","v":""},null,null,{"$f":"IF(G541=\"\",\"\",YEAR('Gala Name'!$C$9)-YEAR(G541))","v":""},"",null,"",{"$f":"IF(OR(J541=\"\",J541=\"DSQ\"),\"\",IF(OR(J541=J538,J541=J539,J541=J540,J541=J542,J541=J543,J541=J537,J541=J536),\"Enter Placings\",\"\"))","v":""},"","",null,{"$f":"IF(L541<>\"\",L541,IF(OR(J541=\"DNF\",J541=\"DSQ\"),0,IF(N541=\"\",\"\",RANK(N541,N536:N543,1))))","v":""},{"$f":"IF(P541=\"\",0,IF(P541=0,0,VLOOKUP(P:P,Points!B:C,2,FALSE)))","v":0},6,null,{"$f":"IF(P544>5.9,6,\"\")","v":""},{"$f":"IFERROR(IF(T541=\"\",\"\",VLOOKUP(T541,P536:R543,3,FALSE)),\"\")","v":""},null,6,null,{"$f":"IF(D541=\"\",\"\",IFERROR(VLOOKUP(B541,Events!B:L,11,FALSE),Y540))","v":""}," "," ",{"$f":"IFERROR(VLOOKUP(AA:AA,'Masters Convertion'!F:G,2,FALSE),\"\")","v":""},"",{"$f":"IF('Gala Name'!C$4=\"No\",\"\",IFERROR(RANK(N541,N541:N548,1),\"\"))","v":""}]
[{"$f":"IF(J542=\"\",\"\",B536)","v":""},null,null,7,{"$f":"IF(D542=\"\",\"\",IF(VLOOKUP(D542,Teams!$B$3:$C$10,2,FALSE)=\"\",\"\",VLOOKUP(D542,Teams!$B$3:$C$10,2,FALSE)))","v":""},null,null,{"$f":"IF(G542=\"\",\"\",YEAR('Gala Name'!$C$9)-YEAR(G542))","v":""},"",null,"",{"$f":"IF(OR(J542=\"\",J542=\"DSQ\"),\"\",IF(OR(J542=J539,J542=J540,J542=J541,J542=J543,J542=J536,J542=J537,J542=J538),\"Enter Placings\",\"\"))","v":""},"","",null,{"$f":"IF(L542<>\"\",L542,IF(OR(J542=\"DNF\",J542=\"DSQ\"),0,IF(N542=\"\",\"\",RANK(N542,N536:N543,1))))","v":""},{"$f":"IF(P542=\"\",0,IF(P542=0,0,VLOOKUP(P:P,Points!B:C,2,FALSE)))","v":0},7,null,{"$f":"IF(P544>6.9,7,\"\")","v":""},{"$f":"IFERROR(IF(T542=\"\",\"\",VLOOKUP(T542,P536:R543,3,FALSE)),\"\")","v":""},null,7,null,{"$f":"IF(D542=\"\",\"\",IFERROR(VLOOKUP(B542,Events!B:L,11,FALSE),Y541))","v":""}," "," ",{"$f":"IFERROR(VLOOKUP(AA:AA,'Masters Convertion'!F:G,2,FALSE),\"\")","v":""},"",{"$f":"IF('Gala Name'!C$4=\"No\",\"\",IFERROR(RANK(N542,N542:N549,1),\"\"))","v":""}]
[{"$f":"IF(J543=\"\",\"\",B536)","v":""},null,null,8,{"$f":"IF(D543=\"\",\"\",IF(VLOOKUP(D543,Teams!$B$3:$C$10,2,FALSE)=\"\",\"\",VLOOKUP(D543,Teams!$B$3:$C$10,2,FALSE)))","v":""},null,null,{"$f":"IF(G543=\"\",\"\",YEAR('Gala Name'!$C$9)-YEAR(G543))","v":""},"",null,"",{"$f":"IF(OR(J543=\"\",J543=\"DSQ\"),\"\",IF(OR(J543=J540,J543=J541,J543=J542,J543=J536,J543=J537,J543=J538,J543=J539),\"Enter Placings\",\"\"))","v":""},"","",null,{"$f":"IF(L543<>\"\",L543,IF(OR(J543=\"DNF\",J543=\"DSQ\"),0,IF(N543=\"\",\"\",RANK(N543,N536:N543,1))))","v":""},{"$f":"IF(P543=\"\",0,IF(P543=0,0,VLOOKUP(P:P,Points!B:C,2,FALSE)))","v":0},8,null,{"$f":"IF(P544>7.9,8,\"\")","v":""},{"$f":"IFERROR(IF(T543=\"\",\"\",VLOOKUP(T543,P536:R543,3,FALSE)),\"\")","v":""},null,8,null,{"$f":"IF(D543=\"\",\"\",IFERROR(VLOOKUP(B543,Events!B:L,11,FALSE),Y542))","v":""}," "," ",{"$f":"IFERROR(VLOOKUP(AA:AA,'Masters Convertion'!F:G,2,FALSE),\"\")","v":""},"",{"$f":"IF('Gala Name'!C$4=\"No\",\"\",IFERROR(RANK(N543,N543:N550,1),\"\"))","v":""}]
[null,null,null,null,null,null,null,null,null,null,null,null,null,null,null,{"$f":"MAX(P536:P543)","v":0}]

{"sheet":"Points Position","index":8,"n_rows":86,"n_cols":41,"rows_kept":86,"cut":false,"hidden":true,"merged":[]}
[]
[null,null,"Points after event - ",{"$f":"MAX('Input Results'!A:A)","v":0}]
[null,null,null,null,null,null,null,null,null,null,null,null,null,null,null,null,null,null,null,null,null,"Sum of Lane","Club / Team"]
[null,"Lane","Club / Team","Points","Position",null,null,null,"Position","Position","Club","Points",null,"Points",null,null,null,null,null,null,null,"Points"," - 6 - "," - 7 - "," - 8 - "," - TEAM 5  - "," - TEAM A - "," - TEAM B - "," - TEAM C - "," - TEAM D - "]
[null,1,{"$f":"\" - \"&UPPER(IF(Teams!C3=\"\",\"\",Teams!C3))&\" - \"","v":" -  - "},{"$f":"IFERROR(IF(VLOOKUP(D$2,'Output - 8 Lanes'!$C$9:$AJ$128,6,FALSE)=0,\"\",VLOOKUP(D$2,'Output - 8 Lanes'!$C$9:$AJ$128,6,FALSE)),\"\")","v":""},{"$f":"IF(D5=\"\",\"\",RANK(D5,D$5:D$12,0))","v":""},{"$f":"C5","v":" -  - "},"",null,1,{"$f":"IF(N5=N6,Q5&\"=\",Q5)","v":"1="},{"$f":"IFERROR(VLOOKUP(N:N,V:AF,11,FALSE),1)","v":1},{"$f":"IF(N5=N4,\"\",N5)","v":""},null,{"$f":"IFERROR(VLOOKUP(Q5,E$5:G$12,3,FALSE),\"\")","v":""},null,null,1,null,{"$f":"LEFT(J:J,1)","v":"1"},{"$f":"COUNTIF($S$5:$S$12,S5)","v":1},null,3,null,null,8,null,null,null,null,null,null,{"$f":"\"- \"&AH5&AI5&AJ5&AK5&AL5&AM5&AN5&AO5","v":"-  - 8 -  - "},{"$f":"COUNT(W5:AD5)","v":1},{"$f":"IF($AG5=0,\"\",IF(AND($AG5=1,W5=\"\"),\"\",IF(AND($AG5=2,W5=\"\"),\"\",IF(AND($AG5=3,W5=\"\"),\"\",W$4&\" - \"))))","v":""},{"$f":"IF($AG5=0,\"\",IF(AND($AG5=1,X5=\"\"),\"\",IF(AND($AG5=2,X5=\"\"),\"\",IF(AND($AG5=3,X5=\"\"),\"\",X$4&\" - \"))))","v":""},{"$f":"IF($AG5=0,\"\",IF(AND($AG5=1,Y5=\"\"),\"\",IF(AND($AG5=2,Y5=\"\"),\"\",IF(AND($AG5=3,Y5=\"\"),\"\",Y$4&\" - \"))))","v":" - 8 -  - "},{"$f":"IF($AG5=0,\"\",IF(AND($AG5=1,Z5=\"\"),\"\",IF(AND($AG5=2,Z5=\"\"),\"\",IF(AND($AG5=3,Z5=\"\"),\"\",Z$4&\" - \"))))","v":""},{"$f":"IF($AG5=0,\"\",IF(AND($AG5=1,AA5=\"\"),\"\",IF(AND($AG5=2,AA5=\"\"),\"\",IF(AND($AG5=3,AA5=\"\"),\"\",AA$4&\" - \"))))","v":""},{"$f":"IF($AG5=0,\"\",IF(AND($AG5=1,AB5=\"\"),\"\",IF(AND($AG5=2,AB5=\"\"),\"\",IF(AND($AG5=3,AB5=\"\"),\"\",AB$4&\" - \"))))","v":""},{"$f":"IF($AG5=0,\"\",IF(AND($AG5=1,AC5=\"\"),\"\",IF(AND($AG5=2,AC5=\"\"),\"\",IF(AND($AG5=3,AC5=\"\"),\"\",AC$4&\" - \"))))","v":""},{"$f":"IF($AG5=0,\"\",IF(AND($AG5=1,AD5=\"\"),\"\",IF(AND($AG5=2,AD5=\"\"),\"\",IF(AND($AG5=3,AD5=\"\"),\"\",AD$4&\" - \"))))","v":""}]
[null,2,{"$f":"\" - \"&UPPER(IF(Teams!C4=\"\",\"\",Teams!C4))&\" - \"","v":" -  - "},{"$f":"IFERROR(IF(VLOOKUP(D$2,'Output - 8 Lanes'!$C$9:$AJ$128,10,FALSE)=0,\"\",VLOOKUP(D$2,'Output - 8 Lanes'!$C$9:$AJ$128,10,FALSE)),\"\")","v":""},""," -  - ","",null,2,{"$f":"IF(N6=N5,\"\",IF(N6=N5,J5,IF(N6=N7,Q6&\"=\",Q6)))","v":""},{"$f":"IF(N6=N5,\"\",IFERROR(VLOOKUP(N:N,V:AF,11,FALSE),1))","v":""},"",null,{"$f":"IF(IFERROR(VLOOKUP(I6,E$5:G$12,3,FALSE),\"\")=\"\",N5,IFERROR(VLOOKUP(I6,E$5:G$12,3,FALSE),\"\"))","v":""},null,null,2,null,"",7,null,6,null,7,null,null,null,null,null,null,null,"-  - 7 -  - ",1,{"$f":"IF($AG6=0,\"\",IF(AND($AG6=1,W6=\"\"),\"\",IF(AND($AG6=2,W6=\"\"),\"\",IF(AND($AG6=3,W6=\"\"),\"\",W$4&\" - \"))))","v":""}," - 7 -  - ","","","","","",""]
[null,3,{"$f":"\" - \"&UPPER(IF(Teams!C5=\"\",\"\",Teams!C5))&\" - \"","v":" -  - "},{"$f":"IFERROR(IF(VLOOKUP(D$2,'Output - 8 Lanes'!$C$9:$AJ$128,14,FALSE)=0,\"\",VLOOKUP(D$2,'Output - 8 Lanes'!$C$9:$AJ$128,14,FALSE)),\"\")","v":""},""," -  - ","",null,3,"","","",null,"",null,null,3,null,"",7,null,9,6,null,null,null,null,null,null,null,null,"-  - 6 -  - ",1," - 6 -  - ","","","","","","",""]
[null,4,{"$f":"\" - \"&UPPER(IF(Teams!C6=\"\",\"\",Teams!C6))&\" - \"","v":" -  - "},{"$f":"IFERROR(IF(VLOOKUP(D$2,'Output - 8 Lanes'!$C$9:$AJ$128,18,FALSE)=0,\"\",VLOOKUP(D$2,'Output - 8 Lanes'!$C$9:$AJ$128,18,FALSE)),\"\")","v":""},""," -  - ","",null,4,"","","",null,"",null,null,4,null,"",7,null,12,null,null,null,5,null,null,null,null,null,"-  - TEAM 5  -  - ",1,"","",""," - TEAM 5  -  - ","","","",""]
[null,5,{"$f":"\" - \"&UPPER(IF(Teams!C7=\"\",\"\",Teams!C7))&\" - \"","v":" -  - "},{"$f":"IFERROR(IF(VLOOKUP(D$2,'Output - 8 Lanes'!$C$9:$AJ$128,22,FALSE)=0,\"\",VLOOKUP(D$2,'Output - 8 Lanes'!$C$9:$AJ$128,22,FALSE)),\"\")","v":""},""," -  - ","",null,5,"","","",null,"",null,null,5,null,"",7,null,15,null,null,null,null,null,null,null,4,null,"-  - TEAM D -  - ",1,"","","","","","",""," - TEAM D -  - "]
[null,6,{"$f":"\" - \"&UPPER(IF(Teams!C8=\"\",\"\",Teams!C8))&\" - \"","v":" -  - "},{"$f":"IFERROR(IF(VLOOKUP(D$2,'Output - 8 Lanes'!$C$9:$AJ$128,26,FALSE)=0,\"\",VLOOKUP(D$2,'Output - 8 Lanes'!$C$9:$AJ$128,26,FALSE)),\"\")","v":""},""," -  - ","",null,6,"","","",null,"",null,null,6,null,"",7,null,18,null,null,null,null,3,null,null,null,null,"-  - TEAM A -  - ",1,"","","",""," - TEAM A -  - ","","",""]
[null,7,{"$f":"\" - \"&UPPER(IF(Teams!C9=\"\",\"\",Teams!C9))&\" - \"","v":" -  - "},{"$f":"IFERROR(IF(VLOOKUP(D$2,'Output - 8 Lanes'!$C$9:$AJ$128,30,FALSE)=0,\"\",VLOOKUP(D$2,'Output - 8 Lanes'!$C$9:$AJ$128,30,FALSE)),\"\")","v":""},"",{"$f":"C11","v":" -  - "},{"$f":"D11","v":""},null,7,"","","",null,"",null,null,7,null,"",7,null,21,null,null,null,null,null,null,2,null,null,"-  - TEAM C -  - ",1,"","","","","",""," - TEAM C -  - ",""]
[null,8,{"$f":"\" - \"&UPPER(IF(Teams!C10=\"\",\"\",Teams!C10))&\" - \"","v":" -  - "},{"$f":"IFERROR(IF(VLOOKUP(D$2,'Output - 8 Lanes'!$C$9:$AJ$128,34,FALSE)=0,\"\",VLOOKUP(D$2,'Output - 8 Lanes'!$C$9:$AJ$128,34,FALSE)),\"\")","v":""},"",{"$f":"C12","v":" -  - "},{"$f":"D12","v":""},null,8,"","","",null,"",null,null,8,null,"",7,null,24,null,null,null,null,null,1,null,null,null,"-  - TEAM B -  - ",1,"","","","",""," - TEAM B -  - ","",""]
[]
[]
[]
[]
[]
[]
[]
[]
[]
[]
[]
[]
[]
[]
[]
[]
[]
[]
[]
[]
[]
[]
[]
[]
[]
[]
[]
[]
[]
[]
[]
[]
[]
[]
[]
[]
[]
[]
[]
[]
[]
[]
[]
[]
[]
[]
[]
[]
[]
[]
[]
[]
[]
[]
[]
[]
[]
[]
[]
[]
[]
[]
[]
[]
[]
[]
[]
[]
[]
[]
[]
[]
[]
[null,null,0]

{"sheet":"Output - 6 Lanes","index":9,"n_rows":130,"n_cols":28,"rows_kept":130,"cut":false,"hidden":true,"merged":[[8,24,8,27],[5,24,5,27],[6,24,6,27],[26,12,26,15],[26,16,26,19],[26,20,26,23],[70,24,70,27],[72,24,72,27],[60,24,60,27],[70,12,70,15],[70,16,70,19],[52,24,52,27],[56,24,56,27],[68,24,68,27],[42,20,42,23],[42,24,42,27],[52,16,52,19],[52,20,52,23],[48,24,48,27],[58,24,58,27],[54,24,54,27],[44,24,44,27],[46,24,46,27],[42,12,42,15],[1,7,1,27],[2,7,2,27],[3,7,3,27],[50,24,50,27],[22,20,22,23],[22,24,22,27],[48,20,48,23],[5,12,5,15],[5,16,5,19],[36,24,36,27],[30,20,30,23],[30,24,30,27],[32,20,32,23],[12,24,12,27],[12,20,12,23],[22,12,22,15],[32,24,32,27],[38,20,38,23],[38,24,38,27],[36,20,36,23],[32,16,32,19],[50,16,50,19],[40,20,40,23],[40,24,40,27],[90,24,90,27],[94,20,94,23],[94,24,94,27],[92,20,92,23],[92,24,92,27],[90,20,90,23],[72,12,72,15],[72,16,72,19],[116,12,116,15],[116,16,116,19],[114,12,114,15],[114,16,114,19],[112,20,112,23],[98,24,98,27],[96,20,96,23],[96,24,96,27],[100,24,100,27],[102,24,102,27],[80,20,80,23],[80,24,80,27],[82,24,82,27],[88,24,88,27],[86,24,86,27],[72,20,72,23],[126,4,126,7],[126,8,126,11],[126,12,126,15],[126,16,126,19],[124,12,124,15],[124,16,124,19],[118,20,118,23],[118,24,118,27],[118,12,118,15],[118,16,118,19],[126,24,126,27],[124,20,124,23],[124,24,124,27],[126,20,126,23],[120,24,120,27],[120,20,120,23],[122,24,122,27],[122,20,122,23],[118,8,118,11],[124,4,124,7],[124,8,124,11],[120,4,120,7],[112,24,112,27],[122,8,122,11],[122,12,122,15],[122,16,122,19],[104,24,104,27],[104,20,104,23],[106,24,106,27],[110,12,110,15],[110,16,110,19],[110,24,110,27],[108,20,108,23],[108,24,108,27],[108,12,108,15],[108,16,108,19],[120,8,120,11],[120,12,120,15],[120,16,120,19],[116,24,116,27],[116,20,116,23],[114,20,114,23],[114,24,114,27],[116,8,116,11],[110,20,110,23],[112,12,112,15],[104,4,104,7],[104,8,104,11],[104,12,104,15],[104,16,104,19],[102,4,102,7],[98,20,98,23],[102,16,102,19],[106,8,106,11],[106,12,106,15],[106,16,106,19],[100,20,100,23],[102,20,102,23],[100,4,100,7],[100,8,100,11],[100,12,100,15],[100,16,100,19],[106,4,106,7],[102,8,102,11],[102,12,102,15],[106,20,106,23],[90,16,90,19],[98,8,98,11],[98,12,98,15],[98,16,98,19],[94,12,94,15],[92,8,92,11],[98,4,98,7],[92,12,92,15],[92,16,92,19],[96,12,96,15],[96,16,96,19],[94,16,94,19],[74,16,74,19],[80,12,80,15],[80,16,80,19],[78,4,78,7],[78,24,78,27],[74,4,74,7],[74,8,74,11],[88,4,88,7],[88,8,88,11],[88,12,88,15],[88,16,88,19],[82,4,82,7],[82,8,82,11],[82,12,82,15],[82,16,82,19],[82,20,82,23],[88,20,88,23],[86,20,86,23],[86,12,86,15],[78,20,78,23],[78,8,78,11],[78,12,78,15],[78,16,78,19],[84,24,84,27],[60,8,60,11],[62,4,62,7],[62,8,62,11],[54,20,54,23],[62,20,62,23],[64,20,64,23],[60,12,60,15],[58,16,58,19],[58,20,58,23],[60,20,60,23],[60,16,60,19],[56,4,56,7],[56,8,56,11],[56,12,56,15],[56,16,56,19],[66,24,66,27],[68,16,68,19],[64,24,64,27],[68,20,68,23],[62,16,62,19],[62,24,62,27],[64,12,64,15],[64,16,64,19],[64,4,64,7],[64,8,64,11],[26,24,26,27],[28,12,28,15],[28,16,28,19],[34,4,34,7],[34,8,34,11],[34,12,34,15],[34,16,34,19],[34,20,34,23],[34,24,34,27],[32,12,32,15],[28,24,28,27],[28,20,28,23],[44,20,44,23],[112,4,112,7],[112,8,112,11],[84,16,84,19],[80,4,80,7],[80,8,80,11],[74,20,74,23],[74,24,74,27],[74,12,74,15],[52,8,52,11],[52,12,52,15],[44,16,44,19],[70,4,70,7],[70,8,70,11],[72,4,72,7],[72,8,72,11],[76,4,76,7],[76,8,76,11],[76,12,76,15],[76,16,76,19],[76,20,76,23],[76,24,76,27],[62,12,62,15],[70,20,70,23],[84,20,84,23],[52,4,52,7],[46,16,46,19],[58,12,58,15],[46,20,46,23],[54,4,54,7],[56,20,56,23],[50,8,50,11],[50,12,50,15],[54,8,54,11],[54,12,54,15],[54,16,54,19],[50,20,50,23],[66,4,66,7],[66,8,66,11],[66,12,66,15],[66,16,66,19],[68,4,68,7],[68,8,68,11],[68,12,68,15],[66,20,66,23],[58,4,58,7],[58,8,58,11],[60,4,60,7],[86,16,86,19],[86,4,86,7],[86,8,86,11],[84,4,84,7],[84,8,84,11],[84,12,84,15],[118,4,118,7],[122,4,122,7],[116,4,116,7],[110,4,110,7],[110,8,110,11],[108,4,108,7],[108,8,108,11],[94,4,94,7],[94,8,94,11],[96,4,96,7],[96,8,96,11],[92,4,92,7],[112,16,112,19],[114,4,114,7],[114,8,114,11],[90,4,90,7],[90,8,90,11],[90,12,90,15],[42,16,42,19],[42,4,42,7],[42,8,42,11],[50,4,50,7],[44,4,44,7],[44,8,44,11],[44,12,44,15],[48,4,48,7],[48,12,48,15],[48,16,48,19],[48,8,48,11],[46,4,46,7],[46,8,46,11],[46,12,46,15],[40,12,40,15],[40,16,40,19],[36,12,36,15],[36,16,36,19],[38,12,38,15],[38,16,38,19],[26,4,26,7],[26,8,26,11],[28,4,28,7],[28,8,28,11],[40,4,40,7],[40,8,40,11],[32,4,32,7],[32,8,32,11],[30,4,30,7],[30,8,30,11],[30,12,30,15],[30,16,30,19],[38,4,38,7],[38,8,38,11],[36,4,36,7],[36,8,36,11],[20,12,20,15],[20,16,20,19],[20,20,20,23],[5,4,5,7],[5,8,5,11],[8,4,8,7],[10,4,10,7],[5,20,5,23],[8,20,8,23],[8,12,8,15],[8,8,8,11],[8,16,8,19],[10,8,10,11],[10,12,10,15],[10,16,10,19],[14,4,14,7],[14,8,14,11],[14,12,14,15],[14,16,14,19],[12,4,12,7],[12,8,12,11],[12,12,12,15],[12,16,12,19],[6,20,6,23],[22,4,22,7],[24,4,24,7],[24,24,24,27],[24,20,24,23],[24,16,24,19],[24,12,24,15],[24,8,24,11],[22,8,22,11],[22,16,22,19],[6,16,6,19],[7,1,7,3],[6,4,6,7],[6,8,6,11],[6,12,6,15],[20,24,20,27],[20,4,20,7],[18,20,18,23],[18,24,18,27],[16,4,16,7],[10,24,10,27],[14,20,14,23],[14,24,14,27],[16,20,16,23],[16,24,16,27],[10,20,10,23],[16,8,16,11],[18,4,18,7],[18,8,18,11],[18,12,18,15],[18,16,18,19],[16,12,16,15],[16,16,16,19],[20,8,20,11]]}
[null,null,null,null,null,null,null,null,null,null,null,null,null,null,null,null,null,null,null,null,null,{"$f":"U1","v":0},0,0,0,0,0,0]
[null,null,null,null,null,null,null,{"$f":"'Gala Name'!C7","v":0}]
[null,null,null,null,null,null,null,{"$f":"'Gala Name'!B8&\" : \"&'Gala Name'!C8","v":"Venue : "}]
[null,null,null,null,null,null,null,{"$f":"'Gala Name'!C9","v":"00:00:00"}]
[]
[null,null,null,null,"Lane 1",null,null,null,"Lane 2",null,null,null,"Lane 3",null,null,null,"Lane 4",null,null,null,"Lane 5",null,null,null,"Lane 6"]
[null,null,null,null,{"$f":"UPPER(IF(Teams!C3=\"\",\"\",Teams!C3))","v":""},null,null,null,{"$f":"UPPER(IF(Teams!C4=\"\",\"\",Teams!C4))","v":""},null,null,null,{"$f":"UPPER(IF(Teams!C5=\"\",\"\",Teams!C5))","v":""},null,null,null,{"$f":"UPPER(IF(Teams!C6=\"\",\"\",Teams!C6))","v":""},null,null,null,{"$f":"UPPER(IF(Teams!C7=\"\",\"\",Teams!C7))","v":""},null,null,null,{"$f":"UPPER(IF(Teams!C8=\"\",\"\",Teams!C8))","v":""}]
[null,"Event",null,null,"Swimmer | Time","Pos","Pts","Tot","Swimmer | Time","Pos","Pts","Tot","Swimmer | Time","Pos","Pts","Tot","Swimmer | Time","Pos","Pts","Tot","Swimmer | Time","Pos","Pts","Tot","Swimmer | Time","Pos","Pts","Tot"]
[null,{"$f":"Events!I3","v":1},null,{"$f":"PROPER(VLOOKUP(B9,Events!B:G,6,FALSE))","v":"   "},{"$f":"PROPER('Input Results'!I5)","v":""},null,null,null,{"$f":"PROPER('Input Results'!I6)","v":""},null,null,null,{"$f":"PROPER('Input Results'!I7)","v":""},null,null,null,{"$f":"PROPER('Input Results'!I8)","v":""},null,null,null,{"$f":"PROPER('Input Results'!I9)","v":""},null,null,null,{"$f":"PROPER('Input Results'!I10)","v":""}]
[null,{"$f":"B9","v":1},{"$f":"B9","v":1},{"$f":"PROPER(IF(VLOOKUP(B9,Events!B:H,7,FALSE)=\"\",\"\",VLOOKUP(B9,Events!B:H,7,FALSE)))","v":""},{"$f":"'Input Results'!M5","v":""},{"$f":"'Input Results'!P5","v":""},{"$f":"'Input Results'!Q5","v":0},{"$f":"G10","v":0},{"$f":"'Input Results'!M6","v":""},{"$f":"'Input Results'!P6","v":""},{"$f":"'Input Results'!Q6","v":0},{"$f":"K10","v":0},{"$f":"'Input Results'!M7","v":""},{"$f":"'Input Results'!P7","v":""},{"$f":"'Input Results'!Q7","v":0},{"$f":"O10","v":0},{"$f":"'Input Results'!M8","v":""},{"$f":"'Input Results'!P8","v":""},{"$f":"'Input Results'!Q8","v":0},{"$f":"S10","v":0},{"$f":"'Input Results'!M9","v":""},{"$f":"'Input Results'!P9","v":""},{"$f":"'Input Results'!Q9","v":0},{"$f":"W10","v":0},{"$f":"'Input Results'!M10","v":""},{"$f":"'Input Results'!P10","v":""},{"$f":"'Input Results'!Q10","v":0},{"$f":"AA10","v":0}]
[null,{"$f":"Events!I4","v":2},1,{"$f":"IF(VLOOKUP(B11,Events!B:G,6,FALSE)=\"\",\"\",VLOOKUP(B11,Events!B:G,6,FALSE))","v":"   "},{"$f":"PROPER('Input Results'!I14)","v":""},null,null,null,{"$f":"PROPER('Input Results'!I15)","v":""},null,null,null,{"$f":"PROPER('Input Results'!I16)","v":""},null,null,null,{"$f":"PROPER('Input Results'!I17)","v":""},null,null,null,{"$f":"PROPER('Input Results'!I18)","v":""},null,null,null,{"$f":"PROPER('Input Results'!I19)","v":""}]
[null,{"$f":"B11","v":2},2,{"$f":"IF(VLOOKUP(B11,Events!B:H,7,FALSE)=\"\",\"\",VLOOKUP(B11,Events!B:H,7,FALSE))","v":""},{"$f":"'Input Results'!M14","v":""},{"$f":"'Input Results'!AD14","v":""},{"$f":"'Input Results'!Q14","v":0},{"$f":"H10+G12","v":0},{"$f":"'Input Results'!M15","v":""},{"$f":"'Input Results'!P15","v":""},{"$f":"'Input Results'!Q15","v":0},{"$f":"L10+K12","v":0},{"$f":"'Input Results'!M16","v":""},{"$f":"'Input Results'!P16","v":""},{"$f":"'Input Results'!Q16","v":0},{"$f":"P10+O12","v":0},{"$f":"'Input Results'!M17","v":""},{"$f":"'Input Results'!P17","v":""},{"$f":"'Input Results'!Q17","v":0},{"$f":"T10+S12","v":0},{"$f":"'Input Results'!M18","v":""},{"$f":"'Input Results'!P18","v":""},{"$f":"'Input Results'!Q18","v":0},{"$f":"X10+W12","v":0},{"$f":"'Input Results'!M19","v":""},{"$f":"'Input Results'!P19","v":""},{"$f":"'Input Results'!Q19","v":0},{"$f":"AB10+AA12","v":0}]
[null,{"$f":"Events!I5","v":3},2,{"$f":"IF(VLOOKUP(B13,Events!B:G,6,FALSE)=\"\",\"\",VLOOKUP(B13,Events!B:G,6,FALSE))","v":"   "},{"$f":"PROPER('Input Results'!I23)","v":""},null,null,null,{"$f":"PROPER('Input Results'!I24)","v":""},null,null,null,{"$f":"PROPER('Input Results'!I25)","v":""},null,null,null,{"$f":"PROPER('Input Results'!I26)","v":""},null,null,null,{"$f":"PROPER('Input Results'!I27)","v":""},null,null,null,{"$f":"PROPER('Input Results'!I28)","v":""}]
[null,{"$f":"B13","v":3},3,{"$f":"IF(VLOOKUP(B13,Events!B:H,7,FALSE)=\"\",\"\",VLOOKUP(B13,Events!B:H,7,FALSE))","v":""},{"$f":"'Input Results'!M23","v":""},{"$f":"'Input Results'!P23","v":""},{"$f":"'Input Results'!Q23","v":0},{"$f":"H12+G14","v":0},{"$f":"'Input Results'!M24","v":""},{"$f":"'Input Results'!P24","v":""},{"$f":"'Input Results'!Q24","v":0},{"$f":"L12+K14","v":0},{"$f":"'Input Results'!M25","v":""},{"$f":"'Input Results'!P25","v":""},{"$f":"'Input Results'!Q25","v":0},{"$f":"P12+O14","v":0},{"$f":"'Input Results'!M26","v":""},{"$f":"'Input Results'!P26","v":""},{"$f":"'Input Results'!Q26","v":0},{"$f":"T12+S14","v":0},{"$f":"'Input Results'!M27","v":""},{"$f":"'Input Results'!P27","v":""},{"$f":"'Input Results'!Q27","v":0},{"$f":"X12+W14","v":0},{"$f":"'Input Results'!M28","v":""},{"$f":"'Input Results'!P28","v":""},{"$f":"'Input Results'!Q28","v":0},{"$f":"AB12+AA14","v":0}]
[null,{"$f":"Events!I6","v":4},3,{"$f":"IF(VLOOKUP(B15,Events!B:G,6,FALSE)=\"\",\"\",VLOOKUP(B15,Events!B:G,6,FALSE))","v":"   "},{"$f":"PROPER('Input Results'!I32)","v":""},null,null,null,{"$f":"PROPER('Input Results'!I33)","v":""},null,null,null,{"$f":"PROPER('Input Results'!I34)","v":""},null,null,null,{"$f":"PROPER('Input Results'!I35)","v":""},null,null,null,{"$f":"PROPER('Input Results'!I36)","v":""},null,null,null,{"$f":"PROPER('Input Results'!I37)","v":""}]
[null,{"$f":"B15","v":4},4,{"$f":"IF(VLOOKUP(B15,Events!B:H,7,FALSE)=\"\",\"\",VLOOKUP(B15,Events!B:H,7,FALSE))","v":""},{"$f":"'Input Results'!M32","v":""},{"$f":"'Input Results'!P32","v":""},{"$f":"'Input Results'!Q32","v":0},{"$f":"H14+G16","v":0},{"$f":"'Input Results'!M33","v":""},{"$f":"'Input Results'!P33","v":""},{"$f":"'Input Results'!Q33","v":0},{"$f":"L14+K16","v":0},{"$f":"'Input Results'!M34","v":""},{"$f":"'Input Results'!P34","v":""},{"$f":"'Input Results'!Q34","v":0},{"$f":"P14+O16","v":0},{"$f":"'Input Results'!M35","v":""},{"$f":"'Input Results'!P35","v":""},{"$f":"'Input Results'!Q35","v":0},{"$f":"T14+S16","v":0},{"$f":"'Input Results'!M36","v":""},{"$f":"'Input Results'!P36","v":""},{"$f":"'Input Results'!Q36","v":0},{"$f":"X14+W16","v":0},{"$f":"'Input Results'!M37","v":""},{"$f":"'Input Results'!P37","v":""},{"$f":"'Input Results'!Q37","v":0},{"$f":"AB14+AA16","v":0}]
[null,{"$f":"Events!I7","v":5},4,{"$f":"IF(VLOOKUP(B17,Events!B:G,6,FALSE)=\"\",\"\",VLOOKUP(B17,Events!B:G,6,FALSE))","v":"   "},{"$f":"PROPER('Input Results'!I41)","v":""},null,null,null,{"$f":"PROPER('Input Results'!I42)","v":""},null,null,null,{"$f":"PROPER('Input Results'!I43)","v":""},null,null,null,{"$f":"PROPER('Input Results'!I44)","v":""},null,null,null,{"$f":"PROPER('Input Results'!I45)","v":""},null,null,null,{"$f":"PROPER('Input Results'!I46)","v":""}]
[null,{"$f":"B17","v":5},5,{"$f":"IF(VLOOKUP(B17,Events!B:H,7,FALSE)=\"\",\"\",VLOOKUP(B17,Events!B:H,7,FALSE))","v":""},{"$f":"'Input Results'!M41","v":""},{"$f":"'Input Results'!P41","v":""},{"$f":"'Input Results'!Q41","v":0},{"$f":"H16+G18","v":0},{"$f":"'Input Results'!M42","v":""},{"$f":"'Input Results'!P42","v":""},{"$f":"'Input Results'!Q42","v":0},{"$f":"L16+K18","v":0},{"$f":"'Input Results'!M43","v":""},{"$f":"'Input Results'!P43","v":""},{"$f":"'Input Results'!Q43","v":0},{"$f":"P16+O18","v":0},{"$f":"'Input Results'!M44","v":""},{"$f":"'Input Results'!P44","v":""},{"$f":"'Input Results'!Q44","v":0},{"$f":"T16+S18","v":0},{"$f":"'Input Results'!M45","v":""},{"$f":"'Input Results'!P45","v":""},{"$f":"'Input Results'!Q45","v":0},{"$f":"X16+W18","v":0},{"$f":"'Input Results'!M46","v":""},{"$f":"'Input Results'!P46","v":""},{"$f":"'Input Results'!Q46","v":0},{"$f":"AB16+AA18","v":0}]
[null,{"$f":"Events!I8","v":6},5,{"$f":"IF(VLOOKUP(B19,Events!B:G,6,FALSE)=\"\",\"\",VLOOKUP(B19,Events!B:G,6,FALSE))","v":"   "},{"$f":"PROPER('Input Results'!I50)","v":""},null,null,null,{"$f":"PROPER('Input Results'!I51)","v":""},null,null,null,{"$f":"PROPER('Input Results'!I52)","v":""},null,null,null,{"$f":"PROPER('Input Results'!I53)","v":""},null,null,null,{"$f":"PROPER('Input Results'!I54)","v":""},null,null,null,{"$f":"PROPER('Input Results'!I55)","v":""}]
[null,{"$f":"B19","v":6},6,{"$f":"IF(VLOOKUP(B19,Events!B:H,7,FALSE)=\"\",\"\",VLOOKUP(B19,Events!B:H,7,FALSE))","v":""},{"$f":"'Input Results'!M50","v":""},{"$f":"'Input Results'!P50","v":""},{"$f":"'Input Results'!Q50","v":0},{"$f":"H18+G20","v":0},{"$f":"'Input Results'!M51","v":""},{"$f":"'Input Results'!P51","v":""},{"$f":"'Input Results'!Q51","v":0},{"$f":"L18+K20","v":0},{"$f":"'Input Results'!M52","v":""},{"$f":"'Input Results'!P52","v":""},{"$f":"'Input Results'!Q52","v":0},{"$f":"P18+O20","v":0},{"$f":"'Input Results'!M53","v":""},{"$f":"'Input Results'!P53","v":""},{"$f":"'Input Results'!Q53","v":0},{"$f":"T18+S20","v":0},{"$f":"'Input Results'!M54","v":""},{"$f":"'Input Results'!P54","v":""},{"$f":"'Input Results'!Q54","v":0},{"$f":"X18+W20","v":0},{"$f":"'Input Results'!M55","v":""},{"$f":"'Input Results'!P55","v":""},{"$f":"'Input Results'!Q55","v":0},{"$f":"AB18+AA20","v":0}]
[null,{"$f":"Events!I9","v":7},6,{"$f":"IF(VLOOKUP(B21,Events!B:G,6,FALSE)=\"\",\"\",VLOOKUP(B21,Events!B:G,6,FALSE))","v":"   "},{"$f":"PROPER('Input Results'!I59)","v":""},null,null,null,{"$f":"PROPER('Input Results'!I60)","v":""},null,null,null,{"$f":"PROPER('Input Results'!I61)","v":""},null,null,null,{"$f":"PROPER('Input Results'!I62)","v":""},null,null,null,{"$f":"PROPER('Input Results'!I63)","v":""},null,null,null,{"$f":"PROPER('Input Results'!I64)","v":""}]
[null,{"$f":"B21","v":7},7,{"$f":"IF(VLOOKUP(B21,Events!B:H,7,FALSE)=\"\",\"\",VLOOKUP(B21,Events!B:H,7,FALSE))","v":""},{"$f":"'Input Results'!M59","v":""},{"$f":"'Input Results'!P59","v":""},{"$f":"'Input Results'!Q59","v":0},{"$f":"H20+G22","v":0},{"$f":"'Input Results'!M60","v":""},{"$f":"'Input Results'!P60","v":""},{"$f":"'Input Results'!Q60","v":0},{"$f":"L20+K22","v":0},{"$f":"'Input Results'!M61","v":""},{"$f":"'Input Results'!P61","v":""},{"$f":"'Input Results'!Q61","v":0},{"$f":"P20+O22","v":0},{"$f":"'Input Results'!M62","v":""},{"$f":"'Input Results'!P62","v":""},{"$f":"'Input Results'!Q62","v":0},{"$f":"T20+S22","v":0},{"$f":"'Input Results'!M63","v":""},{"$f":"'Input Results'!P63","v":""},{"$f":"'Input Results'!Q63","v":0},{"$f":"X20+W22","v":0},{"$f":"'Input Results'!M64","v":""},{"$f":"'Input Results'!P64","v":""},{"$f":"'Input Results'!Q64","v":0},{"$f":"AB20+AA22","v":0}]
[null,{"$f":"Events!I10","v":8},7,{"$f":"IF(VLOOKUP(B23,Events!B:G,6,FALSE)=\"\",\"\",VLOOKUP(B23,Events!B:G,6,FALSE))","v":"   "},{"$f":"PROPER('Input Results'!I68)","v":""},null,null,null,{"$f":"PROPER('Input Results'!I69)","v":""},null,null,null,{"$f":"PROPER('Input Results'!I70)","v":""},null,null,null,{"$f":"PROPER('Input Results'!I71)","v":""},null,null,null,{"$f":"PROPER('Input Results'!I72)","v":""},null,null,null,{"$f":"PROPER('Input Results'!I73)","v":""}]
[null,{"$f":"B23","v":8},8,{"$f":"IF(VLOOKUP(B23,Events!B:H,7,FALSE)=\"\",\"\",VLOOKUP(B23,Events!B:H,7,FALSE))","v":""},{"$f":"'Input Results'!M68","v":""},{"$f":"'Input Results'!P68","v":""},{"$f":"'Input Results'!Q68","v":0},{"$f":"H22+G24","v":0},{"$f":"'Input Results'!M69","v":""},{"$f":"'Input Results'!P69","v":""},{"$f":"'Input Results'!Q69","v":0},{"$f":"L22+K24","v":0},{"$f":"'Input Results'!M70","v":""},{"$f":"'Input Results'!P70","v":""},{"$f":"'Input Results'!Q70","v":0},{"$f":"P22+O24","v":0},{"$f":"'Input Results'!M71","v":""},{"$f":"'Input Results'!P71","v":""},{"$f":"'Input Results'!Q71","v":0},{"$f":"T22+S24","v":0},{"$f":"'Input Results'!M72","v":""},{"$f":"'Input Results'!P72","v":""},{"$f":"'Input Results'!Q72","v":0},{"$f":"X22+W24","v":0},{"$f":"'Input Results'!M73","v":""},{"$f":"'Input Results'!P73","v":""},{"$f":"'Input Results'!Q73","v":0},{"$f":"AB22+AA24","v":0}]
[null,{"$f":"Events!I11","v":9},8,{"$f":"IF(VLOOKUP(B25,Events!B:G,6,FALSE)=\"\",\"\",VLOOKUP(B25,Events!B:G,6,FALSE))","v":"   "},{"$f":"PROPER('Input Results'!I77)","v":""},null,null,null,{"$f":"PROPER('Input Results'!I78)","v":""},null,null,null,{"$f":"PROPER('Input Results'!I79)","v":""},null,null,null,{"$f":"PROPER('Input Results'!I80)","v":""},null,null,null,{"$f":"PROPER('Input Results'!I81)","v":""},null,null,null,{"$f":"PROPER('Input Results'!I82)","v":""}]
[null,{"$f":"B25","v":9},9,{"$f":"IF(VLOOKUP(B25,Events!B:H,7,FALSE)=\"\",\"\",VLOOKUP(B25,Events!B:H,7,FALSE))","v":""},{"$f":"'Input Results'!M77","v":""},{"$f":"'Input Results'!P77","v":""},{"$f":"'Input Results'!Q77","v":0},{"$f":"H24+G26","v":0},{"$f":"'Input Results'!M78","v":""},{"$f":"'Input Results'!P78","v":""},{"$f":"'Input Results'!Q78","v":0},{"$f":"L24+K26","v":0},{"$f":"'Input Results'!M79","v":""},{"$f":"'Input Results'!P79","v":""},{"$f":"'Input Results'!Q79","v":0},{"$f":"P24+O26","v":0},{"$f":"'Input Results'!M80","v":""},{"$f":"'Input Results'!P80","v":""},{"$f":"'Input Results'!Q80","v":0},{"$f":"T24+S26","v":0},{"$f":"'Input Results'!M81","v":""},{"$f":"'Input Results'!P81","v":""},{"$f":"'Input Results'!Q81","v":0},{"$f":"X24+W26","v":0},{"$f":"'Input Results'!M82","v":""},{"$f":"'Input Results'!P82","v":""},{"$f":"'Input Results'!Q82","v":0},{"$f":"AB24+AA26","v":0}]
[null,{"$f":"Events!I12","v":10},9,{"$f":"IF(VLOOKUP(B27,Events!B:G,6,FALSE)=\"\",\"\",VLOOKUP(B27,Events!B:G,6,FALSE))","v":"   "},{"$f":"PROPER('Input Results'!I86)","v":""},null,null,null,{"$f":"PROPER('Input Results'!I87)","v":""},null,null,null,{"$f":"PROPER('Input Results'!I88)","v":""},null,null,null,{"$f":"PROPER('Input Results'!I89)","v":""},null,null,null,{"$f":"PROPER('Input Results'!I90)","v":""},null,null,null,{"$f":"PROPER('Input Results'!I91)","v":""}]
[null,{"$f":"B27","v":10},10,{"$f":"IF(VLOOKUP(B27,Events!B:H,7,FALSE)=\"\",\"\",VLOOKUP(B27,Events!B:H,7,FALSE))","v":""},{"$f":"'Input Results'!M86","v":""},{"$f":"'Input Results'!P86","v":""},{"$f":"'Input Results'!Q86","v":0},{"$f":"H26+G28","v":0},{"$f":"'Input Results'!M87","v":""},{"$f":"'Input Results'!P87","v":""},{"$f":"'Input Results'!Q87","v":0},{"$f":"L26+K28","v":0},{"$f":"'Input Results'!M88","v":""},{"$f":"'Input Results'!P88","v":""},{"$f":"'Input Results'!Q88","v":0},{"$f":"P26+O28","v":0},{"$f":"'Input Results'!M89","v":""},{"$f":"'Input Results'!P89","v":""},{"$f":"'Input Results'!Q89","v":0},{"$f":"T26+S28","v":0},{"$f":"'Input Results'!M90","v":""},{"$f":"'Input Results'!P90","v":""},{"$f":"'Input Results'!Q90","v":0},{"$f":"X26+W28","v":0},{"$f":"'Input Results'!M91","v":""},{"$f":"'Input Results'!P91","v":""},{"$f":"'Input Results'!Q91","v":0},{"$f":"AB26+AA28","v":0}]
[null,{"$f":"Events!I13","v":11},10,{"$f":"IF(VLOOKUP(B29,Events!B:G,6,FALSE)=\"\",\"\",VLOOKUP(B29,Events!B:G,6,FALSE))","v":"   "},{"$f":"PROPER('Input Results'!I95)","v":""},null,null,null,{"$f":"PROPER('Input Results'!I96)","v":""},null,null,null,{"$f":"PROPER('Input Results'!I97)","v":""},null,null,null,{"$f":"PROPER('Input Results'!I98)","v":""},null,null,null,{"$f":"PROPER('Input Results'!I99)","v":""},null,null,null,{"$f":"PROPER('Input Results'!I100)","v":""}]
[null,{"$f":"B29","v":11},11,{"$f":"IF(VLOOKUP(B29,Events!B:H,7,FALSE)=\"\",\"\",VLOOKUP(B29,Events!B:H,7,FALSE))","v":""},{"$f":"'Input Results'!M95","v":""},{"$f":"'Input Results'!P95","v":""},{"$f":"'Input Results'!Q95","v":0},{"$f":"H28+G30","v":0},{"$f":"'Input Results'!M96","v":""},{"$f":"'Input Results'!P96","v":""},{"$f":"'Input Results'!Q96","v":0},{"$f":"L28+K30","v":0},{"$f":"'Input Results'!M97","v":""},{"$f":"'Input Results'!P97","v":""},{"$f":"'Input Results'!Q97","v":0},{"$f":"P28+O30","v":0},{"$f":"'Input Results'!M98","v":""},{"$f":"'Input Results'!P98","v":""},{"$f":"'Input Results'!Q98","v":0},{"$f":"T28+S30","v":0},{"$f":"'Input Results'!M99","v":""},{"$f":"'Input Results'!P99","v":""},{"$f":"'Input Results'!Q99","v":0},{"$f":"X28+W30","v":0},{"$f":"'Input Results'!M100","v":""},{"$f":"'Input Results'!P100","v":""},{"$f":"'Input Results'!Q100","v":0},{"$f":"AB28+AA30","v":0}]
[null,{"$f":"Events!I14","v":12},11,{"$f":"IF(VLOOKUP(B31,Events!B:G,6,FALSE)=\"\",\"\",VLOOKUP(B31,Events!B:G,6,FALSE))","v":"   "},{"$f":"PROPER('Input Results'!I104)","v":""},null,null,null,{"$f":"PROPER('Input Results'!I105)","v":""},null,null,null,{"$f":"PROPER('Input Results'!I106)","v":""},null,null,null,{"$f":"PROPER('Input Results'!I107)","v":""},null,null,null,{"$f":"PROPER('Input Results'!I108)","v":""},null,null,null,{"$f":"PROPER('Input Results'!I109)","v":""}]
[null,{"$f":"B31","v":12},12,{"$f":"IF(VLOOKUP(B31,Events!B:H,7,FALSE)=\"\",\"\",VLOOKUP(B31,Events!B:H,7,FALSE))","v":""},{"$f":"'Input Results'!M104","v":""},{"$f":"'Input Results'!P104","v":""},{"$f":"'Input Results'!Q104","v":0},{"$f":"H30+G32","v":0},{"$f":"'Input Results'!M105","v":""},{"$f":"'Input Results'!P105","v":""},{"$f":"'Input Results'!Q105","v":0},{"$f":"L30+K32","v":0},{"$f":"'Input Results'!M106","v":""},{"$f":"'Input Results'!P106","v":""},{"$f":"'Input Results'!Q106","v":0},{"$f":"P30+O32","v":0},{"$f":"'Input Results'!M107","v":""},{"$f":"'Input Results'!P107","v":""},{"$f":"'Input Results'!Q107","v":0},{"$f":"T30+S32","v":0},{"$f":"'Input Results'!M108","v":""},{"$f":"'Input Results'!P108","v":""},{"$f":"'Input Results'!Q108","v":0},{"$f":"X30+W32","v":0},{"$f":"'Input Results'!M109","v":""},{"$f":"'Input Results'!P109","v":""},{"$f":"'Input Results'!Q109","v":0},{"$f":"AB30+AA32","v":0}]
[null,{"$f":"Events!I15","v":13},12,{"$f":"IF(VLOOKUP(B33,Events!B:G,6,FALSE)=\"\",\"\",VLOOKUP(B33,Events!B:G,6,FALSE))","v":"   "},{"$f":"PROPER('Input Results'!I113)","v":""},null,null,null,{"$f":"PROPER('Input Results'!I114)","v":""},null,null,null,{"$f":"PROPER('Input Results'!I115)","v":""},null,null,null,{"$f":"PROPER('Input Results'!I116)","v":""},null,null,null,{"$f":"PROPER('Input Results'!I117)","v":""},null,null,null,{"$f":"PROPER('Input Results'!I118)","v":""}]
[null,{"$f":"B33","v":13},13,{"$f":"IF(VLOOKUP(B33,Events!B:H,7,FALSE)=\"\",\"\",VLOOKUP(B33,Events!B:H,7,FALSE))","v":""},{"$f":"'Input Results'!M113","v":""},{"$f":"'Input Results'!P113","v":""},{"$f":"'Input Results'!Q113","v":0},{"$f":"H32+G34","v":0},{"$f":"'Input Results'!M114","v":""},{"$f":"'Input Results'!P114","v":""},{"$f":"'Input Results'!Q114","v":0},{"$f":"L32+K34","v":0},{"$f":"'Input Results'!M115","v":""},{"$f":"'Input Results'!P115","v":""},{"$f":"'Input Results'!Q115","v":0},{"$f":"P32+O34","v":0},{"$f":"'Input Results'!M116","v":""},{"$f":"'Input Results'!P116","v":""},{"$f":"'Input Results'!Q116","v":0},{"$f":"T32+S34","v":0},{"$f":"'Input Results'!M117","v":""},{"$f":"'Input Results'!P117","v":""},{"$f":"'Input Results'!Q117","v":0},{"$f":"X32+W34","v":0},{"$f":"'Input Results'!M118","v":""},{"$f":"'Input Results'!P118","v":""},{"$f":"'Input Results'!Q118","v":0},{"$f":"AB32+AA34","v":0}]
[null,{"$f":"Events!I16","v":14},13,{"$f":"IF(VLOOKUP(B35,Events!B:G,6,FALSE)=\"\",\"\",VLOOKUP(B35,Events!B:G,6,FALSE))","v":"   "},{"$f":"PROPER('Input Results'!I122)","v":""},null,null,null,{"$f":"PROPER('Input Results'!I123)","v":""},null,null,null,{"$f":"PROPER('Input Results'!I124)","v":""},null,null,null,{"$f":"PROPER('Input Results'!I125)","v":""},null,null,null,{"$f":"PROPER('Input Results'!I126)","v":""},null,null,null,{"$f":"PROPER('Input Results'!I127)","v":""}]
[null,{"$f":"B35","v":14},14,{"$f":"IF(VLOOKUP(B35,Events!B:H,7,FALSE)=\"\",\"\",VLOOKUP(B35,Events!B:H,7,FALSE))","v":""},{"$f":"'Input Results'!M122","v":""},{"$f":"'Input Results'!P122","v":""},{"$f":"'Input Results'!Q122","v":0},{"$f":"H34+G36","v":0},{"$f":"'Input Results'!M123","v":""},{"$f":"'Input Results'!P123","v":""},{"$f":"'Input Results'!Q123","v":0},{"$f":"L34+K36","v":0},{"$f":"'Input Results'!M124","v":""},{"$f":"'Input Results'!P124","v":""},{"$f":"'Input Results'!Q124","v":0},{"$f":"P34+O36","v":0},{"$f":"'Input Results'!M125","v":""},{"$f":"'Input Results'!P125","v":""},{"$f":"'Input Results'!Q125","v":0},{"$f":"T34+S36","v":0},{"$f":"'Input Results'!M126","v":""},{"$f":"'Input Results'!P126","v":""},{"$f":"'Input Results'!Q126","v":0},{"$f":"X34+W36","v":0},{"$f":"'Input Results'!M127","v":""},{"$f":"'Input Results'!P127","v":""},{"$f":"'Input Results'!Q127","v":0},{"$f":"AB34+AA36","v":0}]
[null,{"$f":"Events!I17","v":15},14,{"$f":"IF(VLOOKUP(B37,Events!B:G,6,FALSE)=\"\",\"\",VLOOKUP(B37,Events!B:G,6,FALSE))","v":"   "},{"$f":"PROPER('Input Results'!I131)","v":""},null,null,null,{"$f":"PROPER('Input Results'!I132)","v":""},null,null,null,{"$f":"PROPER('Input Results'!I133)","v":""},null,null,null,{"$f":"PROPER('Input Results'!I134)","v":""},null,null,null,{"$f":"PROPER('Input Results'!I135)","v":""},null,null,null,{"$f":"PROPER('Input Results'!I136)","v":""}]
[null,{"$f":"B37","v":15},15,{"$f":"IF(VLOOKUP(B37,Events!B:H,7,FALSE)=\"\",\"\",VLOOKUP(B37,Events!B:H,7,FALSE))","v":""},{"$f":"'Input Results'!M131","v":""},{"$f":"'Input Results'!P131","v":""},{"$f":"'Input Results'!Q131","v":0},{"$f":"H36+G38","v":0},{"$f":"'Input Results'!M132","v":""},{"$f":"'Input Results'!P132","v":""},{"$f":"'Input Results'!Q132","v":0},{"$f":"L36+K38","v":0},{"$f":"'Input Results'!M133","v":""},{"$f":"'Input Results'!P133","v":""},{"$f":"'Input Results'!Q133","v":0},{"$f":"P36+O38","v":0},{"$f":"'Input Results'!M134","v":""},{"$f":"'Input Results'!P134","v":""},{"$f":"'Input Results'!Q134","v":0},{"$f":"T36+S38","v":0},{"$f":"'Input Results'!M135","v":""},{"$f":"'Input Results'!P135","v":""},{"$f":"'Input Results'!Q135","v":0},{"$f":"X36+W38","v":0},{"$f":"'Input Results'!M136","v":""},{"$f":"'Input Results'!P136","v":""},{"$f":"'Input Results'!Q136","v":0},{"$f":"AB36+AA38","v":0}]
[null,{"$f":"Events!I18","v":16},15,{"$f":"IF(VLOOKUP(B39,Events!B:G,6,FALSE)=\"\",\"\",VLOOKUP(B39,Events!B:G,6,FALSE))","v":"   "},{"$f":"PROPER('Input Results'!I140)","v":""},null,null,null,{"$f":"PROPER('Input Results'!I141)","v":""},null,null,null,{"$f":"PROPER('Input Results'!I142)","v":""},null,null,null,{"$f":"PROPER('Input Results'!I143)","v":""},null,null,null,{"$f":"PROPER('Input Results'!I144)","v":""},null,null,null,{"$f":"PROPER('Input Results'!I145)","v":""}]
[null,{"$f":"B39","v":16},16,{"$f":"IF(VLOOKUP(B39,Events!B:H,7,FALSE)=\"\",\"\",VLOOKUP(B39,Events!B:H,7,FALSE))","v":""},{"$f":"'Input Results'!M140","v":""},{"$f":"'Input Results'!P140","v":""},{"$f":"'Input Results'!Q140","v":0},{"$f":"H38+G40","v":0},{"$f":"'Input Results'!M141","v":""},{"$f":"'Input Results'!P141","v":""},{"$f":"'Input Results'!Q141","v":0},{"$f":"L38+K40","v":0},{"$f":"'Input Results'!M142","v":""},{"$f":"'Input Results'!P142","v":""},{"$f":"'Input Results'!Q142","v":0},{"$f":"P38+O40","v":0},{"$f":"'Input Results'!M143","v":""},{"$f":"'Input Results'!P143","v":""},{"$f":"'Input Results'!Q143","v":0},{"$f":"T38+S40","v":0},{"$f":"'Input Results'!M144","v":""},{"$f":"'Input Results'!P144","v":""},{"$f":"'Input Results'!Q144","v":0},{"$f":"X38+W40","v":0},{"$f":"'Input Results'!M145","v":""},{"$f":"'Input Results'!P145","v":""},{"$f":"'Input Results'!Q145","v":0},{"$f":"AB38+AA40","v":0}]
[null,{"$f":"Events!I19","v":17},16,{"$f":"IF(VLOOKUP(B41,Events!B:G,6,FALSE)=\"\",\"\",VLOOKUP(B41,Events!B:G,6,FALSE))","v":"   "},{"$f":"PROPER('Input Results'!I149)","v":""},null,null,null,{"$f":"PROPER('Input Results'!I150)","v":""},null,null,null,{"$f":"PROPER('Input Results'!I151)","v":""},null,null,null,{"$f":"PROPER('Input Results'!I152)","v":""},null,null,null,{"$f":"PROPER('Input Results'!I153)","v":""},null,null,null,{"$f":"PROPER('Input Results'!I154)","v":""}]
[null,{"$f":"B41","v":17},{"$f":"B41","v":17},{"$f":"IF(VLOOKUP(B41,Events!B:H,7,FALSE)=\"\",\"\",VLOOKUP(B41,Events!B:H,7,FALSE))","v":""},{"$f":"'Input Results'!M149","v":""},{"$f":"'Input Results'!P149","v":""},{"$f":"'Input Results'!Q149","v":0},{"$f":"H40+G42","v":0},{"$f":"'Input Results'!M150","v":""},{"$f":"'Input Results'!P150","v":""},{"$f":"'Input Results'!Q150","v":0},{"$f":"L40+K42","v":0},{"$f":"'Input Results'!M151","v":""},{"$f":"'Input Results'!P151","v":""},{"$f":"'Input Results'!Q151","v":0},{"$f":"P40+O42","v":0},{"$f":"'Input Results'!M152","v":""},{"$f":"'Input Results'!P152","v":""},{"$f":"'Input Results'!Q152","v":0},{"$f":"T40+S42","v":0},{"$f":"'Input Results'!M153","v":""},{"$f":"'Input Results'!P153","v":""},{"$f":"'Input Results'!Q153","v":0},{"$f":"X40+W42","v":0},{"$f":"'Input Results'!M154","v":""},{"$f":"'Input Results'!P154","v":""},{"$f":"'Input Results'!Q154","v":0},{"$f":"AB40+AA42","v":0}]
[null,{"$f":"Events!I20","v":18},17,{"$f":"IF(VLOOKUP(B43,Events!B:G,6,FALSE)=\"\",\"\",VLOOKUP(B43,Events!B:G,6,FALSE))","v":"   "},{"$f":"PROPER('Input Results'!I158)","v":""},null,null,null,{"$f":"PROPER('Input Results'!I159)","v":""},null,null,null,{"$f":"PROPER('Input Results'!I160)","v":""},null,null,null,{"$f":"PROPER('Input Results'!I161)","v":""},null,null,null,{"$f":"PROPER('Input Results'!I162)","v":""},null,null,null,{"$f":"PROPER('Input Results'!I163)","v":""}]
[null,{"$f":"B43","v":18},18,{"$f":"IF(VLOOKUP(B43,Events!B:H,7,FALSE)=\"\",\"\",VLOOKUP(B43,Events!B:H,7,FALSE))","v":""},{"$f":"'Input Results'!M158","v":""},{"$f":"'Input Results'!P158","v":""},{"$f":"'Input Results'!Q158","v":0},{"$f":"H42+G44","v":0},{"$f":"'Input Results'!M159","v":""},{"$f":"'Input Results'!P159","v":""},{"$f":"'Input Results'!Q159","v":0},{"$f":"L42+K44","v":0},{"$f":"'Input Results'!M160","v":""},{"$f":"'Input Results'!P160","v":""},{"$f":"'Input Results'!Q160","v":0},{"$f":"P42+O44","v":0},{"$f":"'Input Results'!M161","v":""},{"$f":"'Input Results'!P161","v":""},{"$f":"'Input Results'!Q161","v":0},{"$f":"T42+S44","v":0},{"$f":"'Input Results'!M162","v":""},{"$f":"'Input Results'!P162","v":""},{"$f":"'Input Results'!Q162","v":0},{"$f":"X42+W44","v":0},{"$f":"'Input Results'!M163","v":""},{"$f":"'Input Results'!P163","v":""},{"$f":"'Input Results'!Q163","v":0},{"$f":"AB42+AA44","v":0}]
[null,{"$f":"Events!I21","v":19},18,{"$f":"IF(VLOOKUP(B45,Events!B:G,6,FALSE)=\"\",\"\",VLOOKUP(B45,Events!B:G,6,FALSE))","v":"   "},{"$f":"PROPER('Input Results'!I167)","v":""},null,null,null,{"$f":"PROPER('Input Results'!I168)","v":""},null,null,null,{"$f":"PROPER('Input Results'!I169)","v":""},null,null,null,{"$f":"PROPER('Input Results'!I170)","v":""},null,null,null,{"$f":"PROPER('Input Results'!I171)","v":""},null,null,null,{"$f":"PROPER('Input Results'!I172)","v":""}]
[null,{"$f":"B45","v":19},19,{"$f":"IF(VLOOKUP(B45,Events!B:H,7,FALSE)=\"\",\"\",VLOOKUP(B45,Events!B:H,7,FALSE))","v":""},{"$f":"'Input Results'!M167","v":""},{"$f":"'Input Results'!P167","v":""},{"$f":"'Input Results'!Q167","v":0},{"$f":"H44+G46","v":0},{"$f":"'Input Results'!M168","v":""},{"$f":"'Input Results'!P168","v":""},{"$f":"'Input Results'!Q168","v":0},{"$f":"L44+K46","v":0},{"$f":"'Input Results'!M169","v":""},{"$f":"'Input Results'!P169","v":""},{"$f":"'Input Results'!Q169","v":0},{"$f":"P44+O46","v":0},{"$f":"'Input Results'!M170","v":""},{"$f":"'Input Results'!P170","v":""},{"$f":"'Input Results'!Q170","v":0},{"$f":"T44+S46","v":0},{"$f":"'Input Results'!M171","v":""},{"$f":"'Input Results'!P171","v":""},{"$f":"'Input Results'!Q171","v":0},{"$f":"X44+W46","v":0},{"$f":"'Input Results'!M172","v":""},{"$f":"'Input Results'!P172","v":""},{"$f":"'Input Results'!Q172","v":0},{"$f":"AB44+AA46","v":0}]
[null,{"$f":"Events!I22","v":20},19,{"$f":"IF(VLOOKUP(B47,Events!B:G,6,FALSE)=\"\",\"\",VLOOKUP(B47,Events!B:G,6,FALSE))","v":"   "},{"$f":"PROPER('Input Results'!I176)","v":""},null,null,null,{"$f":"PROPER('Input Results'!I177)","v":""},null,null,null,{"$f":"PROPER('Input Results'!I178)","v":""},null,null,null,{"$f":"PROPER('Input Results'!I179)","v":""},null,null,null,{"$f":"PROPER('Input Results'!I180)","v":""},null,null,null,{"$f":"PROPER('Input Results'!I181)","v":""}]
[null,{"$f":"B47","v":20},20,{"$f":"IF(VLOOKUP(B47,Events!B:H,7,FALSE)=\"\",\"\",VLOOKUP(B47,Events!B:H,7,FALSE))","v":""},{"$f":"'Input Results'!M176","v":""},{"$f":"'Input Results'!P176","v":""},{"$f":"'Input Results'!Q176","v":0},{"$f":"H46+G48","v":0},{"$f":"'Input Results'!M177","v":""},{"$f":"'Input Results'!P177","v":""},{"$f":"'Input Results'!Q177","v":0},{"$f":"L46+K48","v":0},{"$f":"'Input Results'!M178","v":""},{"$f":"'Input Results'!P178","v":""},{"$f":"'Input Results'!Q178","v":0},{"$f":"P46+O48","v":0},{"$f":"'Input Results'!M179","v":""},{"$f":"'Input Results'!P179","v":""},{"$f":"'Input Results'!Q179","v":0},{"$f":"T46+S48","v":0},{"$f":"'Input Results'!M180","v":""},{"$f":"'Input Results'!P180","v":""},{"$f":"'Input Results'!Q180","v":0},{"$f":"X46+W48","v":0},{"$f":"'Input Results'!M181","v":""},{"$f":"'Input Results'!P181","v":""},{"$f":"'Input Results'!Q181","v":0},{"$f":"AB46+AA48","v":0}]
[null,{"$f":"Events!I23","v":21},20,{"$f":"IF(VLOOKUP(B49,Events!B:G,6,FALSE)=\"\",\"\",VLOOKUP(B49,Events!B:G,6,FALSE))","v":"   "},{"$f":"PROPER('Input Results'!I185)","v":""},null,null,null,{"$f":"PROPER('Input Results'!I186)","v":""},null,null,null,{"$f":"PROPER('Input Results'!I187)","v":""},null,null,null,{"$f":"PROPER('Input Results'!I188)","v":""},null,null,null,{"$f":"PROPER('Input Results'!I189)","v":""},null,null,null,{"$f":"PROPER('Input Results'!I190)","v":""}]
[null,{"$f":"B49","v":21},21,{"$f":"IF(VLOOKUP(B49,Events!B:H,7,FALSE)=\"\",\"\",VLOOKUP(B49,Events!B:H,7,FALSE))","v":""},{"$f":"'Input Results'!M185","v":""},{"$f":"'Input Results'!P185","v":""},{"$f":"'Input Results'!Q185","v":0},{"$f":"H48+G50","v":0},{"$f":"'Input Results'!M186","v":""},{"$f":"'Input Results'!P186","v":""},{"$f":"'Input Results'!Q186","v":0},{"$f":"L48+K50","v":0},{"$f":"'Input Results'!M187","v":""},{"$f":"'Input Results'!P187","v":""},{"$f":"'Input Results'!Q187","v":0},{"$f":"P48+O50","v":0},{"$f":"'Input Results'!M188","v":""},{"$f":"'Input Results'!P188","v":""},{"$f":"'Input Results'!Q188","v":0},{"$f":"T48+S50","v":0},{"$f":"'Input Results'!M189","v":""},{"$f":"'Input Results'!P189","v":""},{"$f":"'Input Results'!Q189","v":0},{"$f":"X48+W50","v":0},{"$f":"'Input Results'!M190","v":""},{"$f":"'Input Results'!P190","v":""},{"$f":"'Input Results'!Q190","v":0},{"$f":"AB48+AA50","v":0}]
[null,{"$f":"Events!I24","v":22},21,{"$f":"IF(VLOOKUP(B51,Events!B:G,6,FALSE)=\"\",\"\",VLOOKUP(B51,Events!B:G,6,FALSE))","v":"   "},{"$f":"PROPER('Input Results'!I194)","v":""},null,null,null,{"$f":"PROPER('Input Results'!I195)","v":""},null,null,null,{"$f":"PROPER('Input Results'!I196)","v":""},null,null,null,{"$f":"PROPER('Input Results'!I197)","v":""},null,null,null,{"$f":"PROPER('Input Results'!I198)","v":""},null,null,null,{"$f":"PROPER('Input Results'!I199)","v":""}]
[null,{"$f":"B51","v":22},22,{"$f":"IF(VLOOKUP(B51,Events!B:H,7,FALSE)=\"\",\"\",VLOOKUP(B51,Events!B:H,7,FALSE))","v":""},{"$f":"'Input Results'!M194","v":""},{"$f":"'Input Results'!P194","v":""},{"$f":"'Input Results'!Q194","v":0},{"$f":"H50+G52","v":0},{"$f":"'Input Results'!M195","v":""},{"$f":"'Input Results'!P195","v":""},{"$f":"'Input Results'!Q195","v":0},{"$f":"L50+K52","v":0},{"$f":"'Input Results'!M196","v":""},{"$f":"'Input Results'!P196","v":""},{"$f":"'Input Results'!Q196","v":0},{"$f":"P50+O52","v":0},{"$f":"'Input Results'!M197","v":""},{"$f":"'Input Results'!P197","v":""},{"$f":"'Input Results'!Q197","v":0},{"$f":"T50+S52","v":0},{"$f":"'Input Results'!M198","v":""},{"$f":"'Input Results'!P198","v":""},{"$f":"'Input Results'!Q198","v":0},{"$f":"X50+W52","v":0},{"$f":"'Input Results'!M199","v":""},{"$f":"'Input Results'!P199","v":""},{"$f":"'Input Results'!Q199","v":0},{"$f":"AB50+AA52","v":0}]
[null,{"$f":"Events!I25","v":23},22,{"$f":"IF(VLOOKUP(B53,Events!B:G,6,FALSE)=\"\",\"\",VLOOKUP(B53,Events!B:G,6,FALSE))","v":"   "},{"$f":"PROPER('Input Results'!I203)","v":""},null,null,null,{"$f":"PROPER('Input Results'!I204)","v":""},null,null,null,{"$f":"PROPER('Input Results'!I205)","v":""},null,null,null,{"$f":"PROPER('Input Results'!I206)","v":""},null,null,null,{"$f":"PROPER('Input Results'!I207)","v":""},null,null,null,{"$f":"PROPER('Input Results'!I208)","v":""}]
[null,{"$f":"B53","v":23},23,{"$f":"IF(VLOOKUP(B53,Events!B:H,7,FALSE)=\"\",\"\",VLOOKUP(B53,Events!B:H,7,FALSE))","v":""},{"$f":"'Input Results'!M203","v":""},{"$f":"'Input Results'!P203","v":""},{"$f":"'Input Results'!Q203","v":0},{"$f":"H52+G54","v":0},{"$f":"'Input Results'!M204","v":""},{"$f":"'Input Results'!P204","v":""},{"$f":"'Input Results'!Q204","v":0},{"$f":"L52+K54","v":0},{"$f":"'Input Results'!M205","v":""},{"$f":"'Input Results'!P205","v":""},{"$f":"'Input Results'!Q205","v":0},{"$f":"P52+O54","v":0},{"$f":"'Input Results'!M206","v":""},{"$f":"'Input Results'!P206","v":""},{"$f":"'Input Results'!Q206","v":0},{"$f":"T52+S54","v":0},{"$f":"'Input Results'!M207","v":""},{"$f":"'Input Results'!P207","v":""},{"$f":"'Input Results'!Q207","v":0},{"$f":"X52+W54","v":0},{"$f":"'Input Results'!M208","v":""},{"$f":"'Input Results'!P208","v":""},{"$f":"'Input Results'!Q208","v":0},{"$f":"AB52+AA54","v":0}]
[null,{"$f":"Events!I26","v":24},23,{"$f":"IF(VLOOKUP(B55,Events!B:G,6,FALSE)=\"\",\"\",VLOOKUP(B55,Events!B:G,6,FALSE))","v":"   "},{"$f":"PROPER('Input Results'!I212)","v":""},null,null,null,{"$f":"PROPER('Input Results'!I213)","v":""},null,null,null,{"$f":"PROPER('Input Results'!I214)","v":""},null,null,null,{"$f":"PROPER('Input Results'!I215)","v":""},null,null,null,{"$f":"PROPER('Input Results'!I216)","v":""},null,null,null,{"$f":"PROPER('Input Results'!I217)","v":""}]
[null,{"$f":"B55","v":24},24,{"$f":"IF(VLOOKUP(B55,Events!B:H,7,FALSE)=\"\",\"\",VLOOKUP(B55,Events!B:H,7,FALSE))","v":""},{"$f":"'Input Results'!M212","v":""},{"$f":"'Input Results'!P212","v":""},{"$f":"'Input Results'!Q212","v":0},{"$f":"H54+G56","v":0},{"$f":"'Input Results'!M213","v":""},{"$f":"'Input Results'!P213","v":""},{"$f":"'Input Results'!Q213","v":0},{"$f":"L54+K56","v":0},{"$f":"'Input Results'!M214","v":""},{"$f":"'Input Results'!P214","v":""},{"$f":"'Input Results'!Q214","v":0},{"$f":"P54+O56","v":0},{"$f":"'Input Results'!M215","v":""},{"$f":"'Input Results'!P215","v":""},{"$f":"'Input Results'!Q215","v":0},{"$f":"T54+S56","v":0},{"$f":"'Input Results'!M216","v":""},{"$f":"'Input Results'!P216","v":""},{"$f":"'Input Results'!Q216","v":0},{"$f":"X54+W56","v":0},{"$f":"'Input Results'!M217","v":""},{"$f":"'Input Results'!P217","v":""},{"$f":"'Input Results'!Q217","v":0},{"$f":"AB54+AA56","v":0}]
[null,{"$f":"Events!I27","v":25},24,{"$f":"IF(VLOOKUP(B57,Events!B:G,6,FALSE)=\"\",\"\",VLOOKUP(B57,Events!B:G,6,FALSE))","v":"   "},{"$f":"PROPER('Input Results'!I221)","v":""},null,null,null,{"$f":"PROPER('Input Results'!I222)","v":""},null,null,null,{"$f":"PROPER('Input Results'!I223)","v":""},null,null,null,{"$f":"PROPER('Input Results'!I224)","v":""},null,null,null,{"$f":"PROPER('Input Results'!I225)","v":""},null,null,null,{"$f":"PROPER('Input Results'!I226)","v":""}]
[null,{"$f":"B57","v":25},25,{"$f":"IF(VLOOKUP(B57,Events!B:H,7,FALSE)=\"\",\"\",VLOOKUP(B57,Events!B:H,7,FALSE))","v":""},{"$f":"'Input Results'!M221","v":""},{"$f":"'Input Results'!P221","v":""},{"$f":"'Input Results'!Q221","v":0},{"$f":"H56+G58","v":0},{"$f":"'Input Results'!M222","v":""},{"$f":"'Input Results'!P222","v":""},{"$f":"'Input Results'!Q222","v":0},{"$f":"L56+K58","v":0},{"$f":"'Input Results'!M223","v":""},{"$f":"'Input Results'!P223","v":""},{"$f":"'Input Results'!Q223","v":0},{"$f":"P56+O58","v":0},{"$f":"'Input Results'!M224","v":""},{"$f":"'Input Results'!P224","v":""},{"$f":"'Input Results'!Q224","v":0},{"$f":"T56+S58","v":0},{"$f":"'Input Results'!M225","v":""},{"$f":"'Input Results'!P225","v":""},{"$f":"'Input Results'!Q225","v":0},{"$f":"X56+W58","v":0},{"$f":"'Input Results'!M226","v":""},{"$f":"'Input Results'!P226","v":""},{"$f":"'Input Results'!Q226","v":0},{"$f":"AB56+AA58","v":0}]
[null,{"$f":"Events!I28","v":26},25,{"$f":"IF(VLOOKUP(B59,Events!B:G,6,FALSE)=\"\",\"\",VLOOKUP(B59,Events!B:G,6,FALSE))","v":"   "},{"$f":"PROPER('Input Results'!I230)","v":""},null,null,null,{"$f":"PROPER('Input Results'!I231)","v":""},null,null,null,{"$f":"PROPER('Input Results'!I232)","v":""},null,null,null,{"$f":"PROPER('Input Results'!I233)","v":""},null,null,null,{"$f":"PROPER('Input Results'!I234)","v":""},null,null,null,{"$f":"PROPER('Input Results'!I235)","v":""}]
[null,{"$f":"B59","v":26},26,{"$f":"IF(VLOOKUP(B59,Events!B:H,7,FALSE)=\"\",\"\",VLOOKUP(B59,Events!B:H,7,FALSE))","v":""},{"$f":"'Input Results'!M230","v":""},{"$f":"'Input Results'!P230","v":""},{"$f":"'Input Results'!Q230","v":0},{"$f":"H58+G60","v":0},{"$f":"'Input Results'!M231","v":""},{"$f":"'Input Results'!P231","v":""},{"$f":"'Input Results'!Q231","v":0},{"$f":"L58+K60","v":0},{"$f":"'Input Results'!M232","v":""},{"$f":"'Input Results'!P232","v":""},{"$f":"'Input Results'!Q232","v":0},{"$f":"P58+O60","v":0},{"$f":"'Input Results'!M233","v":""},{"$f":"'Input Results'!P233","v":""},{"$f":"'Input Results'!Q233","v":0},{"$f":"T58+S60","v":0},{"$f":"'Input Results'!M234","v":""},{"$f":"'Input Results'!P234","v":""},{"$f":"'Input Results'!Q234","v":0},{"$f":"X58+W60","v":0},{"$f":"'Input Results'!M235","v":""},{"$f":"'Input Results'!P235","v":""},{"$f":"'Input Results'!Q235","v":0},{"$f":"AB58+AA60","v":0}]
[null,{"$f":"Events!I29","v":27},26,{"$f":"IF(VLOOKUP(B61,Events!B:G,6,FALSE)=\"\",\"\",VLOOKUP(B61,Events!B:G,6,FALSE))","v":"   "},{"$f":"PROPER('Input Results'!I239)","v":""},null,null,null,{"$f":"PROPER('Input Results'!I240)","v":""},null,null,null,{"$f":"PROPER('Input Results'!I241)","v":""},null,null,null,{"$f":"PROPER('Input Results'!I242)","v":""},null,null,null,{"$f":"PROPER('Input Results'!I243)","v":""},null,null,null,{"$f":"PROPER('Input Results'!I244)","v":""}]
[null,{"$f":"B61","v":27},27,{"$f":"IF(VLOOKUP(B61,Events!B:H,7,FALSE)=\"\",\"\",VLOOKUP(B61,Events!B:H,7,FALSE))","v":""},{"$f":"'Input Results'!M239","v":""},{"$f":"'Input Results'!P239","v":""},{"$f":"'Input Results'!Q239","v":0},{"$f":"H60+G62","v":0},{"$f":"'Input Results'!M240","v":""},{"$f":"'Input Results'!P240","v":""},{"$f":"'Input Results'!Q240","v":0},{"$f":"L60+K62","v":0},{"$f":"'Input Results'!M241","v":""},{"$f":"'Input Results'!P241","v":""},{"$f":"'Input Results'!Q241","v":0},{"$f":"P60+O62","v":0},{"$f":"'Input Results'!M242","v":""},{"$f":"'Input Results'!P242","v":""},{"$f":"'Input Results'!Q242","v":0},{"$f":"T60+S62","v":0},{"$f":"'Input Results'!M243","v":""},{"$f":"'Input Results'!P243","v":""},{"$f":"'Input Results'!Q243","v":0},{"$f":"X60+W62","v":0},{"$f":"'Input Results'!M244","v":""},{"$f":"'Input Results'!P244","v":""},{"$f":"'Input Results'!Q244","v":0},{"$f":"AB60+AA62","v":0}]
[null,{"$f":"Events!I30","v":28},27,{"$f":"IF(VLOOKUP(B63,Events!B:G,6,FALSE)=\"\",\"\",VLOOKUP(B63,Events!B:G,6,FALSE))","v":"   "},{"$f":"PROPER('Input Results'!I248)","v":""},null,null,null,{"$f":"PROPER('Input Results'!I249)","v":""},null,null,null,{"$f":"PROPER('Input Results'!I250)","v":""},null,null,null,{"$f":"PROPER('Input Results'!I251)","v":""},null,null,null,{"$f":"PROPER('Input Results'!I252)","v":""},null,null,null,{"$f":"PROPER('Input Results'!I253)","v":""}]
[null,{"$f":"B63","v":28},28,{"$f":"IF(VLOOKUP(B63,Events!B:H,7,FALSE)=\"\",\"\",VLOOKUP(B63,Events!B:H,7,FALSE))","v":""},{"$f":"'Input Results'!M248","v":""},{"$f":"'Input Results'!P248","v":""},{"$f":"'Input Results'!Q248","v":0},{"$f":"H62+G64","v":0},{"$f":"'Input Results'!M249","v":""},{"$f":"'Input Results'!P249","v":""},{"$f":"'Input Results'!Q249","v":0},{"$f":"L62+K64","v":0},{"$f":"'Input Results'!M250","v":""},{"$f":"'Input Results'!P250","v":""},{"$f":"'Input Results'!Q250","v":0},{"$f":"P62+O64","v":0},{"$f":"'Input Results'!M251","v":""},{"$f":"'Input Results'!P251","v":""},{"$f":"'Input Results'!Q251","v":0},{"$f":"T62+S64","v":0},{"$f":"'Input Results'!M252","v":""},{"$f":"'Input Results'!P252","v":""},{"$f":"'Input Results'!Q252","v":0},{"$f":"X62+W64","v":0},{"$f":"'Input Results'!M253","v":""},{"$f":"'Input Results'!P253","v":""},{"$f":"'Input Results'!Q253","v":0},{"$f":"AB62+AA64","v":0}]
[null,{"$f":"Events!I31","v":29},28,{"$f":"IF(VLOOKUP(B65,Events!B:G,6,FALSE)=\"\",\"\",VLOOKUP(B65,Events!B:G,6,FALSE))","v":"   "},{"$f":"PROPER('Input Results'!I257)","v":""},null,null,null,{"$f":"PROPER('Input Results'!I258)","v":""},null,null,null,{"$f":"PROPER('Input Results'!I259)","v":""},null,null,null,{"$f":"PROPER('Input Results'!I260)","v":""},null,null,null,{"$f":"PROPER('Input Results'!I261)","v":""},null,null,null,{"$f":"PROPER('Input Results'!I262)","v":""}]
[null,{"$f":"B65","v":29},29,{"$f":"IF(VLOOKUP(B65,Events!B:H,7,FALSE)=\"\",\"\",VLOOKUP(B65,Events!B:H,7,FALSE))","v":""},{"$f":"'Input Results'!M257","v":""},{"$f":"'Input Results'!P257","v":""},{"$f":"'Input Results'!Q257","v":0},{"$f":"H64+G66","v":0},{"$f":"'Input Results'!M258","v":""},{"$f":"'Input Results'!P258","v":""},{"$f":"'Input Results'!Q258","v":0},{"$f":"L64+K66","v":0},{"$f":"'Input Results'!M259","v":""},{"$f":"'Input Results'!P259","v":""},{"$f":"'Input Results'!Q259","v":0},{"$f":"P64+O66","v":0},{"$f":"'Input Results'!M260","v":""},{"$f":"'Input Results'!P260","v":""},{"$f":"'Input Results'!Q260","v":0},{"$f":"T64+S66","v":0},{"$f":"'Input Results'!M261","v":""},{"$f":"'Input Results'!P261","v":""},{"$f":"'Input Results'!Q261","v":0},{"$f":"X64+W66","v":0},{"$f":"'Input Results'!M262","v":""},{"$f":"'Input Results'!P262","v":""},{"$f":"'Input Results'!Q262","v":0},{"$f":"AB64+AA66","v":0}]
[null,{"$f":"Events!I32","v":30},29,{"$f":"IF(VLOOKUP(B67,Events!B:G,6,FALSE)=\"\",\"\",VLOOKUP(B67,Events!B:G,6,FALSE))","v":"   "},{"$f":"PROPER('Input Results'!I266)","v":""},null,null,null,{"$f":"PROPER('Input Results'!I267)","v":""},null,null,null,{"$f":"PROPER('Input Results'!I268)","v":""},null,null,null,{"$f":"PROPER('Input Results'!I269)","v":""},null,null,null,{"$f":"PROPER('Input Results'!I270)","v":""},null,null,null,{"$f":"PROPER('Input Results'!I271)","v":""}]
[null,{"$f":"B67","v":30},30,{"$f":"IF(VLOOKUP(B67,Events!B:H,7,FALSE)=\"\",\"\",VLOOKUP(B67,Events!B:H,7,FALSE))","v":""},{"$f":"'Input Results'!M266","v":""},{"$f":"'Input Results'!P266","v":""},{"$f":"'Input Results'!Q266","v":0},{"$f":"H66+G68","v":0},{"$f":"'Input Results'!M267","v":""},{"$f":"'Input Results'!P267","v":""},{"$f":"'Input Results'!Q267","v":0},{"$f":"L66+K68","v":0},{"$f":"'Input Results'!M268","v":""},{"$f":"'Input Results'!P268","v":""},{"$f":"'Input Results'!Q268","v":0},{"$f":"P66+O68","v":0},{"$f":"'Input Results'!M269","v":""},{"$f":"'Input Results'!P269","v":""},{"$f":"'Input Results'!Q269","v":0},{"$f":"T66+S68","v":0},{"$f":"'Input Results'!M270","v":""},{"$f":"'Input Results'!P270","v":""},{"$f":"'Input Results'!Q270","v":0},{"$f":"X66+W68","v":0},{"$f":"'Input Results'!M271","v":""},{"$f":"'Input Results'!P271","v":""},{"$f":"'Input Results'!Q271","v":0},{"$f":"AB66+AA68","v":0}]
[null,{"$f":"Events!I33","v":31},30,{"$f":"IF(VLOOKUP(B69,Events!B:G,6,FALSE)=\"\",\"\",VLOOKUP(B69,Events!B:G,6,FALSE))","v":"   "},{"$f":"PROPER('Input Results'!I275)","v":""},null,null,null,{"$f":"PROPER('Input Results'!I276)","v":""},null,null,null,{"$f":"PROPER('Input Results'!I277)","v":""},null,null,null,{"$f":"PROPER('Input Results'!I278)","v":""},null,null,null,{"$f":"PROPER('Input Results'!I279)","v":""},null,null,null,{"$f":"PROPER('Input Results'!I280)","v":""}]
[null,{"$f":"B69","v":31},31,{"$f":"IF(VLOOKUP(B69,Events!B:H,7,FALSE)=\"\",\"\",VLOOKUP(B69,Events!B:H,7,FALSE))","v":""},{"$f":"'Input Results'!M275","v":""},{"$f":"'Input Results'!P275","v":""},{"$f":"'Input Results'!Q275","v":0},{"$f":"H68+G70","v":0},{"$f":"'Input Results'!M276","v":""},{"$f":"'Input Results'!P276","v":""},{"$f":"'Input Results'!Q276","v":0},{"$f":"L68+K70","v":0},{"$f":"'Input Results'!M277","v":""},{"$f":"'Input Results'!P277","v":""},{"$f":"'Input Results'!Q277","v":0},{"$f":"P68+O70","v":0},{"$f":"'Input Results'!M278","v":""},{"$f":"'Input Results'!P278","v":""},{"$f":"'Input Results'!Q278","v":0},{"$f":"T68+S70","v":0},{"$f":"'Input Results'!M279","v":""},{"$f":"'Input Results'!P279","v":""},{"$f":"'Input Results'!Q279","v":0},{"$f":"X68+W70","v":0},{"$f":"'Input Results'!M280","v":""},{"$f":"'Input Results'!P280","v":""},{"$f":"'Input Results'!Q280","v":0},{"$f":"AB68+AA70","v":0}]
[null,{"$f":"Events!I34","v":32},31,{"$f":"IF(VLOOKUP(B71,Events!B:G,6,FALSE)=\"\",\"\",VLOOKUP(B71,Events!B:G,6,FALSE))","v":"   "},{"$f":"PROPER('Input Results'!I284)","v":""},null,null,null,{"$f":"PROPER('Input Results'!I285)","v":""},null,null,null,{"$f":"PROPER('Input Results'!I286)","v":""},null,null,null,{"$f":"PROPER('Input Results'!I287)","v":""},null,null,null,{"$f":"PROPER('Input Results'!I288)","v":""},null,null,null,{"$f":"PROPER('Input Results'!I289)","v":""}]
[null,{"$f":"B71","v":32},32,{"$f":"IF(VLOOKUP(B71,Events!B:H,7,FALSE)=\"\",\"\",VLOOKUP(B71,Events!B:H,7,FALSE))","v":""},{"$f":"'Input Results'!M284","v":""},{"$f":"'Input Results'!P284","v":""},{"$f":"'Input Results'!Q284","v":0},{"$f":"H70+G72","v":0},{"$f":"'Input Results'!M285","v":""},{"$f":"'Input Results'!P285","v":""},{"$f":"'Input Results'!Q285","v":0},{"$f":"L70+K72","v":0},{"$f":"'Input Results'!M286","v":""},{"$f":"'Input Results'!P286","v":""},{"$f":"'Input Results'!Q286","v":0},{"$f":"P70+O72","v":0},{"$f":"'Input Results'!M287","v":""},{"$f":"'Input Results'!P287","v":""},{"$f":"'Input Results'!Q287","v":0},{"$f":"T70+S72","v":0},{"$f":"'Input Results'!M288","v":""},{"$f":"'Input Results'!P288","v":""},{"$f":"'Input Results'!Q288","v":0},{"$f":"X70+W72","v":0},{"$f":"'Input Results'!M289","v":""},{"$f":"'Input Results'!P289","v":""},{"$f":"'Input Results'!Q289","v":0},{"$f":"AB70+AA72","v":0}]
[null,{"$f":"Events!I35","v":33},32,{"$f":"IF(VLOOKUP(B73,Events!B:G,6,FALSE)=\"\",\"\",VLOOKUP(B73,Events!B:G,6,FALSE))","v":"   "},{"$f":"PROPER('Input Results'!I293)","v":""},null,null,null,{"$f":"PROPER('Input Results'!I294)","v":""},null,null,null,{"$f":"PROPER('Input Results'!I295)","v":""},null,null,null,{"$f":"PROPER('Input Results'!I296)","v":""},null,null,null,{"$f":"PROPER('Input Results'!I297)","v":""},null,null,null,{"$f":"PROPER('Input Results'!I298)","v":""}]
[null,{"$f":"B73","v":33},{"$f":"B73","v":33},{"$f":"IF(VLOOKUP(B73,Events!B:H,7,FALSE)=\"\",\"\",VLOOKUP(B73,Events!B:H,7,FALSE))","v":""},{"$f":"'Input Results'!M293","v":""},{"$f":"'Input Results'!P293","v":""},{"$f":"'Input Results'!Q293","v":0},{"$f":"H72+G74","v":0},{"$f":"'Input Results'!M294","v":""},{"$f":"'Input Results'!P294","v":""},{"$f":"'Input Results'!Q294","v":0},{"$f":"L72+K74","v":0},{"$f":"'Input Results'!M295","v":""},{"$f":"'Input Results'!P295","v":""},{"$f":"'Input Results'!Q295","v":0},{"$f":"P72+O74","v":0},{"$f":"'Input Results'!M296","v":""},{"$f":"'Input Results'!P296","v":""},{"$f":"'Input Results'!Q296","v":0},{"$f":"T72+S74","v":0},{"$f":"'Input Results'!M297","v":""},{"$f":"'Input Results'!P297","v":""},{"$f":"'Input Results'!Q297","v":0},{"$f":"X72+W74","v":0},{"$f":"'Input Results'!M298","v":""},{"$f":"'Input Results'!P298","v":""},{"$f":"'Input Results'!Q298","v":0},{"$f":"AB72+AA74","v":0}]
[null,{"$f":"Events!I36","v":34},33,{"$f":"IF(VLOOKUP(B75,Events!B:G,6,FALSE)=\"\",\"\",VLOOKUP(B75,Events!B:G,6,FALSE))","v":"   "},{"$f":"PROPER('Input Results'!I302)","v":""},null,null,null,{"$f":"PROPER('Input Results'!I303)","v":""},null,null,null,{"$f":"PROPER('Input Results'!I304)","v":""},null,null,null,{"$f":"PROPER('Input Results'!I305)","v":""},null,null,null,{"$f":"PROPER('Input Results'!I306)","v":""},null,null,null,{"$f":"PROPER('Input Results'!I307)","v":""}]
[null,{"$f":"B75","v":34},34,{"$f":"IF(VLOOKUP(B75,Events!B:H,7,FALSE)=\"\",\"\",VLOOKUP(B75,Events!B:H,7,FALSE))","v":""},{"$f":"'Input Results'!M302","v":""},{"$f":"'Input Results'!P302","v":""},{"$f":"'Input Results'!Q302","v":0},{"$f":"H74+G76","v":0},{"$f":"'Input Results'!M303","v":""},{"$f":"'Input Results'!P303","v":""},{"$f":"'Input Results'!Q303","v":0},{"$f":"L74+K76","v":0},{"$f":"'Input Results'!M304","v":""},{"$f":"'Input Results'!P304","v":""},{"$f":"'Input Results'!Q304","v":0},{"$f":"P74+O76","v":0},{"$f":"'Input Results'!M305","v":""},{"$f":"'Input Results'!P305","v":""},{"$f":"'Input Results'!Q305","v":0},{"$f":"T74+S76","v":0},{"$f":"'Input Results'!M306","v":""},{"$f":"'Input Results'!P306","v":""},{"$f":"'Input Results'!Q306","v":0},{"$f":"X74+W76","v":0},{"$f":"'Input Results'!M307","v":""},{"$f":"'Input Results'!P307","v":""},{"$f":"'Input Results'!Q307","v":0},{"$f":"AB74+AA76","v":0}]
[null,{"$f":"Events!I37","v":35},34,{"$f":"IF(VLOOKUP(B77,Events!B:G,6,FALSE)=\"\",\"\",VLOOKUP(B77,Events!B:G,6,FALSE))","v":"   "},{"$f":"PROPER('Input Results'!I311)","v":""},null,null,null,{"$f":"PROPER('Input Results'!I312)","v":""},null,null,null,{"$f":"PROPER('Input Results'!I313)","v":""},null,null,null,{"$f":"PROPER('Input Results'!I314)","v":""},null,null,null,{"$f":"PROPER('Input Results'!I315)","v":""},null,null,null,{"$f":"PROPER('Input Results'!I316)","v":""}]
[null,{"$f":"B77","v":35},35,{"$f":"IF(VLOOKUP(B77,Events!B:H,7,FALSE)=\"\",\"\",VLOOKUP(B77,Events!B:H,7,FALSE))","v":""},{"$f":"'Input Results'!M311","v":""},{"$f":"'Input Results'!P311","v":""},{"$f":"'Input Results'!Q311","v":0},{"$f":"H76+G78","v":0},{"$f":"'Input Results'!M312","v":""},{"$f":"'Input Results'!P312","v":""},{"$f":"'Input Results'!Q312","v":0},{"$f":"L76+K78","v":0},{"$f":"'Input Results'!M313","v":""},{"$f":"'Input Results'!P313","v":""},{"$f":"'Input Results'!Q313","v":0},{"$f":"P76+O78","v":0},{"$f":"'Input Results'!M314","v":""},{"$f":"'Input Results'!P314","v":""},{"$f":"'Input Results'!Q314","v":0},{"$f":"T76+S78","v":0},{"$f":"'Input Results'!M315","v":""},{"$f":"'Input Results'!P315","v":""},{"$f":"'Input Results'!Q315","v":0},{"$f":"X76+W78","v":0},{"$f":"'Input Results'!M316","v":""},{"$f":"'Input Results'!P316","v":""},{"$f":"'Input Results'!Q316","v":0},{"$f":"AB76+AA78","v":0}]
[null,{"$f":"Events!I38","v":36},35,{"$f":"IF(VLOOKUP(B79,Events!B:G,6,FALSE)=\"\",\"\",VLOOKUP(B79,Events!B:G,6,FALSE))","v":"   "},{"$f":"PROPER('Input Results'!I320)","v":""},null,null,null,{"$f":"PROPER('Input Results'!I321)","v":""},null,null,null,{"$f":"PROPER('Input Results'!I322)","v":""},null,null,null,{"$f":"PROPER('Input Results'!I323)","v":""},null,null,null,{"$f":"PROPER('Input Results'!I324)","v":""},null,null,null,{"$f":"PROPER('Input Results'!I325)","v":""}]
[null,{"$f":"B79","v":36},36,{"$f":"IF(VLOOKUP(B79,Events!B:H,7,FALSE)=\"\",\"\",VLOOKUP(B79,Events!B:H,7,FALSE))","v":""},{"$f":"'Input Results'!M320","v":""},{"$f":"'Input Results'!P320","v":""},{"$f":"'Input Results'!Q320","v":0},{"$f":"H78+G80","v":0},{"$f":"'Input Results'!M321","v":""},{"$f":"'Input Results'!P321","v":""},{"$f":"'Input Results'!Q321","v":0},{"$f":"L78+K80","v":0},{"$f":"'Input Results'!M322","v":""},{"$f":"'Input Results'!P322","v":""},{"$f":"'Input Results'!Q322","v":0},{"$f":"P78+O80","v":0},{"$f":"'Input Results'!M323","v":""},{"$f":"'Input Results'!P323","v":""},{"$f":"'Input Results'!Q323","v":0},{"$f":"T78+S80","v":0},{"$f":"'Input Results'!M324","v":""},{"$f":"'Input Results'!P324","v":""},{"$f":"'Input Results'!Q324","v":0},{"$f":"X78+W80","v":0},{"$f":"'Input Results'!M325","v":""},{"$f":"'Input Results'!P325","v":""},{"$f":"'Input Results'!Q325","v":0},{"$f":"AB78+AA80","v":0}]
[null,{"$f":"Events!I39","v":37},36,{"$f":"IF(VLOOKUP(B81,Events!B:G,6,FALSE)=\"\",\"\",VLOOKUP(B81,Events!B:G,6,FALSE))","v":"   "},{"$f":"PROPER('Input Results'!I329)","v":""},null,null,null,{"$f":"PROPER('Input Results'!I330)","v":""},null,null,null,{"$f":"PROPER('Input Results'!I331)","v":""},null,null,null,{"$f":"PROPER('Input Results'!I332)","v":""},null,null,null,{"$f":"PROPER('Input Results'!I333)","v":""},null,null,null,{"$f":"PROPER('Input Results'!I334)","v":""}]
[null,{"$f":"B81","v":37},37,{"$f":"IF(VLOOKUP(B81,Events!B:H,7,FALSE)=\"\",\"\",VLOOKUP(B81,Events!B:H,7,FALSE))","v":""},{"$f":"'Input Results'!M329","v":""},{"$f":"'Input Results'!P329","v":""},{"$f":"'Input Results'!Q329","v":0},{"$f":"H80+G82","v":0},{"$f":"'Input Results'!M330","v":""},{"$f":"'Input Results'!P330","v":""},{"$f":"'Input Results'!Q330","v":0},{"$f":"L80+K82","v":0},{"$f":"'Input Results'!M331","v":""},{"$f":"'Input Results'!P331","v":""},{"$f":"'Input Results'!Q331","v":0},{"$f":"P80+O82","v":0},{"$f":"'Input Results'!M332","v":""},{"$f":"'Input Results'!P332","v":""},{"$f":"'Input Results'!Q332","v":0},{"$f":"T80+S82","v":0},{"$f":"'Input Results'!M333","v":""},{"$f":"'Input Results'!P333","v":""},{"$f":"'Input Results'!Q333","v":0},{"$f":"X80+W82","v":0},{"$f":"'Input Results'!M334","v":""},{"$f":"'Input Results'!P334","v":""},{"$f":"'Input Results'!Q334","v":0},{"$f":"AB80+AA82","v":0}]
[null,{"$f":"Events!I40","v":38},37,{"$f":"IF(VLOOKUP(B83,Events!B:G,6,FALSE)=\"\",\"\",VLOOKUP(B83,Events!B:G,6,FALSE))","v":"   "},{"$f":"PROPER('Input Results'!I338)","v":""},null,null,null,{"$f":"PROPER('Input Results'!I339)","v":""},null,null,null,{"$f":"PROPER('Input Results'!I340)","v":""},null,null,null,{"$f":"PROPER('Input Results'!I341)","v":""},null,null,null,{"$f":"PROPER('Input Results'!I342)","v":""},null,null,null,{"$f":"PROPER('Input Results'!I343)","v":""}]
[null,{"$f":"B83","v":38},38,{"$f":"IF(VLOOKUP(B83,Events!B:H,7,FALSE)=\"\",\"\",VLOOKUP(B83,Events!B:H,7,FALSE))","v":""},{"$f":"'Input Results'!M338","v":""},{"$f":"'Input Results'!P338","v":""},{"$f":"'Input Results'!Q338","v":0},{"$f":"H82+G84","v":0},{"$f":"'Input Results'!M339","v":""},{"$f":"'Input Results'!P339","v":""},{"$f":"'Input Results'!Q339","v":0},{"$f":"L82+K84","v":0},{"$f":"'Input Results'!M340","v":""},{"$f":"'Input Results'!P340","v":""},{"$f":"'Input Results'!Q340","v":0},{"$f":"P82+O84","v":0},{"$f":"'Input Results'!M341","v":""},{"$f":"'Input Results'!P341","v":""},{"$f":"'Input Results'!Q341","v":0},{"$f":"T82+S84","v":0},{"$f":"'Input Results'!M342","v":""},{"$f":"'Input Results'!P342","v":""},{"$f":"'Input Results'!Q342","v":0},{"$f":"X82+W84","v":0},{"$f":"'Input Results'!M343","v":""},{"$f":"'Input Results'!P343","v":""},{"$f":"'Input Results'!Q343","v":0},{"$f":"AB82+AA84","v":0}]
[null,{"$f":"Events!I41","v":39},38,{"$f":"IF(VLOOKUP(B85,Events!B:G,6,FALSE)=\"\",\"\",VLOOKUP(B85,Events!B:G,6,FALSE))","v":"   "},{"$f":"PROPER('Input Results'!I347)","v":""},null,null,null,{"$f":"PROPER('Input Results'!I348)","v":""},null,null,null,{"$f":"PROPER('Input Results'!I349)","v":""},null,null,null,{"$f":"PROPER('Input Results'!I350)","v":""},null,null,null,{"$f":"PROPER('Input Results'!I351)","v":""},null,null,null,{"$f":"PROPER('Input Results'!I352)","v":""}]
[null,{"$f":"B85","v":39},39,{"$f":"IF(VLOOKUP(B85,Events!B:H,7,FALSE)=\"\",\"\",VLOOKUP(B85,Events!B:H,7,FALSE))","v":""},{"$f":"'Input Results'!M347","v":""},{"$f":"'Input Results'!P347","v":""},{"$f":"'Input Results'!Q347","v":0},{"$f":"H84+G86","v":0},{"$f":"'Input Results'!M348","v":""},{"$f":"'Input Results'!P348","v":""},{"$f":"'Input Results'!Q348","v":0},{"$f":"L84+K86","v":0},{"$f":"'Input Results'!M349","v":""},{"$f":"'Input Results'!P349","v":""},{"$f":"'Input Results'!Q349","v":0},{"$f":"P84+O86","v":0},{"$f":"'Input Results'!M350","v":""},{"$f":"'Input Results'!P350","v":""},{"$f":"'Input Results'!Q350","v":0},{"$f":"T84+S86","v":0},{"$f":"'Input Results'!M351","v":""},{"$f":"'Input Results'!P351","v":""},{"$f":"'Input Results'!Q351","v":0},{"$f":"X84+W86","v":0},{"$f":"'Input Results'!M352","v":""},{"$f":"'Input Results'!P352","v":""},{"$f":"'Input Results'!Q352","v":0},{"$f":"AB84+AA86","v":0}]
[null,{"$f":"Events!I42","v":40},39,{"$f":"IF(VLOOKUP(B87,Events!B:G,6,FALSE)=\"\",\"\",VLOOKUP(B87,Events!B:G,6,FALSE))","v":"   "},{"$f":"PROPER('Input Results'!I356)","v":""},null,null,null,{"$f":"PROPER('Input Results'!I357)","v":""},null,null,null,{"$f":"PROPER('Input Results'!I358)","v":""},null,null,null,{"$f":"PROPER('Input Results'!I359)","v":""},null,null,null,{"$f":"PROPER('Input Results'!I360)","v":""},null,null,null,{"$f":"PROPER('Input Results'!I361)","v":""}]
[null,{"$f":"B87","v":40},40,{"$f":"IF(VLOOKUP(B87,Events!B:H,7,FALSE)=\"\",\"\",VLOOKUP(B87,Events!B:H,7,FALSE))","v":""},{"$f":"'Input Results'!M356","v":""},{"$f":"'Input Results'!P356","v":""},{"$f":"'Input Results'!Q356","v":0},{"$f":"H86+G88","v":0},{"$f":"'Input Results'!M357","v":""},{"$f":"'Input Results'!P357","v":""},{"$f":"'Input Results'!Q357","v":0},{"$f":"L86+K88","v":0},{"$f":"'Input Results'!M358","v":""},{"$f":"'Input Results'!P358","v":""},{"$f":"'Input Results'!Q358","v":0},{"$f":"P86+O88","v":0},{"$f":"'Input Results'!M359","v":""},{"$f":"'Input Results'!P359","v":""},{"$f":"'Input Results'!Q359","v":0},{"$f":"T86+S88","v":0},{"$f":"'Input Results'!M360","v":""},{"$f":"'Input Results'!P360","v":""},{"$f":"'Input Results'!Q360","v":0},{"$f":"X86+W88","v":0},{"$f":"'Input Results'!M361","v":""},{"$f":"'Input Results'!P361","v":""},{"$f":"'Input Results'!Q361","v":0},{"$f":"AB86+AA88","v":0}]
[null,{"$f":"Events!I43","v":41},40,{"$f":"IF(VLOOKUP(B89,Events!B:G,6,FALSE)=\"\",\"\",VLOOKUP(B89,Events!B:G,6,FALSE))","v":"   "},{"$f":"PROPER('Input Results'!I365)","v":""},null,null,null,{"$f":"PROPER('Input Results'!I366)","v":""},null,null,null,{"$f":"PROPER('Input Results'!I367)","v":""},null,null,null,{"$f":"PROPER('Input Results'!I368)","v":""},null,null,null,{"$f":"PROPER('Input Results'!I369)","v":""},null,null,null,{"$f":"PROPER('Input Results'!I370)","v":""}]
[null,{"$f":"B89","v":41},41,{"$f":"IF(VLOOKUP(B89,Events!B:H,7,FALSE)=\"\",\"\",VLOOKUP(B89,Events!B:H,7,FALSE))","v":""},{"$f":"'Input Results'!M365","v":""},{"$f":"'Input Results'!P365","v":""},{"$f":"'Input Results'!Q365","v":0},{"$f":"H88+G90","v":0},{"$f":"'Input Results'!M366","v":""},{"$f":"'Input Results'!P366","v":""},{"$f":"'Input Results'!Q366","v":0},{"$f":"L88+K90","v":0},{"$f":"'Input Results'!M367","v":""},{"$f":"'Input Results'!P367","v":""},{"$f":"'Input Results'!Q367","v":0},{"$f":"P88+O90","v":0},{"$f":"'Input Results'!M368","v":""},{"$f":"'Input Results'!P368","v":""},{"$f":"'Input Results'!Q368","v":0},{"$f":"T88+S90","v":0},{"$f":"'Input Results'!M369","v":""},{"$f":"'Input Results'!P369","v":""},{"$f":"'Input Results'!Q369","v":0},{"$f":"X88+W90","v":0},{"$f":"'Input Results'!M370","v":""},{"$f":"'Input Results'!P370","v":""},{"$f":"'Input Results'!Q370","v":0},{"$f":"AB88+AA90","v":0}]
[null,{"$f":"Events!I44","v":42},41,{"$f":"IF(VLOOKUP(B91,Events!B:G,6,FALSE)=\"\",\"\",VLOOKUP(B91,Events!B:G,6,FALSE))","v":"   "},{"$f":"PROPER('Input Results'!I374)","v":""},null,null,null,{"$f":"PROPER('Input Results'!I375)","v":""},null,null,null,{"$f":"PROPER('Input Results'!I376)","v":""},null,null,null,{"$f":"PROPER('Input Results'!I377)","v":""},null,null,null,{"$f":"PROPER('Input Results'!I378)","v":""},null,null,null,{"$f":"PROPER('Input Results'!I379)","v":""}]
[null,{"$f":"B91","v":42},42,{"$f":"IF(VLOOKUP(B91,Events!B:H,7,FALSE)=\"\",\"\",VLOOKUP(B91,Events!B:H,7,FALSE))","v":""},{"$f":"'Input Results'!M374","v":""},{"$f":"'Input Results'!P374","v":""},{"$f":"'Input Results'!Q374","v":0},{"$f":"H90+G92","v":0},{"$f":"'Input Results'!M375","v":""},{"$f":"'Input Results'!P375","v":""},{"$f":"'Input Results'!Q375","v":0},{"$f":"L90+K92","v":0},{"$f":"'Input Results'!M376","v":""},{"$f":"'Input Results'!P376","v":""},{"$f":"'Input Results'!Q376","v":0},{"$f":"P90+O92","v":0},{"$f":"'Input Results'!M377","v":""},{"$f":"'Input Results'!P377","v":""},{"$f":"'Input Results'!Q377","v":0},{"$f":"T90+S92","v":0},{"$f":"'Input Results'!M378","v":""},{"$f":"'Input Results'!P378","v":""},{"$f":"'Input Results'!Q378","v":0},{"$f":"X90+W92","v":0},{"$f":"'Input Results'!M379","v":""},{"$f":"'Input Results'!P379","v":""},{"$f":"'Input Results'!Q379","v":0},{"$f":"AB90+AA92","v":0}]
[null,{"$f":"Events!I45","v":43},42,{"$f":"IF(VLOOKUP(B93,Events!B:G,6,FALSE)=\"\",\"\",VLOOKUP(B93,Events!B:G,6,FALSE))","v":"   "},{"$f":"PROPER('Input Results'!I383)","v":""},null,null,null,{"$f":"PROPER('Input Results'!I384)","v":""},null,null,null,{"$f":"PROPER('Input Results'!I385)","v":""},null,null,null,{"$f":"PROPER('Input Results'!I386)","v":""},null,null,null,{"$f":"PROPER('Input Results'!I387)","v":""},null,null,null,{"$f":"PROPER('Input Results'!I388)","v":""}]
[null,{"$f":"B93","v":43},43,{"$f":"IF(VLOOKUP(B93,Events!B:H,7,FALSE)=\"\",\"\",VLOOKUP(B93,Events!B:H,7,FALSE))","v":""},{"$f":"'Input Results'!M383","v":""},{"$f":"'Input Results'!P383","v":""},{"$f":"'Input Results'!Q383","v":0},{"$f":"H92+G94","v":0},{"$f":"'Input Results'!M384","v":""},{"$f":"'Input Results'!P384","v":""},{"$f":"'Input Results'!Q384","v":0},{"$f":"L92+K94","v":0},{"$f":"'Input Results'!M385","v":""},{"$f":"'Input Results'!P385","v":""},{"$f":"'Input Results'!Q385","v":0},{"$f":"P92+O94","v":0},{"$f":"'Input Results'!M386","v":""},{"$f":"'Input Results'!P386","v":""},{"$f":"'Input Results'!Q386","v":0},{"$f":"T92+S94","v":0},{"$f":"'Input Results'!M387","v":""},{"$f":"'Input Results'!P387","v":""},{"$f":"'Input Results'!Q387","v":0},{"$f":"X92+W94","v":0},{"$f":"'Input Results'!M388","v":""},{"$f":"'Input Results'!P388","v":""},{"$f":"'Input Results'!Q388","v":0},{"$f":"AB92+AA94","v":0}]
[null,{"$f":"Events!I46","v":44},43,{"$f":"IF(VLOOKUP(B95,Events!B:G,6,FALSE)=\"\",\"\",VLOOKUP(B95,Events!B:G,6,FALSE))","v":"   "},{"$f":"PROPER('Input Results'!I392)","v":""},null,null,null,{"$f":"PROPER('Input Results'!I393)","v":""},null,null,null,{"$f":"PROPER('Input Results'!I394)","v":""},null,null,null,{"$f":"PROPER('Input Results'!I395)","v":""},null,null,null,{"$f":"PROPER('Input Results'!I396)","v":""},null,null,null,{"$f":"PROPER('Input Results'!I397)","v":""}]
[null,{"$f":"B95","v":44},44,{"$f":"IF(VLOOKUP(B95,Events!B:H,7,FALSE)=\"\",\"\",VLOOKUP(B95,Events!B:H,7,FALSE))","v":""},{"$f":"'Input Results'!M392","v":""},{"$f":"'Input Results'!P392","v":""},{"$f":"'Input Results'!Q392","v":0},{"$f":"H94+G96","v":0},{"$f":"'Input Results'!M393","v":""},{"$f":"'Input Results'!P393","v":""},{"$f":"'Input Results'!Q393","v":0},{"$f":"L94+K96","v":0},{"$f":"'Input Results'!M394","v":""},{"$f":"'Input Results'!P394","v":""},{"$f":"'Input Results'!Q394","v":0},{"$f":"P94+O96","v":0},{"$f":"'Input Results'!M395","v":""},{"$f":"'Input Results'!P395","v":""},{"$f":"'Input Results'!Q395","v":0},{"$f":"T94+S96","v":0},{"$f":"'Input Results'!M396","v":""},{"$f":"'Input Results'!P396","v":""},{"$f":"'Input Results'!Q396","v":0},{"$f":"X94+W96","v":0},{"$f":"'Input Results'!M397","v":""},{"$f":"'Input Results'!P397","v":""},{"$f":"'Input Results'!Q397","v":0},{"$f":"AB94+AA96","v":0}]
[null,{"$f":"Events!I47","v":45},44,{"$f":"IF(VLOOKUP(B97,Events!B:G,6,FALSE)=\"\",\"\",VLOOKUP(B97,Events!B:G,6,FALSE))","v":"   "},{"$f":"PROPER('Input Results'!I401)","v":""},null,null,null,{"$f":"PROPER('Input Results'!I402)","v":""},null,null,null,{"$f":"PROPER('Input Results'!I403)","v":""},null,null,null,{"$f":"PROPER('Input Results'!I404)","v":""},null,null,null,{"$f":"PROPER('Input Results'!I405)","v":""},null,null,null,{"$f":"PROPER('Input Results'!I406)","v":""}]
[null,{"$f":"B97","v":45},45,{"$f":"IF(VLOOKUP(B97,Events!B:H,7,FALSE)=\"\",\"\",VLOOKUP(B97,Events!B:H,7,FALSE))","v":""},{"$f":"'Input Results'!M401","v":""},{"$f":"'Input Results'!P401","v":""},{"$f":"'Input Results'!Q401","v":0},{"$f":"H96+G98","v":0},{"$f":"'Input Results'!M402","v":""},{"$f":"'Input Results'!P402","v":""},{"$f":"'Input Results'!Q402","v":0},{"$f":"L96+K98","v":0},{"$f":"'Input Results'!M403","v":""},{"$f":"'Input Results'!P403","v":""},{"$f":"'Input Results'!Q403","v":0},{"$f":"P96+O98","v":0},{"$f":"'Input Results'!M404","v":""},{"$f":"'Input Results'!P404","v":""},{"$f":"'Input Results'!Q404","v":0},{"$f":"T96+S98","v":0},{"$f":"'Input Results'!M405","v":""},{"$f":"'Input Results'!P405","v":""},{"$f":"'Input Results'!Q405","v":0},{"$f":"X96+W98","v":0},{"$f":"'Input Results'!M406","v":""},{"$f":"'Input Results'!P406","v":""},{"$f":"'Input Results'!Q406","v":0},{"$f":"AB96+AA98","v":0}]
[null,{"$f":"Events!I48","v":46},45,{"$f":"IF(VLOOKUP(B99,Events!B:G,6,FALSE)=\"\",\"\",VLOOKUP(B99,Events!B:G,6,FALSE))","v":"   "},{"$f":"PROPER('Input Results'!I410)","v":""},null,null,null,{"$f":"PROPER('Input Results'!I411)","v":""},null,null,null,{"$f":"PROPER('Input Results'!I412)","v":""},null,null,null,{"$f":"PROPER('Input Results'!I413)","v":""},null,null,null,{"$f":"PROPER('Input Results'!I414)","v":""},null,null,null,{"$f":"PROPER('Input Results'!I415)","v":""}]
[null,{"$f":"B99","v":46},46,{"$f":"IF(VLOOKUP(B99,Events!B:H,7,FALSE)=\"\",\"\",VLOOKUP(B99,Events!B:H,7,FALSE))","v":""},{"$f":"'Input Results'!M410","v":""},{"$f":"'Input Results'!P410","v":""},{"$f":"'Input Results'!Q410","v":0},{"$f":"H98+G100","v":0},{"$f":"'Input Results'!M411","v":""},{"$f":"'Input Results'!P411","v":""},{"$f":"'Input Results'!Q411","v":0},{"$f":"L98+K100","v":0},{"$f":"'Input Results'!M412","v":""},{"$f":"'Input Results'!P412","v":""},{"$f":"'Input Results'!Q412","v":0},{"$f":"P98+O100","v":0},{"$f":"'Input Results'!M413","v":""},{"$f":"'Input Results'!P413","v":""},{"$f":"'Input Results'!Q413","v":0},{"$f":"T98+S100","v":0},{"$f":"'Input Results'!M414","v":""},{"$f":"'Input Results'!P414","v":""},{"$f":"'Input Results'!Q414","v":0},{"$f":"X98+W100","v":0},{"$f":"'Input Results'!M415","v":""},{"$f":"'Input Results'!P415","v":""},{"$f":"'Input Results'!Q415","v":0},{"$f":"AB98+AA100","v":0}]
[null,{"$f":"Events!I49","v":47},46,{"$f":"IF(VLOOKUP(B101,Events!B:G,6,FALSE)=\"\",\"\",VLOOKUP(B101,Events!B:G,6,FALSE))","v":"   "},{"$f":"PROPER('Input Results'!I419)","v":""},null,null,null,{"$f":"PROPER('Input Results'!I420)","v":""},null,null,null,{"$f":"PROPER('Input Results'!I421)","v":""},null,null,null,{"$f":"PROPER('Input Results'!I422)","v":""},null,null,null,{"$f":"PROPER('Input Results'!I423)","v":""},null,null,null,{"$f":"PROPER('Input Results'!I424)","v":""}]
[null,{"$f":"B101","v":47},47,{"$f":"IF(VLOOKUP(B101,Events!B:H,7,FALSE)=\"\",\"\",VLOOKUP(B101,Events!B:H,7,FALSE))","v":""},{"$f":"'Input Results'!M419","v":""},{"$f":"'Input Results'!P419","v":""},{"$f":"'Input Results'!Q419","v":0},{"$f":"H100+G102","v":0},{"$f":"'Input Results'!M420","v":""},{"$f":"'Input Results'!P420","v":""},{"$f":"'Input Results'!Q420","v":0},{"$f":"L100+K102","v":0},{"$f":"'Input Results'!M421","v":""},{"$f":"'Input Results'!P421","v":""},{"$f":"'Input Results'!Q421","v":0},{"$f":"P100+O102","v":0},{"$f":"'Input Results'!M422","v":""},{"$f":"'Input Results'!P422","v":""},{"$f":"'Input Results'!Q422","v":0},{"$f":"T100+S102","v":0},{"$f":"'Input Results'!M423","v":""},{"$f":"'Input Results'!P423","v":""},{"$f":"'Input Results'!Q423","v":0},{"$f":"X100+W102","v":0},{"$f":"'Input Results'!M424","v":""},{"$f":"'Input Results'!P424","v":""},{"$f":"'Input Results'!Q424","v":0},{"$f":"AB100+AA102","v":0}]
[null,{"$f":"Events!I50","v":48},47,{"$f":"IF(VLOOKUP(B103,Events!B:G,6,FALSE)=\"\",\"\",VLOOKUP(B103,Events!B:G,6,FALSE))","v":"   "},{"$f":"PROPER('Input Results'!I428)","v":""},null,null,null,{"$f":"PROPER('Input Results'!I429)","v":""},null,null,null,{"$f":"PROPER('Input Results'!I430)","v":""},null,null,null,{"$f":"PROPER('Input Results'!I431)","v":""},null,null,null,{"$f":"PROPER('Input Results'!I432)","v":""},null,null,null,{"$f":"PROPER('Input Results'!I433)","v":""}]
[null,{"$f":"B103","v":48},48,{"$f":"IF(VLOOKUP(B103,Events!B:H,7,FALSE)=\"\",\"\",VLOOKUP(B103,Events!B:H,7,FALSE))","v":""},{"$f":"'Input Results'!M428","v":""},{"$f":"'Input Results'!P428","v":""},{"$f":"'Input Results'!Q428","v":0},{"$f":"H102+G104","v":0},{"$f":"'Input Results'!M429","v":""},{"$f":"'Input Results'!P429","v":""},{"$f":"'Input Results'!Q429","v":0},{"$f":"L102+K104","v":0},{"$f":"'Input Results'!M430","v":""},{"$f":"'Input Results'!P430","v":""},{"$f":"'Input Results'!Q430","v":0},{"$f":"P102+O104","v":0},{"$f":"'Input Results'!M431","v":""},{"$f":"'Input Results'!P431","v":""},{"$f":"'Input Results'!Q431","v":0},{"$f":"T102+S104","v":0},{"$f":"'Input Results'!M432","v":""},{"$f":"'Input Results'!P432","v":""},{"$f":"'Input Results'!Q432","v":0},{"$f":"X102+W104","v":0},{"$f":"'Input Results'!M433","v":""},{"$f":"'Input Results'!P433","v":""},{"$f":"'Input Results'!Q433","v":0},{"$f":"AB102+AA104","v":0}]
[null,{"$f":"Events!I51","v":49},48,{"$f":"IF(VLOOKUP(B105,Events!B:G,6,FALSE)=\"\",\"\",VLOOKUP(B105,Events!B:G,6,FALSE))","v":"   "},{"$f":"PROPER('Input Results'!I437)","v":""},null,null,null,{"$f":"PROPER('Input Results'!I438)","v":""},null,null,null,{"$f":"PROPER('Input Results'!I439)","v":""},null,null,null,{"$f":"PROPER('Input Results'!I440)","v":""},null,null,null,{"$f":"PROPER('Input Results'!I441)","v":""},null,null,null,{"$f":"PROPER('Input Results'!I442)","v":""}]
[null,{"$f":"B105","v":49},{"$f":"B105","v":49},{"$f":"IF(VLOOKUP(B105,Events!B:H,7,FALSE)=\"\",\"\",VLOOKUP(B105,Events!B:H,7,FALSE))","v":""},{"$f":"'Input Results'!M437","v":""},{"$f":"'Input Results'!P437","v":""},{"$f":"'Input Results'!Q437","v":0},{"$f":"H104+G106","v":0},{"$f":"'Input Results'!M438","v":""},{"$f":"'Input Results'!P438","v":""},{"$f":"'Input Results'!Q438","v":0},{"$f":"L104+K106","v":0},{"$f":"'Input Results'!M439","v":""},{"$f":"'Input Results'!P439","v":""},{"$f":"'Input Results'!Q439","v":0},{"$f":"P104+O106","v":0},{"$f":"'Input Results'!M440","v":""},{"$f":"'Input Results'!P440","v":""},{"$f":"'Input Results'!Q440","v":0},{"$f":"T104+S106","v":0},{"$f":"'Input Results'!M441","v":""},{"$f":"'Input Results'!P441","v":""},{"$f":"'Input Results'!Q441","v":0},{"$f":"X104+W106","v":0},{"$f":"'Input Results'!M442","v":""},{"$f":"'Input Results'!P442","v":""},{"$f":"'Input Results'!Q442","v":0},{"$f":"AB104+AA106","v":0}]
[null,{"$f":"Events!I52","v":50},49,{"$f":"IF(VLOOKUP(B107,Events!B:G,6,FALSE)=\"\",\"\",VLOOKUP(B107,Events!B:G,6,FALSE))","v":"   "},{"$f":"PROPER('Input Results'!I446)","v":""},null,null,null,{"$f":"PROPER('Input Results'!I447)","v":""},null,null,null,{"$f":"PROPER('Input Results'!I448)","v":""},null,null,null,{"$f":"PROPER('Input Results'!I449)","v":""},null,null,null,{"$f":"PROPER('Input Results'!I450)","v":""},null,null,null,{"$f":"PROPER('Input Results'!I451)","v":""}]
[null,{"$f":"B107","v":50},50,{"$f":"IF(VLOOKUP(B107,Events!B:H,7,FALSE)=\"\",\"\",VLOOKUP(B107,Events!B:H,7,FALSE))","v":""},{"$f":"'Input Results'!M446","v":""},{"$f":"'Input Results'!P446","v":""},{"$f":"'Input Results'!Q446","v":0},{"$f":"H106+G108","v":0},{"$f":"'Input Results'!M447","v":""},{"$f":"'Input Results'!P447","v":""},{"$f":"'Input Results'!Q447","v":0},{"$f":"L106+K108","v":0},{"$f":"'Input Results'!M448","v":""},{"$f":"'Input Results'!P448","v":""},{"$f":"'Input Results'!Q448","v":0},{"$f":"P106+O108","v":0},{"$f":"'Input Results'!M449","v":""},{"$f":"'Input Results'!P449","v":""},{"$f":"'Input Results'!Q449","v":0},{"$f":"T106+S108","v":0},{"$f":"'Input Results'!M450","v":""},{"$f":"'Input Results'!P450","v":""},{"$f":"'Input Results'!Q450","v":0},{"$f":"X106+W108","v":0},{"$f":"'Input Results'!M451","v":""},{"$f":"'Input Results'!P451","v":""},{"$f":"'Input Results'!Q451","v":0},{"$f":"AB106+AA108","v":0}]
[null,{"$f":"Events!I53","v":51},50,{"$f":"IF(VLOOKUP(B109,Events!B:G,6,FALSE)=\"\",\"\",VLOOKUP(B109,Events!B:G,6,FALSE))","v":"   "},{"$f":"PROPER('Input Results'!I455)","v":""},null,null,null,{"$f":"PROPER('Input Results'!I456)","v":""},null,null,null,{"$f":"PROPER('Input Results'!I457)","v":""},null,null,null,{"$f":"PROPER('Input Results'!I458)","v":""},null,null,null,{"$f":"PROPER('Input Results'!I459)","v":""},null,null,null,{"$f":"PROPER('Input Results'!I460)","v":""}]
[null,{"$f":"B109","v":51},51,{"$f":"IF(VLOOKUP(B109,Events!B:H,7,FALSE)=\"\",\"\",VLOOKUP(B109,Events!B:H,7,FALSE))","v":""},{"$f":"'Input Results'!M455","v":""},{"$f":"'Input Results'!P455","v":""},{"$f":"'Input Results'!Q455","v":0},{"$f":"H108+G110","v":0},{"$f":"'Input Results'!M456","v":""},{"$f":"'Input Results'!P456","v":""},{"$f":"'Input Results'!Q456","v":0},{"$f":"L108+K110","v":0},{"$f":"'Input Results'!M457","v":""},{"$f":"'Input Results'!P457","v":""},{"$f":"'Input Results'!Q457","v":0},{"$f":"P108+O110","v":0},{"$f":"'Input Results'!M458","v":""},{"$f":"'Input Results'!P458","v":""},{"$f":"'Input Results'!Q458","v":0},{"$f":"T108+S110","v":0},{"$f":"'Input Results'!M459","v":""},{"$f":"'Input Results'!P459","v":""},{"$f":"'Input Results'!Q459","v":0},{"$f":"X108+W110","v":0},{"$f":"'Input Results'!M460","v":""},{"$f":"'Input Results'!P460","v":""},{"$f":"'Input Results'!Q460","v":0},{"$f":"AB108+AA110","v":0}]
[null,{"$f":"Events!I54","v":52},51,{"$f":"IF(VLOOKUP(B111,Events!B:G,6,FALSE)=\"\",\"\",VLOOKUP(B111,Events!B:G,6,FALSE))","v":"   "},{"$f":"PROPER('Input Results'!I464)","v":""},null,null,null,{"$f":"PROPER('Input Results'!I465)","v":""},null,null,null,{"$f":"PROPER('Input Results'!I466)","v":""},null,null,null,{"$f":"PROPER('Input Results'!I467)","v":""},null,null,null,{"$f":"PROPER('Input Results'!I468)","v":""},null,null,null,{"$f":"PROPER('Input Results'!I469)","v":""}]
[null,{"$f":"B111","v":52},52,{"$f":"IF(VLOOKUP(B111,Events!B:H,7,FALSE)=\"\",\"\",VLOOKUP(B111,Events!B:H,7,FALSE))","v":""},{"$f":"'Input Results'!M464","v":""},{"$f":"'Input Results'!P464","v":""},{"$f":"'Input Results'!Q464","v":0},{"$f":"H110+G112","v":0},{"$f":"'Input Results'!M465","v":""},{"$f":"'Input Results'!P465","v":""},{"$f":"'Input Results'!Q465","v":0},{"$f":"L110+K112","v":0},{"$f":"'Input Results'!M466","v":""},{"$f":"'Input Results'!P466","v":""},{"$f":"'Input Results'!Q466","v":0},{"$f":"P110+O112","v":0},{"$f":"'Input Results'!M467","v":""},{"$f":"'Input Results'!P467","v":""},{"$f":"'Input Results'!Q467","v":0},{"$f":"T110+S112","v":0},{"$f":"'Input Results'!M468","v":""},{"$f":"'Input Results'!P468","v":""},{"$f":"'Input Results'!Q468","v":0},{"$f":"X110+W112","v":0},{"$f":"'Input Results'!M469","v":""},{"$f":"'Input Results'!P469","v":""},{"$f":"'Input Results'!Q469","v":0},{"$f":"AB110+AA112","v":0}]
[null,{"$f":"Events!I55","v":53},52,{"$f":"IF(VLOOKUP(B113,Events!B:G,6,FALSE)=\"\",\"\",VLOOKUP(B113,Events!B:G,6,FALSE))","v":"   "},{"$f":"PROPER('Input Results'!I473)","v":""},null,null,null,{"$f":"PROPER('Input Results'!I474)","v":""},null,null,null,{"$f":"PROPER('Input Results'!I475)","v":""},null,null,null,{"$f":"PROPER('Input Results'!I476)","v":""},null,null,null,{"$f":"PROPER('Input Results'!I477)","v":""},null,null,null,{"$f":"PROPER('Input Results'!I478)","v":""}]
[null,{"$f":"B113","v":53},53,{"$f":"IF(VLOOKUP(B113,Events!B:H,7,FALSE)=\"\",\"\",VLOOKUP(B113,Events!B:H,7,FALSE))","v":""},{"$f":"'Input Results'!M473","v":""},{"$f":"'Input Results'!P473","v":""},{"$f":"'Input Results'!Q473","v":0},{"$f":"H112+G114","v":0},{"$f":"'Input Results'!M474","v":""},{"$f":"'Input Results'!P474","v":""},{"$f":"'Input Results'!Q474","v":0},{"$f":"L112+K114","v":0},{"$f":"'Input Results'!M475","v":""},{"$f":"'Input Results'!P475","v":""},{"$f":"'Input Results'!Q475","v":0},{"$f":"P112+O114","v":0},{"$f":"'Input Results'!M476","v":""},{"$f":"'Input Results'!P476","v":""},{"$f":"'Input Results'!Q476","v":0},{"$f":"T112+S114","v":0},{"$f":"'Input Results'!M477","v":""},{"$f":"'Input Results'!P477","v":""},{"$f":"'Input Results'!Q477","v":0},{"$f":"X112+W114","v":0},{"$f":"'Input Results'!M478","v":""},{"$f":"'Input Results'!P478","v":""},{"$f":"'Input Results'!Q478","v":0},{"$f":"AB112+AA114","v":0}]
[null,{"$f":"Events!I56","v":54},53,{"$f":"IF(VLOOKUP(B115,Events!B:G,6,FALSE)=\"\",\"\",VLOOKUP(B115,Events!B:G,6,FALSE))","v":"   "},{"$f":"PROPER('Input Results'!I482)","v":""},null,null,null,{"$f":"PROPER('Input Results'!I483)","v":""},null,null,null,{"$f":"PROPER('Input Results'!I484)","v":""},null,null,null,{"$f":"PROPER('Input Results'!I485)","v":""},null,null,null,{"$f":"PROPER('Input Results'!I486)","v":""},null,null,null,{"$f":"PROPER('Input Results'!I487)","v":""}]
[null,{"$f":"B115","v":54},54,{"$f":"IF(VLOOKUP(B115,Events!B:H,7,FALSE)=\"\",\"\",VLOOKUP(B115,Events!B:H,7,FALSE))","v":""},{"$f":"'Input Results'!M482","v":""},{"$f":"'Input Results'!P482","v":""},{"$f":"'Input Results'!Q482","v":0},{"$f":"H114+G116","v":0},{"$f":"'Input Results'!M483","v":""},{"$f":"'Input Results'!P483","v":""},{"$f":"'Input Results'!Q483","v":0},{"$f":"L114+K116","v":0},{"$f":"'Input Results'!M484","v":""},{"$f":"'Input Results'!P484","v":""},{"$f":"'Input Results'!Q484","v":0},{"$f":"P114+O116","v":0},{"$f":"'Input Results'!M485","v":""},{"$f":"'Input Results'!P485","v":""},{"$f":"'Input Results'!Q485","v":0},{"$f":"T114+S116","v":0},{"$f":"'Input Results'!M486","v":""},{"$f":"'Input Results'!P486","v":""},{"$f":"'Input Results'!Q486","v":0},{"$f":"X114+W116","v":0},{"$f":"'Input Results'!M487","v":""},{"$f":"'Input Results'!P487","v":""},{"$f":"'Input Results'!Q487","v":0},{"$f":"AB114+AA116","v":0}]
[null,{"$f":"Events!I57","v":55},54,{"$f":"IF(VLOOKUP(B117,Events!B:G,6,FALSE)=\"\",\"\",VLOOKUP(B117,Events!B:G,6,FALSE))","v":"   "},{"$f":"PROPER('Input Results'!I491)","v":""},null,null,null,{"$f":"PROPER('Input Results'!I492)","v":""},null,null,null,{"$f":"PROPER('Input Results'!I493)","v":""},null,null,null,{"$f":"PROPER('Input Results'!I494)","v":""},null,null,null,{"$f":"PROPER('Input Results'!I495)","v":""},null,null,null,{"$f":"PROPER('Input Results'!I496)","v":""}]
[null,{"$f":"B117","v":55},55,{"$f":"IF(VLOOKUP(B117,Events!B:H,7,FALSE)=\"\",\"\",VLOOKUP(B117,Events!B:H,7,FALSE))","v":""},{"$f":"'Input Results'!M491","v":""},{"$f":"'Input Results'!P491","v":""},{"$f":"'Input Results'!Q491","v":0},{"$f":"H116+G118","v":0},{"$f":"'Input Results'!M492","v":""},{"$f":"'Input Results'!P492","v":""},{"$f":"'Input Results'!Q492","v":0},{"$f":"L116+K118","v":0},{"$f":"'Input Results'!M493","v":""},{"$f":"'Input Results'!P493","v":""},{"$f":"'Input Results'!Q493","v":0},{"$f":"P116+O118","v":0},{"$f":"'Input Results'!M494","v":""},{"$f":"'Input Results'!P494","v":""},{"$f":"'Input Results'!Q494","v":0},{"$f":"T116+S118","v":0},{"$f":"'Input Results'!M495","v":""},{"$f":"'Input Results'!P495","v":""},{"$f":"'Input Results'!Q495","v":0},{"$f":"X116+W118","v":0},{"$f":"'Input Results'!M496","v":""},{"$f":"'Input Results'!P496","v":""},{"$f":"'Input Results'!Q496","v":0},{"$f":"AB116+AA118","v":0}]
[null,{"$f":"Events!I58","v":56},55,{"$f":"IF(VLOOKUP(B119,Events!B:G,6,FALSE)=\"\",\"\",VLOOKUP(B119,Events!B:G,6,FALSE))","v":"   "},{"$f":"PROPER('Input Results'!I500)","v":""},null,null,null,{"$f":"PROPER('Input Results'!I501)","v":""},null,null,null,{"$f":"PROPER('Input Results'!I502)","v":""},null,null,null,{"$f":"PROPER('Input Results'!I503)","v":""},null,null,null,{"$f":"PROPER('Input Results'!I504)","v":""},null,null,null,{"$f":"PROPER('Input Results'!I505)","v":""}]
[null,{"$f":"B119","v":56},56,{"$f":"IF(VLOOKUP(B119,Events!B:H,7,FALSE)=\"\",\"\",VLOOKUP(B119,Events!B:H,7,FALSE))","v":""},{"$f":"'Input Results'!M500","v":""},{"$f":"'Input Results'!P500","v":""},{"$f":"'Input Results'!Q500","v":0},{"$f":"H118+G120","v":0},{"$f":"'Input Results'!M501","v":""},{"$f":"'Input Results'!P501","v":""},{"$f":"'Input Results'!Q501","v":0},{"$f":"L118+K120","v":0},{"$f":"'Input Results'!M502","v":""},{"$f":"'Input Results'!P502","v":""},{"$f":"'Input Results'!Q502","v":0},{"$f":"P118+O120","v":0},{"$f":"'Input Results'!M503","v":""},{"$f":"'Input Results'!P503","v":""},{"$f":"'Input Results'!Q503","v":0},{"$f":"T118+S120","v":0},{"$f":"'Input Results'!M504","v":""},{"$f":"'Input Results'!P504","v":""},{"$f":"'Input Results'!Q504","v":0},{"$f":"X118+W120","v":0},{"$f":"'Input Results'!M505","v":""},{"$f":"'Input Results'!P505","v":""},{"$f":"'Input Results'!Q505","v":0},{"$f":"AB118+AA120","v":0}]
[null,{"$f":"Events!I59","v":57},56,{"$f":"IF(VLOOKUP(B121,Events!B:G,6,FALSE)=\"\",\"\",VLOOKUP(B121,Events!B:G,6,FALSE))","v":"   "},{"$f":"PROPER('Input Results'!I509)","v":""},null,null,null,{"$f":"PROPER('Input Results'!I510)","v":""},null,null,null,{"$f":"PROPER('Input Results'!I511)","v":""},null,null,null,{"$f":"PROPER('Input Results'!I512)","v":""},null,null,null,{"$f":"PROPER('Input Results'!I513)","v":""},null,null,null,{"$f":"PROPER('Input Results'!I514)","v":""}]
[null,{"$f":"B121","v":57},57,{"$f":"IF(VLOOKUP(B121,Events!B:H,7,FALSE)=\"\",\"\",VLOOKUP(B121,Events!B:H,7,FALSE))","v":""},{"$f":"'Input Results'!M509","v":""},{"$f":"'Input Results'!P509","v":""},{"$f":"'Input Results'!Q509","v":0},{"$f":"H120+G122","v":0},{"$f":"'Input Results'!M510","v":""},{"$f":"'Input Results'!P510","v":""},{"$f":"'Input Results'!Q510","v":0},{"$f":"L120+K122","v":0},{"$f":"'Input Results'!M511","v":""},{"$f":"'Input Results'!P511","v":""},{"$f":"'Input Results'!Q511","v":0},{"$f":"P120+O122","v":0},{"$f":"'Input Results'!M512","v":""},{"$f":"'Input Results'!P512","v":""},{"$f":"'Input Results'!Q512","v":0},{"$f":"T120+S122","v":0},{"$f":"'Input Results'!M513","v":""},{"$f":"'Input Results'!P513","v":""},{"$f":"'Input Results'!Q513","v":0},{"$f":"X120+W122","v":0},{"$f":"'Input Results'!M514","v":""},{"$f":"'Input Results'!P514","v":""},{"$f":"'Input Results'!Q514","v":0},{"$f":"AB120+AA122","v":0}]
[null,{"$f":"Events!I60","v":58},57,{"$f":"IF(VLOOKUP(B123,Events!B:G,6,FALSE)=\"\",\"\",VLOOKUP(B123,Events!B:G,6,FALSE))","v":"   "},{"$f":"PROPER('Input Results'!I518)","v":""},null,null,null,{"$f":"PROPER('Input Results'!I519)","v":""},null,null,null,{"$f":"PROPER('Input Results'!I520)","v":""},null,null,null,{"$f":"PROPER('Input Results'!I521)","v":""},null,null,null,{"$f":"PROPER('Input Results'!I522)","v":""},null,null,null,{"$f":"PROPER('Input Results'!I523)","v":""}]
[null,{"$f":"B123","v":58},58,{"$f":"IF(VLOOKUP(B123,Events!B:H,7,FALSE)=\"\",\"\",VLOOKUP(B123,Events!B:H,7,FALSE))","v":""},{"$f":"'Input Results'!M518","v":""},{"$f":"'Input Results'!P518","v":""},{"$f":"'Input Results'!Q518","v":0},{"$f":"H122+G124","v":0},{"$f":"'Input Results'!M519","v":""},{"$f":"'Input Results'!P519","v":""},{"$f":"'Input Results'!Q519","v":0},{"$f":"L122+K124","v":0},{"$f":"'Input Results'!M520","v":""},{"$f":"'Input Results'!P520","v":""},{"$f":"'Input Results'!Q520","v":0},{"$f":"P122+O124","v":0},{"$f":"'Input Results'!M521","v":""},{"$f":"'Input Results'!P521","v":""},{"$f":"'Input Results'!Q521","v":0},{"$f":"T122+S124","v":0},{"$f":"'Input Results'!M522","v":""},{"$f":"'Input Results'!P522","v":""},{"$f":"'Input Results'!Q522","v":0},{"$f":"X122+W124","v":0},{"$f":"'Input Results'!M523","v":""},{"$f":"'Input Results'!P523","v":""},{"$f":"'Input Results'!Q523","v":0},{"$f":"AB122+AA124","v":0}]
[null,{"$f":"Events!I61","v":59},58,{"$f":"IF(VLOOKUP(B125,Events!B:G,6,FALSE)=\"\",\"\",VLOOKUP(B125,Events!B:G,6,FALSE))","v":"   "},{"$f":"PROPER('Input Results'!I527)","v":""},null,null,null,{"$f":"PROPER('Input Results'!I528)","v":""},null,null,null,{"$f":"PROPER('Input Results'!I529)","v":""},null,null,null,{"$f":"PROPER('Input Results'!I530)","v":""},null,null,null,{"$f":"PROPER('Input Results'!I531)","v":""},null,null,null,{"$f":"PROPER('Input Results'!I532)","v":""}]
[null,{"$f":"B125","v":59},59,{"$f":"IF(VLOOKUP(B125,Events!B:H,7,FALSE)=\"\",\"\",VLOOKUP(B125,Events!B:H,7,FALSE))","v":""},{"$f":"'Input Results'!M527","v":""},{"$f":"'Input Results'!P527","v":""},{"$f":"'Input Results'!Q527","v":0},{"$f":"H124+G126","v":0},{"$f":"'Input Results'!M528","v":""},{"$f":"'Input Results'!P528","v":""},{"$f":"'Input Results'!Q528","v":0},{"$f":"L124+K126","v":0},{"$f":"'Input Results'!M529","v":""},{"$f":"'Input Results'!P529","v":""},{"$f":"'Input Results'!Q529","v":0},{"$f":"P124+O126","v":0},{"$f":"'Input Results'!M530","v":""},{"$f":"'Input Results'!P530","v":""},{"$f":"'Input Results'!Q530","v":0},{"$f":"T124+S126","v":0},{"$f":"'Input Results'!M531","v":""},{"$f":"'Input Results'!P531","v":""},{"$f":"'Input Results'!Q531","v":0},{"$f":"X124+W126","v":0},{"$f":"'Input Results'!M532","v":""},{"$f":"'Input Results'!P532","v":""},{"$f":"'Input Results'!Q532","v":0},{"$f":"AB124+AA126","v":0}]
[null,{"$f":"Events!I62","v":60},59,{"$f":"IF(VLOOKUP(B127,Events!B:G,6,FALSE)=\"\",\"\",VLOOKUP(B127,Events!B:G,6,FALSE))","v":"   "},{"$f":"PROPER('Input Results'!I536)","v":""},null,null,null,{"$f":"PROPER('Input Results'!I537)","v":""},null,null,null,{"$f":"PROPER('Input Results'!I538)","v":""},null,null,null,{"$f":"PROPER('Input Results'!I539)","v":""},null,null,null,{"$f":"PROPER('Input Results'!I540)","v":""},null,null,null,{"$f":"PROPER('Input Results'!I541)","v":""}]
[null,{"$f":"B127","v":60},60,{"$f":"IF(VLOOKUP(B127,Events!B:H,7,FALSE)=\"\",\"\",VLOOKUP(B127,Events!B:H,7,FALSE))","v":""},{"$f":"'Input Results'!M536","v":""},{"$f":"'Input Results'!P536","v":""},{"$f":"'Input Results'!Q536","v":0},{"$f":"H126+G128","v":0},{"$f":"'Input Results'!M537","v":""},{"$f":"'Input Results'!P537","v":""},{"$f":"'Input Results'!Q537","v":0},{"$f":"L126+K128","v":0},{"$f":"'Input Results'!M538","v":""},{"$f":"'Input Results'!P538","v":""},{"$f":"'Input Results'!Q538","v":0},{"$f":"P126+O128","v":0},{"$f":"'Input Results'!M539","v":""},{"$f":"'Input Results'!P539","v":""},{"$f":"'Input Results'!Q539","v":0},{"$f":"T126+S128","v":0},{"$f":"'Input Results'!M540","v":""},{"$f":"'Input Results'!P540","v":""},{"$f":"'Input Results'!Q540","v":0},{"$f":"X126+W128","v":0},{"$f":"'Input Results'!M541","v":""},{"$f":"'Input Results'!P541","v":""},{"$f":"'Input Results'!Q541","v":0},{"$f":"AB126+AA128","v":0}]
[null,null,null,null,null,null,null,{"$f":"SUM(G10:G128)","v":0},null,null,null,{"$f":"SUM(K10:K128)","v":0},null,null,null,{"$f":"SUM(O10:O128)","v":0},null,null,null,{"$f":"SUM(S10:S128)","v":0},null,null,null,{"$f":"SUM(W10:W128)","v":0},null,null,null,{"$f":"SUM(AA10:AA128)","v":0}]
[null,null,null,"Finishing Position",null,null,null,{"$f":"IF(H129=0,\"\",RANK(H129,($H129,$L129,$P129,$T129,$X129,$AB129),0))","v":""},null,null,null,{"$f":"IF(L129=0,\"\",RANK(L129,($H129,$L129,$P129,$T129,$X129,$AB129),0))","v":""},null,null,null,{"$f":"IF(P129=0,\"\",RANK(P129,($H129,$L129,$P129,$T129,$X129,$AB129),0))","v":""},null,null,null,{"$f":"IF(T129=0,\"\",RANK(T129,($H129,$L129,$P129,$T129,$X129,$AB129),0))","v":""},null,null,null,{"$f":"IF(X129=0,\"\",RANK(X129,($H129,$L129,$P129,$T129,$X129,$AB129),0))","v":""},null,null,null,{"$f":"IF(AB129=0,\"\",RANK(AB129,($H129,$L129,$P129,$T129,$X129,$AB129),0))","v":""}]

{"sheet":"Output - 8 Lanes","index":10,"n_rows":130,"n_cols":36,"rows_kept":130,"cut":false,"hidden":true,"merged":[[20,16,20,19],[20,20,20,23],[16,16,16,19],[18,20,18,23],[18,24,18,27],[20,24,20,27],[20,4,20,7],[22,4,22,7],[24,4,24,7],[24,24,24,27],[24,20,24,23],[24,16,24,19],[24,12,24,15],[24,8,24,11],[22,8,22,11],[22,12,22,15],[18,16,18,19],[16,12,16,15],[10,20,10,23],[12,12,12,15],[12,16,12,19],[14,20,14,23],[14,24,14,27],[16,20,16,23],[16,24,16,27],[6,16,6,19],[7,1,7,3],[6,4,6,7],[6,8,6,11],[6,12,6,15],[14,16,14,19],[8,12,8,15],[8,8,8,11],[8,16,8,19],[10,8,10,11],[10,12,10,15],[10,16,10,19],[12,8,12,11],[5,4,5,7],[5,8,5,11],[8,4,8,7],[10,4,10,7],[20,8,20,11],[12,4,12,7],[14,4,14,7],[14,8,14,11],[14,12,14,15],[5,12,5,15],[16,4,16,7],[16,8,16,11],[18,4,18,7],[18,8,18,11],[18,12,18,15],[20,12,20,15],[26,4,26,7],[26,8,26,11],[28,4,28,7],[28,8,28,11],[36,12,36,15],[36,16,36,19],[38,12,38,15],[38,16,38,19],[38,4,38,7],[38,8,38,11],[36,4,36,7],[36,8,36,11],[32,4,32,7],[32,8,32,11],[30,4,30,7],[30,8,30,11],[26,12,26,15],[26,16,26,19],[34,4,34,7],[34,8,34,11],[34,12,34,15],[34,16,34,19],[56,24,56,27],[54,16,54,19],[48,4,48,7],[48,8,48,11],[48,12,48,15],[40,4,40,7],[40,8,40,11],[40,12,40,15],[40,16,40,19],[44,4,44,7],[44,8,44,11],[44,12,44,15],[44,16,44,19],[42,12,42,15],[42,16,42,19],[42,4,42,7],[42,8,42,11],[52,12,52,15],[52,16,52,19],[52,20,52,23],[50,4,50,7],[56,4,56,7],[56,8,56,11],[56,12,56,15],[82,4,82,7],[82,8,82,11],[82,12,82,15],[82,16,82,19],[70,12,70,15],[70,16,70,19],[70,4,70,7],[70,8,70,11],[72,4,72,7],[72,8,72,11],[80,4,80,7],[80,8,80,11],[72,16,72,19],[110,24,110,27],[114,4,114,7],[114,8,114,11],[114,12,114,15],[114,16,114,19],[110,4,110,7],[110,8,110,11],[108,4,108,7],[108,8,108,11],[108,20,108,23],[108,24,108,27],[108,12,108,15],[108,16,108,19],[110,12,110,15],[110,16,110,19],[112,20,112,23],[28,20,28,23],[26,20,26,23],[112,8,112,11],[120,4,120,7],[120,8,120,11],[118,4,118,7],[122,4,122,7],[116,4,116,7],[116,8,116,11],[110,20,110,23],[94,4,94,7],[94,8,94,11],[96,4,96,7],[96,8,96,11],[88,20,88,23],[86,20,86,23],[84,16,84,19],[86,16,86,19],[92,12,92,15],[92,16,92,19],[96,12,96,15],[96,16,96,19],[28,12,28,15],[28,16,28,19],[34,20,34,23],[34,24,34,27],[32,12,32,15],[30,12,30,15],[30,16,30,19],[100,4,100,7],[100,8,100,11],[100,12,100,15],[100,16,100,19],[48,16,48,19],[46,4,46,7],[46,8,46,11],[46,12,46,15],[46,16,46,19],[54,4,54,7],[56,20,56,23],[50,8,50,11],[50,12,50,15],[54,8,54,11],[54,12,54,15],[50,20,50,23],[54,20,54,23],[52,4,52,7],[52,8,52,11],[106,4,106,7],[112,4,112,7],[92,8,92,11],[92,4,92,7],[98,8,98,11],[98,12,98,15],[98,16,98,19],[102,16,102,19],[106,8,106,11],[106,12,106,15],[106,16,106,19],[104,16,104,19],[98,4,98,7],[104,4,104,7],[102,4,102,7],[56,16,56,19],[58,16,58,19],[68,20,68,23],[58,12,58,15],[76,20,76,23],[74,4,74,7],[74,8,74,11],[74,20,74,23],[76,4,76,7],[76,8,76,11],[62,12,62,15],[70,20,70,23],[68,16,68,19],[72,20,72,23],[62,20,62,23],[64,20,64,23],[66,20,66,23],[66,4,66,7],[66,8,66,11],[66,12,66,15],[66,16,66,19],[68,4,68,7],[74,12,74,15],[72,12,72,15],[58,24,58,27],[64,4,64,7],[64,8,64,11],[58,4,58,7],[58,8,58,11],[60,4,60,7],[60,8,60,11],[62,4,62,7],[58,20,58,23],[62,16,62,19],[60,12,60,15],[60,16,60,19],[70,24,70,27],[72,24,72,27],[68,24,68,27],[62,24,62,27],[64,24,64,27],[68,8,68,11],[68,12,68,15],[64,12,64,15],[64,16,64,19],[90,4,90,7],[90,8,90,11],[90,12,90,15],[90,16,90,19],[88,4,88,7],[88,8,88,11],[88,12,88,15],[88,16,88,19],[66,24,66,27],[74,16,74,19],[80,12,80,15],[80,16,80,19],[78,4,78,7],[84,20,84,23],[84,24,84,27],[88,24,88,27],[86,24,86,27],[86,4,86,7],[86,8,86,11],[76,12,76,15],[76,16,76,19],[84,4,84,7],[84,8,84,11],[84,12,84,15],[102,24,102,27],[104,24,104,27],[82,20,82,23],[82,24,82,27],[80,20,80,23],[80,24,80,27],[78,8,78,11],[78,12,78,15],[78,16,78,19],[104,20,104,23],[98,20,98,23],[98,24,98,27],[96,20,96,23],[96,24,96,27],[104,8,104,11],[104,12,104,15],[102,8,102,11],[102,12,102,15],[94,12,94,15],[86,12,86,15],[92,20,92,23],[102,20,102,23],[122,24,122,27],[122,20,122,23],[118,8,118,11],[112,24,112,27],[122,8,122,11],[122,12,122,15],[122,16,122,19],[118,12,118,15],[118,16,118,19],[114,20,114,23],[114,24,114,27],[118,20,118,23],[112,12,112,15],[112,16,112,19],[106,24,106,27],[100,20,100,23],[100,24,100,27],[126,20,126,23],[120,24,120,27],[120,20,120,23],[116,24,116,27],[116,20,116,23],[126,4,126,7],[126,8,126,11],[126,12,126,15],[126,16,126,19],[126,24,126,27],[124,20,124,23],[124,24,124,27],[124,4,124,7],[124,8,124,11],[124,12,124,15],[124,16,124,19],[118,24,118,27],[116,12,116,15],[116,16,116,19],[120,12,120,15],[120,16,120,19],[106,20,106,23],[5,20,5,23],[8,20,8,23],[6,20,6,23],[8,24,8,27],[5,24,5,27],[6,24,6,27],[92,24,92,27],[78,20,78,23],[78,24,78,27],[40,20,40,23],[40,24,40,27],[42,20,42,23],[42,24,42,27],[46,24,46,27],[44,20,44,23],[54,24,54,27],[44,24,44,27],[26,24,26,27],[76,24,76,27],[48,24,48,27],[52,24,52,27],[60,20,60,23],[60,24,60,27],[34,28,34,31],[62,8,62,11],[94,16,94,19],[6,28,6,31],[12,28,12,31],[14,28,14,31],[90,20,90,23],[90,24,90,27],[94,20,94,23],[94,24,94,27],[38,28,38,31],[50,24,50,27],[48,20,48,23],[46,20,46,23],[48,28,48,31],[50,28,50,31],[50,16,50,19],[38,20,38,23],[38,24,38,27],[76,28,76,31],[40,28,40,31],[24,28,24,31],[26,28,26,31],[74,24,74,27],[5,16,5,19],[16,28,16,31],[36,24,36,27],[30,20,30,23],[30,24,30,27],[32,20,32,23],[12,24,12,27],[12,20,12,23],[32,16,32,19],[5,28,5,31],[22,16,22,19],[22,20,22,23],[22,24,22,27],[32,24,32,27],[32,28,32,31],[28,28,28,31],[30,28,30,31],[36,20,36,23],[28,24,28,27],[18,28,18,31],[20,28,20,31],[10,24,10,27],[22,28,22,31],[36,28,36,31],[46,28,46,31],[56,28,56,31],[58,28,58,31],[60,28,60,31],[52,28,52,31],[54,28,54,31],[94,28,94,31],[84,28,84,31],[86,28,86,31],[88,28,88,31],[90,28,90,31],[62,28,62,31],[64,28,64,31],[70,28,70,31],[72,28,72,31],[74,28,74,31],[82,28,82,31],[92,28,92,31],[66,28,66,31],[68,28,68,31],[78,28,78,31],[80,28,80,31],[54,32,54,35],[18,32,18,35],[20,32,20,35],[46,32,46,35],[48,32,48,35],[22,32,22,35],[24,32,24,35],[5,32,5,35],[6,32,6,35],[10,32,10,35],[12,32,12,35],[26,32,26,35],[28,32,28,35],[72,32,72,35],[42,28,42,31],[44,28,44,31],[14,32,14,35],[16,32,16,35],[124,28,124,31],[126,28,126,31],[112,28,112,31],[114,28,114,31],[116,28,116,31],[118,28,118,31],[120,28,120,31],[122,28,122,31],[56,32,56,35],[50,32,50,35],[30,32,30,35],[32,32,32,35],[34,32,34,35],[36,32,36,35],[38,32,38,35],[40,32,40,35],[42,32,42,35],[44,32,44,35],[52,32,52,35],[98,28,98,31],[96,32,96,35],[94,32,94,35],[126,32,126,35],[118,32,118,35],[102,32,102,35],[104,32,104,35],[106,32,106,35],[108,32,108,35],[120,32,120,35],[100,28,100,31],[102,28,102,31],[114,32,114,35],[116,32,116,35],[100,32,100,35],[104,28,104,31],[106,28,106,31],[108,28,108,31],[110,28,110,31],[112,32,112,35],[98,32,98,35],[122,32,122,35],[124,32,124,35],[110,32,110,35],[1,7,1,35],[2,7,2,35],[3,7,3,35],[96,28,96,31],[82,32,82,35],[84,32,84,35],[8,28,8,31],[8,32,8,35],[10,28,10,31],[74,32,74,35],[76,32,76,35],[80,32,80,35],[86,32,86,35],[88,32,88,35],[90,32,90,35],[92,32,92,35],[78,32,78,35],[58,32,58,35],[60,32,60,35],[62,32,62,35],[64,32,64,35],[66,32,66,35],[68,32,68,35],[70,32,70,35]]}
[]
[null,null,null,null,null,null,null,{"$f":"'Gala Name'!C7","v":0}]
[null,null,null,null,null,null,null,{"$f":"'Gala Name'!B8&\" : \"&'Gala Name'!C8","v":"Venue : "}]
[null,null,null,null,null,null,null,{"$f":"'Gala Name'!C9","v":"00:00:00"}]
[]
[null,null,null,null,"Lane 1",null,null,null,"Lane 2",null,null,null,"Lane 3",null,null,null,"Lane 4",null,null,null,"Lane 5",null,null,null,"Lane 6",null,null,null,"Lane 7",null,null,null,"Lane 8"]
[null,null,null,null,{"$f":"UPPER(IF(Teams!C3=\"\",\"\",Teams!C3))","v":""},null,null,null,{"$f":"UPPER(IF(Teams!C4=\"\",\"\",Teams!C4))","v":""},null,null,null,{"$f":"UPPER(IF(Teams!C5=\"\",\"\",Teams!C5))","v":""},null,null,null,{"$f":"UPPER(IF(Teams!C6=\"\",\"\",Teams!C6))","v":""},null,null,null,{"$f":"UPPER(IF(Teams!C7=\"\",\"\",Teams!C7))","v":""},null,null,null,{"$f":"UPPER(IF(Teams!C8=\"\",\"\",Teams!C8))","v":""},null,null,null,{"$f":"UPPER(IF(Teams!C9=\"\",\"\",Teams!C9))","v":""},null,null,null,{"$f":"UPPER(IF(Teams!C10=\"\",\"\",Teams!C10))","v":""}]
[null,"Event",null,null,"Swimmer | Time","Pos","Pts","Tot","Swimmer | Time","Pos","Pts","Tot","Swimmer | Time","Pos","Pts","Tot","Swimmer | Time","Pos","Pts","Tot","Swimmer | Time","Pos","Pts","Tot","Swimmer | Time","Pos","Pts","Tot","Swimmer | Time","Pos","Pts","Tot","Swimmer | Time","Pos","Pts","Tot"]
[null,{"$f":"Events!I3","v":1},null,{"$f":"PROPER(VLOOKUP(B9,Events!B:G,6,FALSE))","v":"   "},{"$f":"PROPER('Input Results'!I5)","v":""},null,null,null,{"$f":"PROPER('Input Results'!I6)","v":""},null,null,null,{"$f":"PROPER('Input Results'!I7)","v":""},null,null,null,{"$f":"PROPER('Input Results'!I8)","v":""},null,null,null,{"$f":"PROPER('Input Results'!I9)","v":""},null,null,null,{"$f":"PROPER('Input Results'!I10)","v":""},null,null,null,{"$f":"PROPER('Input Results'!I11)","v":""},null,null,null,{"$f":"PROPER('Input Results'!I12)","v":""}]
[null,{"$f":"B9","v":1},{"$f":"B9","v":1},{"$f":"PROPER(IF(VLOOKUP(B9,Events!B:H,7,FALSE)=\"\",\"\",VLOOKUP(B9,Events!B:H,7,FALSE)))","v":""},{"$f":"'Input Results'!M5","v":""},{"$f":"'Input Results'!P5","v":""},{"$f":"'Input Results'!Q5","v":0},{"$f":"G10","v":0},{"$f":"'Input Results'!M6","v":""},{"$f":"'Input Results'!P6","v":""},{"$f":"'Input Results'!Q6","v":0},{"$f":"K10","v":0},{"$f":"'Input Results'!M7","v":""},{"$f":"'Input Results'!P7","v":""},{"$f":"'Input Results'!Q7","v":0},{"$f":"O10","v":0},{"$f":"'Input Results'!M8","v":""},{"$f":"'Input Results'!P8","v":""},{"$f":"'Input Results'!Q8","v":0},{"$f":"S10","v":0},{"$f":"'Input Results'!M9","v":""},{"$f":"'Input Results'!P9","v":""},{"$f":"'Input Results'!Q9","v":0},{"$f":"W10","v":0},{"$f":"'Input Results'!M10","v":""},{"$f":"'Input Results'!P10","v":""},{"$f":"'Input Results'!Q10","v":0},{"$f":"AA10","v":0},{"$f":"'Input Results'!M11","v":""},{"$f":"'Input Results'!P11","v":""},{"$f":"'Input Results'!Q11","v":0},{"$f":"AE10","v":0},{"$f":"'Input Results'!M12","v":""},{"$f":"'Input Results'!P12","v":""},{"$f":"'Input Results'!Q12","v":0},{"$f":"AI10","v":0}]
[null,{"$f":"Events!I4","v":2},1,{"$f":"IF(VLOOKUP(B11,Events!B:G,6,FALSE)=\"\",\"\",VLOOKUP(B11,Events!B:G,6,FALSE))","v":"   "},{"$f":"PROPER('Input Results'!I14)","v":""},null,null,null,{"$f":"PROPER('Input Results'!I15)","v":""},null,null,null,{"$f":"PROPER('Input Results'!I16)","v":""},null,null,null,{"$f":"PROPER('Input Results'!I17)","v":""},null,null,null,{"$f":"PROPER('Input Results'!I18)","v":""},null,null,null,{"$f":"PROPER('Input Results'!I19)","v":""},null,null,null,{"$f":"PROPER('Input Results'!I20)","v":""},null,null,null,{"$f":"PROPER('Input Results'!I21)","v":""}]
[null,{"$f":"B11","v":2},2,{"$f":"IF(VLOOKUP(B11,Events!B:H,7,FALSE)=\"\",\"\",VLOOKUP(B11,Events!B:H,7,FALSE))","v":""},{"$f":"'Input Results'!M14","v":""},{"$f":"'Input Results'!AD14","v":""},{"$f":"'Input Results'!Q14","v":0},{"$f":"H10+G12","v":0},{"$f":"'Input Results'!M15","v":""},{"$f":"'Input Results'!P15","v":""},{"$f":"'Input Results'!Q15","v":0},{"$f":"L10+K12","v":0},{"$f":"'Input Results'!M16","v":""},{"$f":"'Input Results'!P16","v":""},{"$f":"'Input Results'!Q16","v":0},{"$f":"P10+O12","v":0},{"$f":"'Input Results'!M17","v":""},{"$f":"'Input Results'!P17","v":""},{"$f":"'Input Results'!Q17","v":0},{"$f":"T10+S12","v":0},{"$f":"'Input Results'!M18","v":""},{"$f":"'Input Results'!P18","v":""},{"$f":"'Input Results'!Q18","v":0},{"$f":"X10+W12","v":0},{"$f":"'Input Results'!M19","v":""},{"$f":"'Input Results'!P19","v":""},{"$f":"'Input Results'!Q19","v":0},{"$f":"AB10+AA12","v":0},{"$f":"'Input Results'!M20","v":""},{"$f":"'Input Results'!P20","v":""},{"$f":"'Input Results'!Q20","v":0},{"$f":"AF10+AE12","v":0},{"$f":"'Input Results'!M21","v":""},{"$f":"'Input Results'!P21","v":""},{"$f":"'Input Results'!Q21","v":0},{"$f":"AJ10+AI12","v":0}]
[null,{"$f":"Events!I5","v":3},2,{"$f":"IF(VLOOKUP(B13,Events!B:G,6,FALSE)=\"\",\"\",VLOOKUP(B13,Events!B:G,6,FALSE))","v":"   "},{"$f":"PROPER('Input Results'!I23)","v":""},null,null,null,{"$f":"PROPER('Input Results'!I24)","v":""},null,null,null,{"$f":"PROPER('Input Results'!I25)","v":""},null,null,null,{"$f":"PROPER('Input Results'!I26)","v":""},null,null,null,{"$f":"PROPER('Input Results'!I27)","v":""},null,null,null,{"$f":"PROPER('Input Results'!I28)","v":""},null,null,null,{"$f":"PROPER('Input Results'!I29)","v":""},null,null,null,{"$f":"PROPER('Input Results'!I30)","v":""}]
[null,{"$f":"B13","v":3},3,{"$f":"IF(VLOOKUP(B13,Events!B:H,7,FALSE)=\"\",\"\",VLOOKUP(B13,Events!B:H,7,FALSE))","v":""},{"$f":"'Input Results'!M23","v":""},{"$f":"'Input Results'!P23","v":""},{"$f":"'Input Results'!Q23","v":0},{"$f":"H12+G14","v":0},{"$f":"'Input Results'!M24","v":""},{"$f":"'Input Results'!P24","v":""},{"$f":"'Input Results'!Q24","v":0},{"$f":"L12+K14","v":0},{"$f":"'Input Results'!M25","v":""},{"$f":"'Input Results'!P25","v":""},{"$f":"'Input Results'!Q25","v":0},{"$f":"P12+O14","v":0},{"$f":"'Input Results'!M26","v":""},{"$f":"'Input Results'!P26","v":""},{"$f":"'Input Results'!Q26","v":0},{"$f":"T12+S14","v":0},{"$f":"'Input Results'!M27","v":""},{"$f":"'Input Results'!P27","v":""},{"$f":"'Input Results'!Q27","v":0},{"$f":"X12+W14","v":0},{"$f":"'Input Results'!M28","v":""},{"$f":"'Input Results'!P28","v":""},{"$f":"'Input Results'!Q28","v":0},{"$f":"AB12+AA14","v":0},{"$f":"'Input Results'!M29","v":""},{"$f":"'Input Results'!P29","v":""},{"$f":"'Input Results'!Q29","v":0},{"$f":"AF12+AE14","v":0},{"$f":"'Input Results'!M30","v":""},{"$f":"'Input Results'!P30","v":""},{"$f":"'Input Results'!Q30","v":0},{"$f":"AJ12+AI14","v":0}]
[null,{"$f":"Events!I6","v":4},{"$f":"B14","v":3},{"$f":"IF(VLOOKUP(B15,Events!B:G,6,FALSE)=\"\",\"\",VLOOKUP(B15,Events!B:G,6,FALSE))","v":"   "},{"$f":"PROPER('Input Results'!I32)","v":""},null,null,null,{"$f":"PROPER('Input Results'!I33)","v":""},null,null,null,{"$f":"PROPER('Input Results'!I34)","v":""},null,null,null,{"$f":"PROPER('Input Results'!I35)","v":""},null,null,null,{"$f":"PROPER('Input Results'!I36)","v":""},null,null,null,{"$f":"PROPER('Input Results'!I37)","v":""},null,null,null,{"$f":"PROPER('Input Results'!I38)","v":""},null,null,null,{"$f":"PROPER('Input Results'!I39)","v":""}]
[null,{"$f":"B15","v":4},4,{"$f":"IF(VLOOKUP(B15,Events!B:H,7,FALSE)=\"\",\"\",VLOOKUP(B15,Events!B:H,7,FALSE))","v":""},{"$f":"'Input Results'!M32","v":""},{"$f":"'Input Results'!P32","v":""},{"$f":"'Input Results'!Q32","v":0},{"$f":"H14+G16","v":0},{"$f":"'Input Results'!M33","v":""},{"$f":"'Input Results'!P33","v":""},{"$f":"'Input Results'!Q33","v":0},{"$f":"L14+K16","v":0},{"$f":"'Input Results'!M34","v":""},{"$f":"'Input Results'!P34","v":""},{"$f":"'Input Results'!Q34","v":0},{"$f":"P14+O16","v":0},{"$f":"'Input Results'!M35","v":""},{"$f":"'Input Results'!P35","v":""},{"$f":"'Input Results'!Q35","v":0},{"$f":"T14+S16","v":0},{"$f":"'Input Results'!M36","v":""},{"$f":"'Input Results'!P36","v":""},{"$f":"'Input Results'!Q36","v":0},{"$f":"X14+W16","v":0},{"$f":"'Input Results'!M37","v":""},{"$f":"'Input Results'!P37","v":""},{"$f":"'Input Results'!Q37","v":0},{"$f":"AB14+AA16","v":0},{"$f":"'Input Results'!M38","v":""},{"$f":"'Input Results'!P38","v":""},{"$f":"'Input Results'!Q38","v":0},{"$f":"AF14+AE16","v":0},{"$f":"'Input Results'!M39","v":""},{"$f":"'Input Results'!P39","v":""},{"$f":"'Input Results'!Q39","v":0},{"$f":"AJ14+AI16","v":0}]
[null,{"$f":"Events!I7","v":5},4,{"$f":"IF(VLOOKUP(B17,Events!B:G,6,FALSE)=\"\",\"\",VLOOKUP(B17,Events!B:G,6,FALSE))","v":"   "},{"$f":"PROPER('Input Results'!I41)","v":""},null,null,null,{"$f":"PROPER('Input Results'!I42)","v":""},null,null,null,{"$f":"PROPER('Input Results'!I43)","v":""},null,null,null,{"$f":"PROPER('Input Results'!I44)","v":""},null,null,null,{"$f":"PROPER('Input Results'!I45)","v":""},null,null,null,{"$f":"PROPER('Input Results'!I46)","v":""},null,null,null,{"$f":"PROPER('Input Results'!I47)","v":""},null,null,null,{"$f":"PROPER('Input Results'!I48)","v":""}]
[null,{"$f":"B17","v":5},5,{"$f":"IF(VLOOKUP(B17,Events!B:H,7,FALSE)=\"\",\"\",VLOOKUP(B17,Events!B:H,7,FALSE))","v":""},{"$f":"'Input Results'!M41","v":""},{"$f":"'Input Results'!P41","v":""},{"$f":"'Input Results'!Q41","v":0},{"$f":"H16+G18","v":0},{"$f":"'Input Results'!M42","v":""},{"$f":"'Input Results'!P42","v":""},{"$f":"'Input Results'!Q42","v":0},{"$f":"L16+K18","v":0},{"$f":"'Input Results'!M43","v":""},{"$f":"'Input Results'!P43","v":""},{"$f":"'Input Results'!Q43","v":0},{"$f":"P16+O18","v":0},{"$f":"'Input Results'!M44","v":""},{"$f":"'Input Results'!P44","v":""},{"$f":"'Input Results'!Q44","v":0},{"$f":"T16+S18","v":0},{"$f":"'Input Results'!M45","v":""},{"$f":"'Input Results'!P45","v":""},{"$f":"'Input Results'!Q45","v":0},{"$f":"X16+W18","v":0},{"$f":"'Input Results'!M46","v":""},{"$f":"'Input Results'!P46","v":""},{"$f":"'Input Results'!Q46","v":0},{"$f":"AB16+AA18","v":0},{"$f":"'Input Results'!M47","v":""},{"$f":"'Input Results'!P47","v":""},{"$f":"'Input Results'!Q47","v":0},{"$f":"AF16+AE18","v":0},{"$f":"'Input Results'!M48","v":""},{"$f":"'Input Results'!P48","v":""},{"$f":"'Input Results'!Q48","v":0},{"$f":"AJ16+AI18","v":0}]
[null,{"$f":"Events!I8","v":6},5,{"$f":"IF(VLOOKUP(B19,Events!B:G,6,FALSE)=\"\",\"\",VLOOKUP(B19,Events!B:G,6,FALSE))","v":"   "},{"$f":"PROPER('Input Results'!I50)","v":""},null,null,null,{"$f":"PROPER('Input Results'!I51)","v":""},null,null,null,{"$f":"PROPER('Input Results'!I52)","v":""},null,null,null,{"$f":"PROPER('Input Results'!I53)","v":""},null,null,null,{"$f":"PROPER('Input Results'!I54)","v":""},null,null,null,{"$f":"PROPER('Input Results'!I55)","v":""},null,null,null,{"$f":"PROPER('Input Results'!I56)","v":""},null,null,null,{"$f":"PROPER('Input Results'!I57)","v":""}]
[null,{"$f":"B19","v":6},6,{"$f":"IF(VLOOKUP(B19,Events!B:H,7,FALSE)=\"\",\"\",VLOOKUP(B19,Events!B:H,7,FALSE))","v":""},{"$f":"'Input Results'!M50","v":""},{"$f":"'Input Results'!P50","v":""},{"$f":"'Input Results'!Q50","v":0},{"$f":"H18+G20","v":0},{"$f":"'Input Results'!M51","v":""},{"$f":"'Input Results'!P51","v":""},{"$f":"'Input Results'!Q51","v":0},{"$f":"L18+K20","v":0},{"$f":"'Input Results'!M52","v":""},{"$f":"'Input Results'!P52","v":""},{"$f":"'Input Results'!Q52","v":0},{"$f":"P18+O20","v":0},{"$f":"'Input Results'!M53","v":""},{"$f":"'Input Results'!P53","v":""},{"$f":"'Input Results'!Q53","v":0},{"$f":"T18+S20","v":0},{"$f":"'Input Results'!M54","v":""},{"$f":"'Input Results'!P54","v":""},{"$f":"'Input Results'!Q54","v":0},{"$f":"X18+W20","v":0},{"$f":"'Input Results'!M55","v":""},{"$f":"'Input Results'!P55","v":""},{"$f":"'Input Results'!Q55","v":0},{"$f":"AB18+AA20","v":0},{"$f":"'Input Results'!M56","v":""},{"$f":"'Input Results'!P56","v":""},{"$f":"'Input Results'!Q56","v":0},{"$f":"AF18+AE20","v":0},{"$f":"'Input Results'!M57","v":""},{"$f":"'Input Results'!P57","v":""},{"$f":"'Input Results'!Q57","v":0},{"$f":"AJ18+AI20","v":0}]
[null,{"$f":"Events!I9","v":7},6,{"$f":"IF(VLOOKUP(B21,Events!B:G,6,FALSE)=\"\",\"\",VLOOKUP(B21,Events!B:G,6,FALSE))","v":"   "},{"$f":"PROPER('Input Results'!I59)","v":""},null,null,null,{"$f":"PROPER('Input Results'!I60)","v":""},null,null,null,{"$f":"PROPER('Input Results'!I61)","v":""},null,null,null,{"$f":"PROPER('Input Results'!I62)","v":""},null,null,null,{"$f":"PROPER('Input Results'!I63)","v":""},null,null,null,{"$f":"PROPER('Input Results'!I64)","v":""},null,null,null,{"$f":"PROPER('Input Results'!I65)","v":""},null,null,null,{"$f":"PROPER('Input Results'!I66)","v":""}]
[null,{"$f":"B21","v":7},7,{"$f":"IF(VLOOKUP(B21,Events!B:H,7,FALSE)=\"\",\"\",VLOOKUP(B21,Events!B:H,7,FALSE))","v":""},{"$f":"'Input Results'!M59","v":""},{"$f":"'Input Results'!P59","v":""},{"$f":"'Input Results'!Q59","v":0},{"$f":"H20+G22","v":0},{"$f":"'Input Results'!M60","v":""},{"$f":"'Input Results'!P60","v":""},{"$f":"'Input Results'!Q60","v":0},{"$f":"L20+K22","v":0},{"$f":"'Input Results'!M61","v":""},{"$f":"'Input Results'!P61","v":""},{"$f":"'Input Results'!Q61","v":0},{"$f":"P20+O22","v":0},{"$f":"'Input Results'!M62","v":""},{"$f":"'Input Results'!P62","v":""},{"$f":"'Input Results'!Q62","v":0},{"$f":"T20+S22","v":0},{"$f":"'Input Results'!M63","v":""},{"$f":"'Input Results'!P63","v":""},{"$f":"'Input Results'!Q63","v":0},{"$f":"X20+W22","v":0},{"$f":"'Input Results'!M64","v":""},{"$f":"'Input Results'!P64","v":""},{"$f":"'Input Results'!Q64","v":0},{"$f":"AB20+AA22","v":0},{"$f":"'Input Results'!M65","v":""},{"$f":"'Input Results'!P65","v":""},{"$f":"'Input Results'!Q65","v":0},{"$f":"AF20+AE22","v":0},{"$f":"'Input Results'!M66","v":""},{"$f":"'Input Results'!P66","v":""},{"$f":"'Input Results'!Q66","v":0},{"$f":"AJ20+AI22","v":0}]
[null,{"$f":"Events!I10","v":8},7,{"$f":"IF(VLOOKUP(B23,Events!B:G,6,FALSE)=\"\",\"\",VLOOKUP(B23,Events!B:G,6,FALSE))","v":"   "},{"$f":"PROPER('Input Results'!I68)","v":""},null,null,null,{"$f":"PROPER('Input Results'!I69)","v":""},null,null,null,{"$f":"PROPER('Input Results'!I70)","v":""},null,null,null,{"$f":"PROPER('Input Results'!I71)","v":""},null,null,null,{"$f":"PROPER('Input Results'!I72)","v":""},null,null,null,{"$f":"PROPER('Input Results'!I73)","v":""},null,null,null,{"$f":"PROPER('Input Results'!I74)","v":""},null,null,null,{"$f":"PROPER('Input Results'!I75)","v":""}]
[null,{"$f":"B23","v":8},8,{"$f":"IF(VLOOKUP(B23,Events!B:H,7,FALSE)=\"\",\"\",VLOOKUP(B23,Events!B:H,7,FALSE))","v":""},{"$f":"'Input Results'!M68","v":""},{"$f":"'Input Results'!P68","v":""},{"$f":"'Input Results'!Q68","v":0},{"$f":"H22+G24","v":0},{"$f":"'Input Results'!M69","v":""},{"$f":"'Input Results'!P69","v":""},{"$f":"'Input Results'!Q69","v":0},{"$f":"L22+K24","v":0},{"$f":"'Input Results'!M70","v":""},{"$f":"'Input Results'!P70","v":""},{"$f":"'Input Results'!Q70","v":0},{"$f":"P22+O24","v":0},{"$f":"'Input Results'!M71","v":""},{"$f":"'Input Results'!P71","v":""},{"$f":"'Input Results'!Q71","v":0},{"$f":"T22+S24","v":0},{"$f":"'Input Results'!M72","v":""},{"$f":"'Input Results'!P72","v":""},{"$f":"'Input Results'!Q72","v":0},{"$f":"X22+W24","v":0},{"$f":"'Input Results'!M73","v":""},{"$f":"'Input Results'!P73","v":""},{"$f":"'Input Results'!Q73","v":0},{"$f":"AB22+AA24","v":0},{"$f":"'Input Results'!M74","v":""},{"$f":"'Input Results'!P74","v":""},{"$f":"'Input Results'!Q74","v":0},{"$f":"AF22+AE24","v":0},{"$f":"'Input Results'!M75","v":""},{"$f":"'Input Results'!P75","v":""},{"$f":"'Input Results'!Q75","v":0},{"$f":"AJ22+AI24","v":0}]
[null,{"$f":"Events!I11","v":9},8,{"$f":"IF(VLOOKUP(B25,Events!B:G,6,FALSE)=\"\",\"\",VLOOKUP(B25,Events!B:G,6,FALSE))","v":"   "},{"$f":"PROPER('Input Results'!I77)","v":""},null,null,null,{"$f":"PROPER('Input Results'!I78)","v":""},null,null,null,{"$f":"PROPER('Input Results'!I79)","v":""},null,null,null,{"$f":"PROPER('Input Results'!I80)","v":""},null,null,null,{"$f":"PROPER('Input Results'!I81)","v":""},null,null,null,{"$f":"PROPER('Input Results'!I82)","v":""},null,null,null,{"$f":"PROPER('Input Results'!I83)","v":""},null,null,null,{"$f":"PROPER('Input Results'!I84)","v":""}]
[null,{"$f":"B25","v":9},9,{"$f":"IF(VLOOKUP(B25,Events!B:H,7,FALSE)=\"\",\"\",VLOOKUP(B25,Events!B:H,7,FALSE))","v":""},{"$f":"'Input Results'!M77","v":""},{"$f":"'Input Results'!P77","v":""},{"$f":"'Input Results'!Q77","v":0},{"$f":"H24+G26","v":0},{"$f":"'Input Results'!M78","v":""},{"$f":"'Input Results'!P78","v":""},{"$f":"'Input Results'!Q78","v":0},{"$f":"L24+K26","v":0},{"$f":"'Input Results'!M79","v":""},{"$f":"'Input Results'!P79","v":""},{"$f":"'Input Results'!Q79","v":0},{"$f":"P24+O26","v":0},{"$f":"'Input Results'!M80","v":""},{"$f":"'Input Results'!P80","v":""},{"$f":"'Input Results'!Q80","v":0},{"$f":"T24+S26","v":0},{"$f":"'Input Results'!M81","v":""},{"$f":"'Input Results'!P81","v":""},{"$f":"'Input Results'!Q81","v":0},{"$f":"X24+W26","v":0},{"$f":"'Input Results'!M82","v":""},{"$f":"'Input Results'!P82","v":""},{"$f":"'Input Results'!Q82","v":0},{"$f":"AB24+AA26","v":0},{"$f":"'Input Results'!M83","v":""},{"$f":"'Input Results'!P83","v":""},{"$f":"'Input Results'!Q83","v":0},{"$f":"AF24+AE26","v":0},{"$f":"'Input Results'!M84","v":""},{"$f":"'Input Results'!P84","v":""},{"$f":"'Input Results'!Q84","v":0},{"$f":"AJ24+AI26","v":0}]
[null,{"$f":"Events!I12","v":10},9,{"$f":"IF(VLOOKUP(B27,Events!B:G,6,FALSE)=\"\",\"\",VLOOKUP(B27,Events!B:G,6,FALSE))","v":"   "},{"$f":"PROPER('Input Results'!I86)","v":""},null,null,null,{"$f":"PROPER('Input Results'!I87)","v":""},null,null,null,{"$f":"PROPER('Input Results'!I88)","v":""},null,null,null,{"$f":"PROPER('Input Results'!I89)","v":""},null,null,null,{"$f":"PROPER('Input Results'!I90)","v":""},null,null,null,{"$f":"PROPER('Input Results'!I91)","v":""},null,null,null,{"$f":"PROPER('Input Results'!I92)","v":""},null,null,null,{"$f":"PROPER('Input Results'!I93)","v":""}]
[null,{"$f":"B27","v":10},10,{"$f":"IF(VLOOKUP(B27,Events!B:H,7,FALSE)=\"\",\"\",VLOOKUP(B27,Events!B:H,7,FALSE))","v":""},{"$f":"'Input Results'!M86","v":""},{"$f":"'Input Results'!P86","v":""},{"$f":"'Input Results'!Q86","v":0},{"$f":"H26+G28","v":0},{"$f":"'Input Results'!M87","v":""},{"$f":"'Input Results'!P87","v":""},{"$f":"'Input Results'!Q87","v":0},{"$f":"L26+K28","v":0},{"$f":"'Input Results'!M88","v":""},{"$f":"'Input Results'!P88","v":""},{"$f":"'Input Results'!Q88","v":0},{"$f":"P26+O28","v":0},{"$f":"'Input Results'!M89","v":""},{"$f":"'Input Results'!P89","v":""},{"$f":"'Input Results'!Q89","v":0},{"$f":"T26+S28","v":0},{"$f":"'Input Results'!M90","v":""},{"$f":"'Input Results'!P90","v":""},{"$f":"'Input Results'!Q90","v":0},{"$f":"X26+W28","v":0},{"$f":"'Input Results'!M91","v":""},{"$f":"'Input Results'!P91","v":""},{"$f":"'Input Results'!Q91","v":0},{"$f":"AB26+AA28","v":0},{"$f":"'Input Results'!M92","v":""},{"$f":"'Input Results'!P92","v":""},{"$f":"'Input Results'!Q92","v":0},{"$f":"AF26+AE28","v":0},{"$f":"'Input Results'!M93","v":""},{"$f":"'Input Results'!P93","v":""},{"$f":"'Input Results'!Q93","v":0},{"$f":"AJ26+AI28","v":0}]
[null,{"$f":"Events!I13","v":11},10,{"$f":"IF(VLOOKUP(B29,Events!B:G,6,FALSE)=\"\",\"\",VLOOKUP(B29,Events!B:G,6,FALSE))","v":"   "},{"$f":"PROPER('Input Results'!I95)","v":""},null,null,null,{"$f":"PROPER('Input Results'!I96)","v":""},null,null,null,{"$f":"PROPER('Input Results'!I97)","v":""},null,null,null,{"$f":"PROPER('Input Results'!I98)","v":""},null,null,null,{"$f":"PROPER('Input Results'!I99)","v":""},null,null,null,{"$f":"PROPER('Input Results'!I100)","v":""},null,null,null,{"$f":"PROPER('Input Results'!I101)","v":""},null,null,null,{"$f":"PROPER('Input Results'!I102)","v":""}]
[null,{"$f":"B29","v":11},11,{"$f":"IF(VLOOKUP(B29,Events!B:H,7,FALSE)=\"\",\"\",VLOOKUP(B29,Events!B:H,7,FALSE))","v":""},{"$f":"'Input Results'!M95","v":""},{"$f":"'Input Results'!P95","v":""},{"$f":"'Input Results'!Q95","v":0},{"$f":"H28+G30","v":0},{"$f":"'Input Results'!M96","v":""},{"$f":"'Input Results'!P96","v":""},{"$f":"'Input Results'!Q96","v":0},{"$f":"L28+K30","v":0},{"$f":"'Input Results'!M97","v":""},{"$f":"'Input Results'!P97","v":""},{"$f":"'Input Results'!Q97","v":0},{"$f":"P28+O30","v":0},{"$f":"'Input Results'!M98","v":""},{"$f":"'Input Results'!P98","v":""},{"$f":"'Input Results'!Q98","v":0},{"$f":"T28+S30","v":0},{"$f":"'Input Results'!M99","v":""},{"$f":"'Input Results'!P99","v":""},{"$f":"'Input Results'!Q99","v":0},{"$f":"X28+W30","v":0},{"$f":"'Input Results'!M100","v":""},{"$f":"'Input Results'!P100","v":""},{"$f":"'Input Results'!Q100","v":0},{"$f":"AB28+AA30","v":0},{"$f":"'Input Results'!M101","v":""},{"$f":"'Input Results'!P101","v":""},{"$f":"'Input Results'!Q101","v":0},{"$f":"AF28+AE30","v":0},{"$f":"'Input Results'!M102","v":""},{"$f":"'Input Results'!P102","v":""},{"$f":"'Input Results'!Q102","v":0},{"$f":"AJ28+AI30","v":0}]
[null,{"$f":"Events!I14","v":12},11,{"$f":"IF(VLOOKUP(B31,Events!B:G,6,FALSE)=\"\",\"\",VLOOKUP(B31,Events!B:G,6,FALSE))","v":"   "},{"$f":"PROPER('Input Results'!I104)","v":""},null,null,null,{"$f":"PROPER('Input Results'!I105)","v":""},null,null,null,{"$f":"PROPER('Input Results'!I106)","v":""},null,null,null,{"$f":"PROPER('Input Results'!I107)","v":""},null,null,null,{"$f":"PROPER('Input Results'!I108)","v":""},null,null,null,{"$f":"PROPER('Input Results'!I109)","v":""},null,null,null,{"$f":"PROPER('Input Results'!I110)","v":""},null,null,null,{"$f":"PROPER('Input Results'!I111)","v":""}]
[null,{"$f":"B31","v":12},12,{"$f":"IF(VLOOKUP(B31,Events!B:H,7,FALSE)=\"\",\"\",VLOOKUP(B31,Events!B:H,7,FALSE))","v":""},{"$f":"'Input Results'!M104","v":""},{"$f":"'Input Results'!P104","v":""},{"$f":"'Input Results'!Q104","v":0},{"$f":"H30+G32","v":0},{"$f":"'Input Results'!M105","v":""},{"$f":"'Input Results'!P105","v":""},{"$f":"'Input Results'!Q105","v":0},{"$f":"L30+K32","v":0},{"$f":"'Input Results'!M106","v":""},{"$f":"'Input Results'!P106","v":""},{"$f":"'Input Results'!Q106","v":0},{"$f":"P30+O32","v":0},{"$f":"'Input Results'!M107","v":""},{"$f":"'Input Results'!P107","v":""},{"$f":"'Input Results'!Q107","v":0},{"$f":"T30+S32","v":0},{"$f":"'Input Results'!M108","v":""},{"$f":"'Input Results'!P108","v":""},{"$f":"'Input Results'!Q108","v":0},{"$f":"X30+W32","v":0},{"$f":"'Input Results'!M109","v":""},{"$f":"'Input Results'!P109","v":""},{"$f":"'Input Results'!Q109","v":0},{"$f":"AB30+AA32","v":0},{"$f":"'Input Results'!M110","v":""},{"$f":"'Input Results'!P110","v":""},{"$f":"'Input Results'!Q110","v":0},{"$f":"AF30+AE32","v":0},{"$f":"'Input Results'!M111","v":""},{"$f":"'Input Results'!P111","v":""},{"$f":"'Input Results'!Q111","v":0},{"$f":"AJ30+AI32","v":0}]
[null,{"$f":"Events!I15","v":13},12,{"$f":"IF(VLOOKUP(B33,Events!B:G,6,FALSE)=\"\",\"\",VLOOKUP(B33,Events!B:G,6,FALSE))","v":"   "},{"$f":"PROPER('Input Results'!I113)","v":""},null,null,null,{"$f":"PROPER('Input Results'!I114)","v":""},null,null,null,{"$f":"PROPER('Input Results'!I115)","v":""},null,null,null,{"$f":"PROPER('Input Results'!I116)","v":""},null,null,null,{"$f":"PROPER('Input Results'!I117)","v":""},null,null,null,{"$f":"PROPER('Input Results'!I118)","v":""},null,null,null,{"$f":"PROPER('Input Results'!I119)","v":""},null,null,null,{"$f":"PROPER('Input Results'!I120)","v":""}]
[null,{"$f":"B33","v":13},13,{"$f":"IF(VLOOKUP(B33,Events!B:H,7,FALSE)=\"\",\"\",VLOOKUP(B33,Events!B:H,7,FALSE))","v":""},{"$f":"'Input Results'!M113","v":""},{"$f":"'Input Results'!P113","v":""},{"$f":"'Input Results'!Q113","v":0},{"$f":"H32+G34","v":0},{"$f":"'Input Results'!M114","v":""},{"$f":"'Input Results'!P114","v":""},{"$f":"'Input Results'!Q114","v":0},{"$f":"L32+K34","v":0},{"$f":"'Input Results'!M115","v":""},{"$f":"'Input Results'!P115","v":""},{"$f":"'Input Results'!Q115","v":0},{"$f":"P32+O34","v":0},{"$f":"'Input Results'!M116","v":""},{"$f":"'Input Results'!P116","v":""},{"$f":"'Input Results'!Q116","v":0},{"$f":"T32+S34","v":0},{"$f":"'Input Results'!M117","v":""},{"$f":"'Input Results'!P117","v":""},{"$f":"'Input Results'!Q117","v":0},{"$f":"X32+W34","v":0},{"$f":"'Input Results'!M118","v":""},{"$f":"'Input Results'!P118","v":""},{"$f":"'Input Results'!Q118","v":0},{"$f":"AB32+AA34","v":0},{"$f":"'Input Results'!M119","v":""},{"$f":"'Input Results'!P119","v":""},{"$f":"'Input Results'!Q119","v":0},{"$f":"AF32+AE34","v":0},{"$f":"'Input Results'!M120","v":""},{"$f":"'Input Results'!P120","v":""},{"$f":"'Input Results'!Q120","v":0},{"$f":"AJ32+AI34","v":0}]
[null,{"$f":"Events!I16","v":14},13,{"$f":"IF(VLOOKUP(B35,Events!B:G,6,FALSE)=\"\",\"\",VLOOKUP(B35,Events!B:G,6,FALSE))","v":"   "},{"$f":"PROPER('Input Results'!I122)","v":""},null,null,null,{"$f":"PROPER('Input Results'!I123)","v":""},null,null,null,{"$f":"PROPER('Input Results'!I124)","v":""},null,null,null,{"$f":"PROPER('Input Results'!I125)","v":""},null,null,null,{"$f":"PROPER('Input Results'!I126)","v":""},null,null,null,{"$f":"PROPER('Input Results'!I127)","v":""},null,null,null,{"$f":"PROPER('Input Results'!I128)","v":""},null,null,null,{"$f":"PROPER('Input Results'!I129)","v":""}]
[null,{"$f":"B35","v":14},14,{"$f":"IF(VLOOKUP(B35,Events!B:H,7,FALSE)=\"\",\"\",VLOOKUP(B35,Events!B:H,7,FALSE))","v":""},{"$f":"'Input Results'!M122","v":""},{"$f":"'Input Results'!P122","v":""},{"$f":"'Input Results'!Q122","v":0},{"$f":"H34+G36","v":0},{"$f":"'Input Results'!M123","v":""},{"$f":"'Input Results'!P123","v":""},{"$f":"'Input Results'!Q123","v":0},{"$f":"L34+K36","v":0},{"$f":"'Input Results'!M124","v":""},{"$f":"'Input Results'!P124","v":""},{"$f":"'Input Results'!Q124","v":0},{"$f":"P34+O36","v":0},{"$f":"'Input Results'!M125","v":""},{"$f":"'Input Results'!P125","v":""},{"$f":"'Input Results'!Q125","v":0},{"$f":"T34+S36","v":0},{"$f":"'Input Results'!M126","v":""},{"$f":"'Input Results'!P126","v":""},{"$f":"'Input Results'!Q126","v":0},{"$f":"X34+W36","v":0},{"$f":"'Input Results'!M127","v":""},{"$f":"'Input Results'!P127","v":""},{"$f":"'Input Results'!Q127","v":0},{"$f":"AB34+AA36","v":0},{"$f":"'Input Results'!M128","v":""},{"$f":"'Input Results'!P128","v":""},{"$f":"'Input Results'!Q128","v":0},{"$f":"AF34+AE36","v":0},{"$f":"'Input Results'!M129","v":""},{"$f":"'Input Results'!P129","v":""},{"$f":"'Input Results'!Q129","v":0},{"$f":"AJ34+AI36","v":0}]
[null,{"$f":"Events!I17","v":15},14,{"$f":"IF(VLOOKUP(B37,Events!B:G,6,FALSE)=\"\",\"\",VLOOKUP(B37,Events!B:G,6,FALSE))","v":"   "},{"$f":"PROPER('Input Results'!I131)","v":""},null,null,null,{"$f":"PROPER('Input Results'!I132)","v":""},null,null,null,{"$f":"PROPER('Input Results'!I133)","v":""},null,null,null,{"$f":"PROPER('Input Results'!I134)","v":""},null,null,null,{"$f":"PROPER('Input Results'!I135)","v":""},null,null,null,{"$f":"PROPER('Input Results'!I136)","v":""},null,null,null,{"$f":"PROPER('Input Results'!I137)","v":""},null,null,null,{"$f":"PROPER('Input Results'!I138)","v":""}]
[null,{"$f":"B37","v":15},15,{"$f":"IF(VLOOKUP(B37,Events!B:H,7,FALSE)=\"\",\"\",VLOOKUP(B37,Events!B:H,7,FALSE))","v":""},{"$f":"'Input Results'!M131","v":""},{"$f":"'Input Results'!P131","v":""},{"$f":"'Input Results'!Q131","v":0},{"$f":"H36+G38","v":0},{"$f":"'Input Results'!M132","v":""},{"$f":"'Input Results'!P132","v":""},{"$f":"'Input Results'!Q132","v":0},{"$f":"L36+K38","v":0},{"$f":"'Input Results'!M133","v":""},{"$f":"'Input Results'!P133","v":""},{"$f":"'Input Results'!Q133","v":0},{"$f":"P36+O38","v":0},{"$f":"'Input Results'!M134","v":""},{"$f":"'Input Results'!P134","v":""},{"$f":"'Input Results'!Q134","v":0},{"$f":"T36+S38","v":0},{"$f":"'Input Results'!M135","v":""},{"$f":"'Input Results'!P135","v":""},{"$f":"'Input Results'!Q135","v":0},{"$f":"X36+W38","v":0},{"$f":"'Input Results'!M136","v":""},{"$f":"'Input Results'!P136","v":""},{"$f":"'Input Results'!Q136","v":0},{"$f":"AB36+AA38","v":0},{"$f":"'Input Results'!M137","v":""},{"$f":"'Input Results'!P137","v":""},{"$f":"'Input Results'!Q137","v":0},{"$f":"AF36+AE38","v":0},{"$f":"'Input Results'!M138","v":""},{"$f":"'Input Results'!P138","v":""},{"$f":"'Input Results'!Q138","v":0},{"$f":"AJ36+AI38","v":0}]
[null,{"$f":"Events!I18","v":16},15,{"$f":"IF(VLOOKUP(B39,Events!B:G,6,FALSE)=\"\",\"\",VLOOKUP(B39,Events!B:G,6,FALSE))","v":"   "},{"$f":"PROPER('Input Results'!I140)","v":""},null,null,null,{"$f":"PROPER('Input Results'!I141)","v":""},null,null,null,{"$f":"PROPER('Input Results'!I142)","v":""},null,null,null,{"$f":"PROPER('Input Results'!I143)","v":""},null,null,null,{"$f":"PROPER('Input Results'!I144)","v":""},null,null,null,{"$f":"PROPER('Input Results'!I145)","v":""},null,null,null,{"$f":"PROPER('Input Results'!I146)","v":""},null,null,null,{"$f":"PROPER('Input Results'!I147)","v":""}]
[null,{"$f":"B39","v":16},16,{"$f":"IF(VLOOKUP(B39,Events!B:H,7,FALSE)=\"\",\"\",VLOOKUP(B39,Events!B:H,7,FALSE))","v":""},{"$f":"'Input Results'!M140","v":""},{"$f":"'Input Results'!P140","v":""},{"$f":"'Input Results'!Q140","v":0},{"$f":"H38+G40","v":0},{"$f":"'Input Results'!M141","v":""},{"$f":"'Input Results'!P141","v":""},{"$f":"'Input Results'!Q141","v":0},{"$f":"L38+K40","v":0},{"$f":"'Input Results'!M142","v":""},{"$f":"'Input Results'!P142","v":""},{"$f":"'Input Results'!Q142","v":0},{"$f":"P38+O40","v":0},{"$f":"'Input Results'!M143","v":""},{"$f":"'Input Results'!P143","v":""},{"$f":"'Input Results'!Q143","v":0},{"$f":"T38+S40","v":0},{"$f":"'Input Results'!M144","v":""},{"$f":"'Input Results'!P144","v":""},{"$f":"'Input Results'!Q144","v":0},{"$f":"X38+W40","v":0},{"$f":"'Input Results'!M145","v":""},{"$f":"'Input Results'!P145","v":""},{"$f":"'Input Results'!Q145","v":0},{"$f":"AB38+AA40","v":0},{"$f":"'Input Results'!M146","v":""},{"$f":"'Input Results'!P146","v":""},{"$f":"'Input Results'!Q146","v":0},{"$f":"AF38+AE40","v":0},{"$f":"'Input Results'!M147","v":""},{"$f":"'Input Results'!P147","v":""},{"$f":"'Input Results'!Q147","v":0},{"$f":"AJ38+AI40","v":0}]
[null,{"$f":"Events!I19","v":17},16,{"$f":"IF(VLOOKUP(B41,Events!B:G,6,FALSE)=\"\",\"\",VLOOKUP(B41,Events!B:G,6,FALSE))","v":"   "},{"$f":"PROPER('Input Results'!I149)","v":""},null,null,null,{"$f":"PROPER('Input Results'!I150)","v":""},null,null,null,{"$f":"PROPER('Input Results'!I151)","v":""},null,null,null,{"$f":"PROPER('Input Results'!I152)","v":""},null,null,null,{"$f":"PROPER('Input Results'!I153)","v":""},null,null,null,{"$f":"PROPER('Input Results'!I154)","v":""},null,null,null,{"$f":"PROPER('Input Results'!I155)","v":""},null,null,null,{"$f":"PROPER('Input Results'!I156)","v":""}]
[null,{"$f":"B41","v":17},{"$f":"B41","v":17},{"$f":"IF(VLOOKUP(B41,Events!B:H,7,FALSE)=\"\",\"\",VLOOKUP(B41,Events!B:H,7,FALSE))","v":""},{"$f":"'Input Results'!M149","v":""},{"$f":"'Input Results'!P149","v":""},{"$f":"'Input Results'!Q149","v":0},{"$f":"H40+G42","v":0},{"$f":"'Input Results'!M150","v":""},{"$f":"'Input Results'!P150","v":""},{"$f":"'Input Results'!Q150","v":0},{"$f":"L40+K42","v":0},{"$f":"'Input Results'!M151","v":""},{"$f":"'Input Results'!P151","v":""},{"$f":"'Input Results'!Q151","v":0},{"$f":"P40+O42","v":0},{"$f":"'Input Results'!M152","v":""},{"$f":"'Input Results'!P152","v":""},{"$f":"'Input Results'!Q152","v":0},{"$f":"T40+S42","v":0},{"$f":"'Input Results'!M153","v":""},{"$f":"'Input Results'!P153","v":""},{"$f":"'Input Results'!Q153","v":0},{"$f":"X40+W42","v":0},{"$f":"'Input Results'!M154","v":""},{"$f":"'Input Results'!P154","v":""},{"$f":"'Input Results'!Q154","v":0},{"$f":"AB40+AA42","v":0},{"$f":"'Input Results'!M155","v":""},{"$f":"'Input Results'!P155","v":""},{"$f":"'Input Results'!Q155","v":0},{"$f":"AF40+AE42","v":0},{"$f":"'Input Results'!M156","v":""},{"$f":"'Input Results'!P156","v":""},{"$f":"'Input Results'!Q156","v":0},{"$f":"AJ40+AI42","v":0}]
[null,{"$f":"Events!I20","v":18},17,{"$f":"IF(VLOOKUP(B43,Events!B:G,6,FALSE)=\"\",\"\",VLOOKUP(B43,Events!B:G,6,FALSE))","v":"   "},{"$f":"PROPER('Input Results'!I158)","v":""},null,null,null,{"$f":"PROPER('Input Results'!I159)","v":""},null,null,null,{"$f":"PROPER('Input Results'!I160)","v":""},null,null,null,{"$f":"PROPER('Input Results'!I161)","v":""},null,null,null,{"$f":"PROPER('Input Results'!I162)","v":""},null,null,null,{"$f":"PROPER('Input Results'!I163)","v":""},null,null,null,{"$f":"PROPER('Input Results'!I164)","v":""},null,null,null,{"$f":"PROPER('Input Results'!I165)","v":""}]
[null,{"$f":"B43","v":18},18,{"$f":"IF(VLOOKUP(B43,Events!B:H,7,FALSE)=\"\",\"\",VLOOKUP(B43,Events!B:H,7,FALSE))","v":""},{"$f":"'Input Results'!M158","v":""},{"$f":"'Input Results'!P158","v":""},{"$f":"'Input Results'!Q158","v":0},{"$f":"H42+G44","v":0},{"$f":"'Input Results'!M159","v":""},{"$f":"'Input Results'!P159","v":""},{"$f":"'Input Results'!Q159","v":0},{"$f":"L42+K44","v":0},{"$f":"'Input Results'!M160","v":""},{"$f":"'Input Results'!P160","v":""},{"$f":"'Input Results'!Q160","v":0},{"$f":"P42+O44","v":0},{"$f":"'Input Results'!M161","v":""},{"$f":"'Input Results'!P161","v":""},{"$f":"'Input Results'!Q161","v":0},{"$f":"T42+S44","v":0},{"$f":"'Input Results'!M162","v":""},{"$f":"'Input Results'!P162","v":""},{"$f":"'Input Results'!Q162","v":0},{"$f":"X42+W44","v":0},{"$f":"'Input Results'!M163","v":""},{"$f":"'Input Results'!P163","v":""},{"$f":"'Input Results'!Q163","v":0},{"$f":"AB42+AA44","v":0},{"$f":"'Input Results'!M164","v":""},{"$f":"'Input Results'!P164","v":""},{"$f":"'Input Results'!Q164","v":0},{"$f":"AF42+AE44","v":0},{"$f":"'Input Results'!M165","v":""},{"$f":"'Input Results'!P165","v":""},{"$f":"'Input Results'!Q165","v":0},{"$f":"AJ42+AI44","v":0}]
[null,{"$f":"Events!I21","v":19},18,{"$f":"IF(VLOOKUP(B45,Events!B:G,6,FALSE)=\"\",\"\",VLOOKUP(B45,Events!B:G,6,FALSE))","v":"   "},{"$f":"PROPER('Input Results'!I167)","v":""},null,null,null,{"$f":"PROPER('Input Results'!I168)","v":""},null,null,null,{"$f":"PROPER('Input Results'!I169)","v":""},null,null,null,{"$f":"PROPER('Input Results'!I170)","v":""},null,null,null,{"$f":"PROPER('Input Results'!I171)","v":""},null,null,null,{"$f":"PROPER('Input Results'!I172)","v":""},null,null,null,{"$f":"PROPER('Input Results'!I173)","v":""},null,null,null,{"$f":"PROPER('Input Results'!I174)","v":""}]
[null,{"$f":"B45","v":19},19,{"$f":"IF(VLOOKUP(B45,Events!B:H,7,FALSE)=\"\",\"\",VLOOKUP(B45,Events!B:H,7,FALSE))","v":""},{"$f":"'Input Results'!M167","v":""},{"$f":"'Input Results'!P167","v":""},{"$f":"'Input Results'!Q167","v":0},{"$f":"H44+G46","v":0},{"$f":"'Input Results'!M168","v":""},{"$f":"'Input Results'!P168","v":""},{"$f":"'Input Results'!Q168","v":0},{"$f":"L44+K46","v":0},{"$f":"'Input Results'!M169","v":""},{"$f":"'Input Results'!P169","v":""},{"$f":"'Input Results'!Q169","v":0},{"$f":"P44+O46","v":0},{"$f":"'Input Results'!M170","v":""},{"$f":"'Input Results'!P170","v":""},{"$f":"'Input Results'!Q170","v":0},{"$f":"T44+S46","v":0},{"$f":"'Input Results'!M171","v":""},{"$f":"'Input Results'!P171","v":""},{"$f":"'Input Results'!Q171","v":0},{"$f":"X44+W46","v":0},{"$f":"'Input Results'!M172","v":""},{"$f":"'Input Results'!P172","v":""},{"$f":"'Input Results'!Q172","v":0},{"$f":"AB44+AA46","v":0},{"$f":"'Input Results'!M173","v":""},{"$f":"'Input Results'!P173","v":""},{"$f":"'Input Results'!Q173","v":0},{"$f":"AF44+AE46","v":0},{"$f":"'Input Results'!M174","v":""},{"$f":"'Input Results'!P174","v":""},{"$f":"'Input Results'!Q174","v":0},{"$f":"AJ44+AI46","v":0}]
[null,{"$f":"Events!I22","v":20},19,{"$f":"IF(VLOOKUP(B47,Events!B:G,6,FALSE)=\"\",\"\",VLOOKUP(B47,Events!B:G,6,FALSE))","v":"   "},{"$f":"PROPER('Input Results'!I176)","v":""},null,null,null,{"$f":"PROPER('Input Results'!I177)","v":""},null,null,null,{"$f":"PROPER('Input Results'!I178)","v":""},null,null,null,{"$f":"PROPER('Input Results'!I179)","v":""},null,null,null,{"$f":"PROPER('Input Results'!I180)","v":""},null,null,null,{"$f":"PROPER('Input Results'!I181)","v":""},null,null,null,{"$f":"PROPER('Input Results'!I182)","v":""},null,null,null,{"$f":"PROPER('Input Results'!I183)","v":""}]
[null,{"$f":"B47","v":20},20,{"$f":"IF(VLOOKUP(B47,Events!B:H,7,FALSE)=\"\",\"\",VLOOKUP(B47,Events!B:H,7,FALSE))","v":""},{"$f":"'Input Results'!M176","v":""},{"$f":"'Input Results'!P176","v":""},{"$f":"'Input Results'!Q176","v":0},{"$f":"H46+G48","v":0},{"$f":"'Input Results'!M177","v":""},{"$f":"'Input Results'!P177","v":""},{"$f":"'Input Results'!Q177","v":0},{"$f":"L46+K48","v":0},{"$f":"'Input Results'!M178","v":""},{"$f":"'Input Results'!P178","v":""},{"$f":"'Input Results'!Q178","v":0},{"$f":"P46+O48","v":0},{"$f":"'Input Results'!M179","v":""},{"$f":"'Input Results'!P179","v":""},{"$f":"'Input Results'!Q179","v":0},{"$f":"T46+S48","v":0},{"$f":"'Input Results'!M180","v":""},{"$f":"'Input Results'!P180","v":""},{"$f":"'Input Results'!Q180","v":0},{"$f":"X46+W48","v":0},{"$f":"'Input Results'!M181","v":""},{"$f":"'Input Results'!P181","v":""},{"$f":"'Input Results'!Q181","v":0},{"$f":"AB46+AA48","v":0},{"$f":"'Input Results'!M182","v":""},{"$f":"'Input Results'!P182","v":""},{"$f":"'Input Results'!Q182","v":0},{"$f":"AF46+AE48","v":0},{"$f":"'Input Results'!M183","v":""},{"$f":"'Input Results'!P183","v":""},{"$f":"'Input Results'!Q183","v":0},{"$f":"AJ46+AI48","v":0}]
[null,{"$f":"Events!I23","v":21},20,{"$f":"IF(VLOOKUP(B49,Events!B:G,6,FALSE)=\"\",\"\",VLOOKUP(B49,Events!B:G,6,FALSE))","v":"   "},{"$f":"PROPER('Input Results'!I185)","v":""},null,null,null,{"$f":"PROPER('Input Results'!I186)","v":""},null,null,null,{"$f":"PROPER('Input Results'!I187)","v":""},null,null,null,{"$f":"PROPER('Input Results'!I188)","v":""},null,null,null,{"$f":"PROPER('Input Results'!I189)","v":""},null,null,null,{"$f":"PROPER('Input Results'!I190)","v":""},null,null,null,{"$f":"PROPER('Input Results'!I191)","v":""},null,null,null,{"$f":"PROPER('Input Results'!I192)","v":""}]
[null,{"$f":"B49","v":21},21,{"$f":"IF(VLOOKUP(B49,Events!B:H,7,FALSE)=\"\",\"\",VLOOKUP(B49,Events!B:H,7,FALSE))","v":""},{"$f":"'Input Results'!M185","v":""},{"$f":"'Input Results'!P185","v":""},{"$f":"'Input Results'!Q185","v":0},{"$f":"H48+G50","v":0},{"$f":"'Input Results'!M186","v":""},{"$f":"'Input Results'!P186","v":""},{"$f":"'Input Results'!Q186","v":0},{"$f":"L48+K50","v":0},{"$f":"'Input Results'!M187","v":""},{"$f":"'Input Results'!P187","v":""},{"$f":"'Input Results'!Q187","v":0},{"$f":"P48+O50","v":0},{"$f":"'Input Results'!M188","v":""},{"$f":"'Input Results'!P188","v":""},{"$f":"'Input Results'!Q188","v":0},{"$f":"T48+S50","v":0},{"$f":"'Input Results'!M189","v":""},{"$f":"'Input Results'!P189","v":""},{"$f":"'Input Results'!Q189","v":0},{"$f":"X48+W50","v":0},{"$f":"'Input Results'!M190","v":""},{"$f":"'Input Results'!P190","v":""},{"$f":"'Input Results'!Q190","v":0},{"$f":"AB48+AA50","v":0},{"$f":"'Input Results'!M191","v":""},{"$f":"'Input Results'!P191","v":""},{"$f":"'Input Results'!Q191","v":0},{"$f":"AF48+AE50","v":0},{"$f":"'Input Results'!M192","v":""},{"$f":"'Input Results'!P192","v":""},{"$f":"'Input Results'!Q192","v":0},{"$f":"AJ48+AI50","v":0}]
[null,{"$f":"Events!I24","v":22},21,{"$f":"IF(VLOOKUP(B51,Events!B:G,6,FALSE)=\"\",\"\",VLOOKUP(B51,Events!B:G,6,FALSE))","v":"   "},{"$f":"PROPER('Input Results'!I194)","v":""},null,null,null,{"$f":"PROPER('Input Results'!I195)","v":""},null,null,null,{"$f":"PROPER('Input Results'!I196)","v":""},null,null,null,{"$f":"PROPER('Input Results'!I197)","v":""},null,null,null,{"$f":"PROPER('Input Results'!I198)","v":""},null,null,null,{"$f":"PROPER('Input Results'!I199)","v":""},null,null,null,{"$f":"PROPER('Input Results'!I200)","v":""},null,null,null,{"$f":"PROPER('Input Results'!I201)","v":""}]
[null,{"$f":"B51","v":22},22,{"$f":"IF(VLOOKUP(B51,Events!B:H,7,FALSE)=\"\",\"\",VLOOKUP(B51,Events!B:H,7,FALSE))","v":""},{"$f":"'Input Results'!M194","v":""},{"$f":"'Input Results'!P194","v":""},{"$f":"'Input Results'!Q194","v":0},{"$f":"H50+G52","v":0},{"$f":"'Input Results'!M195","v":""},{"$f":"'Input Results'!P195","v":""},{"$f":"'Input Results'!Q195","v":0},{"$f":"L50+K52","v":0},{"$f":"'Input Results'!M196","v":""},{"$f":"'Input Results'!P196","v":""},{"$f":"'Input Results'!Q196","v":0},{"$f":"P50+O52","v":0},{"$f":"'Input Results'!M197","v":""},{"$f":"'Input Results'!P197","v":""},{"$f":"'Input Results'!Q197","v":0},{"$f":"T50+S52","v":0},{"$f":"'Input Results'!M198","v":""},{"$f":"'Input Results'!P198","v":""},{"$f":"'Input Results'!Q198","v":0},{"$f":"X50+W52","v":0},{"$f":"'Input Results'!M199","v":""},{"$f":"'Input Results'!P199","v":""},{"$f":"'Input Results'!Q199","v":0},{"$f":"AB50+AA52","v":0},{"$f":"'Input Results'!M200","v":""},{"$f":"'Input Results'!P200","v":""},{"$f":"'Input Results'!Q200","v":0},{"$f":"AF50+AE52","v":0},{"$f":"'Input Results'!M201","v":""},{"$f":"'Input Results'!P201","v":""},{"$f":"'Input Results'!Q201","v":0},{"$f":"AJ50+AI52","v":0}]
[null,{"$f":"Events!I25","v":23},22,{"$f":"IF(VLOOKUP(B53,Events!B:G,6,FALSE)=\"\",\"\",VLOOKUP(B53,Events!B:G,6,FALSE))","v":"   "},{"$f":"PROPER('Input Results'!I203)","v":""},null,null,null,{"$f":"PROPER('Input Results'!I204)","v":""},null,null,null,{"$f":"PROPER('Input Results'!I205)","v":""},null,null,null,{"$f":"PROPER('Input Results'!I206)","v":""},null,null,null,{"$f":"PROPER('Input Results'!I207)","v":""},null,null,null,{"$f":"PROPER('Input Results'!I208)","v":""},null,null,null,{"$f":"PROPER('Input Results'!I209)","v":""},null,null,null,{"$f":"PROPER('Input Results'!I210)","v":""}]
[null,{"$f":"B53","v":23},23,{"$f":"IF(VLOOKUP(B53,Events!B:H,7,FALSE)=\"\",\"\",VLOOKUP(B53,Events!B:H,7,FALSE))","v":""},{"$f":"'Input Results'!M203","v":""},{"$f":"'Input Results'!P203","v":""},{"$f":"'Input Results'!Q203","v":0},{"$f":"H52+G54","v":0},{"$f":"'Input Results'!M204","v":""},{"$f":"'Input Results'!P204","v":""},{"$f":"'Input Results'!Q204","v":0},{"$f":"L52+K54","v":0},{"$f":"'Input Results'!M205","v":""},{"$f":"'Input Results'!P205","v":""},{"$f":"'Input Results'!Q205","v":0},{"$f":"P52+O54","v":0},{"$f":"'Input Results'!M206","v":""},{"$f":"'Input Results'!P206","v":""},{"$f":"'Input Results'!Q206","v":0},{"$f":"T52+S54","v":0},{"$f":"'Input Results'!M207","v":""},{"$f":"'Input Results'!P207","v":""},{"$f":"'Input Results'!Q207","v":0},{"$f":"X52+W54","v":0},{"$f":"'Input Results'!M208","v":""},{"$f":"'Input Results'!P208","v":""},{"$f":"'Input Results'!Q208","v":0},{"$f":"AB52+AA54","v":0},{"$f":"'Input Results'!M209","v":""},{"$f":"'Input Results'!P209","v":""},{"$f":"'Input Results'!Q209","v":0},{"$f":"AF52+AE54","v":0},{"$f":"'Input Results'!M210","v":""},{"$f":"'Input Results'!P210","v":""},{"$f":"'Input Results'!Q210","v":0},{"$f":"AJ52+AI54","v":0}]
[null,{"$f":"Events!I26","v":24},23,{"$f":"IF(VLOOKUP(B55,Events!B:G,6,FALSE)=\"\",\"\",VLOOKUP(B55,Events!B:G,6,FALSE))","v":"   "},{"$f":"PROPER('Input Results'!I212)","v":""},null,null,null,{"$f":"PROPER('Input Results'!I213)","v":""},null,null,null,{"$f":"PROPER('Input Results'!I214)","v":""},null,null,null,{"$f":"PROPER('Input Results'!I215)","v":""},null,null,null,{"$f":"PROPER('Input Results'!I216)","v":""},null,null,null,{"$f":"PROPER('Input Results'!I217)","v":""},null,null,null,{"$f":"PROPER('Input Results'!I218)","v":""},null,null,null,{"$f":"PROPER('Input Results'!I219)","v":""}]
[null,{"$f":"B55","v":24},24,{"$f":"IF(VLOOKUP(B55,Events!B:H,7,FALSE)=\"\",\"\",VLOOKUP(B55,Events!B:H,7,FALSE))","v":""},{"$f":"'Input Results'!M212","v":""},{"$f":"'Input Results'!P212","v":""},{"$f":"'Input Results'!Q212","v":0},{"$f":"H54+G56","v":0},{"$f":"'Input Results'!M213","v":""},{"$f":"'Input Results'!P213","v":""},{"$f":"'Input Results'!Q213","v":0},{"$f":"L54+K56","v":0},{"$f":"'Input Results'!M214","v":""},{"$f":"'Input Results'!P214","v":""},{"$f":"'Input Results'!Q214","v":0},{"$f":"P54+O56","v":0},{"$f":"'Input Results'!M215","v":""},{"$f":"'Input Results'!P215","v":""},{"$f":"'Input Results'!Q215","v":0},{"$f":"T54+S56","v":0},{"$f":"'Input Results'!M216","v":""},{"$f":"'Input Results'!P216","v":""},{"$f":"'Input Results'!Q216","v":0},{"$f":"X54+W56","v":0},{"$f":"'Input Results'!M217","v":""},{"$f":"'Input Results'!P217","v":""},{"$f":"'Input Results'!Q217","v":0},{"$f":"AB54+AA56","v":0},{"$f":"'Input Results'!M218","v":""},{"$f":"'Input Results'!P218","v":""},{"$f":"'Input Results'!Q218","v":0},{"$f":"AF54+AE56","v":0},{"$f":"'Input Results'!M219","v":""},{"$f":"'Input Results'!P219","v":""},{"$f":"'Input Results'!Q219","v":0},{"$f":"AJ54+AI56","v":0}]
[null,{"$f":"Events!I27","v":25},24,{"$f":"IF(VLOOKUP(B57,Events!B:G,6,FALSE)=\"\",\"\",VLOOKUP(B57,Events!B:G,6,FALSE))","v":"   "},{"$f":"PROPER('Input Results'!I221)","v":""},null,null,null,{"$f":"PROPER('Input Results'!I222)","v":""},null,null,null,{"$f":"PROPER('Input Results'!I223)","v":""},null,null,null,{"$f":"PROPER('Input Results'!I224)","v":""},null,null,null,{"$f":"PROPER('Input Results'!I225)","v":""},null,null,null,{"$f":"PROPER('Input Results'!I226)","v":""},null,null,null,{"$f":"PROPER('Input Results'!I227)","v":""},null,null,null,{"$f":"PROPER('Input Results'!I228)","v":""}]
[null,{"$f":"B57","v":25},25,{"$f":"IF(VLOOKUP(B57,Events!B:H,7,FALSE)=\"\",\"\",VLOOKUP(B57,Events!B:H,7,FALSE))","v":""},{"$f":"'Input Results'!M221","v":""},{"$f":"'Input Results'!P221","v":""},{"$f":"'Input Results'!Q221","v":0},{"$f":"H56+G58","v":0},{"$f":"'Input Results'!M222","v":""},{"$f":"'Input Results'!P222","v":""},{"$f":"'Input Results'!Q222","v":0},{"$f":"L56+K58","v":0},{"$f":"'Input Results'!M223","v":""},{"$f":"'Input Results'!P223","v":""},{"$f":"'Input Results'!Q223","v":0},{"$f":"P56+O58","v":0},{"$f":"'Input Results'!M224","v":""},{"$f":"'Input Results'!P224","v":""},{"$f":"'Input Results'!Q224","v":0},{"$f":"T56+S58","v":0},{"$f":"'Input Results'!M225","v":""},{"$f":"'Input Results'!P225","v":""},{"$f":"'Input Results'!Q225","v":0},{"$f":"X56+W58","v":0},{"$f":"'Input Results'!M226","v":""},{"$f":"'Input Results'!P226","v":""},{"$f":"'Input Results'!Q226","v":0},{"$f":"AB56+AA58","v":0},{"$f":"'Input Results'!M227","v":""},{"$f":"'Input Results'!P227","v":""},{"$f":"'Input Results'!Q227","v":0},{"$f":"AF56+AE58","v":0},{"$f":"'Input Results'!M228","v":""},{"$f":"'Input Results'!P228","v":""},{"$f":"'Input Results'!Q228","v":0},{"$f":"AJ56+AI58","v":0}]
[null,{"$f":"Events!I28","v":26},25,{"$f":"IF(VLOOKUP(B59,Events!B:G,6,FALSE)=\"\",\"\",VLOOKUP(B59,Events!B:G,6,FALSE))","v":"   "},{"$f":"PROPER('Input Results'!I230)","v":""},null,null,null,{"$f":"PROPER('Input Results'!I231)","v":""},null,null,null,{"$f":"PROPER('Input Results'!I232)","v":""},null,null,null,{"$f":"PROPER('Input Results'!I233)","v":""},null,null,null,{"$f":"PROPER('Input Results'!I234)","v":""},null,null,null,{"$f":"PROPER('Input Results'!I235)","v":""},null,null,null,{"$f":"PROPER('Input Results'!I236)","v":""},null,null,null,{"$f":"PROPER('Input Results'!I237)","v":""}]
[null,{"$f":"B59","v":26},26,{"$f":"IF(VLOOKUP(B59,Events!B:H,7,FALSE)=\"\",\"\",VLOOKUP(B59,Events!B:H,7,FALSE))","v":""},{"$f":"'Input Results'!M230","v":""},{"$f":"'Input Results'!P230","v":""},{"$f":"'Input Results'!Q230","v":0},{"$f":"H58+G60","v":0},{"$f":"'Input Results'!M231","v":""},{"$f":"'Input Results'!P231","v":""},{"$f":"'Input Results'!Q231","v":0},{"$f":"L58+K60","v":0},{"$f":"'Input Results'!M232","v":""},{"$f":"'Input Results'!P232","v":""},{"$f":"'Input Results'!Q232","v":0},{"$f":"P58+O60","v":0},{"$f":"'Input Results'!M233","v":""},{"$f":"'Input Results'!P233","v":""},{"$f":"'Input Results'!Q233","v":0},{"$f":"T58+S60","v":0},{"$f":"'Input Results'!M234","v":""},{"$f":"'Input Results'!P234","v":""},{"$f":"'Input Results'!Q234","v":0},{"$f":"X58+W60","v":0},{"$f":"'Input Results'!M235","v":""},{"$f":"'Input Results'!P235","v":""},{"$f":"'Input Results'!Q235","v":0},{"$f":"AB58+AA60","v":0},{"$f":"'Input Results'!M236","v":""},{"$f":"'Input Results'!P236","v":""},{"$f":"'Input Results'!Q236","v":0},{"$f":"AF58+AE60","v":0},{"$f":"'Input Results'!M237","v":""},{"$f":"'Input Results'!P237","v":""},{"$f":"'Input Results'!Q237","v":0},{"$f":"AJ58+AI60","v":0}]
[null,{"$f":"Events!I29","v":27},26,{"$f":"IF(VLOOKUP(B61,Events!B:G,6,FALSE)=\"\",\"\",VLOOKUP(B61,Events!B:G,6,FALSE))","v":"   "},{"$f":"PROPER('Input Results'!I239)","v":""},null,null,null,{"$f":"PROPER('Input Results'!I240)","v":""},null,null,null,{"$f":"PROPER('Input Results'!I241)","v":""},null,null,null,{"$f":"PROPER('Input Results'!I242)","v":""},null,null,null,{"$f":"PROPER('Input Results'!I243)","v":""},null,null,null,{"$f":"PROPER('Input Results'!I244)","v":""},null,null,null,{"$f":"PROPER('Input Results'!I245)","v":""},null,null,null,{"$f":"PROPER('Input Results'!I246)","v":""}]
[null,{"$f":"B61","v":27},27,{"$f":"IF(VLOOKUP(B61,Events!B:H,7,FALSE)=\"\",\"\",VLOOKUP(B61,Events!B:H,7,FALSE))","v":""},{"$f":"'Input Results'!M239","v":""},{"$f":"'Input Results'!P239","v":""},{"$f":"'Input Results'!Q239","v":0},{"$f":"H60+G62","v":0},{"$f":"'Input Results'!M240","v":""},{"$f":"'Input Results'!P240","v":""},{"$f":"'Input Results'!Q240","v":0},{"$f":"L60+K62","v":0},{"$f":"'Input Results'!M241","v":""},{"$f":"'Input Results'!P241","v":""},{"$f":"'Input Results'!Q241","v":0},{"$f":"P60+O62","v":0},{"$f":"'Input Results'!M242","v":""},{"$f":"'Input Results'!P242","v":""},{"$f":"'Input Results'!Q242","v":0},{"$f":"T60+S62","v":0},{"$f":"'Input Results'!M243","v":""},{"$f":"'Input Results'!P243","v":""},{"$f":"'Input Results'!Q243","v":0},{"$f":"X60+W62","v":0},{"$f":"'Input Results'!M244","v":""},{"$f":"'Input Results'!P244","v":""},{"$f":"'Input Results'!Q244","v":0},{"$f":"AB60+AA62","v":0},{"$f":"'Input Results'!M245","v":""},{"$f":"'Input Results'!P245","v":""},{"$f":"'Input Results'!Q245","v":0},{"$f":"AF60+AE62","v":0},{"$f":"'Input Results'!M246","v":""},{"$f":"'Input Results'!P246","v":""},{"$f":"'Input Results'!Q246","v":0},{"$f":"AJ60+AI62","v":0}]
[null,{"$f":"Events!I30","v":28},27,{"$f":"IF(VLOOKUP(B63,Events!B:G,6,FALSE)=\"\",\"\",VLOOKUP(B63,Events!B:G,6,FALSE))","v":"   "},{"$f":"PROPER('Input Results'!I248)","v":""},null,null,null,{"$f":"PROPER('Input Results'!I249)","v":""},null,null,null,{"$f":"PROPER('Input Results'!I250)","v":""},null,null,null,{"$f":"PROPER('Input Results'!I251)","v":""},null,null,null,{"$f":"PROPER('Input Results'!I252)","v":""},null,null,null,{"$f":"PROPER('Input Results'!I253)","v":""},null,null,null,{"$f":"PROPER('Input Results'!I254)","v":""},null,null,null,{"$f":"PROPER('Input Results'!I255)","v":""}]
[null,{"$f":"B63","v":28},28,{"$f":"IF(VLOOKUP(B63,Events!B:H,7,FALSE)=\"\",\"\",VLOOKUP(B63,Events!B:H,7,FALSE))","v":""},{"$f":"'Input Results'!M248","v":""},{"$f":"'Input Results'!P248","v":""},{"$f":"'Input Results'!Q248","v":0},{"$f":"H62+G64","v":0},{"$f":"'Input Results'!M249","v":""},{"$f":"'Input Results'!P249","v":""},{"$f":"'Input Results'!Q249","v":0},{"$f":"L62+K64","v":0},{"$f":"'Input Results'!M250","v":""},{"$f":"'Input Results'!P250","v":""},{"$f":"'Input Results'!Q250","v":0},{"$f":"P62+O64","v":0},{"$f":"'Input Results'!M251","v":""},{"$f":"'Input Results'!P251","v":""},{"$f":"'Input Results'!Q251","v":0},{"$f":"T62+S64","v":0},{"$f":"'Input Results'!M252","v":""},{"$f":"'Input Results'!P252","v":""},{"$f":"'Input Results'!Q252","v":0},{"$f":"X62+W64","v":0},{"$f":"'Input Results'!M253","v":""},{"$f":"'Input Results'!P253","v":""},{"$f":"'Input Results'!Q253","v":0},{"$f":"AB62+AA64","v":0},{"$f":"'Input Results'!M254","v":""},{"$f":"'Input Results'!P254","v":""},{"$f":"'Input Results'!Q254","v":0},{"$f":"AF62+AE64","v":0},{"$f":"'Input Results'!M255","v":""},{"$f":"'Input Results'!P255","v":""},{"$f":"'Input Results'!Q255","v":0},{"$f":"AJ62+AI64","v":0}]
[null,{"$f":"Events!I31","v":29},28,{"$f":"IF(VLOOKUP(B65,Events!B:G,6,FALSE)=\"\",\"\",VLOOKUP(B65,Events!B:G,6,FALSE))","v":"   "},{"$f":"PROPER('Input Results'!I257)","v":""},null,null,null,{"$f":"PROPER('Input Results'!I258)","v":""},null,null,null,{"$f":"PROPER('Input Results'!I259)","v":""},null,null,null,{"$f":"PROPER('Input Results'!I260)","v":""},null,null,null,{"$f":"PROPER('Input Results'!I261)","v":""},null,null,null,{"$f":"PROPER('Input Results'!I262)","v":""},null,null,null,{"$f":"PROPER('Input Results'!I263)","v":""},null,null,null,{"$f":"PROPER('Input Results'!I264)","v":""}]
[null,{"$f":"B65","v":29},29,{"$f":"IF(VLOOKUP(B65,Events!B:H,7,FALSE)=\"\",\"\",VLOOKUP(B65,Events!B:H,7,FALSE))","v":""},{"$f":"'Input Results'!M257","v":""},{"$f":"'Input Results'!P257","v":""},{"$f":"'Input Results'!Q257","v":0},{"$f":"H64+G66","v":0},{"$f":"'Input Results'!M258","v":""},{"$f":"'Input Results'!P258","v":""},{"$f":"'Input Results'!Q258","v":0},{"$f":"L64+K66","v":0},{"$f":"'Input Results'!M259","v":""},{"$f":"'Input Results'!P259","v":""},{"$f":"'Input Results'!Q259","v":0},{"$f":"P64+O66","v":0},{"$f":"'Input Results'!M260","v":""},{"$f":"'Input Results'!P260","v":""},{"$f":"'Input Results'!Q260","v":0},{"$f":"T64+S66","v":0},{"$f":"'Input Results'!M261","v":""},{"$f":"'Input Results'!P261","v":""},{"$f":"'Input Results'!Q261","v":0},{"$f":"X64+W66","v":0},{"$f":"'Input Results'!M262","v":""},{"$f":"'Input Results'!P262","v":""},{"$f":"'Input Results'!Q262","v":0},{"$f":"AB64+AA66","v":0},{"$f":"'Input Results'!M263","v":""},{"$f":"'Input Results'!P263","v":""},{"$f":"'Input Results'!Q263","v":0},{"$f":"AF64+AE66","v":0},{"$f":"'Input Results'!M264","v":""},{"$f":"'Input Results'!P264","v":""},{"$f":"'Input Results'!Q264","v":0},{"$f":"AJ64+AI66","v":0}]
[null,{"$f":"Events!I32","v":30},29,{"$f":"IF(VLOOKUP(B67,Events!B:G,6,FALSE)=\"\",\"\",VLOOKUP(B67,Events!B:G,6,FALSE))","v":"   "},{"$f":"PROPER('Input Results'!I266)","v":""},null,null,null,{"$f":"PROPER('Input Results'!I267)","v":""},null,null,null,{"$f":"PROPER('Input Results'!I268)","v":""},null,null,null,{"$f":"PROPER('Input Results'!I269)","v":""},null,null,null,{"$f":"PROPER('Input Results'!I270)","v":""},null,null,null,{"$f":"PROPER('Input Results'!I271)","v":""},null,null,null,{"$f":"PROPER('Input Results'!I272)","v":""},null,null,null,{"$f":"PROPER('Input Results'!I273)","v":""}]
[null,{"$f":"B67","v":30},30,{"$f":"IF(VLOOKUP(B67,Events!B:H,7,FALSE)=\"\",\"\",VLOOKUP(B67,Events!B:H,7,FALSE))","v":""},{"$f":"'Input Results'!M266","v":""},{"$f":"'Input Results'!P266","v":""},{"$f":"'Input Results'!Q266","v":0},{"$f":"H66+G68","v":0},{"$f":"'Input Results'!M267","v":""},{"$f":"'Input Results'!P267","v":""},{"$f":"'Input Results'!Q267","v":0},{"$f":"L66+K68","v":0},{"$f":"'Input Results'!M268","v":""},{"$f":"'Input Results'!P268","v":""},{"$f":"'Input Results'!Q268","v":0},{"$f":"P66+O68","v":0},{"$f":"'Input Results'!M269","v":""},{"$f":"'Input Results'!P269","v":""},{"$f":"'Input Results'!Q269","v":0},{"$f":"T66+S68","v":0},{"$f":"'Input Results'!M270","v":""},{"$f":"'Input Results'!P270","v":""},{"$f":"'Input Results'!Q270","v":0},{"$f":"X66+W68","v":0},{"$f":"'Input Results'!M271","v":""},{"$f":"'Input Results'!P271","v":""},{"$f":"'Input Results'!Q271","v":0},{"$f":"AB66+AA68","v":0},{"$f":"'Input Results'!M272","v":""},{"$f":"'Input Results'!P272","v":""},{"$f":"'Input Results'!Q272","v":0},{"$f":"AF66+AE68","v":0},{"$f":"'Input Results'!M273","v":""},{"$f":"'Input Results'!P273","v":""},{"$f":"'Input Results'!Q273","v":0},{"$f":"AJ66+AI68","v":0}]
[null,{"$f":"Events!I33","v":31},30,{"$f":"IF(VLOOKUP(B69,Events!B:G,6,FALSE)=\"\",\"\",VLOOKUP(B69,Events!B:G,6,FALSE))","v":"   "},{"$f":"PROPER('Input Results'!I275)","v":""},null,null,null,{"$f":"PROPER('Input Results'!I276)","v":""},null,null,null,{"$f":"PROPER('Input Results'!I277)","v":""},null,null,null,{"$f":"PROPER('Input Results'!I278)","v":""},null,null,null,{"$f":"PROPER('Input Results'!I279)","v":""},null,null,null,{"$f":"PROPER('Input Results'!I280)","v":""},null,null,null,{"$f":"PROPER('Input Results'!I281)","v":""},null,null,null,{"$f":"PROPER('Input Results'!I282)","v":""}]
[null,{"$f":"B69","v":31},31,{"$f":"IF(VLOOKUP(B69,Events!B:H,7,FALSE)=\"\",\"\",VLOOKUP(B69,Events!B:H,7,FALSE))","v":""},{"$f":"'Input Results'!M275","v":""},{"$f":"'Input Results'!P275","v":""},{"$f":"'Input Results'!Q275","v":0},{"$f":"H68+G70","v":0},{"$f":"'Input Results'!M276","v":""},{"$f":"'Input Results'!P276","v":""},{"$f":"'Input Results'!Q276","v":0},{"$f":"L68+K70","v":0},{"$f":"'Input Results'!M277","v":""},{"$f":"'Input Results'!P277","v":""},{"$f":"'Input Results'!Q277","v":0},{"$f":"P68+O70","v":0},{"$f":"'Input Results'!M278","v":""},{"$f":"'Input Results'!P278","v":""},{"$f":"'Input Results'!Q278","v":0},{"$f":"T68+S70","v":0},{"$f":"'Input Results'!M279","v":""},{"$f":"'Input Results'!P279","v":""},{"$f":"'Input Results'!Q279","v":0},{"$f":"X68+W70","v":0},{"$f":"'Input Results'!M280","v":""},{"$f":"'Input Results'!P280","v":""},{"$f":"'Input Results'!Q280","v":0},{"$f":"AB68+AA70","v":0},{"$f":"'Input Results'!M281","v":""},{"$f":"'Input Results'!P281","v":""},{"$f":"'Input Results'!Q281","v":0},{"$f":"AF68+AE70","v":0},{"$f":"'Input Results'!M282","v":""},{"$f":"'Input Results'!P282","v":""},{"$f":"'Input Results'!Q282","v":0},{"$f":"AJ68+AI70","v":0}]
[null,{"$f":"Events!I34","v":32},31,{"$f":"IF(VLOOKUP(B71,Events!B:G,6,FALSE)=\"\",\"\",VLOOKUP(B71,Events!B:G,6,FALSE))","v":"   "},{"$f":"PROPER('Input Results'!I284)","v":""},null,null,null,{"$f":"PROPER('Input Results'!I285)","v":""},null,null,null,{"$f":"PROPER('Input Results'!I286)","v":""},null,null,null,{"$f":"PROPER('Input Results'!I287)","v":""},null,null,null,{"$f":"PROPER('Input Results'!I288)","v":""},null,null,null,{"$f":"PROPER('Input Results'!I289)","v":""},null,null,null,{"$f":"PROPER('Input Results'!I290)","v":""},null,null,null,{"$f":"PROPER('Input Results'!I291)","v":""}]
[null,{"$f":"B71","v":32},32,{"$f":"IF(VLOOKUP(B71,Events!B:H,7,FALSE)=\"\",\"\",VLOOKUP(B71,Events!B:H,7,FALSE))","v":""},{"$f":"'Input Results'!M284","v":""},{"$f":"'Input Results'!P284","v":""},{"$f":"'Input Results'!Q284","v":0},{"$f":"H70+G72","v":0},{"$f":"'Input Results'!M285","v":""},{"$f":"'Input Results'!P285","v":""},{"$f":"'Input Results'!Q285","v":0},{"$f":"L70+K72","v":0},{"$f":"'Input Results'!M286","v":""},{"$f":"'Input Results'!P286","v":""},{"$f":"'Input Results'!Q286","v":0},{"$f":"P70+O72","v":0},{"$f":"'Input Results'!M287","v":""},{"$f":"'Input Results'!P287","v":""},{"$f":"'Input Results'!Q287","v":0},{"$f":"T70+S72","v":0},{"$f":"'Input Results'!M288","v":""},{"$f":"'Input Results'!P288","v":""},{"$f":"'Input Results'!Q288","v":0},{"$f":"X70+W72","v":0},{"$f":"'Input Results'!M289","v":""},{"$f":"'Input Results'!P289","v":""},{"$f":"'Input Results'!Q289","v":0},{"$f":"AB70+AA72","v":0},{"$f":"'Input Results'!M290","v":""},{"$f":"'Input Results'!P290","v":""},{"$f":"'Input Results'!Q290","v":0},{"$f":"AF70+AE72","v":0},{"$f":"'Input Results'!M291","v":""},{"$f":"'Input Results'!P291","v":""},{"$f":"'Input Results'!Q291","v":0},{"$f":"AJ70+AI72","v":0}]
[null,{"$f":"Events!I35","v":33},32,{"$f":"IF(VLOOKUP(B73,Events!B:G,6,FALSE)=\"\",\"\",VLOOKUP(B73,Events!B:G,6,FALSE))","v":"   "},{"$f":"PROPER('Input Results'!I293)","v":""},null,null,null,{"$f":"PROPER('Input Results'!I294)","v":""},null,null,null,{"$f":"PROPER('Input Results'!I295)","v":""},null,null,null,{"$f":"PROPER('Input Results'!I296)","v":""},null,null,null,{"$f":"PROPER('Input Results'!I297)","v":""},null,null,null,{"$f":"PROPER('Input Results'!I298)","v":""},null,null,null,{"$f":"PROPER('Input Results'!I299)","v":""},null,null,null,{"$f":"PROPER('Input Results'!I300)","v":""}]
[null,{"$f":"B73","v":33},{"$f":"B73","v":33},{"$f":"IF(VLOOKUP(B73,Events!B:H,7,FALSE)=\"\",\"\",VLOOKUP(B73,Events!B:H,7,FALSE))","v":""},{"$f":"'Input Results'!M293","v":""},{"$f":"'Input Results'!P293","v":""},{"$f":"'Input Results'!Q293","v":0},{"$f":"H72+G74","v":0},{"$f":"'Input Results'!M294","v":""},{"$f":"'Input Results'!P294","v":""},{"$f":"'Input Results'!Q294","v":0},{"$f":"L72+K74","v":0},{"$f":"'Input Results'!M295","v":""},{"$f":"'Input Results'!P295","v":""},{"$f":"'Input Results'!Q295","v":0},{"$f":"P72+O74","v":0},{"$f":"'Input Results'!M296","v":""},{"$f":"'Input Results'!P296","v":""},{"$f":"'Input Results'!Q296","v":0},{"$f":"T72+S74","v":0},{"$f":"'Input Results'!M297","v":""},{"$f":"'Input Results'!P297","v":""},{"$f":"'Input Results'!Q297","v":0},{"$f":"X72+W74","v":0},{"$f":"'Input Results'!M298","v":""},{"$f":"'Input Results'!P298","v":""},{"$f":"'Input Results'!Q298","v":0},{"$f":"AB72+AA74","v":0},{"$f":"'Input Results'!M299","v":""},{"$f":"'Input Results'!P299","v":""},{"$f":"'Input Results'!Q299","v":0},{"$f":"AF72+AE74","v":0},{"$f":"'Input Results'!M300","v":""},{"$f":"'Input Results'!P300","v":""},{"$f":"'Input Results'!Q300","v":0},{"$f":"AJ72+AI74","v":0}]
[null,{"$f":"Events!I36","v":34},33,{"$f":"IF(VLOOKUP(B75,Events!B:G,6,FALSE)=\"\",\"\",VLOOKUP(B75,Events!B:G,6,FALSE))","v":"   "},{"$f":"PROPER('Input Results'!I302)","v":""},null,null,null,{"$f":"PROPER('Input Results'!I303)","v":""},null,null,null,{"$f":"PROPER('Input Results'!I304)","v":""},null,null,null,{"$f":"PROPER('Input Results'!I305)","v":""},null,null,null,{"$f":"PROPER('Input Results'!I306)","v":""},null,null,null,{"$f":"PROPER('Input Results'!I307)","v":""},null,null,null,{"$f":"PROPER('Input Results'!I308)","v":""},null,null,null,{"$f":"PROPER('Input Results'!I309)","v":""}]
[null,{"$f":"B75","v":34},34,{"$f":"IF(VLOOKUP(B75,Events!B:H,7,FALSE)=\"\",\"\",VLOOKUP(B75,Events!B:H,7,FALSE))","v":""},{"$f":"'Input Results'!M302","v":""},{"$f":"'Input Results'!P302","v":""},{"$f":"'Input Results'!Q302","v":0},{"$f":"H74+G76","v":0},{"$f":"'Input Results'!M303","v":""},{"$f":"'Input Results'!P303","v":""},{"$f":"'Input Results'!Q303","v":0},{"$f":"L74+K76","v":0},{"$f":"'Input Results'!M304","v":""},{"$f":"'Input Results'!P304","v":""},{"$f":"'Input Results'!Q304","v":0},{"$f":"P74+O76","v":0},{"$f":"'Input Results'!M305","v":""},{"$f":"'Input Results'!P305","v":""},{"$f":"'Input Results'!Q305","v":0},{"$f":"T74+S76","v":0},{"$f":"'Input Results'!M306","v":""},{"$f":"'Input Results'!P306","v":""},{"$f":"'Input Results'!Q306","v":0},{"$f":"X74+W76","v":0},{"$f":"'Input Results'!M307","v":""},{"$f":"'Input Results'!P307","v":""},{"$f":"'Input Results'!Q307","v":0},{"$f":"AB74+AA76","v":0},{"$f":"'Input Results'!M308","v":""},{"$f":"'Input Results'!P308","v":""},{"$f":"'Input Results'!Q308","v":0},{"$f":"AF74+AE76","v":0},{"$f":"'Input Results'!M309","v":""},{"$f":"'Input Results'!P309","v":""},{"$f":"'Input Results'!Q309","v":0},{"$f":"AJ74+AI76","v":0}]
[null,{"$f":"Events!I37","v":35},34,{"$f":"IF(VLOOKUP(B77,Events!B:G,6,FALSE)=\"\",\"\",VLOOKUP(B77,Events!B:G,6,FALSE))","v":"   "},{"$f":"PROPER('Input Results'!I311)","v":""},null,null,null,{"$f":"PROPER('Input Results'!I312)","v":""},null,null,null,{"$f":"PROPER('Input Results'!I313)","v":""},null,null,null,{"$f":"PROPER('Input Results'!I314)","v":""},null,null,null,{"$f":"PROPER('Input Results'!I315)","v":""},null,null,null,{"$f":"PROPER('Input Results'!I316)","v":""},null,null,null,{"$f":"PROPER('Input Results'!I317)","v":""},null,null,null,{"$f":"PROPER('Input Results'!I318)","v":""}]
[null,{"$f":"B77","v":35},35,{"$f":"IF(VLOOKUP(B77,Events!B:H,7,FALSE)=\"\",\"\",VLOOKUP(B77,Events!B:H,7,FALSE))","v":""},{"$f":"'Input Results'!M311","v":""},{"$f":"'Input Results'!P311","v":""},{"$f":"'Input Results'!Q311","v":0},{"$f":"H76+G78","v":0},{"$f":"'Input Results'!M312","v":""},{"$f":"'Input Results'!P312","v":""},{"$f":"'Input Results'!Q312","v":0},{"$f":"L76+K78","v":0},{"$f":"'Input Results'!M313","v":""},{"$f":"'Input Results'!P313","v":""},{"$f":"'Input Results'!Q313","v":0},{"$f":"P76+O78","v":0},{"$f":"'Input Results'!M314","v":""},{"$f":"'Input Results'!P314","v":""},{"$f":"'Input Results'!Q314","v":0},{"$f":"T76+S78","v":0},{"$f":"'Input Results'!M315","v":""},{"$f":"'Input Results'!P315","v":""},{"$f":"'Input Results'!Q315","v":0},{"$f":"X76+W78","v":0},{"$f":"'Input Results'!M316","v":""},{"$f":"'Input Results'!P316","v":""},{"$f":"'Input Results'!Q316","v":0},{"$f":"AB76+AA78","v":0},{"$f":"'Input Results'!M317","v":""},{"$f":"'Input Results'!P317","v":""},{"$f":"'Input Results'!Q317","v":0},{"$f":"AF76+AE78","v":0},{"$f":"'Input Results'!M318","v":""},{"$f":"'Input Results'!P318","v":""},{"$f":"'Input Results'!Q318","v":0},{"$f":"AJ76+AI78","v":0}]
[null,{"$f":"Events!I38","v":36},35,{"$f":"IF(VLOOKUP(B79,Events!B:G,6,FALSE)=\"\",\"\",VLOOKUP(B79,Events!B:G,6,FALSE))","v":"   "},{"$f":"PROPER('Input Results'!I320)","v":""},null,null,null,{"$f":"PROPER('Input Results'!I321)","v":""},null,null,null,{"$f":"PROPER('Input Results'!I322)","v":""},null,null,null,{"$f":"PROPER('Input Results'!I323)","v":""},null,null,null,{"$f":"PROPER('Input Results'!I324)","v":""},null,null,null,{"$f":"PROPER('Input Results'!I325)","v":""},null,null,null,{"$f":"PROPER('Input Results'!I326)","v":""},null,null,null,{"$f":"PROPER('Input Results'!I327)","v":""}]
[null,{"$f":"B79","v":36},36,{"$f":"IF(VLOOKUP(B79,Events!B:H,7,FALSE)=\"\",\"\",VLOOKUP(B79,Events!B:H,7,FALSE))","v":""},{"$f":"'Input Results'!M320","v":""},{"$f":"'Input Results'!P320","v":""},{"$f":"'Input Results'!Q320","v":0},{"$f":"H78+G80","v":0},{"$f":"'Input Results'!M321","v":""},{"$f":"'Input Results'!P321","v":""},{"$f":"'Input Results'!Q321","v":0},{"$f":"L78+K80","v":0},{"$f":"'Input Results'!M322","v":""},{"$f":"'Input Results'!P322","v":""},{"$f":"'Input Results'!Q322","v":0},{"$f":"P78+O80","v":0},{"$f":"'Input Results'!M323","v":""},{"$f":"'Input Results'!P323","v":""},{"$f":"'Input Results'!Q323","v":0},{"$f":"T78+S80","v":0},{"$f":"'Input Results'!M324","v":""},{"$f":"'Input Results'!P324","v":""},{"$f":"'Input Results'!Q324","v":0},{"$f":"X78+W80","v":0},{"$f":"'Input Results'!M325","v":""},{"$f":"'Input Results'!P325","v":""},{"$f":"'Input Results'!Q325","v":0},{"$f":"AB78+AA80","v":0},{"$f":"'Input Results'!M326","v":""},{"$f":"'Input Results'!P326","v":""},{"$f":"'Input Results'!Q326","v":0},{"$f":"AF78+AE80","v":0},{"$f":"'Input Results'!M327","v":""},{"$f":"'Input Results'!P327","v":""},{"$f":"'Input Results'!Q327","v":0},{"$f":"AJ78+AI80","v":0}]
[null,{"$f":"Events!I39","v":37},36,{"$f":"IF(VLOOKUP(B81,Events!B:G,6,FALSE)=\"\",\"\",VLOOKUP(B81,Events!B:G,6,FALSE))","v":"   "},{"$f":"PROPER('Input Results'!I329)","v":""},null,null,null,{"$f":"PROPER('Input Results'!I330)","v":""},null,null,null,{"$f":"PROPER('Input Results'!I331)","v":""},null,null,null,{"$f":"PROPER('Input Results'!I332)","v":""},null,null,null,{"$f":"PROPER('Input Results'!I333)","v":""},null,null,null,{"$f":"PROPER('Input Results'!I334)","v":""},null,null,null,{"$f":"PROPER('Input Results'!I335)","v":""},null,null,null,{"$f":"PROPER('Input Results'!I336)","v":""}]
[null,{"$f":"B81","v":37},37,{"$f":"IF(VLOOKUP(B81,Events!B:H,7,FALSE)=\"\",\"\",VLOOKUP(B81,Events!B:H,7,FALSE))","v":""},{"$f":"'Input Results'!M329","v":""},{"$f":"'Input Results'!P329","v":""},{"$f":"'Input Results'!Q329","v":0},{"$f":"H80+G82","v":0},{"$f":"'Input Results'!M330","v":""},{"$f":"'Input Results'!P330","v":""},{"$f":"'Input Results'!Q330","v":0},{"$f":"L80+K82","v":0},{"$f":"'Input Results'!M331","v":""},{"$f":"'Input Results'!P331","v":""},{"$f":"'Input Results'!Q331","v":0},{"$f":"P80+O82","v":0},{"$f":"'Input Results'!M332","v":""},{"$f":"'Input Results'!P332","v":""},{"$f":"'Input Results'!Q332","v":0},{"$f":"T80+S82","v":0},{"$f":"'Input Results'!M333","v":""},{"$f":"'Input Results'!P333","v":""},{"$f":"'Input Results'!Q333","v":0},{"$f":"X80+W82","v":0},{"$f":"'Input Results'!M334","v":""},{"$f":"'Input Results'!P334","v":""},{"$f":"'Input Results'!Q334","v":0},{"$f":"AB80+AA82","v":0},{"$f":"'Input Results'!M335","v":""},{"$f":"'Input Results'!P335","v":""},{"$f":"'Input Results'!Q335","v":0},{"$f":"AF80+AE82","v":0},{"$f":"'Input Results'!M336","v":""},{"$f":"'Input Results'!P336","v":""},{"$f":"'Input Results'!Q336","v":0},{"$f":"AJ80+AI82","v":0}]
[null,{"$f":"Events!I40","v":38},{"$f":"B82","v":37},{"$f":"IF(VLOOKUP(B83,Events!B:G,6,FALSE)=\"\",\"\",VLOOKUP(B83,Events!B:G,6,FALSE))","v":"   "},{"$f":"PROPER('Input Results'!I338)","v":""},null,null,null,{"$f":"PROPER('Input Results'!I339)","v":""},null,null,null,{"$f":"PROPER('Input Results'!I340)","v":""},null,null,null,{"$f":"PROPER('Input Results'!I341)","v":""},null,null,null,{"$f":"PROPER('Input Results'!I342)","v":""},null,null,null,{"$f":"PROPER('Input Results'!I343)","v":""},null,null,null,{"$f":"PROPER('Input Results'!I344)","v":""},null,null,null,{"$f":"PROPER('Input Results'!I345)","v":""}]
[null,{"$f":"B83","v":38},{"$f":"B83","v":38},{"$f":"IF(VLOOKUP(B83,Events!B:H,7,FALSE)=\"\",\"\",VLOOKUP(B83,Events!B:H,7,FALSE))","v":""},{"$f":"'Input Results'!M338","v":""},{"$f":"'Input Results'!P338","v":""},{"$f":"'Input Results'!Q338","v":0},{"$f":"H82+G84","v":0},{"$f":"'Input Results'!M339","v":""},{"$f":"'Input Results'!P339","v":""},{"$f":"'Input Results'!Q339","v":0},{"$f":"L82+K84","v":0},{"$f":"'Input Results'!M340","v":""},{"$f":"'Input Results'!P340","v":""},{"$f":"'Input Results'!Q340","v":0},{"$f":"P82+O84","v":0},{"$f":"'Input Results'!M341","v":""},{"$f":"'Input Results'!P341","v":""},{"$f":"'Input Results'!Q341","v":0},{"$f":"T82+S84","v":0},{"$f":"'Input Results'!M342","v":""},{"$f":"'Input Results'!P342","v":""},{"$f":"'Input Results'!Q342","v":0},{"$f":"X82+W84","v":0},{"$f":"'Input Results'!M343","v":""},{"$f":"'Input Results'!P343","v":""},{"$f":"'Input Results'!Q343","v":0},{"$f":"AB82+AA84","v":0},{"$f":"'Input Results'!M344","v":""},{"$f":"'Input Results'!P344","v":""},{"$f":"'Input Results'!Q344","v":0},{"$f":"AF82+AE84","v":0},{"$f":"'Input Results'!M345","v":""},{"$f":"'Input Results'!P345","v":""},{"$f":"'Input Results'!Q345","v":0},{"$f":"AJ82+AI84","v":0}]
[null,{"$f":"Events!I41","v":39},38,{"$f":"IF(VLOOKUP(B85,Events!B:G,6,FALSE)=\"\",\"\",VLOOKUP(B85,Events!B:G,6,FALSE))","v":"   "},{"$f":"PROPER('Input Results'!I347)","v":""},null,null,null,{"$f":"PROPER('Input Results'!I348)","v":""},null,null,null,{"$f":"PROPER('Input Results'!I349)","v":""},null,null,null,{"$f":"PROPER('Input Results'!I350)","v":""},null,null,null,{"$f":"PROPER('Input Results'!I351)","v":""},null,null,null,{"$f":"PROPER('Input Results'!I352)","v":""},null,null,null,{"$f":"PROPER('Input Results'!I353)","v":""},null,null,null,{"$f":"PROPER('Input Results'!I354)","v":""}]
[null,{"$f":"B85","v":39},39,{"$f":"IF(VLOOKUP(B85,Events!B:H,7,FALSE)=\"\",\"\",VLOOKUP(B85,Events!B:H,7,FALSE))","v":""},{"$f":"'Input Results'!M347","v":""},{"$f":"'Input Results'!P347","v":""},{"$f":"'Input Results'!Q347","v":0},{"$f":"H84+G86","v":0},{"$f":"'Input Results'!M348","v":""},{"$f":"'Input Results'!P348","v":""},{"$f":"'Input Results'!Q348","v":0},{"$f":"L84+K86","v":0},{"$f":"'Input Results'!M349","v":""},{"$f":"'Input Results'!P349","v":""},{"$f":"'Input Results'!Q349","v":0},{"$f":"P84+O86","v":0},{"$f":"'Input Results'!M350","v":""},{"$f":"'Input Results'!P350","v":""},{"$f":"'Input Results'!Q350","v":0},{"$f":"T84+S86","v":0},{"$f":"'Input Results'!M351","v":""},{"$f":"'Input Results'!P351","v":""},{"$f":"'Input Results'!Q351","v":0},{"$f":"X84+W86","v":0},{"$f":"'Input Results'!M352","v":""},{"$f":"'Input Results'!P352","v":""},{"$f":"'Input Results'!Q352","v":0},{"$f":"AB84+AA86","v":0},{"$f":"'Input Results'!M353","v":""},{"$f":"'Input Results'!P353","v":""},{"$f":"'Input Results'!Q353","v":0},{"$f":"AF84+AE86","v":0},{"$f":"'Input Results'!M354","v":""},{"$f":"'Input Results'!P354","v":""},{"$f":"'Input Results'!Q354","v":0},{"$f":"AJ84+AI86","v":0}]
[null,{"$f":"Events!I42","v":40},39,{"$f":"IF(VLOOKUP(B87,Events!B:G,6,FALSE)=\"\",\"\",VLOOKUP(B87,Events!B:G,6,FALSE))","v":"   "},{"$f":"PROPER('Input Results'!I356)","v":""},null,null,null,{"$f":"PROPER('Input Results'!I357)","v":""},null,null,null,{"$f":"PROPER('Input Results'!I358)","v":""},null,null,null,{"$f":"PROPER('Input Results'!I359)","v":""},null,null,null,{"$f":"PROPER('Input Results'!I360)","v":""},null,null,null,{"$f":"PROPER('Input Results'!I361)","v":""},null,null,null,{"$f":"PROPER('Input Results'!I362)","v":""},null,null,null,{"$f":"PROPER('Input Results'!I363)","v":""}]
[null,{"$f":"B87","v":40},40,{"$f":"IF(VLOOKUP(B87,Events!B:H,7,FALSE)=\"\",\"\",VLOOKUP(B87,Events!B:H,7,FALSE))","v":""},{"$f":"'Input Results'!M356","v":""},{"$f":"'Input Results'!P356","v":""},{"$f":"'Input Results'!Q356","v":0},{"$f":"H86+G88","v":0},{"$f":"'Input Results'!M357","v":""},{"$f":"'Input Results'!P357","v":""},{"$f":"'Input Results'!Q357","v":0},{"$f":"L86+K88","v":0},{"$f":"'Input Results'!M358","v":""},{"$f":"'Input Results'!P358","v":""},{"$f":"'Input Results'!Q358","v":0},{"$f":"P86+O88","v":0},{"$f":"'Input Results'!M359","v":""},{"$f":"'Input Results'!P359","v":""},{"$f":"'Input Results'!Q359","v":0},{"$f":"T86+S88","v":0},{"$f":"'Input Results'!M360","v":""},{"$f":"'Input Results'!P360","v":""},{"$f":"'Input Results'!Q360","v":0},{"$f":"X86+W88","v":0},{"$f":"'Input Results'!M361","v":""},{"$f":"'Input Results'!P361","v":""},{"$f":"'Input Results'!Q361","v":0},{"$f":"AB86+AA88","v":0},{"$f":"'Input Results'!M362","v":""},{"$f":"'Input Results'!P362","v":""},{"$f":"'Input Results'!Q362","v":0},{"$f":"AF86+AE88","v":0},{"$f":"'Input Results'!M363","v":""},{"$f":"'Input Results'!P363","v":""},{"$f":"'Input Results'!Q363","v":0},{"$f":"AJ86+AI88","v":0}]
[null,{"$f":"Events!I43","v":41},40,{"$f":"IF(VLOOKUP(B89,Events!B:G,6,FALSE)=\"\",\"\",VLOOKUP(B89,Events!B:G,6,FALSE))","v":"   "},{"$f":"PROPER('Input Results'!I365)","v":""},null,null,null,{"$f":"PROPER('Input Results'!I366)","v":""},null,null,null,{"$f":"PROPER('Input Results'!I367)","v":""},null,null,null,{"$f":"PROPER('Input Results'!I368)","v":""},null,null,null,{"$f":"PROPER('Input Results'!I369)","v":""},null,null,null,{"$f":"PROPER('Input Results'!I370)","v":""},null,null,null,{"$f":"PROPER('Input Results'!I371)","v":""},null,null,null,{"$f":"PROPER('Input Results'!I372)","v":""}]
[null,{"$f":"B89","v":41},41,{"$f":"IF(VLOOKUP(B89,Events!B:H,7,FALSE)=\"\",\"\",VLOOKUP(B89,Events!B:H,7,FALSE))","v":""},{"$f":"'Input Results'!M365","v":""},{"$f":"'Input Results'!P365","v":""},{"$f":"'Input Results'!Q365","v":0},{"$f":"H88+G90","v":0},{"$f":"'Input Results'!M366","v":""},{"$f":"'Input Results'!P366","v":""},{"$f":"'Input Results'!Q366","v":0},{"$f":"L88+K90","v":0},{"$f":"'Input Results'!M367","v":""},{"$f":"'Input Results'!P367","v":""},{"$f":"'Input Results'!Q367","v":0},{"$f":"P88+O90","v":0},{"$f":"'Input Results'!M368","v":""},{"$f":"'Input Results'!P368","v":""},{"$f":"'Input Results'!Q368","v":0},{"$f":"T88+S90","v":0},{"$f":"'Input Results'!M369","v":""},{"$f":"'Input Results'!P369","v":""},{"$f":"'Input Results'!Q369","v":0},{"$f":"X88+W90","v":0},{"$f":"'Input Results'!M370","v":""},{"$f":"'Input Results'!P370","v":""},{"$f":"'Input Results'!Q370","v":0},{"$f":"AB88+AA90","v":0},{"$f":"'Input Results'!M371","v":""},{"$f":"'Input Results'!P371","v":""},{"$f":"'Input Results'!Q371","v":0},{"$f":"AF88+AE90","v":0},{"$f":"'Input Results'!M372","v":""},{"$f":"'Input Results'!P372","v":""},{"$f":"'Input Results'!Q372","v":0},{"$f":"AJ88+AI90","v":0}]
[null,{"$f":"Events!I44","v":42},41,{"$f":"IF(VLOOKUP(B91,Events!B:G,6,FALSE)=\"\",\"\",VLOOKUP(B91,Events!B:G,6,FALSE))","v":"   "},{"$f":"PROPER('Input Results'!I374)","v":""},null,null,null,{"$f":"PROPER('Input Results'!I375)","v":""},null,null,null,{"$f":"PROPER('Input Results'!I376)","v":""},null,null,null,{"$f":"PROPER('Input Results'!I377)","v":""},null,null,null,{"$f":"PROPER('Input Results'!I378)","v":""},null,null,null,{"$f":"PROPER('Input Results'!I379)","v":""},null,null,null,{"$f":"PROPER('Input Results'!I380)","v":""},null,null,null,{"$f":"PROPER('Input Results'!I381)","v":""}]
[null,{"$f":"B91","v":42},42,{"$f":"IF(VLOOKUP(B91,Events!B:H,7,FALSE)=\"\",\"\",VLOOKUP(B91,Events!B:H,7,FALSE))","v":""},{"$f":"'Input Results'!M374","v":""},{"$f":"'Input Results'!P374","v":""},{"$f":"'Input Results'!Q374","v":0},{"$f":"H90+G92","v":0},{"$f":"'Input Results'!M375","v":""},{"$f":"'Input Results'!P375","v":""},{"$f":"'Input Results'!Q375","v":0},{"$f":"L90+K92","v":0},{"$f":"'Input Results'!M376","v":""},{"$f":"'Input Results'!P376","v":""},{"$f":"'Input Results'!Q376","v":0},{"$f":"P90+O92","v":0},{"$f":"'Input Results'!M377","v":""},{"$f":"'Input Results'!P377","v":""},{"$f":"'Input Results'!Q377","v":0},{"$f":"T90+S92","v":0},{"$f":"'Input Results'!M378","v":""},{"$f":"'Input Results'!P378","v":""},{"$f":"'Input Results'!Q378","v":0},{"$f":"X90+W92","v":0},{"$f":"'Input Results'!M379","v":""},{"$f":"'Input Results'!P379","v":""},{"$f":"'Input Results'!Q379","v":0},{"$f":"AB90+AA92","v":0},{"$f":"'Input Results'!M380","v":""},{"$f":"'Input Results'!P380","v":""},{"$f":"'Input Results'!Q380","v":0},{"$f":"AF90+AE92","v":0},{"$f":"'Input Results'!M381","v":""},{"$f":"'Input Results'!P381","v":""},{"$f":"'Input Results'!Q381","v":0},{"$f":"AJ90+AI92","v":0}]
[null,{"$f":"Events!I45","v":43},42,{"$f":"IF(VLOOKUP(B93,Events!B:G,6,FALSE)=\"\",\"\",VLOOKUP(B93,Events!B:G,6,FALSE))","v":"   "},{"$f":"PROPER('Input Results'!I383)","v":""},null,null,null,{"$f":"PROPER('Input Results'!I384)","v":""},null,null,null,{"$f":"PROPER('Input Results'!I385)","v":""},null,null,null,{"$f":"PROPER('Input Results'!I386)","v":""},null,null,null,{"$f":"PROPER('Input Results'!I387)","v":""},null,null,null,{"$f":"PROPER('Input Results'!I388)","v":""},null,null,null,{"$f":"PROPER('Input Results'!I389)","v":""},null,null,null,{"$f":"PROPER('Input Results'!I390)","v":""}]
[null,{"$f":"B93","v":43},43,{"$f":"IF(VLOOKUP(B93,Events!B:H,7,FALSE)=\"\",\"\",VLOOKUP(B93,Events!B:H,7,FALSE))","v":""},{"$f":"'Input Results'!M383","v":""},{"$f":"'Input Results'!P383","v":""},{"$f":"'Input Results'!Q383","v":0},{"$f":"H92+G94","v":0},{"$f":"'Input Results'!M384","v":""},{"$f":"'Input Results'!P384","v":""},{"$f":"'Input Results'!Q384","v":0},{"$f":"L92+K94","v":0},{"$f":"'Input Results'!M385","v":""},{"$f":"'Input Results'!P385","v":""},{"$f":"'Input Results'!Q385","v":0},{"$f":"P92+O94","v":0},{"$f":"'Input Results'!M386","v":""},{"$f":"'Input Results'!P386","v":""},{"$f":"'Input Results'!Q386","v":0},{"$f":"T92+S94","v":0},{"$f":"'Input Results'!M387","v":""},{"$f":"'Input Results'!P387","v":""},{"$f":"'Input Results'!Q387","v":0},{"$f":"X92+W94","v":0},{"$f":"'Input Results'!M388","v":""},{"$f":"'Input Results'!P388","v":""},{"$f":"'Input Results'!Q388","v":0},{"$f":"AB92+AA94","v":0},{"$f":"'Input Results'!M389","v":""},{"$f":"'Input Results'!P389","v":""},{"$f":"'Input Results'!Q389","v":0},{"$f":"AF92+AE94","v":0},{"$f":"'Input Results'!M390","v":""},{"$f":"'Input Results'!P390","v":""},{"$f":"'Input Results'!Q390","v":0},{"$f":"AJ92+AI94","v":0}]
[null,{"$f":"Events!I46","v":44},43,{"$f":"IF(VLOOKUP(B95,Events!B:G,6,FALSE)=\"\",\"\",VLOOKUP(B95,Events!B:G,6,FALSE))","v":"   "},{"$f":"PROPER('Input Results'!I392)","v":""},null,null,null,{"$f":"PROPER('Input Results'!I393)","v":""},null,null,null,{"$f":"PROPER('Input Results'!I394)","v":""},null,null,null,{"$f":"PROPER('Input Results'!I395)","v":""},null,null,null,{"$f":"PROPER('Input Results'!I396)","v":""},null,null,null,{"$f":"PROPER('Input Results'!I397)","v":""},null,null,null,{"$f":"PROPER('Input Results'!I398)","v":""},null,null,null,{"$f":"PROPER('Input Results'!I399)","v":""}]
[null,{"$f":"B95","v":44},44,{"$f":"IF(VLOOKUP(B95,Events!B:H,7,FALSE)=\"\",\"\",VLOOKUP(B95,Events!B:H,7,FALSE))","v":""},{"$f":"'Input Results'!M392","v":""},{"$f":"'Input Results'!P392","v":""},{"$f":"'Input Results'!Q392","v":0},{"$f":"H94+G96","v":0},{"$f":"'Input Results'!M393","v":""},{"$f":"'Input Results'!P393","v":""},{"$f":"'Input Results'!Q393","v":0},{"$f":"L94+K96","v":0},{"$f":"'Input Results'!M394","v":""},{"$f":"'Input Results'!P394","v":""},{"$f":"'Input Results'!Q394","v":0},{"$f":"P94+O96","v":0},{"$f":"'Input Results'!M395","v":""},{"$f":"'Input Results'!P395","v":""},{"$f":"'Input Results'!Q395","v":0},{"$f":"T94+S96","v":0},{"$f":"'Input Results'!M396","v":""},{"$f":"'Input Results'!P396","v":""},{"$f":"'Input Results'!Q396","v":0},{"$f":"X94+W96","v":0},{"$f":"'Input Results'!M397","v":""},{"$f":"'Input Results'!P397","v":""},{"$f":"'Input Results'!Q397","v":0},{"$f":"AB94+AA96","v":0},{"$f":"'Input Results'!M398","v":""},{"$f":"'Input Results'!P398","v":""},{"$f":"'Input Results'!Q398","v":0},{"$f":"AF94+AE96","v":0},{"$f":"'Input Results'!M399","v":""},{"$f":"'Input Results'!P399","v":""},{"$f":"'Input Results'!Q399","v":0},{"$f":"AJ94+AI96","v":0}]
[null,{"$f":"Events!I47","v":45},44,{"$f":"IF(VLOOKUP(B97,Events!B:G,6,FALSE)=\"\",\"\",VLOOKUP(B97,Events!B:G,6,FALSE))","v":"   "},{"$f":"PROPER('Input Results'!I401)","v":""},null,null,null,{"$f":"PROPER('Input Results'!I402)","v":""},null,null,null,{"$f":"PROPER('Input Results'!I403)","v":""},null,null,null,{"$f":"PROPER('Input Results'!I404)","v":""},null,null,null,{"$f":"PROPER('Input Results'!I405)","v":""},null,null,null,{"$f":"PROPER('Input Results'!I406)","v":""},null,null,null,{"$f":"PROPER('Input Results'!I407)","v":""},null,null,null,{"$f":"PROPER('Input Results'!I408)","v":""}]
[null,{"$f":"B97","v":45},45,{"$f":"IF(VLOOKUP(B97,Events!B:H,7,FALSE)=\"\",\"\",VLOOKUP(B97,Events!B:H,7,FALSE))","v":""},{"$f":"'Input Results'!M401","v":""},{"$f":"'Input Results'!P401","v":""},{"$f":"'Input Results'!Q401","v":0},{"$f":"H96+G98","v":0},{"$f":"'Input Results'!M402","v":""},{"$f":"'Input Results'!P402","v":""},{"$f":"'Input Results'!Q402","v":0},{"$f":"L96+K98","v":0},{"$f":"'Input Results'!M403","v":""},{"$f":"'Input Results'!P403","v":""},{"$f":"'Input Results'!Q403","v":0},{"$f":"P96+O98","v":0},{"$f":"'Input Results'!M404","v":""},{"$f":"'Input Results'!P404","v":""},{"$f":"'Input Results'!Q404","v":0},{"$f":"T96+S98","v":0},{"$f":"'Input Results'!M405","v":""},{"$f":"'Input Results'!P405","v":""},{"$f":"'Input Results'!Q405","v":0},{"$f":"X96+W98","v":0},{"$f":"'Input Results'!M406","v":""},{"$f":"'Input Results'!P406","v":""},{"$f":"'Input Results'!Q406","v":0},{"$f":"AB96+AA98","v":0},{"$f":"'Input Results'!M407","v":""},{"$f":"'Input Results'!P407","v":""},{"$f":"'Input Results'!Q407","v":0},{"$f":"AF96+AE98","v":0},{"$f":"'Input Results'!M408","v":""},{"$f":"'Input Results'!P408","v":""},{"$f":"'Input Results'!Q408","v":0},{"$f":"AJ96+AI98","v":0}]
[null,{"$f":"Events!I48","v":46},45,{"$f":"IF(VLOOKUP(B99,Events!B:G,6,FALSE)=\"\",\"\",VLOOKUP(B99,Events!B:G,6,FALSE))","v":"   "},{"$f":"PROPER('Input Results'!I410)","v":""},null,null,null,{"$f":"PROPER('Input Results'!I411)","v":""},null,null,null,{"$f":"PROPER('Input Results'!I412)","v":""},null,null,null,{"$f":"PROPER('Input Results'!I413)","v":""},null,null,null,{"$f":"PROPER('Input Results'!I414)","v":""},null,null,null,{"$f":"PROPER('Input Results'!I415)","v":""},null,null,null,{"$f":"PROPER('Input Results'!I416)","v":""},null,null,null,{"$f":"PROPER('Input Results'!I417)","v":""}]
[null,{"$f":"B99","v":46},46,{"$f":"IF(VLOOKUP(B99,Events!B:H,7,FALSE)=\"\",\"\",VLOOKUP(B99,Events!B:H,7,FALSE))","v":""},{"$f":"'Input Results'!M410","v":""},{"$f":"'Input Results'!P410","v":""},{"$f":"'Input Results'!Q410","v":0},{"$f":"H98+G100","v":0},{"$f":"'Input Results'!M411","v":""},{"$f":"'Input Results'!P411","v":""},{"$f":"'Input Results'!Q411","v":0},{"$f":"L98+K100","v":0},{"$f":"'Input Results'!M412","v":""},{"$f":"'Input Results'!P412","v":""},{"$f":"'Input Results'!Q412","v":0},{"$f":"P98+O100","v":0},{"$f":"'Input Results'!M413","v":""},{"$f":"'Input Results'!P413","v":""},{"$f":"'Input Results'!Q413","v":0},{"$f":"T98+S100","v":0},{"$f":"'Input Results'!M414","v":""},{"$f":"'Input Results'!P414","v":""},{"$f":"'Input Results'!Q414","v":0},{"$f":"X98+W100","v":0},{"$f":"'Input Results'!M415","v":""},{"$f":"'Input Results'!P415","v":""},{"$f":"'Input Results'!Q415","v":0},{"$f":"AB98+AA100","v":0},{"$f":"'Input Results'!M416","v":""},{"$f":"'Input Results'!P416","v":""},{"$f":"'Input Results'!Q416","v":0},{"$f":"AF98+AE100","v":0},{"$f":"'Input Results'!M417","v":""},{"$f":"'Input Results'!P417","v":""},{"$f":"'Input Results'!Q417","v":0},{"$f":"AJ98+AI100","v":0}]
[null,{"$f":"Events!I49","v":47},46,{"$f":"IF(VLOOKUP(B101,Events!B:G,6,FALSE)=\"\",\"\",VLOOKUP(B101,Events!B:G,6,FALSE))","v":"   "},{"$f":"PROPER('Input Results'!I419)","v":""},null,null,null,{"$f":"PROPER('Input Results'!I420)","v":""},null,null,null,{"$f":"PROPER('Input Results'!I421)","v":""},null,null,null,{"$f":"PROPER('Input Results'!I422)","v":""},null,null,null,{"$f":"PROPER('Input Results'!I423)","v":""},null,null,null,{"$f":"PROPER('Input Results'!I424)","v":""},null,null,null,{"$f":"PROPER('Input Results'!I425)","v":""},null,null,null,{"$f":"PROPER('Input Results'!I426)","v":""}]
[null,{"$f":"B101","v":47},47,{"$f":"IF(VLOOKUP(B101,Events!B:H,7,FALSE)=\"\",\"\",VLOOKUP(B101,Events!B:H,7,FALSE))","v":""},{"$f":"'Input Results'!M419","v":""},{"$f":"'Input Results'!P419","v":""},{"$f":"'Input Results'!Q419","v":0},{"$f":"H100+G102","v":0},{"$f":"'Input Results'!M420","v":""},{"$f":"'Input Results'!P420","v":""},{"$f":"'Input Results'!Q420","v":0},{"$f":"L100+K102","v":0},{"$f":"'Input Results'!M421","v":""},{"$f":"'Input Results'!P421","v":""},{"$f":"'Input Results'!Q421","v":0},{"$f":"P100+O102","v":0},{"$f":"'Input Results'!M422","v":""},{"$f":"'Input Results'!P422","v":""},{"$f":"'Input Results'!Q422","v":0},{"$f":"T100+S102","v":0},{"$f":"'Input Results'!M423","v":""},{"$f":"'Input Results'!P423","v":""},{"$f":"'Input Results'!Q423","v":0},{"$f":"X100+W102","v":0},{"$f":"'Input Results'!M424","v":""},{"$f":"'Input Results'!P424","v":""},{"$f":"'Input Results'!Q424","v":0},{"$f":"AB100+AA102","v":0},{"$f":"'Input Results'!M425","v":""},{"$f":"'Input Results'!P425","v":""},{"$f":"'Input Results'!Q425","v":0},{"$f":"AF100+AE102","v":0},{"$f":"'Input Results'!M426","v":""},{"$f":"'Input Results'!P426","v":""},{"$f":"'Input Results'!Q426","v":0},{"$f":"AJ100+AI102","v":0}]
[null,{"$f":"Events!I50","v":48},47,{"$f":"IF(VLOOKUP(B103,Events!B:G,6,FALSE)=\"\",\"\",VLOOKUP(B103,Events!B:G,6,FALSE))","v":"   "},{"$f":"PROPER('Input Results'!I428)","v":""},null,null,null,{"$f":"PROPER('Input Results'!I429)","v":""},null,null,null,{"$f":"PROPER('Input Results'!I430)","v":""},null,null,null,{"$f":"PROPER('Input Results'!I431)","v":""},null,null,null,{"$f":"PROPER('Input Results'!I432)","v":""},null,null,null,{"$f":"PROPER('Input Results'!I433)","v":""},null,null,null,{"$f":"PROPER('Input Results'!I434)","v":""},null,null,null,{"$f":"PROPER('Input Results'!I435)","v":""}]
[null,{"$f":"B103","v":48},48,{"$f":"IF(VLOOKUP(B103,Events!B:H,7,FALSE)=\"\",\"\",VLOOKUP(B103,Events!B:H,7,FALSE))","v":""},{"$f":"'Input Results'!M428","v":""},{"$f":"'Input Results'!P428","v":""},{"$f":"'Input Results'!Q428","v":0},{"$f":"H102+G104","v":0},{"$f":"'Input Results'!M429","v":""},{"$f":"'Input Results'!P429","v":""},{"$f":"'Input Results'!Q429","v":0},{"$f":"L102+K104","v":0},{"$f":"'Input Results'!M430","v":""},{"$f":"'Input Results'!P430","v":""},{"$f":"'Input Results'!Q430","v":0},{"$f":"P102+O104","v":0},{"$f":"'Input Results'!M431","v":""},{"$f":"'Input Results'!P431","v":""},{"$f":"'Input Results'!Q431","v":0},{"$f":"T102+S104","v":0},{"$f":"'Input Results'!M432","v":""},{"$f":"'Input Results'!P432","v":""},{"$f":"'Input Results'!Q432","v":0},{"$f":"X102+W104","v":0},{"$f":"'Input Results'!M433","v":""},{"$f":"'Input Results'!P433","v":""},{"$f":"'Input Results'!Q433","v":0},{"$f":"AB102+AA104","v":0},{"$f":"'Input Results'!M434","v":""},{"$f":"'Input Results'!P434","v":""},{"$f":"'Input Results'!Q434","v":0},{"$f":"AF102+AE104","v":0},{"$f":"'Input Results'!M435","v":""},{"$f":"'Input Results'!P435","v":""},{"$f":"'Input Results'!Q435","v":0},{"$f":"AJ102+AI104","v":0}]
[null,{"$f":"Events!I51","v":49},48,{"$f":"IF(VLOOKUP(B105,Events!B:G,6,FALSE)=\"\",\"\",VLOOKUP(B105,Events!B:G,6,FALSE))","v":"   "},{"$f":"PROPER('Input Results'!I437)","v":""},null,null,null,{"$f":"PROPER('Input Results'!I438)","v":""},null,null,null,{"$f":"PROPER('Input Results'!I439)","v":""},null,null,null,{"$f":"PROPER('Input Results'!I440)","v":""},null,null,null,{"$f":"PROPER('Input Results'!I441)","v":""},null,null,null,{"$f":"PROPER('Input Results'!I442)","v":""},null,null,null,{"$f":"PROPER('Input Results'!I443)","v":""},null,null,null,{"$f":"PROPER('Input Results'!I444)","v":""}]
[null,{"$f":"B105","v":49},49,{"$f":"IF(VLOOKUP(B105,Events!B:H,7,FALSE)=\"\",\"\",VLOOKUP(B105,Events!B:H,7,FALSE))","v":""},{"$f":"'Input Results'!M437","v":""},{"$f":"'Input Results'!P437","v":""},{"$f":"'Input Results'!Q437","v":0},{"$f":"H104+G106","v":0},{"$f":"'Input Results'!M438","v":""},{"$f":"'Input Results'!P438","v":""},{"$f":"'Input Results'!Q438","v":0},{"$f":"L104+K106","v":0},{"$f":"'Input Results'!M439","v":""},{"$f":"'Input Results'!P439","v":""},{"$f":"'Input Results'!Q439","v":0},{"$f":"P104+O106","v":0},{"$f":"'Input Results'!M440","v":""},{"$f":"'Input Results'!P440","v":""},{"$f":"'Input Results'!Q440","v":0},{"$f":"T104+S106","v":0},{"$f":"'Input Results'!M441","v":""},{"$f":"'Input Results'!P441","v":""},{"$f":"'Input Results'!Q441","v":0},{"$f":"X104+W106","v":0},{"$f":"'Input Results'!M442","v":""},{"$f":"'Input Results'!P442","v":""},{"$f":"'Input Results'!Q442","v":0},{"$f":"AB104+AA106","v":0},{"$f":"'Input Results'!M443","v":""},{"$f":"'Input Results'!P443","v":""},{"$f":"'Input Results'!Q443","v":0},{"$f":"AF104+AE106","v":0},{"$f":"'Input Results'!M444","v":""},{"$f":"'Input Results'!P444","v":""},{"$f":"'Input Results'!Q444","v":0},{"$f":"AJ104+AI106","v":0}]
[null,{"$f":"Events!I52","v":50},49,{"$f":"IF(VLOOKUP(B107,Events!B:G,6,FALSE)=\"\",\"\",VLOOKUP(B107,Events!B:G,6,FALSE))","v":"   "},{"$f":"PROPER('Input Results'!I446)","v":""},null,null,null,{"$f":"PROPER('Input Results'!I447)","v":""},null,null,null,{"$f":"PROPER('Input Results'!I448)","v":""},null,null,null,{"$f":"PROPER('Input Results'!I449)","v":""},null,null,null,{"$f":"PROPER('Input Results'!I450)","v":""},null,null,null,{"$f":"PROPER('Input Results'!I451)","v":""},null,null,null,{"$f":"PROPER('Input Results'!I452)","v":""},null,null,null,{"$f":"PROPER('Input Results'!I453)","v":""}]
[null,{"$f":"B107","v":50},50,{"$f":"IF(VLOOKUP(B107,Events!B:H,7,FALSE)=\"\",\"\",VLOOKUP(B107,Events!B:H,7,FALSE))","v":""},{"$f":"'Input Results'!M446","v":""},{"$f":"'Input Results'!P446","v":""},{"$f":"'Input Results'!Q446","v":0},{"$f":"H106+G108","v":0},{"$f":"'Input Results'!M447","v":""},{"$f":"'Input Results'!P447","v":""},{"$f":"'Input Results'!Q447","v":0},{"$f":"L106+K108","v":0},{"$f":"'Input Results'!M448","v":""},{"$f":"'Input Results'!P448","v":""},{"$f":"'Input Results'!Q448","v":0},{"$f":"P106+O108","v":0},{"$f":"'Input Results'!M449","v":""},{"$f":"'Input Results'!P449","v":""},{"$f":"'Input Results'!Q449","v":0},{"$f":"T106+S108","v":0},{"$f":"'Input Results'!M450","v":""},{"$f":"'Input Results'!P450","v":""},{"$f":"'Input Results'!Q450","v":0},{"$f":"X106+W108","v":0},{"$f":"'Input Results'!M451","v":""},{"$f":"'Input Results'!P451","v":""},{"$f":"'Input Results'!Q451","v":0},{"$f":"AB106+AA108","v":0},{"$f":"'Input Results'!M452","v":""},{"$f":"'Input Results'!P452","v":""},{"$f":"'Input Results'!Q452","v":0},{"$f":"AF106+AE108","v":0},{"$f":"'Input Results'!M453","v":""},{"$f":"'Input Results'!P453","v":""},{"$f":"'Input Results'!Q453","v":0},{"$f":"AJ106+AI108","v":0}]
[null,{"$f":"Events!I53","v":51},50,{"$f":"IF(VLOOKUP(B109,Events!B:G,6,FALSE)=\"\",\"\",VLOOKUP(B109,Events!B:G,6,FALSE))","v":"   "},{"$f":"PROPER('Input Results'!I455)","v":""},null,null,null,{"$f":"PROPER('Input Results'!I456)","v":""},null,null,null,{"$f":"PROPER('Input Results'!I457)","v":""},null,null,null,{"$f":"PROPER('Input Results'!I458)","v":""},null,null,null,{"$f":"PROPER('Input Results'!I459)","v":""},null,null,null,{"$f":"PROPER('Input Results'!I460)","v":""},null,null,null,{"$f":"PROPER('Input Results'!I461)","v":""},null,null,null,{"$f":"PROPER('Input Results'!I462)","v":""}]
[null,{"$f":"B109","v":51},51,{"$f":"IF(VLOOKUP(B109,Events!B:H,7,FALSE)=\"\",\"\",VLOOKUP(B109,Events!B:H,7,FALSE))","v":""},{"$f":"'Input Results'!M455","v":""},{"$f":"'Input Results'!P455","v":""},{"$f":"'Input Results'!Q455","v":0},{"$f":"H108+G110","v":0},{"$f":"'Input Results'!M456","v":""},{"$f":"'Input Results'!P456","v":""},{"$f":"'Input Results'!Q456","v":0},{"$f":"L108+K110","v":0},{"$f":"'Input Results'!M457","v":""},{"$f":"'Input Results'!P457","v":""},{"$f":"'Input Results'!Q457","v":0},{"$f":"P108+O110","v":0},{"$f":"'Input Results'!M458","v":""},{"$f":"'Input Results'!P458","v":""},{"$f":"'Input Results'!Q458","v":0},{"$f":"T108+S110","v":0},{"$f":"'Input Results'!M459","v":""},{"$f":"'Input Results'!P459","v":""},{"$f":"'Input Results'!Q459","v":0},{"$f":"X108+W110","v":0},{"$f":"'Input Results'!M460","v":""},{"$f":"'Input Results'!P460","v":""},{"$f":"'Input Results'!Q460","v":0},{"$f":"AB108+AA110","v":0},{"$f":"'Input Results'!M461","v":""},{"$f":"'Input Results'!P461","v":""},{"$f":"'Input Results'!Q461","v":0},{"$f":"AF108+AE110","v":0},{"$f":"'Input Results'!M462","v":""},{"$f":"'Input Results'!P462","v":""},{"$f":"'Input Results'!Q462","v":0},{"$f":"AJ108+AI110","v":0}]
[null,{"$f":"Events!I54","v":52},51,{"$f":"IF(VLOOKUP(B111,Events!B:G,6,FALSE)=\"\",\"\",VLOOKUP(B111,Events!B:G,6,FALSE))","v":"   "},{"$f":"PROPER('Input Results'!I464)","v":""},null,null,null,{"$f":"PROPER('Input Results'!I465)","v":""},null,null,null,{"$f":"PROPER('Input Results'!I466)","v":""},null,null,null,{"$f":"PROPER('Input Results'!I467)","v":""},null,null,null,{"$f":"PROPER('Input Results'!I468)","v":""},null,null,null,{"$f":"PROPER('Input Results'!I469)","v":""},null,null,null,{"$f":"PROPER('Input Results'!I470)","v":""},null,null,null,{"$f":"PROPER('Input Results'!I471)","v":""}]
[null,{"$f":"B111","v":52},52,{"$f":"IF(VLOOKUP(B111,Events!B:H,7,FALSE)=\"\",\"\",VLOOKUP(B111,Events!B:H,7,FALSE))","v":""},{"$f":"'Input Results'!M464","v":""},{"$f":"'Input Results'!P464","v":""},{"$f":"'Input Results'!Q464","v":0},{"$f":"H110+G112","v":0},{"$f":"'Input Results'!M465","v":""},{"$f":"'Input Results'!P465","v":""},{"$f":"'Input Results'!Q465","v":0},{"$f":"L110+K112","v":0},{"$f":"'Input Results'!M466","v":""},{"$f":"'Input Results'!P466","v":""},{"$f":"'Input Results'!Q466","v":0},{"$f":"P110+O112","v":0},{"$f":"'Input Results'!M467","v":""},{"$f":"'Input Results'!P467","v":""},{"$f":"'Input Results'!Q467","v":0},{"$f":"T110+S112","v":0},{"$f":"'Input Results'!M468","v":""},{"$f":"'Input Results'!P468","v":""},{"$f":"'Input Results'!Q468","v":0},{"$f":"X110+W112","v":0},{"$f":"'Input Results'!M469","v":""},{"$f":"'Input Results'!P469","v":""},{"$f":"'Input Results'!Q469","v":0},{"$f":"AB110+AA112","v":0},{"$f":"'Input Results'!M470","v":""},{"$f":"'Input Results'!P470","v":""},{"$f":"'Input Results'!Q470","v":0},{"$f":"AF110+AE112","v":0},{"$f":"'Input Results'!M471","v":""},{"$f":"'Input Results'!P471","v":""},{"$f":"'Input Results'!Q471","v":0},{"$f":"AJ110+AI112","v":0}]
[null,{"$f":"Events!I55","v":53},52,{"$f":"IF(VLOOKUP(B113,Events!B:G,6,FALSE)=\"\",\"\",VLOOKUP(B113,Events!B:G,6,FALSE))","v":"   "},{"$f":"PROPER('Input Results'!I473)","v":""},null,null,null,{"$f":"PROPER('Input Results'!I474)","v":""},null,null,null,{"$f":"PROPER('Input Results'!I475)","v":""},null,null,null,{"$f":"PROPER('Input Results'!I476)","v":""},null,null,null,{"$f":"PROPER('Input Results'!I477)","v":""},null,null,null,{"$f":"PROPER('Input Results'!I478)","v":""},null,null,null,{"$f":"PROPER('Input Results'!I479)","v":""},null,null,null,{"$f":"PROPER('Input Results'!I480)","v":""}]
[null,{"$f":"B113","v":53},53,{"$f":"IF(VLOOKUP(B113,Events!B:H,7,FALSE)=\"\",\"\",VLOOKUP(B113,Events!B:H,7,FALSE))","v":""},{"$f":"'Input Results'!M473","v":""},{"$f":"'Input Results'!P473","v":""},{"$f":"'Input Results'!Q473","v":0},{"$f":"H112+G114","v":0},{"$f":"'Input Results'!M474","v":""},{"$f":"'Input Results'!P474","v":""},{"$f":"'Input Results'!Q474","v":0},{"$f":"L112+K114","v":0},{"$f":"'Input Results'!M475","v":""},{"$f":"'Input Results'!P475","v":""},{"$f":"'Input Results'!Q475","v":0},{"$f":"P112+O114","v":0},{"$f":"'Input Results'!M476","v":""},{"$f":"'Input Results'!P476","v":""},{"$f":"'Input Results'!Q476","v":0},{"$f":"T112+S114","v":0},{"$f":"'Input Results'!M477","v":""},{"$f":"'Input Results'!P477","v":""},{"$f":"'Input Results'!Q477","v":0},{"$f":"X112+W114","v":0},{"$f":"'Input Results'!M478","v":""},{"$f":"'Input Results'!P478","v":""},{"$f":"'Input Results'!Q478","v":0},{"$f":"AB112+AA114","v":0},{"$f":"'Input Results'!M479","v":""},{"$f":"'Input Results'!P479","v":""},{"$f":"'Input Results'!Q479","v":0},{"$f":"AF112+AE114","v":0},{"$f":"'Input Results'!M480","v":""},{"$f":"'Input Results'!P480","v":""},{"$f":"'Input Results'!Q480","v":0},{"$f":"AJ112+AI114","v":0}]
[null,{"$f":"Events!I56","v":54},53,{"$f":"IF(VLOOKUP(B115,Events!B:G,6,FALSE)=\"\",\"\",VLOOKUP(B115,Events!B:G,6,FALSE))","v":"   "},{"$f":"PROPER('Input Results'!I482)","v":""},null,null,null,{"$f":"PROPER('Input Results'!I483)","v":""},null,null,null,{"$f":"PROPER('Input Results'!I484)","v":""},null,null,null,{"$f":"PROPER('Input Results'!I485)","v":""},null,null,null,{"$f":"PROPER('Input Results'!I486)","v":""},null,null,null,{"$f":"PROPER('Input Results'!I487)","v":""},null,null,null,{"$f":"PROPER('Input Results'!I488)","v":""},null,null,null,{"$f":"PROPER('Input Results'!I489)","v":""}]
[null,{"$f":"B115","v":54},54,{"$f":"IF(VLOOKUP(B115,Events!B:H,7,FALSE)=\"\",\"\",VLOOKUP(B115,Events!B:H,7,FALSE))","v":""},{"$f":"'Input Results'!M482","v":""},{"$f":"'Input Results'!P482","v":""},{"$f":"'Input Results'!Q482","v":0},{"$f":"H114+G116","v":0},{"$f":"'Input Results'!M483","v":""},{"$f":"'Input Results'!P483","v":""},{"$f":"'Input Results'!Q483","v":0},{"$f":"L114+K116","v":0},{"$f":"'Input Results'!M484","v":""},{"$f":"'Input Results'!P484","v":""},{"$f":"'Input Results'!Q484","v":0},{"$f":"P114+O116","v":0},{"$f":"'Input Results'!M485","v":""},{"$f":"'Input Results'!P485","v":""},{"$f":"'Input Results'!Q485","v":0},{"$f":"T114+S116","v":0},{"$f":"'Input Results'!M486","v":""},{"$f":"'Input Results'!P486","v":""},{"$f":"'Input Results'!Q486","v":0},{"$f":"X114+W116","v":0},{"$f":"'Input Results'!M487","v":""},{"$f":"'Input Results'!P487","v":""},{"$f":"'Input Results'!Q487","v":0},{"$f":"AB114+AA116","v":0},{"$f":"'Input Results'!M488","v":""},{"$f":"'Input Results'!P488","v":""},{"$f":"'Input Results'!Q488","v":0},{"$f":"AF114+AE116","v":0},{"$f":"'Input Results'!M489","v":""},{"$f":"'Input Results'!P489","v":""},{"$f":"'Input Results'!Q489","v":0},{"$f":"AJ114+AI116","v":0}]
[null,{"$f":"Events!I57","v":55},54,{"$f":"IF(VLOOKUP(B117,Events!B:G,6,FALSE)=\"\",\"\",VLOOKUP(B117,Events!B:G,6,FALSE))","v":"   "},{"$f":"PROPER('Input Results'!I491)","v":""},null,null,null,{"$f":"PROPER('Input Results'!I492)","v":""},null,null,null,{"$f":"PROPER('Input Results'!I493)","v":""},null,null,null,{"$f":"PROPER('Input Results'!I494)","v":""},null,null,null,{"$f":"PROPER('Input Results'!I495)","v":""},null,null,null,{"$f":"PROPER('Input Results'!I496)","v":""},null,null,null,{"$f":"PROPER('Input Results'!I497)","v":""},null,null,null,{"$f":"PROPER('Input Results'!I498)","v":""}]
[null,{"$f":"B117","v":55},55,{"$f":"IF(VLOOKUP(B117,Events!B:H,7,FALSE)=\"\",\"\",VLOOKUP(B117,Events!B:H,7,FALSE))","v":""},{"$f":"'Input Results'!M491","v":""},{"$f":"'Input Results'!P491","v":""},{"$f":"'Input Results'!Q491","v":0},{"$f":"H116+G118","v":0},{"$f":"'Input Results'!M492","v":""},{"$f":"'Input Results'!P492","v":""},{"$f":"'Input Results'!Q492","v":0},{"$f":"L116+K118","v":0},{"$f":"'Input Results'!M493","v":""},{"$f":"'Input Results'!P493","v":""},{"$f":"'Input Results'!Q493","v":0},{"$f":"P116+O118","v":0},{"$f":"'Input Results'!M494","v":""},{"$f":"'Input Results'!P494","v":""},{"$f":"'Input Results'!Q494","v":0},{"$f":"T116+S118","v":0},{"$f":"'Input Results'!M495","v":""},{"$f":"'Input Results'!P495","v":""},{"$f":"'Input Results'!Q495","v":0},{"$f":"X116+W118","v":0},{"$f":"'Input Results'!M496","v":""},{"$f":"'Input Results'!P496","v":""},{"$f":"'Input Results'!Q496","v":0},{"$f":"AB116+AA118","v":0},{"$f":"'Input Results'!M497","v":""},{"$f":"'Input Results'!P497","v":""},{"$f":"'Input Results'!Q497","v":0},{"$f":"AF116+AE118","v":0},{"$f":"'Input Results'!M498","v":""},{"$f":"'Input Results'!P498","v":""},{"$f":"'Input Results'!Q498","v":0},{"$f":"AJ116+AI118","v":0}]
[null,{"$f":"Events!I58","v":56},55,{"$f":"IF(VLOOKUP(B119,Events!B:G,6,FALSE)=\"\",\"\",VLOOKUP(B119,Events!B:G,6,FALSE))","v":"   "},{"$f":"PROPER('Input Results'!I500)","v":""},null,null,null,{"$f":"PROPER('Input Results'!I501)","v":""},null,null,null,{"$f":"PROPER('Input Results'!I502)","v":""},null,null,null,{"$f":"PROPER('Input Results'!I503)","v":""},null,null,null,{"$f":"PROPER('Input Results'!I504)","v":""},null,null,null,{"$f":"PROPER('Input Results'!I505)","v":""},null,null,null,{"$f":"PROPER('Input Results'!I506)","v":""},null,null,null,{"$f":"PROPER('Input Results'!I507)","v":""}]
[null,{"$f":"B119","v":56},56,{"$f":"IF(VLOOKUP(B119,Events!B:H,7,FALSE)=\"\",\"\",VLOOKUP(B119,Events!B:H,7,FALSE))","v":""},{"$f":"'Input Results'!M500","v":""},{"$f":"'Input Results'!P500","v":""},{"$f":"'Input Results'!Q500","v":0},{"$f":"H118+G120","v":0},{"$f":"'Input Results'!M501","v":""},{"$f":"'Input Results'!P501","v":""},{"$f":"'Input Results'!Q501","v":0},{"$f":"L118+K120","v":0},{"$f":"'Input Results'!M502","v":""},{"$f":"'Input Results'!P502","v":""},{"$f":"'Input Results'!Q502","v":0},{"$f":"P118+O120","v":0},{"$f":"'Input Results'!M503","v":""},{"$f":"'Input Results'!P503","v":""},{"$f":"'Input Results'!Q503","v":0},{"$f":"T118+S120","v":0},{"$f":"'Input Results'!M504","v":""},{"$f":"'Input Results'!P504","v":""},{"$f":"'Input Results'!Q504","v":0},{"$f":"X118+W120","v":0},{"$f":"'Input Results'!M505","v":""},{"$f":"'Input Results'!P505","v":""},{"$f":"'Input Results'!Q505","v":0},{"$f":"AB118+AA120","v":0},{"$f":"'Input Results'!M506","v":""},{"$f":"'Input Results'!P506","v":""},{"$f":"'Input Results'!Q506","v":0},{"$f":"AF118+AE120","v":0},{"$f":"'Input Results'!M507","v":""},{"$f":"'Input Results'!P507","v":""},{"$f":"'Input Results'!Q507","v":0},{"$f":"AJ118+AI120","v":0}]
[null,{"$f":"Events!I59","v":57},56,{"$f":"IF(VLOOKUP(B121,Events!B:G,6,FALSE)=\"\",\"\",VLOOKUP(B121,Events!B:G,6,FALSE))","v":"   "},{"$f":"PROPER('Input Results'!I509)","v":""},null,null,null,{"$f":"PROPER('Input Results'!I510)","v":""},null,null,null,{"$f":"PROPER('Input Results'!I511)","v":""},null,null,null,{"$f":"PROPER('Input Results'!I512)","v":""},null,null,null,{"$f":"PROPER('Input Results'!I513)","v":""},null,null,null,{"$f":"PROPER('Input Results'!I514)","v":""},null,null,null,{"$f":"PROPER('Input Results'!I515)","v":""},null,null,null,{"$f":"PROPER('Input Results'!I516)","v":""}]
[null,{"$f":"B121","v":57},57,{"$f":"IF(VLOOKUP(B121,Events!B:H,7,FALSE)=\"\",\"\",VLOOKUP(B121,Events!B:H,7,FALSE))","v":""},{"$f":"'Input Results'!M509","v":""},{"$f":"'Input Results'!P509","v":""},{"$f":"'Input Results'!Q509","v":0},{"$f":"H120+G122","v":0},{"$f":"'Input Results'!M510","v":""},{"$f":"'Input Results'!P510","v":""},{"$f":"'Input Results'!Q510","v":0},{"$f":"L120+K122","v":0},{"$f":"'Input Results'!M511","v":""},{"$f":"'Input Results'!P511","v":""},{"$f":"'Input Results'!Q511","v":0},{"$f":"P120+O122","v":0},{"$f":"'Input Results'!M512","v":""},{"$f":"'Input Results'!P512","v":""},{"$f":"'Input Results'!Q512","v":0},{"$f":"T120+S122","v":0},{"$f":"'Input Results'!M513","v":""},{"$f":"'Input Results'!P513","v":""},{"$f":"'Input Results'!Q513","v":0},{"$f":"X120+W122","v":0},{"$f":"'Input Results'!M514","v":""},{"$f":"'Input Results'!P514","v":""},{"$f":"'Input Results'!Q514","v":0},{"$f":"AB120+AA122","v":0},{"$f":"'Input Results'!M515","v":""},{"$f":"'Input Results'!P515","v":""},{"$f":"'Input Results'!Q515","v":0},{"$f":"AF120+AE122","v":0},{"$f":"'Input Results'!M516","v":""},{"$f":"'Input Results'!P516","v":""},{"$f":"'Input Results'!Q516","v":0},{"$f":"AJ120+AI122","v":0}]
[null,{"$f":"Events!I60","v":58},57,{"$f":"IF(VLOOKUP(B123,Events!B:G,6,FALSE)=\"\",\"\",VLOOKUP(B123,Events!B:G,6,FALSE))","v":"   "},{"$f":"PROPER('Input Results'!I518)","v":""},null,null,null,{"$f":"PROPER('Input Results'!I519)","v":""},null,null,null,{"$f":"PROPER('Input Results'!I520)","v":""},null,null,null,{"$f":"PROPER('Input Results'!I521)","v":""},null,null,null,{"$f":"PROPER('Input Results'!I522)","v":""},null,null,null,{"$f":"PROPER('Input Results'!I523)","v":""},null,null,null,{"$f":"PROPER('Input Results'!I524)","v":""},null,null,null,{"$f":"PROPER('Input Results'!I525)","v":""}]
[null,{"$f":"B123","v":58},58,{"$f":"IF(VLOOKUP(B123,Events!B:H,7,FALSE)=\"\",\"\",VLOOKUP(B123,Events!B:H,7,FALSE))","v":""},{"$f":"'Input Results'!M518","v":""},{"$f":"'Input Results'!P518","v":""},{"$f":"'Input Results'!Q518","v":0},{"$f":"H122+G124","v":0},{"$f":"'Input Results'!M519","v":""},{"$f":"'Input Results'!P519","v":""},{"$f":"'Input Results'!Q519","v":0},{"$f":"L122+K124","v":0},{"$f":"'Input Results'!M520","v":""},{"$f":"'Input Results'!P520","v":""},{"$f":"'Input Results'!Q520","v":0},{"$f":"P122+O124","v":0},{"$f":"'Input Results'!M521","v":""},{"$f":"'Input Results'!P521","v":""},{"$f":"'Input Results'!Q521","v":0},{"$f":"T122+S124","v":0},{"$f":"'Input Results'!M522","v":""},{"$f":"'Input Results'!P522","v":""},{"$f":"'Input Results'!Q522","v":0},{"$f":"X122+W124","v":0},{"$f":"'Input Results'!M523","v":""},{"$f":"'Input Results'!P523","v":""},{"$f":"'Input Results'!Q523","v":0},{"$f":"AB122+AA124","v":0},{"$f":"'Input Results'!M524","v":""},{"$f":"'Input Results'!P524","v":""},{"$f":"'Input Results'!Q524","v":0},{"$f":"AF122+AE124","v":0},{"$f":"'Input Results'!M525","v":""},{"$f":"'Input Results'!P525","v":""},{"$f":"'Input Results'!Q525","v":0},{"$f":"AJ122+AI124","v":0}]
[null,{"$f":"Events!I61","v":59},58,{"$f":"IF(VLOOKUP(B125,Events!B:G,6,FALSE)=\"\",\"\",VLOOKUP(B125,Events!B:G,6,FALSE))","v":"   "},{"$f":"PROPER('Input Results'!I527)","v":""},null,null,null,{"$f":"PROPER('Input Results'!I528)","v":""},null,null,null,{"$f":"PROPER('Input Results'!I529)","v":""},null,null,null,{"$f":"PROPER('Input Results'!I530)","v":""},null,null,null,{"$f":"PROPER('Input Results'!I531)","v":""},null,null,null,{"$f":"PROPER('Input Results'!I532)","v":""},null,null,null,{"$f":"PROPER('Input Results'!I533)","v":""},null,null,null,{"$f":"PROPER('Input Results'!I534)","v":""}]
[null,{"$f":"B125","v":59},59,{"$f":"IF(VLOOKUP(B125,Events!B:H,7,FALSE)=\"\",\"\",VLOOKUP(B125,Events!B:H,7,FALSE))","v":""},{"$f":"'Input Results'!M527","v":""},{"$f":"'Input Results'!P527","v":""},{"$f":"'Input Results'!Q527","v":0},{"$f":"H124+G126","v":0},{"$f":"'Input Results'!M528","v":""},{"$f":"'Input Results'!P528","v":""},{"$f":"'Input Results'!Q528","v":0},{"$f":"L124+K126","v":0},{"$f":"'Input Results'!M529","v":""},{"$f":"'Input Results'!P529","v":""},{"$f":"'Input Results'!Q529","v":0},{"$f":"P124+O126","v":0},{"$f":"'Input Results'!M530","v":""},{"$f":"'Input Results'!P530","v":""},{"$f":"'Input Results'!Q530","v":0},{"$f":"T124+S126","v":0},{"$f":"'Input Results'!M531","v":""},{"$f":"'Input Results'!P531","v":""},{"$f":"'Input Results'!Q531","v":0},{"$f":"X124+W126","v":0},{"$f":"'Input Results'!M532","v":""},{"$f":"'Input Results'!P532","v":""},{"$f":"'Input Results'!Q532","v":0},{"$f":"AB124+AA126","v":0},{"$f":"'Input Results'!M533","v":""},{"$f":"'Input Results'!P533","v":""},{"$f":"'Input Results'!Q533","v":0},{"$f":"AF124+AE126","v":0},{"$f":"'Input Results'!M534","v":""},{"$f":"'Input Results'!P534","v":""},{"$f":"'Input Results'!Q534","v":0},{"$f":"AJ124+AI126","v":0}]
[null,{"$f":"Events!I62","v":60},59,{"$f":"IF(VLOOKUP(B127,Events!B:G,6,FALSE)=\"\",\"\",VLOOKUP(B127,Events!B:G,6,FALSE))","v":"   "},{"$f":"PROPER('Input Results'!I536)","v":""},null,null,null,{"$f":"PROPER('Input Results'!I537)","v":""},null,null,null,{"$f":"PROPER('Input Results'!I538)","v":""},null,null,null,{"$f":"PROPER('Input Results'!I539)","v":""},null,null,null,{"$f":"PROPER('Input Results'!I540)","v":""},null,null,null,{"$f":"PROPER('Input Results'!I541)","v":""},null,null,null,{"$f":"PROPER('Input Results'!I542)","v":""},null,null,null,{"$f":"PROPER('Input Results'!I543)","v":""}]
[null,{"$f":"B127","v":60},60,{"$f":"IF(VLOOKUP(B127,Events!B:H,7,FALSE)=\"\",\"\",VLOOKUP(B127,Events!B:H,7,FALSE))","v":""},{"$f":"'Input Results'!M536","v":""},{"$f":"'Input Results'!P536","v":""},{"$f":"'Input Results'!Q536","v":0},{"$f":"H126+G128","v":0},{"$f":"'Input Results'!M537","v":""},{"$f":"'Input Results'!P537","v":""},{"$f":"'Input Results'!Q537","v":0},{"$f":"L126+K128","v":0},{"$f":"'Input Results'!M538","v":""},{"$f":"'Input Results'!P538","v":""},{"$f":"'Input Results'!Q538","v":0},{"$f":"P126+O128","v":0},{"$f":"'Input Results'!M539","v":""},{"$f":"'Input Results'!P539","v":""},{"$f":"'Input Results'!Q539","v":0},{"$f":"T126+S128","v":0},{"$f":"'Input Results'!M540","v":""},{"$f":"'Input Results'!P540","v":""},{"$f":"'Input Results'!Q540","v":0},{"$f":"X126+W128","v":0},{"$f":"'Input Results'!M541","v":""},{"$f":"'Input Results'!P541","v":""},{"$f":"'Input Results'!Q541","v":0},{"$f":"AB126+AA128","v":0},{"$f":"'Input Results'!M542","v":""},{"$f":"'Input Results'!P542","v":""},{"$f":"'Input Results'!Q542","v":0},{"$f":"AF126+AE128","v":0},{"$f":"'Input Results'!M543","v":""},{"$f":"'Input Results'!P543","v":""},{"$f":"'Input Results'!Q543","v":0},{"$f":"AJ126+AI128","v":0}]
[null,null,null,null,null,null,null,{"$f":"SUM(G10:G128)","v":0},null,null,null,{"$f":"SUM(K10:K128)","v":0},null,null,null,{"$f":"SUM(O10:O128)","v":0},null,null,null,{"$f":"SUM(S10:S128)","v":0},null,null,null,{"$f":"SUM(W10:W128)","v":0},null,null,null,{"$f":"SUM(AA10:AA128)","v":0},null,null,null,{"$f":"SUM(AE10:AE128)","v":0},null,null,null,{"$f":"SUM(AI10:AI128)","v":0}]
[null,null,null,"Finishing Position",null,null,null,{"$f":"IF(H129=0,\"\",RANK(H129,($H129,$L129,$P129,$T129,$X129,$AB129,$AF129,$AJ129),0))","v":""},null,null,null,{"$f":"IF(L129=0,\"\",RANK(L129,($H129,$L129,$P129,$T129,$X129,$AB129,$AF129,$AJ129),0))","v":""},null,null,null,{"$f":"IF(P129=0,\"\",RANK(P129,($H129,$L129,$P129,$T129,$X129,$AB129,$AF129,$AJ129),0))","v":""},null,null,null,{"$f":"IF(T129=0,\"\",RANK(T129,($H129,$L129,$P129,$T129,$X129,$AB129,$AF129,$AJ129),0))","v":""},null,null,null,{"$f":"IF(X129=0,\"\",RANK(X129,($H129,$L129,$P129,$T129,$X129,$AB129,$AF129,$AJ129),0))","v":""},null,null,null,{"$f":"IF(AB129=0,\"\",RANK(AB129,($H129,$L129,$P129,$T129,$X129,$AB129,$AF129,$AJ129),0))","v":""},null,null,null,{"$f":"IF(AF129=0,\"\",RANK(AF129,($H129,$L129,$P129,$T129,$X129,$AB129,$AF129,$AJ129),0))","v":""},null,null,null,{"$f":"IF(AJ129=0,\"\",RANK(AJ129,($H129,$L129,$P129,$T129,$X129,$AB129,$AF129,$AJ129),0))","v":""}]